Workbook

Sheet 2016
A1: MAJ le | B1: 42376 | AC1: Vm
AC2: 0
A3: Mat. | B3: Nom Prénom | C3: Atelier | D3: secteur | E3: sexe | F3: Age | G3: tranche d'âge | H3: Ancienneté | I3: Categorie ancienneté | J3: arret N° en 2016 | K3: Début | L3: Fin | M3: Mois du début de l'arrêt | N3: Mois de fin de l'arrêt | O3: Nombre de jours M | P3: Nombre de jours M+1 | Q3: Nombre de jours M+2 | R3: Nombre de jours M+3 | S3: Nombre jours arrêts | T3: type d'arrêt | U3: Date de début de MT/LM/AM | V3: Classification arrêts | W3: suite | X3: VM le | Y3: infos nbre jrs arret calendaire | Z3: Colonne1
A4: 1/12 | B4: 0 Ne pas effacer cette ligne !! | D4: =VLOOKUP(A4,'[1]BDD RH'!$A$9:$W$453,4,FALSE) -> #N/A | E4: =VLOOKUP(A4,'[1]BDD RH'!$A$9:$W$453,3,FALSE) -> #N/A | F4: =DATEDIF((VLOOKUP(A4,'[1]BDD RH'!$A$2:$W$485,7,FALSE)),K4,"y") -> #N/A | G4: =IF(F4<=20,"<=20",IF(F4<=30,"21/30",IF(F4<=40,"31/40",IF(F4<=50,"41/50",IF(F4<=60,"51/60",IF(F4>60,"61 et plus",FALSE)))))) -> #N/A | H4: =DATEDIF((VLOOKUP(A4,'[1]BDD RH'!$A$2:$W$485,11,FALSE)),K4,"y") -> #N/A | I4: =IF(H4<2,"<2",IF(H4<6,"2/5",IF(H4<11,"6/10",IF(H4<16,"11/15",IF(H4<21,"16/20",IF(H4<26,"21/25",IF(H4>25,"26 et plus",FALSE))))))) -> #N/A | M4: 1 | N4: =MONTH(L4) -> 1 | O4: 0 | P4: =IF(N4-M4=0,0,IF(N4-M4=1,NETWORKDAYS(K4,L4,[1]Congés!$D$2:$D$160)-O4,IF(N4-M4=2,NETWORKDAYS(K4,EOMONTH(K4,1),[1]Congés!$D$2:$D$160)-O4,IF(N4-M4=3,NETWORKDAYS(K4,EOMONTH(K4,1),[1]Congés!$D$2:$D$160)-O4)))) -> 0 | Q4: =IF(N4-M4<2,0,IF(N4-M4=2,NETWORKDAYS(K4,L4,[1]Congés!$D$2:$D$160)-P4-O4,IF(N4-M4=3,NETWORKDAYS(K4,EOMONTH(K4,2),[1]Congés!$D$2:$D$160)-P4-O4))) -> 0 | R4: =IF(N4-M4<3,0,NETWORKDAYS(K4,L4,[1]Congés!$D$2:$D$160)-Q4-P4-O4) -> 0 | S4: =NETWORKDAYS(K4,L4,[1]Congés!C$2:C$160) -> 0 | T4: Arrêt Maladie | V4: =IF(S4<3,"1) 1 à 2 jours",IF(S4<5,"2) 3 à 4 jours",IF(S4=5,"3) 5 jours",IF(S4<=10,"4) 6 à 10 jours",IF(S4>10,"5) plus de 10 jours"))))) -> 1) 1 à 2 jours | Y4: =L4-K4+1 -> 1
A5: 2/12 | B5: 0 Ne pas effacer cette ligne !! | C5: =VLOOKUP(A5,'[1]BDD RH'!$A$9:$W$453,16,FALSE) -> #N/A | D5: =VLOOKUP(A5,'[1]BDD RH'!$A$9:$W$453,4,FALSE) -> #N/A | E5: =VLOOKUP(A5,'[1]BDD RH'!$A$9:$W$453,3,FALSE) -> #N/A | F5: =DATEDIF((VLOOKUP(A5,'[1]BDD RH'!$A$2:$W$485,7,FALSE)),K5,"y") -> #N/A | G5: =IF(F5<=20,"<=20",IF(F5<=30,"21/30",IF(F5<=40,"31/40",IF(F5<=50,"41/50",IF(F5<=60,"51/60",IF(F5>60,"61 et plus",FALSE)))))) -> #N/A | H5: =DATEDIF((VLOOKUP(A5,'[1]BDD RH'!$A$2:$W$485,11,FALSE)),K5,"y") -> #N/A | I5: =IF(H5<2,"<2",IF(H5<6,"2/5",IF(H5<11,"6/10",IF(H5<16,"11/15",IF(H5<21,"16/20",IF(H5<26,"21/25",IF(H5>25,"26 et plus",FALSE))))))) -> #N/A | M5: 2 | N5: =MONTH(L5) -> 1 | O5: 0 | P5: =IF(N5-M5=0,0,IF(N5-M5=1,NETWORKDAYS(K5,L5,[1]Congés!$D$2:$D$160)-O5,IF(N5-M5=2,NETWORKDAYS(K5,EOMONTH(K5,1),[1]Congés!$D$2:$D$160)-O5,IF(N5-M5=3,NETWORKDAYS(K5,EOMONTH(K5,1),[1]Congés!$D$2:$D$160)-O5)))) -> FALSE | Q5: =IF(N5-M5<2,0,IF(N5-M5=2,NETWORKDAYS(K5,L5,[1]Congés!$D$2:$D$160)-P5-O5,IF(N5-M5=3,NETWORKDAYS(K5,EOMONTH(K5,2),[1]Congés!$D$2:$D$160)-P5-O5))) -> 0 | R5: =IF(N5-M5<3,0,NETWORKDAYS(K5,L5,[1]Congés!$D$2:$D$160)-Q5-P5-O5) -> 0 | S5: =NETWORKDAYS(K5,L5,[1]Congés!C$2:C$160) -> 0 | T5: Mi-temps | V5: =IF(S5<3,"1) 1 à 2 jours",IF(S5<5,"2) 3 à 4 jours",IF(S5=5,"3) 5 jours",IF(S5<=10,"4) 6 à 10 jours",IF(S5>10,"5) plus de 10 jours"))))) -> 1) 1 à 2 jours | Y5: =L5-K5+1 -> 1
A6: 3/12 | B6: 0 Ne pas effacer cette ligne !! | C6: =VLOOKUP(A6,'[1]BDD RH'!$A$9:$W$453,16,FALSE) -> #N/A | D6: =VLOOKUP(A6,'[1]BDD RH'!$A$9:$W$453,4,FALSE) -> #N/A | E6: =VLOOKUP(A6,'[1]BDD RH'!$A$9:$W$453,3,FALSE) -> #N/A | F6: =DATEDIF((VLOOKUP(A6,'[1]BDD RH'!$A$2:$W$485,7,FALSE)),K6,"y") -> #N/A | G6: =IF(F6<=20,"<=20",IF(F6<=30,"21/30",IF(F6<=40,"31/40",IF(F6<=50,"41/50",IF(F6<=60,"51/60",IF(F6>60,"61 et plus",FALSE)))))) -> #N/A | H6: =DATEDIF((VLOOKUP(A6,'[1]BDD RH'!$A$2:$W$485,11,FALSE)),K6,"y") -> #N/A | I6: =IF(H6<2,"<2",IF(H6<6,"2/5",IF(H6<11,"6/10",IF(H6<16,"11/15",IF(H6<21,"16/20",IF(H6<26,"21/25",IF(H6>25,"26 et plus",FALSE))))))) -> #N/A | M6: 3 | N6: =MONTH(L6) -> 1 | O6: 0 | P6: =IF(N6-M6=0,0,IF(N6-M6=1,NETWORKDAYS(K6,L6,[1]Congés!$D$2:$D$160)-O6,IF(N6-M6=2,NETWORKDAYS(K6,EOMONTH(K6,1),[1]Congés!$D$2:$D$160)-O6,IF(N6-M6=3,NETWORKDAYS(K6,EOMONTH(K6,1),[1]Congés!$D$2:$D$160)-O6)))) -> FALSE | Q6: =IF(N6-M6<2,0,IF(N6-M6=2,NETWORKDAYS(K6,L6,[1]Congés!$D$2:$D$160)-P6-O6,IF(N6-M6=3,NETWORKDAYS(K6,EOMONTH(K6,2),[1]Congés!$D$2:$D$160)-P6-O6))) -> 0 | R6: =IF(N6-M6<3,0,NETWORKDAYS(K6,L6,[1]Congés!$D$2:$D$160)-Q6-P6-O6) -> 0 | S6: =NETWORKDAYS(K6,L6,[1]Congés!C$2:C$160) -> 0 | T6: AT 16 | V6: =IF(S6<3,"1) 1 à 2 jours",IF(S6<5,"2) 3 à 4 jours",IF(S6=5,"3) 5 jours",IF(S6<=10,"4) 6 à 10 jours",IF(S6>10,"5) plus de 10 jours"))))) -> 1) 1 à 2 jours | Y6: =L6-K6+1 -> 1
A7: 4/12 | B7: 0 Ne pas effacer cette ligne !! | C7: =VLOOKUP(A7,'[1]BDD RH'!$A$9:$W$453,16,FALSE) -> #N/A | D7: =VLOOKUP(A7,'[1]BDD RH'!$A$9:$W$453,4,FALSE) -> #N/A | E7: =VLOOKUP(A7,'[1]BDD RH'!$A$9:$W$453,3,FALSE) -> #N/A | F7: =DATEDIF((VLOOKUP(A7,'[1]BDD RH'!$A$2:$W$485,7,FALSE)),K7,"y") -> #N/A | G7: =IF(F7<=20,"<=20",IF(F7<=30,"21/30",IF(F7<=40,"31/40",IF(F7<=50,"41/50",IF(F7<=60,"51/60",IF(F7>60,"61 et plus",FALSE)))))) -> #N/A | H7: =DATEDIF((VLOOKUP(A7,'[1]BDD RH'!$A$2:$W$485,11,FALSE)),K7,"y") -> #N/A | I7: =IF(H7<2,"<2",IF(H7<6,"2/5",IF(H7<11,"6/10",IF(H7<16,"11/15",IF(H7<21,"16/20",IF(H7<26,"21/25",IF(H7>25,"26 et plus",FALSE))))))) -> #N/A | M7: 4 | N7: =MONTH(L7) -> 1 | O7: 0 | P7: =IF(N7-M7=0,0,IF(N7-M7=1,NETWORKDAYS(K7,L7,[1]Congés!$D$2:$D$160)-O7,IF(N7-M7=2,NETWORKDAYS(K7,EOMONTH(K7,1),[1]Congés!$D$2:$D$160)-O7,IF(N7-M7=3,NETWORKDAYS(K7,EOMONTH(K7,1),[1]Congés!$D$2:$D$160)-O7)))) -> FALSE | Q7: =IF(N7-M7<2,0,IF(N7-M7=2,NETWORKDAYS(K7,L7,[1]Congés!$D$2:$D$160)-P7-O7,IF(N7-M7=3,NETWORKDAYS(K7,EOMONTH(K7,2),[1]Congés!$D$2:$D$160)-P7-O7))) -> 0 | R7: =IF(N7-M7<3,0,NETWORKDAYS(K7,L7,[1]Congés!$D$2:$D$160)-Q7-P7-O7) -> 0 | S7: =NETWORKDAYS(K7,L7,[1]Congés!C$2:C$160) -> 0 | T7: AT 16 SPEC | V7: =IF(S7<3,"1) 1 à 2 jours",IF(S7<5,"2) 3 à 4 jours",IF(S7=5,"3) 5 jours",IF(S7<=10,"4) 6 à 10 jours",IF(S7>10,"5) plus de 10 jours"))))) -> 1) 1 à 2 jours | Y7: =L7-K7+1 -> 1
A8: 4/12 | B8: 0 Ne pas effacer cette ligne !! | C8: =VLOOKUP(A8,'[1]BDD RH'!$A$9:$W$453,16,FALSE) -> #N/A | D8: =VLOOKUP(A8,'[1]BDD RH'!$A$9:$W$453,4,FALSE) -> #N/A | E8: =VLOOKUP(A8,'[1]BDD RH'!$A$9:$W$453,3,FALSE) -> #N/A | F8: =DATEDIF((VLOOKUP(A8,'[1]BDD RH'!$A$2:$W$485,7,FALSE)),K8,"y") -> #N/A | G8: =IF(F8<=20,"<=20",IF(F8<=30,"21/30",IF(F8<=40,"31/40",IF(F8<=50,"41/50",IF(F8<=60,"51/60",IF(F8>60,"61 et plus",FALSE)))))) -> #N/A | H8: =DATEDIF((VLOOKUP(A8,'[1]BDD RH'!$A$2:$W$485,11,FALSE)),K8,"y") -> #N/A | I8: =IF(H8<2,"<2",IF(H8<6,"2/5",IF(H8<11,"6/10",IF(H8<16,"11/15",IF(H8<21,"16/20",IF(H8<26,"21/25",IF(H8>25,"26 et plus",FALSE))))))) -> #N/A | M8: 5 | N8: =MONTH(L8) -> 1 | O8: 0 | P8: =IF(N8-M8=0,0,IF(N8-M8=1,NETWORKDAYS(K8,L8,[1]Congés!$D$2:$D$160)-O8,IF(N8-M8=2,NETWORKDAYS(K8,EOMONTH(K8,1),[1]Congés!$D$2:$D$160)-O8,IF(N8-M8=3,NETWORKDAYS(K8,EOMONTH(K8,1),[1]Congés!$D$2:$D$160)-O8)))) -> FALSE | Q8: =IF(N8-M8<2,0,IF(N8-M8=2,NETWORKDAYS(K8,L8,[1]Congés!$D$2:$D$160)-P8-O8,IF(N8-M8=3,NETWORKDAYS(K8,EOMONTH(K8,2),[1]Congés!$D$2:$D$160)-P8-O8))) -> 0 | R8: =IF(N8-M8<3,0,NETWORKDAYS(K8,L8,[1]Congés!$D$2:$D$160)-Q8-P8-O8) -> 0 | S8: =NETWORKDAYS(K8,L8,[1]Congés!C$2:C$160) -> 0 | T8: AT 15 SPEC | V8: =IF(S8<3,"1) 1 à 2 jours",IF(S8<5,"2) 3 à 4 jours",IF(S8=5,"3) 5 jours",IF(S8<=10,"4) 6 à 10 jours",IF(S8>10,"5) plus de 10 jours"))))) -> 1) 1 à 2 jours | Y8: =L8-K8+1 -> 1
A9: 5/12 | B9: 0 Ne pas effacer cette ligne !! | C9: =VLOOKUP(A9,'[1]BDD RH'!$A$9:$W$453,16,FALSE) -> #N/A | D9: =VLOOKUP(A9,'[1]BDD RH'!$A$9:$W$453,4,FALSE) -> #N/A | E9: =VLOOKUP(A9,'[1]BDD RH'!$A$9:$W$453,3,FALSE) -> #N/A | F9: =DATEDIF((VLOOKUP(A9,'[1]BDD RH'!$A$2:$W$485,7,FALSE)),K9,"y") -> #N/A | G9: =IF(F9<=20,"<=20",IF(F9<=30,"21/30",IF(F9<=40,"31/40",IF(F9<=50,"41/50",IF(F9<=60,"51/60",IF(F9>60,"61 et plus",FALSE)))))) -> #N/A | H9: =DATEDIF((VLOOKUP(A9,'[1]BDD RH'!$A$2:$W$485,11,FALSE)),K9,"y") -> #N/A | I9: =IF(H9<2,"<2",IF(H9<6,"2/5",IF(H9<11,"6/10",IF(H9<16,"11/15",IF(H9<21,"16/20",IF(H9<26,"21/25",IF(H9>25,"26 et plus",FALSE))))))) -> #N/A | M9: 5 | N9: =MONTH(L9) -> 1 | O9: 0 | P9: =IF(N9-M9=0,0,IF(N9-M9=1,NETWORKDAYS(K9,L9,[1]Congés!$D$2:$D$160)-O9,IF(N9-M9=2,NETWORKDAYS(K9,EOMONTH(K9,1),[1]Congés!$D$2:$D$160)-O9,IF(N9-M9=3,NETWORKDAYS(K9,EOMONTH(K9,1),[1]Congés!$D$2:$D$160)-O9)))) -> FALSE | Q9: =IF(N9-M9<2,0,IF(N9-M9=2,NETWORKDAYS(K9,L9,[1]Congés!$D$2:$D$160)-P9-O9,IF(N9-M9=3,NETWORKDAYS(K9,EOMONTH(K9,2),[1]Congés!$D$2:$D$160)-P9-O9))) -> 0 | R9: =IF(N9-M9<3,0,NETWORKDAYS(K9,L9,[1]Congés!$D$2:$D$160)-Q9-P9-O9) -> 0 | S9: =NETWORKDAYS(K9,L9,[1]Congés!C$2:C$160) -> 0 | T9: AT 15 | V9: =IF(S9<3,"1) 1 à 2 jours",IF(S9<5,"2) 3 à 4 jours",IF(S9=5,"3) 5 jours",IF(S9<=10,"4) 6 à 10 jours",IF(S9>10,"5) plus de 10 jours"))))) -> 1) 1 à 2 jours | Y9: =L9-K9+1 -> 1
A10: 6/12 | B10: 0 Ne pas effacer cette ligne !! | C10: =VLOOKUP(A10,'[1]BDD RH'!$A$9:$W$453,16,FALSE) -> #N/A | D10: =VLOOKUP(A10,'[1]BDD RH'!$A$9:$W$453,4,FALSE) -> #N/A | E10: =VLOOKUP(A10,'[1]BDD RH'!$A$9:$W$453,3,FALSE) -> #N/A | F10: =DATEDIF((VLOOKUP(A10,'[1]BDD RH'!$A$2:$W$485,7,FALSE)),K10,"y") -> #N/A | G10: =IF(F10<=20,"<=20",IF(F10<=30,"21/30",IF(F10<=40,"31/40",IF(F10<=50,"41/50",IF(F10<=60,"51/60",IF(F10>60,"61 et plus",FALSE)))))) -> #N/A | H10: =DATEDIF((VLOOKUP(A10,'[1]BDD RH'!$A$2:$W$485,11,FALSE)),K10,"y") -> #N/A | I10: =IF(H10<2,"<2",IF(H10<6,"2/5",IF(H10<11,"6/10",IF(H10<16,"11/15",IF(H10<21,"16/20",IF(H10<26,"21/25",IF(H10>25,"26 et plus",FALSE))))))) -> #N/A | M10: 6 | N10: =MONTH(L10) -> 1 | O10: 0 | P10: =IF(N10-M10=0,0,IF(N10-M10=1,NETWORKDAYS(K10,L10,[1]Congés!$D$2:$D$160)-O10,IF(N10-M10=2,NETWORKDAYS(K10,EOMONTH(K10,1),[1]Congés!$D$2:$D$160)-O10,IF(N10-M10=3,NETWORKDAYS(K10,EOMONTH(K10,1),[1]Congés!$D$2:$D$160)-O10)))) -> FALSE | Q10: =IF(N10-M10<2,0,IF(N10-M10=2,NETWORKDAYS(K10,L10,[1]Congés!$D$2:$D$160)-P10-O10,IF(N10-M10=3,NETWORKDAYS(K10,EOMONTH(K10,2),[1]Congés!$D$2:$D$160)-P10-O10))) -> 0 | R10: =IF(N10-M10<3,0,NETWORKDAYS(K10,L10,[1]Congés!$D$2:$D$160)-Q10-P10-O10) -> 0 | S10: =NETWORKDAYS(K10,L10,[1]Congés!C$2:C$160) -> 0 | T10: ATT 16 | V10: =IF(S10<3,"1) 1 à 2 jours",IF(S10<5,"2) 3 à 4 jours",IF(S10=5,"3) 5 jours",IF(S10<=10,"4) 6 à 10 jours",IF(S10>10,"5) plus de 10 jours"))))) -> 1) 1 à 2 jours | Y10: =L10-K10+1 -> 1
A11: 7/12 | B11: 0 Ne pas effacer cette ligne !! | C11: =VLOOKUP(A11,'[1]BDD RH'!$A$9:$W$453,16,FALSE) -> #N/A | D11: =VLOOKUP(A11,'[1]BDD RH'!$A$9:$W$453,4,FALSE) -> #N/A | E11: =VLOOKUP(A11,'[1]BDD RH'!$A$9:$W$453,3,FALSE) -> #N/A | F11: =DATEDIF((VLOOKUP(A11,'[1]BDD RH'!$A$2:$W$485,7,FALSE)),K11,"y") -> #N/A | G11: =IF(F11<=20,"<=20",IF(F11<=30,"21/30",IF(F11<=40,"31/40",IF(F11<=50,"41/50",IF(F11<=60,"51/60",IF(F11>60,"61 et plus",FALSE)))))) -> #N/A | H11: =DATEDIF((VLOOKUP(A11,'[1]BDD RH'!$A$2:$W$485,11,FALSE)),K11,"y") -> #N/A | I11: =IF(H11<2,"<2",IF(H11<6,"2/5",IF(H11<11,"6/10",IF(H11<16,"11/15",IF(H11<21,"16/20",IF(H11<26,"21/25",IF(H11>25,"26 et plus",FALSE))))))) -> #N/A | M11: 7 | N11: =MONTH(L11) -> 1 | O11: 0 | P11: =IF(N11-M11=0,0,IF(N11-M11=1,NETWORKDAYS(K11,L11,[1]Congés!$D$2:$D$160)-O11,IF(N11-M11=2,NETWORKDAYS(K11,EOMONTH(K11,1),[1]Congés!$D$2:$D$160)-O11,IF(N11-M11=3,NETWORKDAYS(K11,EOMONTH(K11,1),[1]Congés!$D$2:$D$160)-O11)))) -> FALSE | Q11: =IF(N11-M11<2,0,IF(N11-M11=2,NETWORKDAYS(K11,L11,[1]Congés!$D$2:$D$160)-P11-O11,IF(N11-M11=3,NETWORKDAYS(K11,EOMONTH(K11,2),[1]Congés!$D$2:$D$160)-P11-O11))) -> 0 | R11: =IF(N11-M11<3,0,NETWORKDAYS(K11,L11,[1]Congés!$D$2:$D$160)-Q11-P11-O11) -> 0 | S11: =NETWORKDAYS(K11,L11,[1]Congés!C$2:C$160) -> 0 | T11: ATT 16 SPEC | V11: =IF(S11<3,"1) 1 à 2 jours",IF(S11<5,"2) 3 à 4 jours",IF(S11=5,"3) 5 jours",IF(S11<=10,"4) 6 à 10 jours",IF(S11>10,"5) plus de 10 jours"))))) -> 1) 1 à 2 jours | Y11: =L11-K11+1 -> 1
A12: 8/12 | B12: 0 Ne pas effacer cette ligne !! | C12: =VLOOKUP(A12,'[1]BDD RH'!$A$9:$W$453,16,FALSE) -> #N/A | D12: =VLOOKUP(A12,'[1]BDD RH'!$A$9:$W$453,4,FALSE) -> #N/A | E12: =VLOOKUP(A12,'[1]BDD RH'!$A$9:$W$453,3,FALSE) -> #N/A | F12: =DATEDIF((VLOOKUP(A12,'[1]BDD RH'!$A$2:$W$485,7,FALSE)),K12,"y") -> #N/A | G12: =IF(F12<=20,"<=20",IF(F12<=30,"21/30",IF(F12<=40,"31/40",IF(F12<=50,"41/50",IF(F12<=60,"51/60",IF(F12>60,"61 et plus",FALSE)))))) -> #N/A | H12: =DATEDIF((VLOOKUP(A12,'[1]BDD RH'!$A$2:$W$485,11,FALSE)),K12,"y") -> #N/A | I12: =IF(H12<2,"<2",IF(H12<6,"2/5",IF(H12<11,"6/10",IF(H12<16,"11/15",IF(H12<21,"16/20",IF(H12<26,"21/25",IF(H12>25,"26 et plus",FALSE))))))) -> #N/A | M12: 8 | N12: =MONTH(L12) -> 1 | O12: 0 | P12: =IF(N12-M12=0,0,IF(N12-M12=1,NETWORKDAYS(K12,L12,[1]Congés!$D$2:$D$160)-O12,IF(N12-M12=2,NETWORKDAYS(K12,EOMONTH(K12,1),[1]Congés!$D$2:$D$160)-O12,IF(N12-M12=3,NETWORKDAYS(K12,EOMONTH(K12,1),[1]Congés!$D$2:$D$160)-O12)))) -> FALSE | Q12: =IF(N12-M12<2,0,IF(N12-M12=2,NETWORKDAYS(K12,L12,[1]Congés!$D$2:$D$160)-P12-O12,IF(N12-M12=3,NETWORKDAYS(K12,EOMONTH(K12,2),[1]Congés!$D$2:$D$160)-P12-O12))) -> 0 | R12: =IF(N12-M12<3,0,NETWORKDAYS(K12,L12,[1]Congés!$D$2:$D$160)-Q12-P12-O12) -> 0 | S12: =NETWORKDAYS(K12,L12,[1]Congés!C$2:C$160) -> 0 | T12: LM Pro | V12: =IF(S12<3,"1) 1 à 2 jours",IF(S12<5,"2) 3 à 4 jours",IF(S12=5,"3) 5 jours",IF(S12<=10,"4) 6 à 10 jours",IF(S12>10,"5) plus de 10 jours"))))) -> 1) 1 à 2 jours | Y12: =L12-K12+1 -> 1
A13: 9/12 | B13: 0 Ne pas effacer cette ligne !! | C13: =VLOOKUP(A13,'[1]BDD RH'!$A$9:$W$453,16,FALSE) -> #N/A | D13: =VLOOKUP(A13,'[1]BDD RH'!$A$9:$W$453,4,FALSE) -> #N/A | E13: =VLOOKUP(A13,'[1]BDD RH'!$A$9:$W$453,3,FALSE) -> #N/A | F13: =DATEDIF((VLOOKUP(A13,'[1]BDD RH'!$A$2:$W$485,7,FALSE)),K13,"y") -> #N/A | G13: =IF(F13<=20,"<=20",IF(F13<=30,"21/30",IF(F13<=40,"31/40",IF(F13<=50,"41/50",IF(F13<=60,"51/60",IF(F13>60,"61 et plus",FALSE)))))) -> #N/A | H13: =DATEDIF((VLOOKUP(A13,'[1]BDD RH'!$A$2:$W$485,11,FALSE)),K13,"y") -> #N/A | I13: =IF(H13<2,"<2",IF(H13<6,"2/5",IF(H13<11,"6/10",IF(H13<16,"11/15",IF(H13<21,"16/20",IF(H13<26,"21/25",IF(H13>25,"26 et plus",FALSE))))))) -> #N/A | M13: 9 | N13: =MONTH(L13) -> 1 | O13: 0 | P13: =IF(N13-M13=0,0,IF(N13-M13=1,NETWORKDAYS(K13,L13,[1]Congés!$D$2:$D$160)-O13,IF(N13-M13=2,NETWORKDAYS(K13,EOMONTH(K13,1),[1]Congés!$D$2:$D$160)-O13,IF(N13-M13=3,NETWORKDAYS(K13,EOMONTH(K13,1),[1]Congés!$D$2:$D$160)-O13)))) -> FALSE | Q13: =IF(N13-M13<2,0,IF(N13-M13=2,NETWORKDAYS(K13,L13,[1]Congés!$D$2:$D$160)-P13-O13,IF(N13-M13=3,NETWORKDAYS(K13,EOMONTH(K13,2),[1]Congés!$D$2:$D$160)-P13-O13))) -> 0 | R13: =IF(N13-M13<3,0,NETWORKDAYS(K13,L13,[1]Congés!$D$2:$D$160)-Q13-P13-O13) -> 0 | S13: =NETWORKDAYS(K13,L13,[1]Congés!C$2:C$160) -> 0 | T13: M Pro | V13: =IF(S13<3,"1) 1 à 2 jours",IF(S13<5,"2) 3 à 4 jours",IF(S13=5,"3) 5 jours",IF(S13<=10,"4) 6 à 10 jours",IF(S13>10,"5) plus de 10 jours"))))) -> 1) 1 à 2 jours | Y13: =L13-K13+1 -> 1
A14: 10/12 | B14: 0 Ne pas effacer cette ligne !! | C14: =VLOOKUP(A14,'[1]BDD RH'!$A$9:$W$453,16,FALSE) -> #N/A | D14: =VLOOKUP(A14,'[1]BDD RH'!$A$9:$W$453,4,FALSE) -> #N/A | E14: =VLOOKUP(A14,'[1]BDD RH'!$A$9:$W$453,3,FALSE) -> #N/A | F14: =DATEDIF((VLOOKUP(A14,'[1]BDD RH'!$A$2:$W$485,7,FALSE)),K14,"y") -> #N/A | G14: =IF(F14<=20,"<=20",IF(F14<=30,"21/30",IF(F14<=40,"31/40",IF(F14<=50,"41/50",IF(F14<=60,"51/60",IF(F14>60,"61 et plus",FALSE)))))) -> #N/A | H14: =DATEDIF((VLOOKUP(A14,'[1]BDD RH'!$A$2:$W$485,11,FALSE)),K14,"y") -> #N/A | I14: =IF(H14<2,"<2",IF(H14<6,"2/5",IF(H14<11,"6/10",IF(H14<16,"11/15",IF(H14<21,"16/20",IF(H14<26,"21/25",IF(H14>25,"26 et plus",FALSE))))))) -> #N/A | M14: 10 | N14: =MONTH(L14) -> 1 | O14: 0 | P14: =IF(N14-M14=0,0,IF(N14-M14=1,NETWORKDAYS(K14,L14,[1]Congés!$D$2:$D$160)-O14,IF(N14-M14=2,NETWORKDAYS(K14,EOMONTH(K14,1),[1]Congés!$D$2:$D$160)-O14,IF(N14-M14=3,NETWORKDAYS(K14,EOMONTH(K14,1),[1]Congés!$D$2:$D$160)-O14)))) -> FALSE | Q14: =IF(N14-M14<2,0,IF(N14-M14=2,NETWORKDAYS(K14,L14,[1]Congés!$D$2:$D$160)-P14-O14,IF(N14-M14=3,NETWORKDAYS(K14,EOMONTH(K14,2),[1]Congés!$D$2:$D$160)-P14-O14))) -> 0 | R14: =IF(N14-M14<3,0,NETWORKDAYS(K14,L14,[1]Congés!$D$2:$D$160)-Q14-P14-O14) -> 0 | S14: =NETWORKDAYS(K14,L14,[1]Congés!C$2:C$160) -> 0 | T14: LM | V14: =IF(S14<3,"1) 1 à 2 jours",IF(S14<5,"2) 3 à 4 jours",IF(S14=5,"3) 5 jours",IF(S14<=10,"4) 6 à 10 jours",IF(S14>10,"5) plus de 10 jours"))))) -> 1) 1 à 2 jours | Y14: =L14-K14+1 -> 1
A15: 11/12 | B15: 0 Ne pas effacer cette ligne !! | C15: =VLOOKUP(A15,'[1]BDD RH'!$A$9:$W$453,16,FALSE) -> #N/A | D15: =VLOOKUP(A15,'[1]BDD RH'!$A$9:$W$453,4,FALSE) -> #N/A | E15: =VLOOKUP(A15,'[1]BDD RH'!$A$9:$W$453,3,FALSE) -> #N/A | F15: =DATEDIF((VLOOKUP(A15,'[1]BDD RH'!$A$2:$W$485,7,FALSE)),K15,"y") -> #N/A | G15: =IF(F15<=20,"<=20",IF(F15<=30,"21/30",IF(F15<=40,"31/40",IF(F15<=50,"41/50",IF(F15<=60,"51/60",IF(F15>60,"61 et plus",FALSE)))))) -> #N/A | H15: =DATEDIF((VLOOKUP(A15,'[1]BDD RH'!$A$2:$W$485,11,FALSE)),K15,"y") -> #N/A | I15: =IF(H15<2,"<2",IF(H15<6,"2/5",IF(H15<11,"6/10",IF(H15<16,"11/15",IF(H15<21,"16/20",IF(H15<26,"21/25",IF(H15>25,"26 et plus",FALSE))))))) -> #N/A | M15: 11 | N15: =MONTH(L15) -> 1 | O15: 0 | P15: =IF(N15-M15=0,0,IF(N15-M15=1,NETWORKDAYS(K15,L15,[1]Congés!$D$2:$D$160)-O15,IF(N15-M15=2,NETWORKDAYS(K15,EOMONTH(K15,1),[1]Congés!$D$2:$D$160)-O15,IF(N15-M15=3,NETWORKDAYS(K15,EOMONTH(K15,1),[1]Congés!$D$2:$D$160)-O15)))) -> FALSE | Q15: =IF(N15-M15<2,0,IF(N15-M15=2,NETWORKDAYS(K15,L15,[1]Congés!$D$2:$D$160)-P15-O15,IF(N15-M15=3,NETWORKDAYS(K15,EOMONTH(K15,2),[1]Congés!$D$2:$D$160)-P15-O15))) -> 0 | R15: =IF(N15-M15<3,0,NETWORKDAYS(K15,L15,[1]Congés!$D$2:$D$160)-Q15-P15-O15) -> 0 | S15: =NETWORKDAYS(K15,L15,[1]Congés!C$2:C$160) -> 0 | T15: ATT 15 | V15: =IF(S15<3,"1) 1 à 2 jours",IF(S15<5,"2) 3 à 4 jours",IF(S15=5,"3) 5 jours",IF(S15<=10,"4) 6 à 10 jours",IF(S15>10,"5) plus de 10 jours"))))) -> 1) 1 à 2 jours | Y15: =L15-K15+1 -> 1
A16: 12/12 | B16: 0 Ne pas effacer cette ligne !! | C16: =VLOOKUP(A16,'[1]BDD RH'!$A$9:$W$453,16,FALSE) -> #N/A | D16: =VLOOKUP(A16,'[1]BDD RH'!$A$9:$W$453,4,FALSE) -> #N/A | E16: =VLOOKUP(A16,'[1]BDD RH'!$A$9:$W$453,3,FALSE) -> #N/A | F16: =DATEDIF((VLOOKUP(A16,'[1]BDD RH'!$A$2:$W$485,7,FALSE)),K16,"y") -> #N/A | G16: =IF(F16<=20,"<=20",IF(F16<=30,"21/30",IF(F16<=40,"31/40",IF(F16<=50,"41/50",IF(F16<=60,"51/60",IF(F16>60,"61 et plus",FALSE)))))) -> #N/A | H16: =DATEDIF((VLOOKUP(A16,'[1]BDD RH'!$A$2:$W$485,11,FALSE)),K16,"y") -> #N/A | I16: =IF(H16<2,"<2",IF(H16<6,"2/5",IF(H16<11,"6/10",IF(H16<16,"11/15",IF(H16<21,"16/20",IF(H16<26,"21/25",IF(H16>25,"26 et plus",FALSE))))))) -> #N/A | M16: 12 | N16: =MONTH(L16) -> 1 | O16: 0 | P16: =IF(N16-M16=0,0,IF(N16-M16=1,NETWORKDAYS(K16,L16,[1]Congés!$D$2:$D$160)-O16,IF(N16-M16=2,NETWORKDAYS(K16,EOMONTH(K16,1),[1]Congés!$D$2:$D$160)-O16,IF(N16-M16=3,NETWORKDAYS(K16,EOMONTH(K16,1),[1]Congés!$D$2:$D$160)-O16)))) -> FALSE | Q16: =IF(N16-M16<2,0,IF(N16-M16=2,NETWORKDAYS(K16,L16,[1]Congés!$D$2:$D$160)-P16-O16,IF(N16-M16=3,NETWORKDAYS(K16,EOMONTH(K16,2),[1]Congés!$D$2:$D$160)-P16-O16))) -> 0 | R16: =IF(N16-M16<3,0,NETWORKDAYS(K16,L16,[1]Congés!$D$2:$D$160)-Q16-P16-O16) -> 0 | S16: =NETWORKDAYS(K16,L16,[1]Congés!C$2:C$160) -> 0 | T16: Arrêt Maladie | V16: =IF(S16<3,"1) 1 à 2 jours",IF(S16<5,"2) 3 à 4 jours",IF(S16=5,"3) 5 jours",IF(S16<=10,"4) 6 à 10 jours",IF(S16>10,"5) plus de 10 jours"))))) -> 1) 1 à 2 jours | Y16: =L16-K16+1 -> 1
A17: 16737 | D17: =VLOOKUP(A17,'[1]BDD RH'!$A$9:$W$453,4,FALSE) -> t | E17: =VLOOKUP(A17,'[1]BDD RH'!$A$9:$W$453,3,FALSE) -> F | F17: =DATEDIF((VLOOKUP(A17,'[1]BDD RH'!$A$2:$W$485,7,FALSE)),K17,"y") -> 41 | G17: =IF(F17<=20,"<=20",IF(F17<=30,"21/30",IF(F17<=40,"31/40",IF(F17<=50,"41/50",IF(F17<=60,"51/60",IF(F17>60,"61 et plus",FALSE)))))) -> 41/50 | H17: =DATEDIF((VLOOKUP(A17,'[1]BDD RH'!$A$2:$W$485,11,FALSE)),K17,"y") -> 9 | I17: =IF(H17<2,"<2",IF(H17<6,"2/5",IF(H17<11,"6/10",IF(H17<16,"11/15",IF(H17<21,"16/20",IF(H17<26,"21/25",IF(H17>25,"26 et plus",FALSE))))))) -> 6/10 | J17: ABA00 | K17: 42370 | L17: 42372 | M17: =MONTH(K17) -> 1 | N17: =MONTH(L17) -> 1 | O17: =IF(N17-M17=0,NETWORKDAYS(K17,L17,[1]Congés!$D$2:$D$26),NETWORKDAYS(K17,EOMONTH(K17,0),[1]Congés!$D$2:$D$26)) -> 1 | P17: =IF(N17-M17=0,0,IF(N17-M17=1,NETWORKDAYS(K17,L17,[1]Congés!$D$2:$D$160)-O17,IF(N17-M17=2,NETWORKDAYS(K17,EOMONTH(K17,1),[1]Congés!$D$2:$D$160)-O17,IF(N17-M17=3,NETWORKDAYS(K17,EOMONTH(K17,1),[1]Congés!$D$2:$D$160)-O17)))) -> 0 | Q17: =IF(N17-M17<2,0,IF(N17-M17=2,NETWORKDAYS(K17,L17,[1]Congés!$D$2:$D$160)-P17-O17,IF(N17-M17=3,NETWORKDAYS(K17,EOMONTH(K17,2),[1]Congés!$D$2:$D$160)-P17-O17))) -> 0 | R17: =IF(N17-M17<3,0,NETWORKDAYS(K17,L17,[1]Congés!$D$2:$D$160)-Q17-P17-O17) -> 0 | S17: =NETWORKDAYS(K17,L17,[1]Congés!C$2:C$160) -> 0 | T17: LM | U17: 42254 | V17: =IF(S17<3,"1) 1 à 2 jours",IF(S17<5,"2) 3 à 4 jours",IF(S17=5,"3) 5 jours",IF(S17<=10,"4) 6 à 10 jours",IF(S17>10,"5) plus de 10 jours"))))) -> 1) 1 à 2 jours | W17: vm faite | X17: 42402 | Y17: =L17-K17+1 -> 3
A18: 16737 | D18: =VLOOKUP(A18,'[1]BDD RH'!$A$9:$W$453,4,FALSE) -> t | E18: =VLOOKUP(A18,'[1]BDD RH'!$A$9:$W$453,3,FALSE) -> F | F18: =DATEDIF((VLOOKUP(A18,'[1]BDD RH'!$A$2:$W$485,7,FALSE)),K18,"y") -> 41 | G18: =IF(F18<=20,"<=20",IF(F18<=30,"21/30",IF(F18<=40,"31/40",IF(F18<=50,"41/50",IF(F18<=60,"51/60",IF(F18>60,"61 et plus",FALSE)))))) -> 41/50 | H18: =DATEDIF((VLOOKUP(A18,'[1]BDD RH'!$A$2:$W$485,11,FALSE)),K18,"y") -> 9 | I18: =IF(H18<2,"<2",IF(H18<6,"2/5",IF(H18<11,"6/10",IF(H18<16,"11/15",IF(H18<21,"16/20",IF(H18<26,"21/25",IF(H18>25,"26 et plus",FALSE))))))) -> 6/10 | K18: 42373 | L18: 42433 | M18: =MONTH(K18) -> 1 | N18: =MONTH(L18) -> 3 | O18: =IF(N18-M18=0,NETWORKDAYS(K18,L18,[1]Congés!$D$2:$D$26),NETWORKDAYS(K18,EOMONTH(K18,0),[1]Congés!$D$2:$D$26)) -> 20 | P18: =IF(N18-M18=0,0,IF(N18-M18=1,NETWORKDAYS(K18,L18,[1]Congés!$D$2:$D$160)-O18,IF(N18-M18=2,NETWORKDAYS(K18,EOMONTH(K18,1),[1]Congés!$D$2:$D$160)-O18,IF(N18-M18=3,NETWORKDAYS(K18,EOMONTH(K18,1),[1]Congés!$D$2:$D$160)-O18)))) -> 21 | Q18: =IF(N18-M18<2,0,IF(N18-M18=2,NETWORKDAYS(K18,L18,[1]Congés!$D$2:$D$160)-P18-O18,IF(N18-M18=3,NETWORKDAYS(K18,EOMONTH(K18,2),[1]Congés!$D$2:$D$160)-P18-O18))) -> 4 | R18: =IF(N18-M18<3,0,NETWORKDAYS(K18,L18,[1]Congés!$D$2:$D$160)-Q18-P18-O18) -> 0 | S18: =NETWORKDAYS(K18,L18,[1]Congés!C$2:C$160) -> 45 | T18: Mi-temps | U18: 42373 | V18: =IF(S18<3,"1) 1 à 2 jours",IF(S18<5,"2) 3 à 4 jours",IF(S18=5,"3) 5 jours",IF(S18<=10,"4) 6 à 10 jours",IF(S18>10,"5) plus de 10 jours"))))) -> 5) plus de 10 jours | Y18: =L18-K18+1 -> 61
A19: 17354 | D19: =VLOOKUP(A19,'[1]BDD RH'!$A$9:$W$453,4,FALSE) -> t | E19: =VLOOKUP(A19,'[1]BDD RH'!$A$9:$W$453,3,FALSE) -> F | F19: =DATEDIF((VLOOKUP(A19,'[1]BDD RH'!$A$2:$W$485,7,FALSE)),K19,"y") -> 29 | G19: =IF(F19<=20,"<=20",IF(F19<=30,"21/30",IF(F19<=40,"31/40",IF(F19<=50,"41/50",IF(F19<=60,"51/60",IF(F19>60,"61 et plus",FALSE)))))) -> 21/30 | H19: =DATEDIF((VLOOKUP(A19,'[1]BDD RH'!$A$2:$W$485,11,FALSE)),K19,"y") -> 8 | I19: =IF(H19<2,"<2",IF(H19<6,"2/5",IF(H19<11,"6/10",IF(H19<16,"11/15",IF(H19<21,"16/20",IF(H19<26,"21/25",IF(H19>25,"26 et plus",FALSE))))))) -> 6/10 | J19: ACE01 | K19: 42376 | L19: 42408 | M19: =MONTH(K19) -> 1 | N19: =MONTH(L19) -> 2 | O19: =IF(N19-M19=0,NETWORKDAYS(K19,L19,[1]Congés!$D$2:$D$26),NETWORKDAYS(K19,EOMONTH(K19,0),[1]Congés!$D$2:$D$26)) -> 17 | P19: =IF(N19-M19=0,0,IF(N19-M19=1,NETWORKDAYS(K19,L19,[1]Congés!$D$2:$D$160)-O19,IF(N19-M19=2,NETWORKDAYS(K19,EOMONTH(K19,1),[1]Congés!$D$2:$D$160)-O19,IF(N19-M19=3,NETWORKDAYS(K19,EOMONTH(K19,1),[1]Congés!$D$2:$D$160)-O19)))) -> 6 | Q19: =IF(N19-M19<2,0,IF(N19-M19=2,NETWORKDAYS(K19,L19,[1]Congés!$D$2:$D$160)-P19-O19,IF(N19-M19=3,NETWORKDAYS(K19,EOMONTH(K19,2),[1]Congés!$D$2:$D$160)-P19-O19))) -> 0 | R19: =IF(N19-M19<3,0,NETWORKDAYS(K19,L19,[1]Congés!$D$2:$D$160)-Q19-P19-O19) -> 0 | S19: =NETWORKDAYS(K19,L19,[1]Congés!C$2:C$160) -> 23 | T19: Arrêt Maladie | V19: =IF(S19<3,"1) 1 à 2 jours",IF(S19<5,"2) 3 à 4 jours",IF(S19=5,"3) 5 jours",IF(S19<=10,"4) 6 à 10 jours",IF(S19>10,"5) plus de 10 jours"))))) -> 5) plus de 10 jours | W19: vm à prévoir | Y19: =L19-K19+1 -> 33
A20: 4300 | D20: =VLOOKUP(A20,'[1]BDD RH'!$A$9:$W$453,4,FALSE) -> s | E20: =VLOOKUP(A20,'[1]BDD RH'!$A$9:$W$453,3,FALSE) -> F | F20: =DATEDIF((VLOOKUP(A20,'[1]BDD RH'!$A$2:$W$485,7,FALSE)),K20,"y") -> 46 | G20: =IF(F20<=20,"<=20",IF(F20<=30,"21/30",IF(F20<=40,"31/40",IF(F20<=50,"41/50",IF(F20<=60,"51/60",IF(F20>60,"61 et plus",FALSE)))))) -> 41/50 | H20: =DATEDIF((VLOOKUP(A20,'[1]BDD RH'!$A$2:$W$485,11,FALSE)),K20,"y") -> 24 | I20: =IF(H20<2,"<2",IF(H20<6,"2/5",IF(H20<11,"6/10",IF(H20<16,"11/15",IF(H20<21,"16/20",IF(H20<26,"21/25",IF(H20>25,"26 et plus",FALSE))))))) -> 21/25 | J20: ALM01 | K20: 42370 | L20: 42380 | M20: =MONTH(K20) -> 1 | N20: =MONTH(L20) -> 1 | O20: =IF(N20-M20=0,NETWORKDAYS(K20,L20,[1]Congés!$D$2:$D$26),NETWORKDAYS(K20,EOMONTH(K20,0),[1]Congés!$D$2:$D$26)) -> 7 | P20: =IF(N20-M20=0,0,IF(N20-M20=1,NETWORKDAYS(K20,L20,[1]Congés!$D$2:$D$160)-O20,IF(N20-M20=2,NETWORKDAYS(K20,EOMONTH(K20,1),[1]Congés!$D$2:$D$160)-O20,IF(N20-M20=3,NETWORKDAYS(K20,EOMONTH(K20,1),[1]Congés!$D$2:$D$160)-O20)))) -> 0 | Q20: =IF(N20-M20<2,0,IF(N20-M20=2,NETWORKDAYS(K20,L20,[1]Congés!$D$2:$D$160)-P20-O20,IF(N20-M20=3,NETWORKDAYS(K20,EOMONTH(K20,2),[1]Congés!$D$2:$D$160)-P20-O20))) -> 0 | R20: =IF(N20-M20<3,0,NETWORKDAYS(K20,L20,[1]Congés!$D$2:$D$160)-Q20-P20-O20) -> 0 | S20: =NETWORKDAYS(K20,L20,[1]Congés!C$2:C$160) -> 6 | T20: LM | U20: 42032 | V20: =IF(S20<3,"1) 1 à 2 jours",IF(S20<5,"2) 3 à 4 jours",IF(S20=5,"3) 5 jours",IF(S20<=10,"4) 6 à 10 jours",IF(S20>10,"5) plus de 10 jours"))))) -> 4) 6 à 10 jours | W20: prol | Y20: =L20-K20+1 -> 11
A21: 4300 | D21: =VLOOKUP(A21,'[1]BDD RH'!$A$9:$W$453,4,FALSE) -> s | E21: =VLOOKUP(A21,'[1]BDD RH'!$A$9:$W$453,3,FALSE) -> F | F21: =DATEDIF((VLOOKUP(A21,'[1]BDD RH'!$A$2:$W$485,7,FALSE)),K21,"y") -> 46 | G21: =IF(F21<=20,"<=20",IF(F21<=30,"21/30",IF(F21<=40,"31/40",IF(F21<=50,"41/50",IF(F21<=60,"51/60",IF(F21>60,"61 et plus",FALSE)))))) -> 41/50 | H21: =DATEDIF((VLOOKUP(A21,'[1]BDD RH'!$A$2:$W$485,11,FALSE)),K21,"y") -> 24 | I21: =IF(H21<2,"<2",IF(H21<6,"2/5",IF(H21<11,"6/10",IF(H21<16,"11/15",IF(H21<21,"16/20",IF(H21<26,"21/25",IF(H21>25,"26 et plus",FALSE))))))) -> 21/25 | J21: ALM01 | K21: 42381 | L21: 42464 | M21: =MONTH(K21) -> 1 | N21: =MONTH(L21) -> 4 | O21: =IF(N21-M21=0,NETWORKDAYS(K21,L21,[1]Congés!$D$2:$D$26),NETWORKDAYS(K21,EOMONTH(K21,0),[1]Congés!$D$2:$D$26)) -> 14 | P21: =IF(N21-M21=0,0,IF(N21-M21=1,NETWORKDAYS(K21,L21,[1]Congés!$D$2:$D$160)-O21,IF(N21-M21=2,NETWORKDAYS(K21,EOMONTH(K21,1),[1]Congés!$D$2:$D$160)-O21,IF(N21-M21=3,NETWORKDAYS(K21,EOMONTH(K21,1),[1]Congés!$D$2:$D$160)-O21)))) -> 21 | Q21: =IF(N21-M21<2,0,IF(N21-M21=2,NETWORKDAYS(K21,L21,[1]Congés!$D$2:$D$160)-P21-O21,IF(N21-M21=3,NETWORKDAYS(K21,EOMONTH(K21,2),[1]Congés!$D$2:$D$160)-P21-O21))) -> 23 | R21: =IF(N21-M21<3,0,NETWORKDAYS(K21,L21,[1]Congés!$D$2:$D$160)-Q21-P21-O21) -> 2 | S21: =NETWORKDAYS(K21,L21,[1]Congés!C$2:C$160) -> 59 | T21: LM | U21: 42032 | V21: =IF(S21<3,"1) 1 à 2 jours",IF(S21<5,"2) 3 à 4 jours",IF(S21=5,"3) 5 jours",IF(S21<=10,"4) 6 à 10 jours",IF(S21>10,"5) plus de 10 jours"))))) -> 5) plus de 10 jours | W21: vm à prévoir | Y21: =L21-K21+1 -> 84
A22: 20944 | D22: =VLOOKUP(A22,'[1]BDD RH'!$A$9:$W$453,4,FALSE) -> t | E22: =VLOOKUP(A22,'[1]BDD RH'!$A$9:$W$453,3,FALSE) -> F | F22: =DATEDIF((VLOOKUP(A22,'[1]BDD RH'!$A$2:$W$485,7,FALSE)),K22,"y") -> 25 | G22: =IF(F22<=20,"<=20",IF(F22<=30,"21/30",IF(F22<=40,"31/40",IF(F22<=50,"41/50",IF(F22<=60,"51/60",IF(F22>60,"61 et plus",FALSE)))))) -> 21/30 | H22: =DATEDIF((VLOOKUP(A22,'[1]BDD RH'!$A$2:$W$485,11,FALSE)),K22,"y") -> 4 | I22: =IF(H22<2,"<2",IF(H22<6,"2/5",IF(H22<11,"6/10",IF(H22<16,"11/15",IF(H22<21,"16/20",IF(H22<26,"21/25",IF(H22>25,"26 et plus",FALSE))))))) -> 2/5 | J22: AML01 | K22: 42381 | L22: 42382 | M22: =MONTH(K22) -> 1 | N22: =MONTH(L22) -> 1 | O22: =IF(N22-M22=0,NETWORKDAYS(K22,L22,[1]Congés!$D$2:$D$26),NETWORKDAYS(K22,EOMONTH(K22,0),[1]Congés!$D$2:$D$26)) -> 2 | P22: =IF(N22-M22=0,0,IF(N22-M22=1,NETWORKDAYS(K22,L22,[1]Congés!$D$2:$D$160)-O22,IF(N22-M22=2,NETWORKDAYS(K22,EOMONTH(K22,1),[1]Congés!$D$2:$D$160)-O22,IF(N22-M22=3,NETWORKDAYS(K22,EOMONTH(K22,1),[1]Congés!$D$2:$D$160)-O22)))) -> 0 | Q22: =IF(N22-M22<2,0,IF(N22-M22=2,NETWORKDAYS(K22,L22,[1]Congés!$D$2:$D$160)-P22-O22,IF(N22-M22=3,NETWORKDAYS(K22,EOMONTH(K22,2),[1]Congés!$D$2:$D$160)-P22-O22))) -> 0 | R22: =IF(N22-M22<3,0,NETWORKDAYS(K22,L22,[1]Congés!$D$2:$D$160)-Q22-P22-O22) -> 0 | S22: =NETWORKDAYS(K22,L22,[1]Congés!C$2:C$160) -> 2 | T22: Arrêt Maladie | U22: 42381 | V22: =IF(S22<3,"1) 1 à 2 jours",IF(S22<5,"2) 3 à 4 jours",IF(S22=5,"3) 5 jours",IF(S22<=10,"4) 6 à 10 jours",IF(S22>10,"5) plus de 10 jours"))))) -> 1) 1 à 2 jours | W22: prol | Y22: =L22-K22+1 -> 2
A23: 20944 | D23: =VLOOKUP(A23,'[1]BDD RH'!$A$9:$W$453,4,FALSE) -> t | E23: =VLOOKUP(A23,'[1]BDD RH'!$A$9:$W$453,3,FALSE) -> F | F23: =DATEDIF((VLOOKUP(A23,'[1]BDD RH'!$A$2:$W$485,7,FALSE)),K23,"y") -> 25 | G23: =IF(F23<=20,"<=20",IF(F23<=30,"21/30",IF(F23<=40,"31/40",IF(F23<=50,"41/50",IF(F23<=60,"51/60",IF(F23>60,"61 et plus",FALSE)))))) -> 21/30 | H23: =DATEDIF((VLOOKUP(A23,'[1]BDD RH'!$A$2:$W$485,11,FALSE)),K23,"y") -> 4 | I23: =IF(H23<2,"<2",IF(H23<6,"2/5",IF(H23<11,"6/10",IF(H23<16,"11/15",IF(H23<21,"16/20",IF(H23<26,"21/25",IF(H23>25,"26 et plus",FALSE))))))) -> 2/5 | J23: AML01 | K23: 42383 | L23: 42384 | M23: =MONTH(K23) -> 1 | N23: =MONTH(L23) -> 1 | O23: =IF(N23-M23=0,NETWORKDAYS(K23,L23,[1]Congés!$D$2:$D$26),NETWORKDAYS(K23,EOMONTH(K23,0),[1]Congés!$D$2:$D$26)) -> 2 | P23: =IF(N23-M23=0,0,IF(N23-M23=1,NETWORKDAYS(K23,L23,[1]Congés!$D$2:$D$160)-O23,IF(N23-M23=2,NETWORKDAYS(K23,EOMONTH(K23,1),[1]Congés!$D$2:$D$160)-O23,IF(N23-M23=3,NETWORKDAYS(K23,EOMONTH(K23,1),[1]Congés!$D$2:$D$160)-O23)))) -> 0 | Q23: =IF(N23-M23<2,0,IF(N23-M23=2,NETWORKDAYS(K23,L23,[1]Congés!$D$2:$D$160)-P23-O23,IF(N23-M23=3,NETWORKDAYS(K23,EOMONTH(K23,2),[1]Congés!$D$2:$D$160)-P23-O23))) -> 0 | R23: =IF(N23-M23<3,0,NETWORKDAYS(K23,L23,[1]Congés!$D$2:$D$160)-Q23-P23-O23) -> 0 | S23: =NETWORKDAYS(K23,L23,[1]Congés!C$2:C$160) -> 2 | T23: Arrêt Maladie | U23: 42381 | V23: =IF(S23<3,"1) 1 à 2 jours",IF(S23<5,"2) 3 à 4 jours",IF(S23=5,"3) 5 jours",IF(S23<=10,"4) 6 à 10 jours",IF(S23>10,"5) plus de 10 jours"))))) -> 1) 1 à 2 jours | W23: * | Y23: =L23-K23+1 -> 2
A24: 16614 | D24: =VLOOKUP(A24,'[1]BDD RH'!$A$9:$W$453,4,FALSE) -> t | E24: =VLOOKUP(A24,'[1]BDD RH'!$A$9:$W$453,3,FALSE) -> F | F24: =DATEDIF((VLOOKUP(A24,'[1]BDD RH'!$A$2:$W$485,7,FALSE)),K24,"y") -> 41 | G24: =IF(F24<=20,"<=20",IF(F24<=30,"21/30",IF(F24<=40,"31/40",IF(F24<=50,"41/50",IF(F24<=60,"51/60",IF(F24>60,"61 et plus",FALSE)))))) -> 41/50 | H24: =DATEDIF((VLOOKUP(A24,'[1]BDD RH'!$A$2:$W$485,11,FALSE)),K24,"y") -> 9 | I24: =IF(H24<2,"<2",IF(H24<6,"2/5",IF(H24<11,"6/10",IF(H24<16,"11/15",IF(H24<21,"16/20",IF(H24<26,"21/25",IF(H24>25,"26 et plus",FALSE))))))) -> 6/10 | J24: ABL01 | K24: 42374 | L24: 42375 | M24: =MONTH(K24) -> 1 | N24: =MONTH(L24) -> 1 | O24: =IF(N24-M24=0,NETWORKDAYS(K24,L24,[1]Congés!$D$2:$D$26),NETWORKDAYS(K24,EOMONTH(K24,0),[1]Congés!$D$2:$D$26)) -> 2 | P24: =IF(N24-M24=0,0,IF(N24-M24=1,NETWORKDAYS(K24,L24,[1]Congés!$D$2:$D$160)-O24,IF(N24-M24=2,NETWORKDAYS(K24,EOMONTH(K24,1),[1]Congés!$D$2:$D$160)-O24,IF(N24-M24=3,NETWORKDAYS(K24,EOMONTH(K24,1),[1]Congés!$D$2:$D$160)-O24)))) -> 0 | Q24: =IF(N24-M24<2,0,IF(N24-M24=2,NETWORKDAYS(K24,L24,[1]Congés!$D$2:$D$160)-P24-O24,IF(N24-M24=3,NETWORKDAYS(K24,EOMONTH(K24,2),[1]Congés!$D$2:$D$160)-P24-O24))) -> 0 | R24: =IF(N24-M24<3,0,NETWORKDAYS(K24,L24,[1]Congés!$D$2:$D$160)-Q24-P24-O24) -> 0 | S24: =NETWORKDAYS(K24,L24,[1]Congés!C$2:C$160) -> 2 | T24: Arrêt Maladie | V24: =IF(S24<3,"1) 1 à 2 jours",IF(S24<5,"2) 3 à 4 jours",IF(S24=5,"3) 5 jours",IF(S24<=10,"4) 6 à 10 jours",IF(S24>10,"5) plus de 10 jours"))))) -> 1) 1 à 2 jours | W24: * | Y24: =L24-K24+1 -> 2
A25: 11437 | D25: =VLOOKUP(A25,'[1]BDD RH'!$A$9:$W$453,4,FALSE) -> t | E25: =VLOOKUP(A25,'[1]BDD RH'!$A$9:$W$453,3,FALSE) -> F | F25: =DATEDIF((VLOOKUP(A25,'[1]BDD RH'!$A$2:$W$485,7,FALSE)),K25,"y") -> 45 | G25: =IF(F25<=20,"<=20",IF(F25<=30,"21/30",IF(F25<=40,"31/40",IF(F25<=50,"41/50",IF(F25<=60,"51/60",IF(F25>60,"61 et plus",FALSE)))))) -> 41/50 | H25: =DATEDIF((VLOOKUP(A25,'[1]BDD RH'!$A$2:$W$485,11,FALSE)),K25,"y") -> 12 | I25: =IF(H25<2,"<2",IF(H25<6,"2/5",IF(H25<11,"6/10",IF(H25<16,"11/15",IF(H25<21,"16/20",IF(H25<26,"21/25",IF(H25>25,"26 et plus",FALSE))))))) -> 11/15 | J25: AVY01 | K25: 42380 | L25: 42387 | M25: =MONTH(K25) -> 1 | N25: =MONTH(L25) -> 1 | O25: =IF(N25-M25=0,NETWORKDAYS(K25,L25,[1]Congés!$D$2:$D$26),NETWORKDAYS(K25,EOMONTH(K25,0),[1]Congés!$D$2:$D$26)) -> 6 | P25: =IF(N25-M25=0,0,IF(N25-M25=1,NETWORKDAYS(K25,L25,[1]Congés!$D$2:$D$160)-O25,IF(N25-M25=2,NETWORKDAYS(K25,EOMONTH(K25,1),[1]Congés!$D$2:$D$160)-O25,IF(N25-M25=3,NETWORKDAYS(K25,EOMONTH(K25,1),[1]Congés!$D$2:$D$160)-O25)))) -> 0 | Q25: =IF(N25-M25<2,0,IF(N25-M25=2,NETWORKDAYS(K25,L25,[1]Congés!$D$2:$D$160)-P25-O25,IF(N25-M25=3,NETWORKDAYS(K25,EOMONTH(K25,2),[1]Congés!$D$2:$D$160)-P25-O25))) -> 0 | R25: =IF(N25-M25<3,0,NETWORKDAYS(K25,L25,[1]Congés!$D$2:$D$160)-Q25-P25-O25) -> 0 | S25: =NETWORKDAYS(K25,L25,[1]Congés!C$2:C$160) -> 6 | T25: Arrêt Maladie | V25: =IF(S25<3,"1) 1 à 2 jours",IF(S25<5,"2) 3 à 4 jours",IF(S25=5,"3) 5 jours",IF(S25<=10,"4) 6 à 10 jours",IF(S25>10,"5) plus de 10 jours"))))) -> 4) 6 à 10 jours | W25: * | Y25: =L25-K25+1 -> 8
A26: 17876 | D26: =VLOOKUP(A26,'[1]BDD RH'!$A$9:$W$453,4,FALSE) -> c | E26: =VLOOKUP(A26,'[1]BDD RH'!$A$9:$W$453,3,FALSE) -> H | F26: =DATEDIF((VLOOKUP(A26,'[1]BDD RH'!$A$2:$W$485,7,FALSE)),K26,"y") -> 28 | G26: =IF(F26<=20,"<=20",IF(F26<=30,"21/30",IF(F26<=40,"31/40",IF(F26<=50,"41/50",IF(F26<=60,"51/60",IF(F26>60,"61 et plus",FALSE)))))) -> 21/30 | H26: =DATEDIF((VLOOKUP(A26,'[1]BDD RH'!$A$2:$W$485,11,FALSE)),K26,"y") -> 8 | I26: =IF(H26<2,"<2",IF(H26<6,"2/5",IF(H26<11,"6/10",IF(H26<16,"11/15",IF(H26<21,"16/20",IF(H26<26,"21/25",IF(H26>25,"26 et plus",FALSE))))))) -> 6/10 | J26: AVM01 | K26: 42370 | L26: 42373 | M26: =MONTH(K26) -> 1 | N26: =MONTH(L26) -> 1 | O26: =IF(N26-M26=0,NETWORKDAYS(K26,L26,[1]Congés!$D$2:$D$26),NETWORKDAYS(K26,EOMONTH(K26,0),[1]Congés!$D$2:$D$26)) -> 2 | P26: =IF(N26-M26=0,0,IF(N26-M26=1,NETWORKDAYS(K26,L26,[1]Congés!$D$2:$D$160)-O26,IF(N26-M26=2,NETWORKDAYS(K26,EOMONTH(K26,1),[1]Congés!$D$2:$D$160)-O26,IF(N26-M26=3,NETWORKDAYS(K26,EOMONTH(K26,1),[1]Congés!$D$2:$D$160)-O26)))) -> 0 | Q26: =IF(N26-M26<2,0,IF(N26-M26=2,NETWORKDAYS(K26,L26,[1]Congés!$D$2:$D$160)-P26-O26,IF(N26-M26=3,NETWORKDAYS(K26,EOMONTH(K26,2),[1]Congés!$D$2:$D$160)-P26-O26))) -> 0 | R26: =IF(N26-M26<3,0,NETWORKDAYS(K26,L26,[1]Congés!$D$2:$D$160)-Q26-P26-O26) -> 0 | S26: =NETWORKDAYS(K26,L26,[1]Congés!C$2:C$160) -> 1 | T26: AT 15 | U26: 42367 | V26: =IF(S26<3,"1) 1 à 2 jours",IF(S26<5,"2) 3 à 4 jours",IF(S26=5,"3) 5 jours",IF(S26<=10,"4) 6 à 10 jours",IF(S26>10,"5) plus de 10 jours"))))) -> 1) 1 à 2 jours | W26: prol | Y26: =L26-K26+1 -> 4
A27: 17876 | D27: =VLOOKUP(A27,'[1]BDD RH'!$A$9:$W$453,4,FALSE) -> c | E27: =VLOOKUP(A27,'[1]BDD RH'!$A$9:$W$453,3,FALSE) -> H | F27: =DATEDIF((VLOOKUP(A27,'[1]BDD RH'!$A$2:$W$485,7,FALSE)),K27,"y") -> 28 | G27: =IF(F27<=20,"<=20",IF(F27<=30,"21/30",IF(F27<=40,"31/40",IF(F27<=50,"41/50",IF(F27<=60,"51/60",IF(F27>60,"61 et plus",FALSE)))))) -> 21/30 | H27: =DATEDIF((VLOOKUP(A27,'[1]BDD RH'!$A$2:$W$485,11,FALSE)),K27,"y") -> 8 | I27: =IF(H27<2,"<2",IF(H27<6,"2/5",IF(H27<11,"6/10",IF(H27<16,"11/15",IF(H27<21,"16/20",IF(H27<26,"21/25",IF(H27>25,"26 et plus",FALSE))))))) -> 6/10 | J27: AVM01 | K27: 42374 | L27: 42380 | M27: =MONTH(K27) -> 1 | N27: =MONTH(L27) -> 1 | O27: =IF(N27-M27=0,NETWORKDAYS(K27,L27,[1]Congés!$D$2:$D$26),NETWORKDAYS(K27,EOMONTH(K27,0),[1]Congés!$D$2:$D$26)) -> 5 | P27: =IF(N27-M27=0,0,IF(N27-M27=1,NETWORKDAYS(K27,L27,[1]Congés!$D$2:$D$160)-O27,IF(N27-M27=2,NETWORKDAYS(K27,EOMONTH(K27,1),[1]Congés!$D$2:$D$160)-O27,IF(N27-M27=3,NETWORKDAYS(K27,EOMONTH(K27,1),[1]Congés!$D$2:$D$160)-O27)))) -> 0 | Q27: =IF(N27-M27<2,0,IF(N27-M27=2,NETWORKDAYS(K27,L27,[1]Congés!$D$2:$D$160)-P27-O27,IF(N27-M27=3,NETWORKDAYS(K27,EOMONTH(K27,2),[1]Congés!$D$2:$D$160)-P27-O27))) -> 0 | R27: =IF(N27-M27<3,0,NETWORKDAYS(K27,L27,[1]Congés!$D$2:$D$160)-Q27-P27-O27) -> 0 | S27: =NETWORKDAYS(K27,L27,[1]Congés!C$2:C$160) -> 5 | T27: AT 15 | U27: 42367 | V27: =IF(S27<3,"1) 1 à 2 jours",IF(S27<5,"2) 3 à 4 jours",IF(S27=5,"3) 5 jours",IF(S27<=10,"4) 6 à 10 jours",IF(S27>10,"5) plus de 10 jours"))))) -> 3) 5 jours | W27: prol | Y27: =L27-K27+1 -> 7
A28: 17876 | D28: =VLOOKUP(A28,'[1]BDD RH'!$A$9:$W$453,4,FALSE) -> c | E28: =VLOOKUP(A28,'[1]BDD RH'!$A$9:$W$453,3,FALSE) -> H | F28: =DATEDIF((VLOOKUP(A28,'[1]BDD RH'!$A$2:$W$485,7,FALSE)),K28,"y") -> 28 | G28: =IF(F28<=20,"<=20",IF(F28<=30,"21/30",IF(F28<=40,"31/40",IF(F28<=50,"41/50",IF(F28<=60,"51/60",IF(F28>60,"61 et plus",FALSE)))))) -> 21/30 | H28: =DATEDIF((VLOOKUP(A28,'[1]BDD RH'!$A$2:$W$485,11,FALSE)),K28,"y") -> 8 | I28: =IF(H28<2,"<2",IF(H28<6,"2/5",IF(H28<11,"6/10",IF(H28<16,"11/15",IF(H28<21,"16/20",IF(H28<26,"21/25",IF(H28>25,"26 et plus",FALSE))))))) -> 6/10 | J28: AVM01 | K28: 42381 | L28: 42387 | M28: =MONTH(K28) -> 1 | N28: =MONTH(L28) -> 1 | O28: =IF(N28-M28=0,NETWORKDAYS(K28,L28,[1]Congés!$D$2:$D$26),NETWORKDAYS(K28,EOMONTH(K28,0),[1]Congés!$D$2:$D$26)) -> 5 | P28: =IF(N28-M28=0,0,IF(N28-M28=1,NETWORKDAYS(K28,L28,[1]Congés!$D$2:$D$160)-O28,IF(N28-M28=2,NETWORKDAYS(K28,EOMONTH(K28,1),[1]Congés!$D$2:$D$160)-O28,IF(N28-M28=3,NETWORKDAYS(K28,EOMONTH(K28,1),[1]Congés!$D$2:$D$160)-O28)))) -> 0 | Q28: =IF(N28-M28<2,0,IF(N28-M28=2,NETWORKDAYS(K28,L28,[1]Congés!$D$2:$D$160)-P28-O28,IF(N28-M28=3,NETWORKDAYS(K28,EOMONTH(K28,2),[1]Congés!$D$2:$D$160)-P28-O28))) -> 0 | R28: =IF(N28-M28<3,0,NETWORKDAYS(K28,L28,[1]Congés!$D$2:$D$160)-Q28-P28-O28) -> 0 | S28: =NETWORKDAYS(K28,L28,[1]Congés!C$2:C$160) -> 5 | T28: AT 15 | U28: 42733 | V28: =IF(S28<3,"1) 1 à 2 jours",IF(S28<5,"2) 3 à 4 jours",IF(S28=5,"3) 5 jours",IF(S28<=10,"4) 6 à 10 jours",IF(S28>10,"5) plus de 10 jours"))))) -> 3) 5 jours | W28: * | Y28: =L28-K28+1 -> 7
A29: 9313 | D29: =VLOOKUP(A29,'[1]BDD RH'!$A$9:$W$453,4,FALSE) -> c | E29: =VLOOKUP(A29,'[1]BDD RH'!$A$9:$W$453,3,FALSE) -> H | F29: =DATEDIF((VLOOKUP(A29,'[1]BDD RH'!$A$2:$W$485,7,FALSE)),K29,"y") -> 42 | G29: =IF(F29<=20,"<=20",IF(F29<=30,"21/30",IF(F29<=40,"31/40",IF(F29<=50,"41/50",IF(F29<=60,"51/60",IF(F29>60,"61 et plus",FALSE)))))) -> 41/50 | H29: =DATEDIF((VLOOKUP(A29,'[1]BDD RH'!$A$2:$W$485,11,FALSE)),K29,"y") -> 17 | I29: =IF(H29<2,"<2",IF(H29<6,"2/5",IF(H29<11,"6/10",IF(H29<16,"11/15",IF(H29<21,"16/20",IF(H29<26,"21/25",IF(H29>25,"26 et plus",FALSE))))))) -> 16/20 | J29: BER01 | K29: 42370 | L29: 42409 | M29: =MONTH(K29) -> 1 | N29: =MONTH(L29) -> 2 | O29: =IF(N29-M29=0,NETWORKDAYS(K29,L29,[1]Congés!$D$2:$D$26),NETWORKDAYS(K29,EOMONTH(K29,0),[1]Congés!$D$2:$D$26)) -> 21 | P29: =IF(N29-M29=0,0,IF(N29-M29=1,NETWORKDAYS(K29,L29,[1]Congés!$D$2:$D$160)-O29,IF(N29-M29=2,NETWORKDAYS(K29,EOMONTH(K29,1),[1]Congés!$D$2:$D$160)-O29,IF(N29-M29=3,NETWORKDAYS(K29,EOMONTH(K29,1),[1]Congés!$D$2:$D$160)-O29)))) -> 7 | Q29: =IF(N29-M29<2,0,IF(N29-M29=2,NETWORKDAYS(K29,L29,[1]Congés!$D$2:$D$160)-P29-O29,IF(N29-M29=3,NETWORKDAYS(K29,EOMONTH(K29,2),[1]Congés!$D$2:$D$160)-P29-O29))) -> 0 | R29: =IF(N29-M29<3,0,NETWORKDAYS(K29,L29,[1]Congés!$D$2:$D$160)-Q29-P29-O29) -> 0 | S29: =NETWORKDAYS(K29,L29,[1]Congés!C$2:C$160) -> 27 | T29: LM | U29: 42156 | V29: =IF(S29<3,"1) 1 à 2 jours",IF(S29<5,"2) 3 à 4 jours",IF(S29=5,"3) 5 jours",IF(S29<=10,"4) 6 à 10 jours",IF(S29>10,"5) plus de 10 jours"))))) -> 5) plus de 10 jours | W29: vm à prévoir | Y29: =L29-K29+1 -> 40
A30: 7741 | D30: =VLOOKUP(A30,'[1]BDD RH'!$A$9:$W$453,4,FALSE) -> s | E30: =VLOOKUP(A30,'[1]BDD RH'!$A$9:$W$453,3,FALSE) -> F | F30: =DATEDIF((VLOOKUP(A30,'[1]BDD RH'!$A$2:$W$485,7,FALSE)),K30,"y") -> 44 | G30: =IF(F30<=20,"<=20",IF(F30<=30,"21/30",IF(F30<=40,"31/40",IF(F30<=50,"41/50",IF(F30<=60,"51/60",IF(F30>60,"61 et plus",FALSE)))))) -> 41/50 | H30: =DATEDIF((VLOOKUP(A30,'[1]BDD RH'!$A$2:$W$485,11,FALSE)),K30,"y") -> 23 | I30: =IF(H30<2,"<2",IF(H30<6,"2/5",IF(H30<11,"6/10",IF(H30<16,"11/15",IF(H30<21,"16/20",IF(H30<26,"21/25",IF(H30>25,"26 et plus",FALSE))))))) -> 21/25 | J30: BES01 | K30: 42373 | L30: 42377 | M30: =MONTH(K30) -> 1 | N30: =MONTH(L30) -> 1 | O30: =IF(N30-M30=0,NETWORKDAYS(K30,L30,[1]Congés!$D$2:$D$26),NETWORKDAYS(K30,EOMONTH(K30,0),[1]Congés!$D$2:$D$26)) -> 5 | P30: =IF(N30-M30=0,0,IF(N30-M30=1,NETWORKDAYS(K30,L30,[1]Congés!$D$2:$D$160)-O30,IF(N30-M30=2,NETWORKDAYS(K30,EOMONTH(K30,1),[1]Congés!$D$2:$D$160)-O30,IF(N30-M30=3,NETWORKDAYS(K30,EOMONTH(K30,1),[1]Congés!$D$2:$D$160)-O30)))) -> 0 | Q30: =IF(N30-M30<2,0,IF(N30-M30=2,NETWORKDAYS(K30,L30,[1]Congés!$D$2:$D$160)-P30-O30,IF(N30-M30=3,NETWORKDAYS(K30,EOMONTH(K30,2),[1]Congés!$D$2:$D$160)-P30-O30))) -> 0 | R30: =IF(N30-M30<3,0,NETWORKDAYS(K30,L30,[1]Congés!$D$2:$D$160)-Q30-P30-O30) -> 0 | S30: =NETWORKDAYS(K30,L30,[1]Congés!C$2:C$160) -> 5 | T30: Arrêt Maladie | U30: 42373 | V30: =IF(S30<3,"1) 1 à 2 jours",IF(S30<5,"2) 3 à 4 jours",IF(S30=5,"3) 5 jours",IF(S30<=10,"4) 6 à 10 jours",IF(S30>10,"5) plus de 10 jours"))))) -> 3) 5 jours | W30: prol | Y30: =L30-K30+1 -> 5
A31: 7741 | D31: =VLOOKUP(A31,'[1]BDD RH'!$A$9:$W$453,4,FALSE) -> s | E31: =VLOOKUP(A31,'[1]BDD RH'!$A$9:$W$453,3,FALSE) -> F | F31: =DATEDIF((VLOOKUP(A31,'[1]BDD RH'!$A$2:$W$485,7,FALSE)),K31,"y") -> 44 | G31: =IF(F31<=20,"<=20",IF(F31<=30,"21/30",IF(F31<=40,"31/40",IF(F31<=50,"41/50",IF(F31<=60,"51/60",IF(F31>60,"61 et plus",FALSE)))))) -> 41/50 | H31: =DATEDIF((VLOOKUP(A31,'[1]BDD RH'!$A$2:$W$485,11,FALSE)),K31,"y") -> 23 | I31: =IF(H31<2,"<2",IF(H31<6,"2/5",IF(H31<11,"6/10",IF(H31<16,"11/15",IF(H31<21,"16/20",IF(H31<26,"21/25",IF(H31>25,"26 et plus",FALSE))))))) -> 21/25 | J31: BES01 | K31: 42378 | L31: 42384 | M31: =MONTH(K31) -> 1 | N31: =MONTH(L31) -> 1 | O31: =IF(N31-M31=0,NETWORKDAYS(K31,L31,[1]Congés!$D$2:$D$26),NETWORKDAYS(K31,EOMONTH(K31,0),[1]Congés!$D$2:$D$26)) -> 5 | P31: =IF(N31-M31=0,0,IF(N31-M31=1,NETWORKDAYS(K31,L31,[1]Congés!$D$2:$D$160)-O31,IF(N31-M31=2,NETWORKDAYS(K31,EOMONTH(K31,1),[1]Congés!$D$2:$D$160)-O31,IF(N31-M31=3,NETWORKDAYS(K31,EOMONTH(K31,1),[1]Congés!$D$2:$D$160)-O31)))) -> 0 | Q31: =IF(N31-M31<2,0,IF(N31-M31=2,NETWORKDAYS(K31,L31,[1]Congés!$D$2:$D$160)-P31-O31,IF(N31-M31=3,NETWORKDAYS(K31,EOMONTH(K31,2),[1]Congés!$D$2:$D$160)-P31-O31))) -> 0 | R31: =IF(N31-M31<3,0,NETWORKDAYS(K31,L31,[1]Congés!$D$2:$D$160)-Q31-P31-O31) -> 0 | S31: =NETWORKDAYS(K31,L31,[1]Congés!C$2:C$160) -> 5 | T31: Arrêt Maladie | U31: 42373 | V31: =IF(S31<3,"1) 1 à 2 jours",IF(S31<5,"2) 3 à 4 jours",IF(S31=5,"3) 5 jours",IF(S31<=10,"4) 6 à 10 jours",IF(S31>10,"5) plus de 10 jours"))))) -> 3) 5 jours | W31: * | Y31: =L31-K31+1 -> 7
A32: 7741 | D32: =VLOOKUP(A32,'[1]BDD RH'!$A$9:$W$453,4,FALSE) -> s | E32: =VLOOKUP(A32,'[1]BDD RH'!$A$9:$W$453,3,FALSE) -> F | F32: =DATEDIF((VLOOKUP(A32,'[1]BDD RH'!$A$2:$W$485,7,FALSE)),K32,"y") -> 44 | G32: =IF(F32<=20,"<=20",IF(F32<=30,"21/30",IF(F32<=40,"31/40",IF(F32<=50,"41/50",IF(F32<=60,"51/60",IF(F32>60,"61 et plus",FALSE)))))) -> 41/50 | H32: =DATEDIF((VLOOKUP(A32,'[1]BDD RH'!$A$2:$W$485,11,FALSE)),K32,"y") -> 23 | I32: =IF(H32<2,"<2",IF(H32<6,"2/5",IF(H32<11,"6/10",IF(H32<16,"11/15",IF(H32<21,"16/20",IF(H32<26,"21/25",IF(H32>25,"26 et plus",FALSE))))))) -> 21/25 | J32: BES0 | K32: 42389 | L32: 42391 | M32: =MONTH(K32) -> 1 | N32: =MONTH(L32) -> 1 | O32: =IF(N32-M32=0,NETWORKDAYS(K32,L32,[1]Congés!$D$2:$D$26),NETWORKDAYS(K32,EOMONTH(K32,0),[1]Congés!$D$2:$D$26)) -> 3 | P32: =IF(N32-M32=0,0,IF(N32-M32=1,NETWORKDAYS(K32,L32,[1]Congés!$D$2:$D$160)-O32,IF(N32-M32=2,NETWORKDAYS(K32,EOMONTH(K32,1),[1]Congés!$D$2:$D$160)-O32,IF(N32-M32=3,NETWORKDAYS(K32,EOMONTH(K32,1),[1]Congés!$D$2:$D$160)-O32)))) -> 0 | Q32: =IF(N32-M32<2,0,IF(N32-M32=2,NETWORKDAYS(K32,L32,[1]Congés!$D$2:$D$160)-P32-O32,IF(N32-M32=3,NETWORKDAYS(K32,EOMONTH(K32,2),[1]Congés!$D$2:$D$160)-P32-O32))) -> 0 | R32: =IF(N32-M32<3,0,NETWORKDAYS(K32,L32,[1]Congés!$D$2:$D$160)-Q32-P32-O32) -> 0 | S32: =NETWORKDAYS(K32,L32,[1]Congés!C$2:C$160) -> 3 | T32: Arrêt Maladie | V32: =IF(S32<3,"1) 1 à 2 jours",IF(S32<5,"2) 3 à 4 jours",IF(S32=5,"3) 5 jours",IF(S32<=10,"4) 6 à 10 jours",IF(S32>10,"5) plus de 10 jours"))))) -> 2) 3 à 4 jours | Y32: =L32-K32+1 -> 3
A33: 15626 | D33: =VLOOKUP(A33,'[1]BDD RH'!$A$9:$W$453,4,FALSE) -> c | E33: =VLOOKUP(A33,'[1]BDD RH'!$A$9:$W$453,3,FALSE) -> H | F33: =DATEDIF((VLOOKUP(A33,'[1]BDD RH'!$A$2:$W$485,7,FALSE)),K33,"y") -> 42 | G33: =IF(F33<=20,"<=20",IF(F33<=30,"21/30",IF(F33<=40,"31/40",IF(F33<=50,"41/50",IF(F33<=60,"51/60",IF(F33>60,"61 et plus",FALSE)))))) -> 41/50 | H33: =DATEDIF((VLOOKUP(A33,'[1]BDD RH'!$A$2:$W$485,11,FALSE)),K33,"y") -> 11 | I33: =IF(H33<2,"<2",IF(H33<6,"2/5",IF(H33<11,"6/10",IF(H33<16,"11/15",IF(H33<21,"16/20",IF(H33<26,"21/25",IF(H33>25,"26 et plus",FALSE))))))) -> 11/15 | K33: 42370 | L33: 42374 | M33: =MONTH(K33) -> 1 | N33: =MONTH(L33) -> 1 | O33: =IF(N33-M33=0,NETWORKDAYS(K33,L33,[1]Congés!$D$2:$D$26),NETWORKDAYS(K33,EOMONTH(K33,0),[1]Congés!$D$2:$D$26)) -> 3 | P33: =IF(N33-M33=0,0,IF(N33-M33=1,NETWORKDAYS(K33,L33,[1]Congés!$D$2:$D$160)-O33,IF(N33-M33=2,NETWORKDAYS(K33,EOMONTH(K33,1),[1]Congés!$D$2:$D$160)-O33,IF(N33-M33=3,NETWORKDAYS(K33,EOMONTH(K33,1),[1]Congés!$D$2:$D$160)-O33)))) -> 0 | Q33: =IF(N33-M33<2,0,IF(N33-M33=2,NETWORKDAYS(K33,L33,[1]Congés!$D$2:$D$160)-P33-O33,IF(N33-M33=3,NETWORKDAYS(K33,EOMONTH(K33,2),[1]Congés!$D$2:$D$160)-P33-O33))) -> 0 | R33: =IF(N33-M33<3,0,NETWORKDAYS(K33,L33,[1]Congés!$D$2:$D$160)-Q33-P33-O33) -> 0 | S33: =NETWORKDAYS(K33,L33,[1]Congés!C$2:C$160) -> 2 | T33: Mi-temps | U33: 42282 | V33: =IF(S33<3,"1) 1 à 2 jours",IF(S33<5,"2) 3 à 4 jours",IF(S33=5,"3) 5 jours",IF(S33<=10,"4) 6 à 10 jours",IF(S33>10,"5) plus de 10 jours"))))) -> 1) 1 à 2 jours | Y33: =L33-K33+1 -> 5
A34: 15626 | D34: =VLOOKUP(A34,'[1]BDD RH'!$A$9:$W$453,4,FALSE) -> c | E34: =VLOOKUP(A34,'[1]BDD RH'!$A$9:$W$453,3,FALSE) -> H | F34: =DATEDIF((VLOOKUP(A34,'[1]BDD RH'!$A$2:$W$485,7,FALSE)),K34,"y") -> 42 | G34: =IF(F34<=20,"<=20",IF(F34<=30,"21/30",IF(F34<=40,"31/40",IF(F34<=50,"41/50",IF(F34<=60,"51/60",IF(F34>60,"61 et plus",FALSE)))))) -> 41/50 | H34: =DATEDIF((VLOOKUP(A34,'[1]BDD RH'!$A$2:$W$485,11,FALSE)),K34,"y") -> 11 | I34: =IF(H34<2,"<2",IF(H34<6,"2/5",IF(H34<11,"6/10",IF(H34<16,"11/15",IF(H34<21,"16/20",IF(H34<26,"21/25",IF(H34>25,"26 et plus",FALSE))))))) -> 11/15 | K34: 42373 | L34: 42402 | M34: =MONTH(K34) -> 1 | N34: =MONTH(L34) -> 2 | O34: =IF(N34-M34=0,NETWORKDAYS(K34,L34,[1]Congés!$D$2:$D$26),NETWORKDAYS(K34,EOMONTH(K34,0),[1]Congés!$D$2:$D$26)) -> 20 | P34: =IF(N34-M34=0,0,IF(N34-M34=1,NETWORKDAYS(K34,L34,[1]Congés!$D$2:$D$160)-O34,IF(N34-M34=2,NETWORKDAYS(K34,EOMONTH(K34,1),[1]Congés!$D$2:$D$160)-O34,IF(N34-M34=3,NETWORKDAYS(K34,EOMONTH(K34,1),[1]Congés!$D$2:$D$160)-O34)))) -> 2 | Q34: =IF(N34-M34<2,0,IF(N34-M34=2,NETWORKDAYS(K34,L34,[1]Congés!$D$2:$D$160)-P34-O34,IF(N34-M34=3,NETWORKDAYS(K34,EOMONTH(K34,2),[1]Congés!$D$2:$D$160)-P34-O34))) -> 0 | R34: =IF(N34-M34<3,0,NETWORKDAYS(K34,L34,[1]Congés!$D$2:$D$160)-Q34-P34-O34) -> 0 | S34: =NETWORKDAYS(K34,L34,[1]Congés!C$2:C$160) -> 22 | T34: Mi-temps | U34: 42282 | V34: =IF(S34<3,"1) 1 à 2 jours",IF(S34<5,"2) 3 à 4 jours",IF(S34=5,"3) 5 jours",IF(S34<=10,"4) 6 à 10 jours",IF(S34>10,"5) plus de 10 jours"))))) -> 5) plus de 10 jours | Y34: =L34-K34+1 -> 30
A35: 15626 | D35: =VLOOKUP(A35,'[1]BDD RH'!$A$9:$W$453,4,FALSE) -> c | E35: =VLOOKUP(A35,'[1]BDD RH'!$A$9:$W$453,3,FALSE) -> H | F35: =DATEDIF((VLOOKUP(A35,'[1]BDD RH'!$A$2:$W$485,7,FALSE)),K35,"y") -> 42 | G35: =IF(F35<=20,"<=20",IF(F35<=30,"21/30",IF(F35<=40,"31/40",IF(F35<=50,"41/50",IF(F35<=60,"51/60",IF(F35>60,"61 et plus",FALSE)))))) -> 41/50 | H35: =DATEDIF((VLOOKUP(A35,'[1]BDD RH'!$A$2:$W$485,11,FALSE)),K35,"y") -> 11 | I35: =IF(H35<2,"<2",IF(H35<6,"2/5",IF(H35<11,"6/10",IF(H35<16,"11/15",IF(H35<21,"16/20",IF(H35<26,"21/25",IF(H35>25,"26 et plus",FALSE))))))) -> 11/15 | K35: 42403 | L35: 42432 | M35: =MONTH(K35) -> 2 | N35: =MONTH(L35) -> 3 | O35: =IF(N35-M35=0,NETWORKDAYS(K35,L35,[1]Congés!$D$2:$D$26),NETWORKDAYS(K35,EOMONTH(K35,0),[1]Congés!$D$2:$D$26)) -> 19 | P35: =IF(N35-M35=0,0,IF(N35-M35=1,NETWORKDAYS(K35,L35,[1]Congés!$D$2:$D$160)-O35,IF(N35-M35=2,NETWORKDAYS(K35,EOMONTH(K35,1),[1]Congés!$D$2:$D$160)-O35,IF(N35-M35=3,NETWORKDAYS(K35,EOMONTH(K35,1),[1]Congés!$D$2:$D$160)-O35)))) -> 3 | Q35: =IF(N35-M35<2,0,IF(N35-M35=2,NETWORKDAYS(K35,L35,[1]Congés!$D$2:$D$160)-P35-O35,IF(N35-M35=3,NETWORKDAYS(K35,EOMONTH(K35,2),[1]Congés!$D$2:$D$160)-P35-O35))) -> 0 | R35: =IF(N35-M35<3,0,NETWORKDAYS(K35,L35,[1]Congés!$D$2:$D$160)-Q35-P35-O35) -> 0 | S35: =NETWORKDAYS(K35,L35,[1]Congés!C$2:C$160) -> 22 | T35: Mi-temps | U35: 42282 | V35: =IF(S35<3,"1) 1 à 2 jours",IF(S35<5,"2) 3 à 4 jours",IF(S35=5,"3) 5 jours",IF(S35<=10,"4) 6 à 10 jours",IF(S35>10,"5) plus de 10 jours"))))) -> 5) plus de 10 jours | Y35: =L35-K35+1 -> 30
A36: 20945 | D36: =VLOOKUP(A36,'[1]BDD RH'!$A$9:$W$453,4,FALSE) -> t | E36: =VLOOKUP(A36,'[1]BDD RH'!$A$9:$W$453,3,FALSE) -> F | F36: =DATEDIF((VLOOKUP(A36,'[1]BDD RH'!$A$2:$W$485,7,FALSE)),K36,"y") -> 39 | G36: =IF(F36<=20,"<=20",IF(F36<=30,"21/30",IF(F36<=40,"31/40",IF(F36<=50,"41/50",IF(F36<=60,"51/60",IF(F36>60,"61 et plus",FALSE)))))) -> 31/40 | H36: =DATEDIF((VLOOKUP(A36,'[1]BDD RH'!$A$2:$W$485,11,FALSE)),K36,"y") -> 4 | I36: =IF(H36<2,"<2",IF(H36<6,"2/5",IF(H36<11,"6/10",IF(H36<16,"11/15",IF(H36<21,"16/20",IF(H36<26,"21/25",IF(H36>25,"26 et plus",FALSE))))))) -> 2/5 | J36: BLL01 | K36: 42370 | L36: 42386 | M36: =MONTH(K36) -> 1 | N36: =MONTH(L36) -> 1 | O36: =IF(N36-M36=0,NETWORKDAYS(K36,L36,[1]Congés!$D$2:$D$26),NETWORKDAYS(K36,EOMONTH(K36,0),[1]Congés!$D$2:$D$26)) -> 11 | P36: =IF(N36-M36=0,0,IF(N36-M36=1,NETWORKDAYS(K36,L36,[1]Congés!$D$2:$D$160)-O36,IF(N36-M36=2,NETWORKDAYS(K36,EOMONTH(K36,1),[1]Congés!$D$2:$D$160)-O36,IF(N36-M36=3,NETWORKDAYS(K36,EOMONTH(K36,1),[1]Congés!$D$2:$D$160)-O36)))) -> 0 | Q36: =IF(N36-M36<2,0,IF(N36-M36=2,NETWORKDAYS(K36,L36,[1]Congés!$D$2:$D$160)-P36-O36,IF(N36-M36=3,NETWORKDAYS(K36,EOMONTH(K36,2),[1]Congés!$D$2:$D$160)-P36-O36))) -> 0 | R36: =IF(N36-M36<3,0,NETWORKDAYS(K36,L36,[1]Congés!$D$2:$D$160)-Q36-P36-O36) -> 0 | S36: =NETWORKDAYS(K36,L36,[1]Congés!C$2:C$160) -> 10 | T36: AT 15 | U36: 42263 | V36: =IF(S36<3,"1) 1 à 2 jours",IF(S36<5,"2) 3 à 4 jours",IF(S36=5,"3) 5 jours",IF(S36<=10,"4) 6 à 10 jours",IF(S36>10,"5) plus de 10 jours"))))) -> 4) 6 à 10 jours | W36: prol | Y36: =L36-K36+1 -> 17
A37: 20945 | D37: =VLOOKUP(A37,'[1]BDD RH'!$A$9:$W$453,4,FALSE) -> t | E37: =VLOOKUP(A37,'[1]BDD RH'!$A$9:$W$453,3,FALSE) -> F | F37: =DATEDIF((VLOOKUP(A37,'[1]BDD RH'!$A$2:$W$485,7,FALSE)),K37,"y") -> 39 | G37: =IF(F37<=20,"<=20",IF(F37<=30,"21/30",IF(F37<=40,"31/40",IF(F37<=50,"41/50",IF(F37<=60,"51/60",IF(F37>60,"61 et plus",FALSE)))))) -> 31/40 | H37: =DATEDIF((VLOOKUP(A37,'[1]BDD RH'!$A$2:$W$485,11,FALSE)),K37,"y") -> 4 | I37: =IF(H37<2,"<2",IF(H37<6,"2/5",IF(H37<11,"6/10",IF(H37<16,"11/15",IF(H37<21,"16/20",IF(H37<26,"21/25",IF(H37>25,"26 et plus",FALSE))))))) -> 2/5 | K37: 42387 | L37: 42400 | M37: =MONTH(K37) -> 1 | N37: =MONTH(L37) -> 1 | O37: =IF(N37-M37=0,NETWORKDAYS(K37,L37,[1]Congés!$D$2:$D$26),NETWORKDAYS(K37,EOMONTH(K37,0),[1]Congés!$D$2:$D$26)) -> 10 | P37: =IF(N37-M37=0,0,IF(N37-M37=1,NETWORKDAYS(K37,L37,[1]Congés!$D$2:$D$160)-O37,IF(N37-M37=2,NETWORKDAYS(K37,EOMONTH(K37,1),[1]Congés!$D$2:$D$160)-O37,IF(N37-M37=3,NETWORKDAYS(K37,EOMONTH(K37,1),[1]Congés!$D$2:$D$160)-O37)))) -> 0 | Q37: =IF(N37-M37<2,0,IF(N37-M37=2,NETWORKDAYS(K37,L37,[1]Congés!$D$2:$D$160)-P37-O37,IF(N37-M37=3,NETWORKDAYS(K37,EOMONTH(K37,2),[1]Congés!$D$2:$D$160)-P37-O37))) -> 0 | R37: =IF(N37-M37<3,0,NETWORKDAYS(K37,L37,[1]Congés!$D$2:$D$160)-Q37-P37-O37) -> 0 | S37: =NETWORKDAYS(K37,L37,[1]Congés!C$2:C$160) -> 10 | T37: AT 15 | U37: 42629 | V37: =IF(S37<3,"1) 1 à 2 jours",IF(S37<5,"2) 3 à 4 jours",IF(S37=5,"3) 5 jours",IF(S37<=10,"4) 6 à 10 jours",IF(S37>10,"5) plus de 10 jours"))))) -> 4) 6 à 10 jours | W37: vm, reprise ok | X37: df le 01/02/16 | Y37: =L37-K37+1 -> 14
A38: 20945 | D38: =VLOOKUP(A38,'[1]BDD RH'!$A$9:$W$453,4,FALSE) -> t | E38: =VLOOKUP(A38,'[1]BDD RH'!$A$9:$W$453,3,FALSE) -> F | F38: =DATEDIF((VLOOKUP(A38,'[1]BDD RH'!$A$2:$W$485,7,FALSE)),K38,"y") -> 39 | G38: =IF(F38<=20,"<=20",IF(F38<=30,"21/30",IF(F38<=40,"31/40",IF(F38<=50,"41/50",IF(F38<=60,"51/60",IF(F38>60,"61 et plus",FALSE)))))) -> 31/40 | H38: =DATEDIF((VLOOKUP(A38,'[1]BDD RH'!$A$2:$W$485,11,FALSE)),K38,"y") -> 4 | I38: =IF(H38<2,"<2",IF(H38<6,"2/5",IF(H38<11,"6/10",IF(H38<16,"11/15",IF(H38<21,"16/20",IF(H38<26,"21/25",IF(H38>25,"26 et plus",FALSE))))))) -> 2/5 | K38: 42401 | L38: 42430 | M38: =MONTH(K38) -> 2 | N38: =MONTH(L38) -> 3 | O38: =IF(N38-M38=0,NETWORKDAYS(K38,L38,[1]Congés!$D$2:$D$26),NETWORKDAYS(K38,EOMONTH(K38,0),[1]Congés!$D$2:$D$26)) -> 21 | P38: =IF(N38-M38=0,0,IF(N38-M38=1,NETWORKDAYS(K38,L38,[1]Congés!$D$2:$D$160)-O38,IF(N38-M38=2,NETWORKDAYS(K38,EOMONTH(K38,1),[1]Congés!$D$2:$D$160)-O38,IF(N38-M38=3,NETWORKDAYS(K38,EOMONTH(K38,1),[1]Congés!$D$2:$D$160)-O38)))) -> 1 | Q38: =IF(N38-M38<2,0,IF(N38-M38=2,NETWORKDAYS(K38,L38,[1]Congés!$D$2:$D$160)-P38-O38,IF(N38-M38=3,NETWORKDAYS(K38,EOMONTH(K38,2),[1]Congés!$D$2:$D$160)-P38-O38))) -> 0 | R38: =IF(N38-M38<3,0,NETWORKDAYS(K38,L38,[1]Congés!$D$2:$D$160)-Q38-P38-O38) -> 0 | S38: =NETWORKDAYS(K38,L38,[1]Congés!C$2:C$160) -> 22 | T38: Mi-temps | V38: =IF(S38<3,"1) 1 à 2 jours",IF(S38<5,"2) 3 à 4 jours",IF(S38=5,"3) 5 jours",IF(S38<=10,"4) 6 à 10 jours",IF(S38>10,"5) plus de 10 jours"))))) -> 5) plus de 10 jours | Y38: =L38-K38+1 -> 30
A39: 17355 | D39: =VLOOKUP(A39,'[1]BDD RH'!$A$9:$W$453,4,FALSE) -> t | E39: =VLOOKUP(A39,'[1]BDD RH'!$A$9:$W$453,3,FALSE) -> F | F39: =DATEDIF((VLOOKUP(A39,'[1]BDD RH'!$A$2:$W$485,7,FALSE)),K39,"y") -> 44 | G39: =IF(F39<=20,"<=20",IF(F39<=30,"21/30",IF(F39<=40,"31/40",IF(F39<=50,"41/50",IF(F39<=60,"51/60",IF(F39>60,"61 et plus",FALSE)))))) -> 41/50 | H39: =DATEDIF((VLOOKUP(A39,'[1]BDD RH'!$A$2:$W$485,11,FALSE)),K39,"y") -> 8 | I39: =IF(H39<2,"<2",IF(H39<6,"2/5",IF(H39<11,"6/10",IF(H39<16,"11/15",IF(H39<21,"16/20",IF(H39<26,"21/25",IF(H39>25,"26 et plus",FALSE))))))) -> 6/10 | J39: BUS01 | K39: 42383 | L39: 42384 | M39: =MONTH(K39) -> 1 | N39: =MONTH(L39) -> 1 | O39: =IF(N39-M39=0,NETWORKDAYS(K39,L39,[1]Congés!$D$2:$D$26),NETWORKDAYS(K39,EOMONTH(K39,0),[1]Congés!$D$2:$D$26)) -> 2 | P39: =IF(N39-M39=0,0,IF(N39-M39=1,NETWORKDAYS(K39,L39,[1]Congés!$D$2:$D$160)-O39,IF(N39-M39=2,NETWORKDAYS(K39,EOMONTH(K39,1),[1]Congés!$D$2:$D$160)-O39,IF(N39-M39=3,NETWORKDAYS(K39,EOMONTH(K39,1),[1]Congés!$D$2:$D$160)-O39)))) -> 0 | Q39: =IF(N39-M39<2,0,IF(N39-M39=2,NETWORKDAYS(K39,L39,[1]Congés!$D$2:$D$160)-P39-O39,IF(N39-M39=3,NETWORKDAYS(K39,EOMONTH(K39,2),[1]Congés!$D$2:$D$160)-P39-O39))) -> 0 | R39: =IF(N39-M39<3,0,NETWORKDAYS(K39,L39,[1]Congés!$D$2:$D$160)-Q39-P39-O39) -> 0 | S39: =NETWORKDAYS(K39,L39,[1]Congés!C$2:C$160) -> 2 | T39: Arrêt Maladie | U39: 42383 | V39: =IF(S39<3,"1) 1 à 2 jours",IF(S39<5,"2) 3 à 4 jours",IF(S39=5,"3) 5 jours",IF(S39<=10,"4) 6 à 10 jours",IF(S39>10,"5) plus de 10 jours"))))) -> 1) 1 à 2 jours | W39: prol | Y39: =L39-K39+1 -> 2
A40: 17355 | D40: =VLOOKUP(A40,'[1]BDD RH'!$A$9:$W$453,4,FALSE) -> t | E40: =VLOOKUP(A40,'[1]BDD RH'!$A$9:$W$453,3,FALSE) -> F | F40: =DATEDIF((VLOOKUP(A40,'[1]BDD RH'!$A$2:$W$485,7,FALSE)),K40,"y") -> 44 | G40: =IF(F40<=20,"<=20",IF(F40<=30,"21/30",IF(F40<=40,"31/40",IF(F40<=50,"41/50",IF(F40<=60,"51/60",IF(F40>60,"61 et plus",FALSE)))))) -> 41/50 | H40: =DATEDIF((VLOOKUP(A40,'[1]BDD RH'!$A$2:$W$485,11,FALSE)),K40,"y") -> 8 | I40: =IF(H40<2,"<2",IF(H40<6,"2/5",IF(H40<11,"6/10",IF(H40<16,"11/15",IF(H40<21,"16/20",IF(H40<26,"21/25",IF(H40>25,"26 et plus",FALSE))))))) -> 6/10 | J40: BUS01 | K40: 42387 | L40: 42388 | M40: =MONTH(K40) -> 1 | N40: =MONTH(L40) -> 1 | O40: =IF(N40-M40=0,NETWORKDAYS(K40,L40,[1]Congés!$D$2:$D$26),NETWORKDAYS(K40,EOMONTH(K40,0),[1]Congés!$D$2:$D$26)) -> 2 | P40: =IF(N40-M40=0,0,IF(N40-M40=1,NETWORKDAYS(K40,L40,[1]Congés!$D$2:$D$160)-O40,IF(N40-M40=2,NETWORKDAYS(K40,EOMONTH(K40,1),[1]Congés!$D$2:$D$160)-O40,IF(N40-M40=3,NETWORKDAYS(K40,EOMONTH(K40,1),[1]Congés!$D$2:$D$160)-O40)))) -> 0 | Q40: =IF(N40-M40<2,0,IF(N40-M40=2,NETWORKDAYS(K40,L40,[1]Congés!$D$2:$D$160)-P40-O40,IF(N40-M40=3,NETWORKDAYS(K40,EOMONTH(K40,2),[1]Congés!$D$2:$D$160)-P40-O40))) -> 0 | R40: =IF(N40-M40<3,0,NETWORKDAYS(K40,L40,[1]Congés!$D$2:$D$160)-Q40-P40-O40) -> 0 | S40: =NETWORKDAYS(K40,L40,[1]Congés!C$2:C$160) -> 2 | T40: Arrêt Maladie | U40: 42383 | V40: =IF(S40<3,"1) 1 à 2 jours",IF(S40<5,"2) 3 à 4 jours",IF(S40=5,"3) 5 jours",IF(S40<=10,"4) 6 à 10 jours",IF(S40>10,"5) plus de 10 jours"))))) -> 1) 1 à 2 jours | W40: * | Y40: =L40-K40+1 -> 2
A41: 16164 | D41: =VLOOKUP(A41,'[1]BDD RH'!$A$9:$W$453,4,FALSE) -> t | E41: =VLOOKUP(A41,'[1]BDD RH'!$A$9:$W$453,3,FALSE) -> F | F41: =DATEDIF((VLOOKUP(A41,'[1]BDD RH'!$A$2:$W$485,7,FALSE)),K41,"y") -> 39 | G41: =IF(F41<=20,"<=20",IF(F41<=30,"21/30",IF(F41<=40,"31/40",IF(F41<=50,"41/50",IF(F41<=60,"51/60",IF(F41>60,"61 et plus",FALSE)))))) -> 31/40 | H41: =DATEDIF((VLOOKUP(A41,'[1]BDD RH'!$A$2:$W$485,11,FALSE)),K41,"y") -> 10 | I41: =IF(H41<2,"<2",IF(H41<6,"2/5",IF(H41<11,"6/10",IF(H41<16,"11/15",IF(H41<21,"16/20",IF(H41<26,"21/25",IF(H41>25,"26 et plus",FALSE))))))) -> 6/10 | J41: CAM01 | K41: 42370 | L41: 42391 | M41: =MONTH(K41) -> 1 | N41: =MONTH(L41) -> 1 | O41: =IF(N41-M41=0,NETWORKDAYS(K41,L41,[1]Congés!$D$2:$D$26),NETWORKDAYS(K41,EOMONTH(K41,0),[1]Congés!$D$2:$D$26)) -> 16 | P41: =IF(N41-M41=0,0,IF(N41-M41=1,NETWORKDAYS(K41,L41,[1]Congés!$D$2:$D$160)-O41,IF(N41-M41=2,NETWORKDAYS(K41,EOMONTH(K41,1),[1]Congés!$D$2:$D$160)-O41,IF(N41-M41=3,NETWORKDAYS(K41,EOMONTH(K41,1),[1]Congés!$D$2:$D$160)-O41)))) -> 0 | Q41: =IF(N41-M41<2,0,IF(N41-M41=2,NETWORKDAYS(K41,L41,[1]Congés!$D$2:$D$160)-P41-O41,IF(N41-M41=3,NETWORKDAYS(K41,EOMONTH(K41,2),[1]Congés!$D$2:$D$160)-P41-O41))) -> 0 | R41: =IF(N41-M41<3,0,NETWORKDAYS(K41,L41,[1]Congés!$D$2:$D$160)-Q41-P41-O41) -> 0 | S41: =NETWORKDAYS(K41,L41,[1]Congés!C$2:C$160) -> 15 | T41: LM | U41: 42104 | V41: =IF(S41<3,"1) 1 à 2 jours",IF(S41<5,"2) 3 à 4 jours",IF(S41=5,"3) 5 jours",IF(S41<=10,"4) 6 à 10 jours",IF(S41>10,"5) plus de 10 jours"))))) -> 5) plus de 10 jours | W41: prol | Y41: =L41-K41+1 -> 22
A42: 16164 | D42: =VLOOKUP(A42,'[1]BDD RH'!$A$9:$W$453,4,FALSE) -> t | E42: =VLOOKUP(A42,'[1]BDD RH'!$A$9:$W$453,3,FALSE) -> F | F42: =DATEDIF((VLOOKUP(A42,'[1]BDD RH'!$A$2:$W$485,7,FALSE)),K42,"y") -> 39 | G42: =IF(F42<=20,"<=20",IF(F42<=30,"21/30",IF(F42<=40,"31/40",IF(F42<=50,"41/50",IF(F42<=60,"51/60",IF(F42>60,"61 et plus",FALSE)))))) -> 31/40 | H42: =DATEDIF((VLOOKUP(A42,'[1]BDD RH'!$A$2:$W$485,11,FALSE)),K42,"y") -> 10 | I42: =IF(H42<2,"<2",IF(H42<6,"2/5",IF(H42<11,"6/10",IF(H42<16,"11/15",IF(H42<21,"16/20",IF(H42<26,"21/25",IF(H42>25,"26 et plus",FALSE))))))) -> 6/10 | J42: CAM01 | K42: 42392 | L42: 42419 | M42: =MONTH(K42) -> 1 | N42: =MONTH(L42) -> 2 | O42: =IF(N42-M42=0,NETWORKDAYS(K42,L42,[1]Congés!$D$2:$D$26),NETWORKDAYS(K42,EOMONTH(K42,0),[1]Congés!$D$2:$D$26)) -> 5 | P42: =IF(N42-M42=0,0,IF(N42-M42=1,NETWORKDAYS(K42,L42,[1]Congés!$D$2:$D$160)-O42,IF(N42-M42=2,NETWORKDAYS(K42,EOMONTH(K42,1),[1]Congés!$D$2:$D$160)-O42,IF(N42-M42=3,NETWORKDAYS(K42,EOMONTH(K42,1),[1]Congés!$D$2:$D$160)-O42)))) -> 15 | Q42: =IF(N42-M42<2,0,IF(N42-M42=2,NETWORKDAYS(K42,L42,[1]Congés!$D$2:$D$160)-P42-O42,IF(N42-M42=3,NETWORKDAYS(K42,EOMONTH(K42,2),[1]Congés!$D$2:$D$160)-P42-O42))) -> 0 | R42: =IF(N42-M42<3,0,NETWORKDAYS(K42,L42,[1]Congés!$D$2:$D$160)-Q42-P42-O42) -> 0 | S42: =NETWORKDAYS(K42,L42,[1]Congés!C$2:C$160) -> 20 | T42: LM | U42: 42104 | V42: =IF(S42<3,"1) 1 à 2 jours",IF(S42<5,"2) 3 à 4 jours",IF(S42=5,"3) 5 jours",IF(S42<=10,"4) 6 à 10 jours",IF(S42>10,"5) plus de 10 jours"))))) -> 5) plus de 10 jours | W42: vm à prévoir | Y42: =L42-K42+1 -> 28
A43: 17192 | D43: =VLOOKUP(A43,'[1]BDD RH'!$A$9:$W$453,4,FALSE) -> c | E43: =VLOOKUP(A43,'[1]BDD RH'!$A$9:$W$453,3,FALSE) -> H | F43: =DATEDIF((VLOOKUP(A43,'[1]BDD RH'!$A$2:$W$485,7,FALSE)),K43,"y") -> 33 | G43: =IF(F43<=20,"<=20",IF(F43<=30,"21/30",IF(F43<=40,"31/40",IF(F43<=50,"41/50",IF(F43<=60,"51/60",IF(F43>60,"61 et plus",FALSE)))))) -> 31/40 | H43: =DATEDIF((VLOOKUP(A43,'[1]BDD RH'!$A$2:$W$485,11,FALSE)),K43,"y") -> 9 | I43: =IF(H43<2,"<2",IF(H43<6,"2/5",IF(H43<11,"6/10",IF(H43<16,"11/15",IF(H43<21,"16/20",IF(H43<26,"21/25",IF(H43>25,"26 et plus",FALSE))))))) -> 6/10 | J43: CAA01 | K43: 42395 | L43: 42399 | M43: =MONTH(K43) -> 1 | N43: =MONTH(L43) -> 1 | O43: =IF(N43-M43=0,NETWORKDAYS(K43,L43,[1]Congés!$D$2:$D$26),NETWORKDAYS(K43,EOMONTH(K43,0),[1]Congés!$D$2:$D$26)) -> 4 | P43: =IF(N43-M43=0,0,IF(N43-M43=1,NETWORKDAYS(K43,L43,[1]Congés!$D$2:$D$160)-O43,IF(N43-M43=2,NETWORKDAYS(K43,EOMONTH(K43,1),[1]Congés!$D$2:$D$160)-O43,IF(N43-M43=3,NETWORKDAYS(K43,EOMONTH(K43,1),[1]Congés!$D$2:$D$160)-O43)))) -> 0 | Q43: =IF(N43-M43<2,0,IF(N43-M43=2,NETWORKDAYS(K43,L43,[1]Congés!$D$2:$D$160)-P43-O43,IF(N43-M43=3,NETWORKDAYS(K43,EOMONTH(K43,2),[1]Congés!$D$2:$D$160)-P43-O43))) -> 0 | R43: =IF(N43-M43<3,0,NETWORKDAYS(K43,L43,[1]Congés!$D$2:$D$160)-Q43-P43-O43) -> 0 | S43: =NETWORKDAYS(K43,L43,[1]Congés!C$2:C$160) -> 4 | T43: AT 15 | U43: 42395 | V43: =IF(S43<3,"1) 1 à 2 jours",IF(S43<5,"2) 3 à 4 jours",IF(S43=5,"3) 5 jours",IF(S43<=10,"4) 6 à 10 jours",IF(S43>10,"5) plus de 10 jours"))))) -> 2) 3 à 4 jours | W43: prol | Y43: =L43-K43+1 -> 5
A44: 17192 | D44: =VLOOKUP(A44,'[1]BDD RH'!$A$9:$W$453,4,FALSE) -> c | E44: =VLOOKUP(A44,'[1]BDD RH'!$A$9:$W$453,3,FALSE) -> H | F44: =DATEDIF((VLOOKUP(A44,'[1]BDD RH'!$A$2:$W$485,7,FALSE)),K44,"y") -> 33 | G44: =IF(F44<=20,"<=20",IF(F44<=30,"21/30",IF(F44<=40,"31/40",IF(F44<=50,"41/50",IF(F44<=60,"51/60",IF(F44>60,"61 et plus",FALSE)))))) -> 31/40 | H44: =DATEDIF((VLOOKUP(A44,'[1]BDD RH'!$A$2:$W$485,11,FALSE)),K44,"y") -> 9 | I44: =IF(H44<2,"<2",IF(H44<6,"2/5",IF(H44<11,"6/10",IF(H44<16,"11/15",IF(H44<21,"16/20",IF(H44<26,"21/25",IF(H44>25,"26 et plus",FALSE))))))) -> 6/10 | J44: CAA01 | K44: 42401 | L44: 42412 | M44: =MONTH(K44) -> 2 | N44: =MONTH(L44) -> 2 | O44: =IF(N44-M44=0,NETWORKDAYS(K44,L44,[1]Congés!$D$2:$D$26),NETWORKDAYS(K44,EOMONTH(K44,0),[1]Congés!$D$2:$D$26)) -> 10 | P44: =IF(N44-M44=0,0,IF(N44-M44=1,NETWORKDAYS(K44,L44,[1]Congés!$D$2:$D$160)-O44,IF(N44-M44=2,NETWORKDAYS(K44,EOMONTH(K44,1),[1]Congés!$D$2:$D$160)-O44,IF(N44-M44=3,NETWORKDAYS(K44,EOMONTH(K44,1),[1]Congés!$D$2:$D$160)-O44)))) -> 0 | Q44: =IF(N44-M44<2,0,IF(N44-M44=2,NETWORKDAYS(K44,L44,[1]Congés!$D$2:$D$160)-P44-O44,IF(N44-M44=3,NETWORKDAYS(K44,EOMONTH(K44,2),[1]Congés!$D$2:$D$160)-P44-O44))) -> 0 | R44: =IF(N44-M44<3,0,NETWORKDAYS(K44,L44,[1]Congés!$D$2:$D$160)-Q44-P44-O44) -> 0 | S44: =NETWORKDAYS(K44,L44,[1]Congés!C$2:C$160) -> 10 | T44: AT 15 | U44: 42395 | V44: =IF(S44<3,"1) 1 à 2 jours",IF(S44<5,"2) 3 à 4 jours",IF(S44=5,"3) 5 jours",IF(S44<=10,"4) 6 à 10 jours",IF(S44>10,"5) plus de 10 jours"))))) -> 4) 6 à 10 jours | W44: * | Y44: =L44-K44+1 -> 12
A45: 919 | D45: =VLOOKUP(A45,'[1]BDD RH'!$A$9:$W$453,4,FALSE) -> t | E45: =VLOOKUP(A45,'[1]BDD RH'!$A$9:$W$453,3,FALSE) -> F | F45: =DATEDIF((VLOOKUP(A45,'[1]BDD RH'!$A$2:$W$485,7,FALSE)),K45,"y") -> 40 | G45: =IF(F45<=20,"<=20",IF(F45<=30,"21/30",IF(F45<=40,"31/40",IF(F45<=50,"41/50",IF(F45<=60,"51/60",IF(F45>60,"61 et plus",FALSE)))))) -> 31/40 | H45: =DATEDIF((VLOOKUP(A45,'[1]BDD RH'!$A$2:$W$485,11,FALSE)),K45,"y") -> 17 | I45: =IF(H45<2,"<2",IF(H45<6,"2/5",IF(H45<11,"6/10",IF(H45<16,"11/15",IF(H45<21,"16/20",IF(H45<26,"21/25",IF(H45>25,"26 et plus",FALSE))))))) -> 16/20 | J45: CES01 | K45: 42375 | L45: 42377 | M45: =MONTH(K45) -> 1 | N45: =MONTH(L45) -> 1 | O45: =IF(N45-M45=0,NETWORKDAYS(K45,L45,[1]Congés!$D$2:$D$26),NETWORKDAYS(K45,EOMONTH(K45,0),[1]Congés!$D$2:$D$26)) -> 3 | P45: =IF(N45-M45=0,0,IF(N45-M45=1,NETWORKDAYS(K45,L45,[1]Congés!$D$2:$D$160)-O45,IF(N45-M45=2,NETWORKDAYS(K45,EOMONTH(K45,1),[1]Congés!$D$2:$D$160)-O45,IF(N45-M45=3,NETWORKDAYS(K45,EOMONTH(K45,1),[1]Congés!$D$2:$D$160)-O45)))) -> 0 | Q45: =IF(N45-M45<2,0,IF(N45-M45=2,NETWORKDAYS(K45,L45,[1]Congés!$D$2:$D$160)-P45-O45,IF(N45-M45=3,NETWORKDAYS(K45,EOMONTH(K45,2),[1]Congés!$D$2:$D$160)-P45-O45))) -> 0 | R45: =IF(N45-M45<3,0,NETWORKDAYS(K45,L45,[1]Congés!$D$2:$D$160)-Q45-P45-O45) -> 0 | S45: =NETWORKDAYS(K45,L45,[1]Congés!C$2:C$160) -> 3 | T45: Arrêt Maladie | V45: =IF(S45<3,"1) 1 à 2 jours",IF(S45<5,"2) 3 à 4 jours",IF(S45=5,"3) 5 jours",IF(S45<=10,"4) 6 à 10 jours",IF(S45>10,"5) plus de 10 jours"))))) -> 2) 3 à 4 jours | W45: * | Y45: =L45-K45+1 -> 3
A46: 919 | D46: =VLOOKUP(A46,'[1]BDD RH'!$A$9:$W$453,4,FALSE) -> t | E46: =VLOOKUP(A46,'[1]BDD RH'!$A$9:$W$453,3,FALSE) -> F | F46: =DATEDIF((VLOOKUP(A46,'[1]BDD RH'!$A$2:$W$485,7,FALSE)),K46,"y") -> 40 | G46: =IF(F46<=20,"<=20",IF(F46<=30,"21/30",IF(F46<=40,"31/40",IF(F46<=50,"41/50",IF(F46<=60,"51/60",IF(F46>60,"61 et plus",FALSE)))))) -> 31/40 | H46: =DATEDIF((VLOOKUP(A46,'[1]BDD RH'!$A$2:$W$485,11,FALSE)),K46,"y") -> 17 | I46: =IF(H46<2,"<2",IF(H46<6,"2/5",IF(H46<11,"6/10",IF(H46<16,"11/15",IF(H46<21,"16/20",IF(H46<26,"21/25",IF(H46>25,"26 et plus",FALSE))))))) -> 16/20 | J46: PRS01 | K46: 42375 | L46: 42376 | M46: =MONTH(K46) -> 1 | N46: =MONTH(L46) -> 1 | O46: =IF(N46-M46=0,NETWORKDAYS(K46,L46,[1]Congés!$D$2:$D$26),NETWORKDAYS(K46,EOMONTH(K46,0),[1]Congés!$D$2:$D$26)) -> 2 | P46: =IF(N46-M46=0,0,IF(N46-M46=1,NETWORKDAYS(K46,L46,[1]Congés!$D$2:$D$160)-O46,IF(N46-M46=2,NETWORKDAYS(K46,EOMONTH(K46,1),[1]Congés!$D$2:$D$160)-O46,IF(N46-M46=3,NETWORKDAYS(K46,EOMONTH(K46,1),[1]Congés!$D$2:$D$160)-O46)))) -> 0 | Q46: =IF(N46-M46<2,0,IF(N46-M46=2,NETWORKDAYS(K46,L46,[1]Congés!$D$2:$D$160)-P46-O46,IF(N46-M46=3,NETWORKDAYS(K46,EOMONTH(K46,2),[1]Congés!$D$2:$D$160)-P46-O46))) -> 0 | R46: =IF(N46-M46<3,0,NETWORKDAYS(K46,L46,[1]Congés!$D$2:$D$160)-Q46-P46-O46) -> 0 | S46: =NETWORKDAYS(K46,L46,[1]Congés!C$2:C$160) -> 2 | T46: Arrêt Maladie | V46: =IF(S46<3,"1) 1 à 2 jours",IF(S46<5,"2) 3 à 4 jours",IF(S46=5,"3) 5 jours",IF(S46<=10,"4) 6 à 10 jours",IF(S46>10,"5) plus de 10 jours"))))) -> 1) 1 à 2 jours | W46: * | Y46: =L46-K46+1 -> 2
A47: 18706 | D47: =VLOOKUP(A47,'[1]BDD RH'!$A$9:$W$453,4,FALSE) -> c | E47: =VLOOKUP(A47,'[1]BDD RH'!$A$9:$W$453,3,FALSE) -> F | F47: =DATEDIF((VLOOKUP(A47,'[1]BDD RH'!$A$2:$W$485,7,FALSE)),K47,"y") -> 28 | G47: =IF(F47<=20,"<=20",IF(F47<=30,"21/30",IF(F47<=40,"31/40",IF(F47<=50,"41/50",IF(F47<=60,"51/60",IF(F47>60,"61 et plus",FALSE)))))) -> 21/30 | H47: =DATEDIF((VLOOKUP(A47,'[1]BDD RH'!$A$2:$W$485,11,FALSE)),K47,"y") -> 7 | I47: =IF(H47<2,"<2",IF(H47<6,"2/5",IF(H47<11,"6/10",IF(H47<16,"11/15",IF(H47<21,"16/20",IF(H47<26,"21/25",IF(H47>25,"26 et plus",FALSE))))))) -> 6/10 | J47: CHM01 | K47: 42387 | L47: 42391 | M47: =MONTH(K47) -> 1 | N47: =MONTH(L47) -> 1 | O47: =IF(N47-M47=0,NETWORKDAYS(K47,L47,[1]Congés!$D$2:$D$26),NETWORKDAYS(K47,EOMONTH(K47,0),[1]Congés!$D$2:$D$26)) -> 5 | P47: =IF(N47-M47=0,0,IF(N47-M47=1,NETWORKDAYS(K47,L47,[1]Congés!$D$2:$D$160)-O47,IF(N47-M47=2,NETWORKDAYS(K47,EOMONTH(K47,1),[1]Congés!$D$2:$D$160)-O47,IF(N47-M47=3,NETWORKDAYS(K47,EOMONTH(K47,1),[1]Congés!$D$2:$D$160)-O47)))) -> 0 | Q47: =IF(N47-M47<2,0,IF(N47-M47=2,NETWORKDAYS(K47,L47,[1]Congés!$D$2:$D$160)-P47-O47,IF(N47-M47=3,NETWORKDAYS(K47,EOMONTH(K47,2),[1]Congés!$D$2:$D$160)-P47-O47))) -> 0 | R47: =IF(N47-M47<3,0,NETWORKDAYS(K47,L47,[1]Congés!$D$2:$D$160)-Q47-P47-O47) -> 0 | S47: =NETWORKDAYS(K47,L47,[1]Congés!C$2:C$160) -> 5 | T47: Arrêt Maladie | V47: =IF(S47<3,"1) 1 à 2 jours",IF(S47<5,"2) 3 à 4 jours",IF(S47=5,"3) 5 jours",IF(S47<=10,"4) 6 à 10 jours",IF(S47>10,"5) plus de 10 jours"))))) -> 3) 5 jours | W47: * | Y47: =L47-K47+1 -> 5
A48: 3683 | D48: =VLOOKUP(A48,'[1]BDD RH'!$A$9:$W$453,4,FALSE) -> t | E48: =VLOOKUP(A48,'[1]BDD RH'!$A$9:$W$453,3,FALSE) -> F | F48: =DATEDIF((VLOOKUP(A48,'[1]BDD RH'!$A$2:$W$485,7,FALSE)),K48,"y") -> 43 | G48: =IF(F48<=20,"<=20",IF(F48<=30,"21/30",IF(F48<=40,"31/40",IF(F48<=50,"41/50",IF(F48<=60,"51/60",IF(F48>60,"61 et plus",FALSE)))))) -> 41/50 | H48: =DATEDIF((VLOOKUP(A48,'[1]BDD RH'!$A$2:$W$485,11,FALSE)),K48,"y") -> 24 | I48: =IF(H48<2,"<2",IF(H48<6,"2/5",IF(H48<11,"6/10",IF(H48<16,"11/15",IF(H48<21,"16/20",IF(H48<26,"21/25",IF(H48>25,"26 et plus",FALSE))))))) -> 21/25 | J48: CHN01 | K48: 42370 | L48: 42385 | M48: =MONTH(K48) -> 1 | N48: =MONTH(L48) -> 1 | O48: =IF(N48-M48=0,NETWORKDAYS(K48,L48,[1]Congés!$D$2:$D$26),NETWORKDAYS(K48,EOMONTH(K48,0),[1]Congés!$D$2:$D$26)) -> 11 | P48: =IF(N48-M48=0,0,IF(N48-M48=1,NETWORKDAYS(K48,L48,[1]Congés!$D$2:$D$160)-O48,IF(N48-M48=2,NETWORKDAYS(K48,EOMONTH(K48,1),[1]Congés!$D$2:$D$160)-O48,IF(N48-M48=3,NETWORKDAYS(K48,EOMONTH(K48,1),[1]Congés!$D$2:$D$160)-O48)))) -> 0 | Q48: =IF(N48-M48<2,0,IF(N48-M48=2,NETWORKDAYS(K48,L48,[1]Congés!$D$2:$D$160)-P48-O48,IF(N48-M48=3,NETWORKDAYS(K48,EOMONTH(K48,2),[1]Congés!$D$2:$D$160)-P48-O48))) -> 0 | R48: =IF(N48-M48<3,0,NETWORKDAYS(K48,L48,[1]Congés!$D$2:$D$160)-Q48-P48-O48) -> 0 | S48: =NETWORKDAYS(K48,L48,[1]Congés!C$2:C$160) -> 10 | T48: Arrêt Maladie | U48: 42058 | V48: =IF(S48<3,"1) 1 à 2 jours",IF(S48<5,"2) 3 à 4 jours",IF(S48=5,"3) 5 jours",IF(S48<=10,"4) 6 à 10 jours",IF(S48>10,"5) plus de 10 jours"))))) -> 4) 6 à 10 jours | W48: vm, reprise ok | X48: 42410 | Y48: =L48-K48+1 -> 16
A49: 3862 | D49: =VLOOKUP(A49,'[1]BDD RH'!$A$9:$W$453,4,FALSE) -> s | E49: =VLOOKUP(A49,'[1]BDD RH'!$A$9:$W$453,3,FALSE) -> F | F49: =DATEDIF((VLOOKUP(A49,'[1]BDD RH'!$A$2:$W$485,7,FALSE)),K49,"y") -> 51 | G49: =IF(F49<=20,"<=20",IF(F49<=30,"21/30",IF(F49<=40,"31/40",IF(F49<=50,"41/50",IF(F49<=60,"51/60",IF(F49>60,"61 et plus",FALSE)))))) -> 51/60 | H49: =DATEDIF((VLOOKUP(A49,'[1]BDD RH'!$A$2:$W$485,11,FALSE)),K49,"y") -> 24 | I49: =IF(H49<2,"<2",IF(H49<6,"2/5",IF(H49<11,"6/10",IF(H49<16,"11/15",IF(H49<21,"16/20",IF(H49<26,"21/25",IF(H49>25,"26 et plus",FALSE))))))) -> 21/25 | K49: 42370 | L49: 42397 | M49: =MONTH(K49) -> 1 | N49: =MONTH(L49) -> 1 | O49: =IF(N49-M49=0,NETWORKDAYS(K49,L49,[1]Congés!$D$2:$D$26),NETWORKDAYS(K49,EOMONTH(K49,0),[1]Congés!$D$2:$D$26)) -> 20 | P49: =IF(N49-M49=0,0,IF(N49-M49=1,NETWORKDAYS(K49,L49,[1]Congés!$D$2:$D$160)-O49,IF(N49-M49=2,NETWORKDAYS(K49,EOMONTH(K49,1),[1]Congés!$D$2:$D$160)-O49,IF(N49-M49=3,NETWORKDAYS(K49,EOMONTH(K49,1),[1]Congés!$D$2:$D$160)-O49)))) -> 0 | Q49: =IF(N49-M49<2,0,IF(N49-M49=2,NETWORKDAYS(K49,L49,[1]Congés!$D$2:$D$160)-P49-O49,IF(N49-M49=3,NETWORKDAYS(K49,EOMONTH(K49,2),[1]Congés!$D$2:$D$160)-P49-O49))) -> 0 | R49: =IF(N49-M49<3,0,NETWORKDAYS(K49,L49,[1]Congés!$D$2:$D$160)-Q49-P49-O49) -> 0 | S49: =NETWORKDAYS(K49,L49,[1]Congés!C$2:C$160) -> 19 | T49: Mi-temps | U49: 42309 | V49: =IF(S49<3,"1) 1 à 2 jours",IF(S49<5,"2) 3 à 4 jours",IF(S49=5,"3) 5 jours",IF(S49<=10,"4) 6 à 10 jours",IF(S49>10,"5) plus de 10 jours"))))) -> 5) plus de 10 jours | Y49: =L49-K49+1 -> 28
A50: 3862 | D50: =VLOOKUP(A50,'[1]BDD RH'!$A$9:$W$453,4,FALSE) -> s | E50: =VLOOKUP(A50,'[1]BDD RH'!$A$9:$W$453,3,FALSE) -> F | F50: =DATEDIF((VLOOKUP(A50,'[1]BDD RH'!$A$2:$W$485,7,FALSE)),K50,"y") -> 51 | G50: =IF(F50<=20,"<=20",IF(F50<=30,"21/30",IF(F50<=40,"31/40",IF(F50<=50,"41/50",IF(F50<=60,"51/60",IF(F50>60,"61 et plus",FALSE)))))) -> 51/60 | H50: =DATEDIF((VLOOKUP(A50,'[1]BDD RH'!$A$2:$W$485,11,FALSE)),K50,"y") -> 24 | I50: =IF(H50<2,"<2",IF(H50<6,"2/5",IF(H50<11,"6/10",IF(H50<16,"11/15",IF(H50<21,"16/20",IF(H50<26,"21/25",IF(H50>25,"26 et plus",FALSE))))))) -> 21/25 | J50: COEM01 | K50: 42398 | L50: 42398 | M50: =MONTH(K50) -> 1 | N50: =MONTH(L50) -> 1 | O50: =IF(N50-M50=0,NETWORKDAYS(K50,L50,[1]Congés!$D$2:$D$26),NETWORKDAYS(K50,EOMONTH(K50,0),[1]Congés!$D$2:$D$26)) -> 1 | P50: =IF(N50-M50=0,0,IF(N50-M50=1,NETWORKDAYS(K50,L50,[1]Congés!$D$2:$D$160)-O50,IF(N50-M50=2,NETWORKDAYS(K50,EOMONTH(K50,1),[1]Congés!$D$2:$D$160)-O50,IF(N50-M50=3,NETWORKDAYS(K50,EOMONTH(K50,1),[1]Congés!$D$2:$D$160)-O50)))) -> 0 | Q50: =IF(N50-M50<2,0,IF(N50-M50=2,NETWORKDAYS(K50,L50,[1]Congés!$D$2:$D$160)-P50-O50,IF(N50-M50=3,NETWORKDAYS(K50,EOMONTH(K50,2),[1]Congés!$D$2:$D$160)-P50-O50))) -> 0 | R50: =IF(N50-M50<3,0,NETWORKDAYS(K50,L50,[1]Congés!$D$2:$D$160)-Q50-P50-O50) -> 0 | S50: =NETWORKDAYS(K50,L50,[1]Congés!C$2:C$160) -> 1 | T50: Arrêt Maladie | V50: =IF(S50<3,"1) 1 à 2 jours",IF(S50<5,"2) 3 à 4 jours",IF(S50=5,"3) 5 jours",IF(S50<=10,"4) 6 à 10 jours",IF(S50>10,"5) plus de 10 jours"))))) -> 1) 1 à 2 jours | W50: * | Y50: =L50-K50+1 -> 1
A51: 3862 | D51: =VLOOKUP(A51,'[1]BDD RH'!$A$9:$W$453,4,FALSE) -> s | E51: =VLOOKUP(A51,'[1]BDD RH'!$A$9:$W$453,3,FALSE) -> F | F51: =DATEDIF((VLOOKUP(A51,'[1]BDD RH'!$A$2:$W$485,7,FALSE)),K51,"y") -> 51 | G51: =IF(F51<=20,"<=20",IF(F51<=30,"21/30",IF(F51<=40,"31/40",IF(F51<=50,"41/50",IF(F51<=60,"51/60",IF(F51>60,"61 et plus",FALSE)))))) -> 51/60 | H51: =DATEDIF((VLOOKUP(A51,'[1]BDD RH'!$A$2:$W$485,11,FALSE)),K51,"y") -> 24 | I51: =IF(H51<2,"<2",IF(H51<6,"2/5",IF(H51<11,"6/10",IF(H51<16,"11/15",IF(H51<21,"16/20",IF(H51<26,"21/25",IF(H51>25,"26 et plus",FALSE))))))) -> 21/25 | K51: 42399 | L51: 42490 | M51: =MONTH(K51) -> 1 | N51: =MONTH(L51) -> 4 | O51: =IF(N51-M51=0,NETWORKDAYS(K51,L51,[1]Congés!$D$2:$D$26),NETWORKDAYS(K51,EOMONTH(K51,0),[1]Congés!$D$2:$D$26)) -> 0 | P51: =IF(N51-M51=0,0,IF(N51-M51=1,NETWORKDAYS(K51,L51,[1]Congés!$D$2:$D$160)-O51,IF(N51-M51=2,NETWORKDAYS(K51,EOMONTH(K51,1),[1]Congés!$D$2:$D$160)-O51,IF(N51-M51=3,NETWORKDAYS(K51,EOMONTH(K51,1),[1]Congés!$D$2:$D$160)-O51)))) -> 21 | Q51: =IF(N51-M51<2,0,IF(N51-M51=2,NETWORKDAYS(K51,L51,[1]Congés!$D$2:$D$160)-P51-O51,IF(N51-M51=3,NETWORKDAYS(K51,EOMONTH(K51,2),[1]Congés!$D$2:$D$160)-P51-O51))) -> 23 | R51: =IF(N51-M51<3,0,NETWORKDAYS(K51,L51,[1]Congés!$D$2:$D$160)-Q51-P51-O51) -> 21 | S51: =NETWORKDAYS(K51,L51,[1]Congés!C$2:C$160) -> 64 | T51: Mi-temps | V51: =IF(S51<3,"1) 1 à 2 jours",IF(S51<5,"2) 3 à 4 jours",IF(S51=5,"3) 5 jours",IF(S51<=10,"4) 6 à 10 jours",IF(S51>10,"5) plus de 10 jours"))))) -> 5) plus de 10 jours | Y51: =L51-K51+1 -> 92
A52: 18388 | D52: =VLOOKUP(A52,'[1]BDD RH'!$A$9:$W$453,4,FALSE) -> c | E52: =VLOOKUP(A52,'[1]BDD RH'!$A$9:$W$453,3,FALSE) -> F | F52: =DATEDIF((VLOOKUP(A52,'[1]BDD RH'!$A$2:$W$485,7,FALSE)),K52,"y") -> 35 | G52: =IF(F52<=20,"<=20",IF(F52<=30,"21/30",IF(F52<=40,"31/40",IF(F52<=50,"41/50",IF(F52<=60,"51/60",IF(F52>60,"61 et plus",FALSE)))))) -> 31/40 | H52: =DATEDIF((VLOOKUP(A52,'[1]BDD RH'!$A$2:$W$485,11,FALSE)),K52,"y") -> 14 | I52: =IF(H52<2,"<2",IF(H52<6,"2/5",IF(H52<11,"6/10",IF(H52<16,"11/15",IF(H52<21,"16/20",IF(H52<26,"21/25",IF(H52>25,"26 et plus",FALSE))))))) -> 11/15 | J52: COE01 | K52: 42380 | L52: 42380 | M52: =MONTH(K52) -> 1 | N52: =MONTH(L52) -> 1 | O52: =IF(N52-M52=0,NETWORKDAYS(K52,L52,[1]Congés!$D$2:$D$26),NETWORKDAYS(K52,EOMONTH(K52,0),[1]Congés!$D$2:$D$26)) -> 1 | P52: =IF(N52-M52=0,0,IF(N52-M52=1,NETWORKDAYS(K52,L52,[1]Congés!$D$2:$D$160)-O52,IF(N52-M52=2,NETWORKDAYS(K52,EOMONTH(K52,1),[1]Congés!$D$2:$D$160)-O52,IF(N52-M52=3,NETWORKDAYS(K52,EOMONTH(K52,1),[1]Congés!$D$2:$D$160)-O52)))) -> 0 | Q52: =IF(N52-M52<2,0,IF(N52-M52=2,NETWORKDAYS(K52,L52,[1]Congés!$D$2:$D$160)-P52-O52,IF(N52-M52=3,NETWORKDAYS(K52,EOMONTH(K52,2),[1]Congés!$D$2:$D$160)-P52-O52))) -> 0 | R52: =IF(N52-M52<3,0,NETWORKDAYS(K52,L52,[1]Congés!$D$2:$D$160)-Q52-P52-O52) -> 0 | S52: =NETWORKDAYS(K52,L52,[1]Congés!C$2:C$160) -> 1 | T52: Arrêt Maladie | V52: =IF(S52<3,"1) 1 à 2 jours",IF(S52<5,"2) 3 à 4 jours",IF(S52=5,"3) 5 jours",IF(S52<=10,"4) 6 à 10 jours",IF(S52>10,"5) plus de 10 jours"))))) -> 1) 1 à 2 jours | W52: * | Y52: =L52-K52+1 -> 1
A53: 1128 | D53: =VLOOKUP(A53,'[1]BDD RH'!$A$9:$W$453,4,FALSE) -> t | E53: =VLOOKUP(A53,'[1]BDD RH'!$A$9:$W$453,3,FALSE) -> F | F53: =DATEDIF((VLOOKUP(A53,'[1]BDD RH'!$A$2:$W$485,7,FALSE)),K53,"y") -> 38 | G53: =IF(F53<=20,"<=20",IF(F53<=30,"21/30",IF(F53<=40,"31/40",IF(F53<=50,"41/50",IF(F53<=60,"51/60",IF(F53>60,"61 et plus",FALSE)))))) -> 31/40 | H53: =DATEDIF((VLOOKUP(A53,'[1]BDD RH'!$A$2:$W$485,11,FALSE)),K53,"y") -> 17 | I53: =IF(H53<2,"<2",IF(H53<6,"2/5",IF(H53<11,"6/10",IF(H53<16,"11/15",IF(H53<21,"16/20",IF(H53<26,"21/25",IF(H53>25,"26 et plus",FALSE))))))) -> 16/20 | J53: CRK01 | K53: 42370 | L53: 42384 | M53: =MONTH(K53) -> 1 | N53: =MONTH(L53) -> 1 | O53: =IF(N53-M53=0,NETWORKDAYS(K53,L53,[1]Congés!$D$2:$D$26),NETWORKDAYS(K53,EOMONTH(K53,0),[1]Congés!$D$2:$D$26)) -> 11 | P53: =IF(N53-M53=0,0,IF(N53-M53=1,NETWORKDAYS(K53,L53,[1]Congés!$D$2:$D$160)-O53,IF(N53-M53=2,NETWORKDAYS(K53,EOMONTH(K53,1),[1]Congés!$D$2:$D$160)-O53,IF(N53-M53=3,NETWORKDAYS(K53,EOMONTH(K53,1),[1]Congés!$D$2:$D$160)-O53)))) -> 0 | Q53: =IF(N53-M53<2,0,IF(N53-M53=2,NETWORKDAYS(K53,L53,[1]Congés!$D$2:$D$160)-P53-O53,IF(N53-M53=3,NETWORKDAYS(K53,EOMONTH(K53,2),[1]Congés!$D$2:$D$160)-P53-O53))) -> 0 | R53: =IF(N53-M53<3,0,NETWORKDAYS(K53,L53,[1]Congés!$D$2:$D$160)-Q53-P53-O53) -> 0 | S53: =NETWORKDAYS(K53,L53,[1]Congés!C$2:C$160) -> 10 | T53: LM | U53: 42269 | V53: =IF(S53<3,"1) 1 à 2 jours",IF(S53<5,"2) 3 à 4 jours",IF(S53=5,"3) 5 jours",IF(S53<=10,"4) 6 à 10 jours",IF(S53>10,"5) plus de 10 jours"))))) -> 4) 6 à 10 jours | W53: prol | Y53: =L53-K53+1 -> 15
A54: 1128 | D54: =VLOOKUP(A54,'[1]BDD RH'!$A$9:$W$453,4,FALSE) -> t | E54: =VLOOKUP(A54,'[1]BDD RH'!$A$9:$W$453,3,FALSE) -> F | F54: =DATEDIF((VLOOKUP(A54,'[1]BDD RH'!$A$2:$W$485,7,FALSE)),K54,"y") -> 38 | G54: =IF(F54<=20,"<=20",IF(F54<=30,"21/30",IF(F54<=40,"31/40",IF(F54<=50,"41/50",IF(F54<=60,"51/60",IF(F54>60,"61 et plus",FALSE)))))) -> 31/40 | H54: =DATEDIF((VLOOKUP(A54,'[1]BDD RH'!$A$2:$W$485,11,FALSE)),K54,"y") -> 17 | I54: =IF(H54<2,"<2",IF(H54<6,"2/5",IF(H54<11,"6/10",IF(H54<16,"11/15",IF(H54<21,"16/20",IF(H54<26,"21/25",IF(H54>25,"26 et plus",FALSE))))))) -> 16/20 | J54: CRK01 | K54: 42385 | L54: 42398 | M54: =MONTH(K54) -> 1 | N54: =MONTH(L54) -> 1 | O54: =IF(N54-M54=0,NETWORKDAYS(K54,L54,[1]Congés!$D$2:$D$26),NETWORKDAYS(K54,EOMONTH(K54,0),[1]Congés!$D$2:$D$26)) -> 10 | P54: =IF(N54-M54=0,0,IF(N54-M54=1,NETWORKDAYS(K54,L54,[1]Congés!$D$2:$D$160)-O54,IF(N54-M54=2,NETWORKDAYS(K54,EOMONTH(K54,1),[1]Congés!$D$2:$D$160)-O54,IF(N54-M54=3,NETWORKDAYS(K54,EOMONTH(K54,1),[1]Congés!$D$2:$D$160)-O54)))) -> 0 | Q54: =IF(N54-M54<2,0,IF(N54-M54=2,NETWORKDAYS(K54,L54,[1]Congés!$D$2:$D$160)-P54-O54,IF(N54-M54=3,NETWORKDAYS(K54,EOMONTH(K54,2),[1]Congés!$D$2:$D$160)-P54-O54))) -> 0 | R54: =IF(N54-M54<3,0,NETWORKDAYS(K54,L54,[1]Congés!$D$2:$D$160)-Q54-P54-O54) -> 0 | S54: =NETWORKDAYS(K54,L54,[1]Congés!C$2:C$160) -> 10 | T54: LM | U54: 42635 | V54: =IF(S54<3,"1) 1 à 2 jours",IF(S54<5,"2) 3 à 4 jours",IF(S54=5,"3) 5 jours",IF(S54<=10,"4) 6 à 10 jours",IF(S54>10,"5) plus de 10 jours"))))) -> 4) 6 à 10 jours | W54: vm à prévoir | Y54: =L54-K54+1 -> 14
A55: 5387 | D55: =VLOOKUP(A55,'[1]BDD RH'!$A$9:$W$453,4,FALSE) -> t | E55: =VLOOKUP(A55,'[1]BDD RH'!$A$9:$W$453,3,FALSE) -> F | F55: =DATEDIF((VLOOKUP(A55,'[1]BDD RH'!$A$2:$W$485,7,FALSE)),K55,"y") -> 48 | G55: =IF(F55<=20,"<=20",IF(F55<=30,"21/30",IF(F55<=40,"31/40",IF(F55<=50,"41/50",IF(F55<=60,"51/60",IF(F55>60,"61 et plus",FALSE)))))) -> 41/50 | H55: =DATEDIF((VLOOKUP(A55,'[1]BDD RH'!$A$2:$W$485,11,FALSE)),K55,"y") -> 14 | I55: =IF(H55<2,"<2",IF(H55<6,"2/5",IF(H55<11,"6/10",IF(H55<16,"11/15",IF(H55<21,"16/20",IF(H55<26,"21/25",IF(H55>25,"26 et plus",FALSE))))))) -> 11/15 | J55: DEC01 | K55: 42380 | L55: 42381 | M55: =MONTH(K55) -> 1 | N55: =MONTH(L55) -> 1 | O55: =IF(N55-M55=0,NETWORKDAYS(K55,L55,[1]Congés!$D$2:$D$26),NETWORKDAYS(K55,EOMONTH(K55,0),[1]Congés!$D$2:$D$26)) -> 2 | P55: =IF(N55-M55=0,0,IF(N55-M55=1,NETWORKDAYS(K55,L55,[1]Congés!$D$2:$D$160)-O55,IF(N55-M55=2,NETWORKDAYS(K55,EOMONTH(K55,1),[1]Congés!$D$2:$D$160)-O55,IF(N55-M55=3,NETWORKDAYS(K55,EOMONTH(K55,1),[1]Congés!$D$2:$D$160)-O55)))) -> 0 | Q55: =IF(N55-M55<2,0,IF(N55-M55=2,NETWORKDAYS(K55,L55,[1]Congés!$D$2:$D$160)-P55-O55,IF(N55-M55=3,NETWORKDAYS(K55,EOMONTH(K55,2),[1]Congés!$D$2:$D$160)-P55-O55))) -> 0 | R55: =IF(N55-M55<3,0,NETWORKDAYS(K55,L55,[1]Congés!$D$2:$D$160)-Q55-P55-O55) -> 0 | S55: =NETWORKDAYS(K55,L55,[1]Congés!C$2:C$160) -> 2 | T55: Arrêt Maladie | V55: =IF(S55<3,"1) 1 à 2 jours",IF(S55<5,"2) 3 à 4 jours",IF(S55=5,"3) 5 jours",IF(S55<=10,"4) 6 à 10 jours",IF(S55>10,"5) plus de 10 jours"))))) -> 1) 1 à 2 jours | W55: * | Y55: =L55-K55+1 -> 2
A56: 5387 | D56: =VLOOKUP(A56,'[1]BDD RH'!$A$9:$W$453,4,FALSE) -> t | E56: =VLOOKUP(A56,'[1]BDD RH'!$A$9:$W$453,3,FALSE) -> F | F56: =DATEDIF((VLOOKUP(A56,'[1]BDD RH'!$A$2:$W$485,7,FALSE)),K56,"y") -> 48 | G56: =IF(F56<=20,"<=20",IF(F56<=30,"21/30",IF(F56<=40,"31/40",IF(F56<=50,"41/50",IF(F56<=60,"51/60",IF(F56>60,"61 et plus",FALSE)))))) -> 41/50 | H56: =DATEDIF((VLOOKUP(A56,'[1]BDD RH'!$A$2:$W$485,11,FALSE)),K56,"y") -> 14 | I56: =IF(H56<2,"<2",IF(H56<6,"2/5",IF(H56<11,"6/10",IF(H56<16,"11/15",IF(H56<21,"16/20",IF(H56<26,"21/25",IF(H56>25,"26 et plus",FALSE))))))) -> 11/15 | J56: DEC01 | K56: 42387 | L56: 42391 | M56: =MONTH(K56) -> 1 | N56: =MONTH(L56) -> 1 | O56: =IF(N56-M56=0,NETWORKDAYS(K56,L56,[1]Congés!$D$2:$D$26),NETWORKDAYS(K56,EOMONTH(K56,0),[1]Congés!$D$2:$D$26)) -> 5 | P56: =IF(N56-M56=0,0,IF(N56-M56=1,NETWORKDAYS(K56,L56,[1]Congés!$D$2:$D$160)-O56,IF(N56-M56=2,NETWORKDAYS(K56,EOMONTH(K56,1),[1]Congés!$D$2:$D$160)-O56,IF(N56-M56=3,NETWORKDAYS(K56,EOMONTH(K56,1),[1]Congés!$D$2:$D$160)-O56)))) -> 0 | Q56: =IF(N56-M56<2,0,IF(N56-M56=2,NETWORKDAYS(K56,L56,[1]Congés!$D$2:$D$160)-P56-O56,IF(N56-M56=3,NETWORKDAYS(K56,EOMONTH(K56,2),[1]Congés!$D$2:$D$160)-P56-O56))) -> 0 | R56: =IF(N56-M56<3,0,NETWORKDAYS(K56,L56,[1]Congés!$D$2:$D$160)-Q56-P56-O56) -> 0 | S56: =NETWORKDAYS(K56,L56,[1]Congés!C$2:C$160) -> 5 | T56: Arrêt Maladie | V56: =IF(S56<3,"1) 1 à 2 jours",IF(S56<5,"2) 3 à 4 jours",IF(S56=5,"3) 5 jours",IF(S56<=10,"4) 6 à 10 jours",IF(S56>10,"5) plus de 10 jours"))))) -> 3) 5 jours | W56: * | Y56: =L56-K56+1 -> 5
A57: 5387 | D57: =VLOOKUP(A57,'[1]BDD RH'!$A$9:$W$453,4,FALSE) -> t | E57: =VLOOKUP(A57,'[1]BDD RH'!$A$9:$W$453,3,FALSE) -> F | F57: =DATEDIF((VLOOKUP(A57,'[1]BDD RH'!$A$2:$W$485,7,FALSE)),K57,"y") -> 48 | G57: =IF(F57<=20,"<=20",IF(F57<=30,"21/30",IF(F57<=40,"31/40",IF(F57<=50,"41/50",IF(F57<=60,"51/60",IF(F57>60,"61 et plus",FALSE)))))) -> 41/50 | H57: =DATEDIF((VLOOKUP(A57,'[1]BDD RH'!$A$2:$W$485,11,FALSE)),K57,"y") -> 14 | I57: =IF(H57<2,"<2",IF(H57<6,"2/5",IF(H57<11,"6/10",IF(H57<16,"11/15",IF(H57<21,"16/20",IF(H57<26,"21/25",IF(H57>25,"26 et plus",FALSE))))))) -> 11/15 | J57: DEC02 | K57: 42395 | L57: 42401 | M57: =MONTH(K57) -> 1 | N57: =MONTH(L57) -> 2 | O57: =IF(N57-M57=0,NETWORKDAYS(K57,L57,[1]Congés!$D$2:$D$26),NETWORKDAYS(K57,EOMONTH(K57,0),[1]Congés!$D$2:$D$26)) -> 4 | P57: =IF(N57-M57=0,0,IF(N57-M57=1,NETWORKDAYS(K57,L57,[1]Congés!$D$2:$D$160)-O57,IF(N57-M57=2,NETWORKDAYS(K57,EOMONTH(K57,1),[1]Congés!$D$2:$D$160)-O57,IF(N57-M57=3,NETWORKDAYS(K57,EOMONTH(K57,1),[1]Congés!$D$2:$D$160)-O57)))) -> 1 | Q57: =IF(N57-M57<2,0,IF(N57-M57=2,NETWORKDAYS(K57,L57,[1]Congés!$D$2:$D$160)-P57-O57,IF(N57-M57=3,NETWORKDAYS(K57,EOMONTH(K57,2),[1]Congés!$D$2:$D$160)-P57-O57))) -> 0 | R57: =IF(N57-M57<3,0,NETWORKDAYS(K57,L57,[1]Congés!$D$2:$D$160)-Q57-P57-O57) -> 0 | S57: =NETWORKDAYS(K57,L57,[1]Congés!C$2:C$160) -> 5 | T57: Arrêt Maladie | U57: 42395 | V57: =IF(S57<3,"1) 1 à 2 jours",IF(S57<5,"2) 3 à 4 jours",IF(S57=5,"3) 5 jours",IF(S57<=10,"4) 6 à 10 jours",IF(S57>10,"5) plus de 10 jours"))))) -> 3) 5 jours | W57: prol | Y57: =L57-K57+1 -> 7
A58: 5387 | D58: =VLOOKUP(A58,'[1]BDD RH'!$A$9:$W$453,4,FALSE) -> t | E58: =VLOOKUP(A58,'[1]BDD RH'!$A$9:$W$453,3,FALSE) -> F | F58: =DATEDIF((VLOOKUP(A58,'[1]BDD RH'!$A$2:$W$485,7,FALSE)),K58,"y") -> 48 | G58: =IF(F58<=20,"<=20",IF(F58<=30,"21/30",IF(F58<=40,"31/40",IF(F58<=50,"41/50",IF(F58<=60,"51/60",IF(F58>60,"61 et plus",FALSE)))))) -> 41/50 | H58: =DATEDIF((VLOOKUP(A58,'[1]BDD RH'!$A$2:$W$485,11,FALSE)),K58,"y") -> 14 | I58: =IF(H58<2,"<2",IF(H58<6,"2/5",IF(H58<11,"6/10",IF(H58<16,"11/15",IF(H58<21,"16/20",IF(H58<26,"21/25",IF(H58>25,"26 et plus",FALSE))))))) -> 11/15 | J58: DEC02 | K58: 42402 | L58: 42415 | M58: =MONTH(K58) -> 2 | N58: =MONTH(L58) -> 2 | O58: =IF(N58-M58=0,NETWORKDAYS(K58,L58,[1]Congés!$D$2:$D$26),NETWORKDAYS(K58,EOMONTH(K58,0),[1]Congés!$D$2:$D$26)) -> 10 | P58: =IF(N58-M58=0,0,IF(N58-M58=1,NETWORKDAYS(K58,L58,[1]Congés!$D$2:$D$160)-O58,IF(N58-M58=2,NETWORKDAYS(K58,EOMONTH(K58,1),[1]Congés!$D$2:$D$160)-O58,IF(N58-M58=3,NETWORKDAYS(K58,EOMONTH(K58,1),[1]Congés!$D$2:$D$160)-O58)))) -> 0 | Q58: =IF(N58-M58<2,0,IF(N58-M58=2,NETWORKDAYS(K58,L58,[1]Congés!$D$2:$D$160)-P58-O58,IF(N58-M58=3,NETWORKDAYS(K58,EOMONTH(K58,2),[1]Congés!$D$2:$D$160)-P58-O58))) -> 0 | R58: =IF(N58-M58<3,0,NETWORKDAYS(K58,L58,[1]Congés!$D$2:$D$160)-Q58-P58-O58) -> 0 | S58: =NETWORKDAYS(K58,L58,[1]Congés!C$2:C$160) -> 10 | T58: Arrêt Maladie | U58: 42395 | V58: =IF(S58<3,"1) 1 à 2 jours",IF(S58<5,"2) 3 à 4 jours",IF(S58=5,"3) 5 jours",IF(S58<=10,"4) 6 à 10 jours",IF(S58>10,"5) plus de 10 jours"))))) -> 4) 6 à 10 jours | W58: * | Y58: =L58-K58+1 -> 14
A59: 15243 | D59: =VLOOKUP(A59,'[1]BDD RH'!$A$9:$W$453,4,FALSE) -> t | E59: =VLOOKUP(A59,'[1]BDD RH'!$A$9:$W$453,3,FALSE) -> F | F59: =DATEDIF((VLOOKUP(A59,'[1]BDD RH'!$A$2:$W$485,7,FALSE)),K59,"y") -> 48 | G59: =IF(F59<=20,"<=20",IF(F59<=30,"21/30",IF(F59<=40,"31/40",IF(F59<=50,"41/50",IF(F59<=60,"51/60",IF(F59>60,"61 et plus",FALSE)))))) -> 41/50 | H59: =DATEDIF((VLOOKUP(A59,'[1]BDD RH'!$A$2:$W$485,11,FALSE)),K59,"y") -> 11 | I59: =IF(H59<2,"<2",IF(H59<6,"2/5",IF(H59<11,"6/10",IF(H59<16,"11/15",IF(H59<21,"16/20",IF(H59<26,"21/25",IF(H59>25,"26 et plus",FALSE))))))) -> 11/15 | J59: DEN01 | K59: 42390 | L59: 42390 | M59: =MONTH(K59) -> 1 | N59: =MONTH(L59) -> 1 | O59: =IF(N59-M59=0,NETWORKDAYS(K59,L59,[1]Congés!$D$2:$D$26),NETWORKDAYS(K59,EOMONTH(K59,0),[1]Congés!$D$2:$D$26)) -> 1 | P59: =IF(N59-M59=0,0,IF(N59-M59=1,NETWORKDAYS(K59,L59,[1]Congés!$D$2:$D$160)-O59,IF(N59-M59=2,NETWORKDAYS(K59,EOMONTH(K59,1),[1]Congés!$D$2:$D$160)-O59,IF(N59-M59=3,NETWORKDAYS(K59,EOMONTH(K59,1),[1]Congés!$D$2:$D$160)-O59)))) -> 0 | Q59: =IF(N59-M59<2,0,IF(N59-M59=2,NETWORKDAYS(K59,L59,[1]Congés!$D$2:$D$160)-P59-O59,IF(N59-M59=3,NETWORKDAYS(K59,EOMONTH(K59,2),[1]Congés!$D$2:$D$160)-P59-O59))) -> 0 | R59: =IF(N59-M59<3,0,NETWORKDAYS(K59,L59,[1]Congés!$D$2:$D$160)-Q59-P59-O59) -> 0 | S59: =NETWORKDAYS(K59,L59,[1]Congés!C$2:C$160) -> 1 | T59: Arrêt Maladie | V59: =IF(S59<3,"1) 1 à 2 jours",IF(S59<5,"2) 3 à 4 jours",IF(S59=5,"3) 5 jours",IF(S59<=10,"4) 6 à 10 jours",IF(S59>10,"5) plus de 10 jours"))))) -> 1) 1 à 2 jours | W59: * | Y59: =L59-K59+1 -> 1
A60: 18575 | D60: =VLOOKUP(A60,'[1]BDD RH'!$A$9:$W$453,4,FALSE) -> s | E60: =VLOOKUP(A60,'[1]BDD RH'!$A$9:$W$453,3,FALSE) -> F | F60: =DATEDIF((VLOOKUP(A60,'[1]BDD RH'!$A$2:$W$485,7,FALSE)),K60,"y") -> 39 | G60: =IF(F60<=20,"<=20",IF(F60<=30,"21/30",IF(F60<=40,"31/40",IF(F60<=50,"41/50",IF(F60<=60,"51/60",IF(F60>60,"61 et plus",FALSE)))))) -> 31/40 | H60: =DATEDIF((VLOOKUP(A60,'[1]BDD RH'!$A$2:$W$485,11,FALSE)),K60,"y") -> 7 | I60: =IF(H60<2,"<2",IF(H60<6,"2/5",IF(H60<11,"6/10",IF(H60<16,"11/15",IF(H60<21,"16/20",IF(H60<26,"21/25",IF(H60>25,"26 et plus",FALSE))))))) -> 6/10 | J60: DECA01 | K60: 42387 | L60: 42389 | M60: =MONTH(K60) -> 1 | N60: =MONTH(L60) -> 1 | O60: =IF(N60-M60=0,NETWORKDAYS(K60,L60,[1]Congés!$D$2:$D$26),NETWORKDAYS(K60,EOMONTH(K60,0),[1]Congés!$D$2:$D$26)) -> 3 | P60: =IF(N60-M60=0,0,IF(N60-M60=1,NETWORKDAYS(K60,L60,[1]Congés!$D$2:$D$160)-O60,IF(N60-M60=2,NETWORKDAYS(K60,EOMONTH(K60,1),[1]Congés!$D$2:$D$160)-O60,IF(N60-M60=3,NETWORKDAYS(K60,EOMONTH(K60,1),[1]Congés!$D$2:$D$160)-O60)))) -> 0 | Q60: =IF(N60-M60<2,0,IF(N60-M60=2,NETWORKDAYS(K60,L60,[1]Congés!$D$2:$D$160)-P60-O60,IF(N60-M60=3,NETWORKDAYS(K60,EOMONTH(K60,2),[1]Congés!$D$2:$D$160)-P60-O60))) -> 0 | R60: =IF(N60-M60<3,0,NETWORKDAYS(K60,L60,[1]Congés!$D$2:$D$160)-Q60-P60-O60) -> 0 | S60: =NETWORKDAYS(K60,L60,[1]Congés!C$2:C$160) -> 3 | T60: Arrêt Maladie | V60: =IF(S60<3,"1) 1 à 2 jours",IF(S60<5,"2) 3 à 4 jours",IF(S60=5,"3) 5 jours",IF(S60<=10,"4) 6 à 10 jours",IF(S60>10,"5) plus de 10 jours"))))) -> 2) 3 à 4 jours | W60: * | Y60: =L60-K60+1 -> 3
A61: 17400 | D61: =VLOOKUP(A61,'[1]BDD RH'!$A$9:$W$453,4,FALSE) -> c | E61: =VLOOKUP(A61,'[1]BDD RH'!$A$9:$W$453,3,FALSE) -> F | F61: =DATEDIF((VLOOKUP(A61,'[1]BDD RH'!$A$2:$W$485,7,FALSE)),K61,"y") -> 33 | G61: =IF(F61<=20,"<=20",IF(F61<=30,"21/30",IF(F61<=40,"31/40",IF(F61<=50,"41/50",IF(F61<=60,"51/60",IF(F61>60,"61 et plus",FALSE)))))) -> 31/40 | H61: =DATEDIF((VLOOKUP(A61,'[1]BDD RH'!$A$2:$W$485,11,FALSE)),K61,"y") -> 7 | I61: =IF(H61<2,"<2",IF(H61<6,"2/5",IF(H61<11,"6/10",IF(H61<16,"11/15",IF(H61<21,"16/20",IF(H61<26,"21/25",IF(H61>25,"26 et plus",FALSE))))))) -> 6/10 | J61: DOM01 | K61: 42389 | L61: 42391 | M61: =MONTH(K61) -> 1 | N61: =MONTH(L61) -> 1 | O61: =IF(N61-M61=0,NETWORKDAYS(K61,L61,[1]Congés!$D$2:$D$26),NETWORKDAYS(K61,EOMONTH(K61,0),[1]Congés!$D$2:$D$26)) -> 3 | P61: =IF(N61-M61=0,0,IF(N61-M61=1,NETWORKDAYS(K61,L61,[1]Congés!$D$2:$D$160)-O61,IF(N61-M61=2,NETWORKDAYS(K61,EOMONTH(K61,1),[1]Congés!$D$2:$D$160)-O61,IF(N61-M61=3,NETWORKDAYS(K61,EOMONTH(K61,1),[1]Congés!$D$2:$D$160)-O61)))) -> 0 | Q61: =IF(N61-M61<2,0,IF(N61-M61=2,NETWORKDAYS(K61,L61,[1]Congés!$D$2:$D$160)-P61-O61,IF(N61-M61=3,NETWORKDAYS(K61,EOMONTH(K61,2),[1]Congés!$D$2:$D$160)-P61-O61))) -> 0 | R61: =IF(N61-M61<3,0,NETWORKDAYS(K61,L61,[1]Congés!$D$2:$D$160)-Q61-P61-O61) -> 0 | S61: =NETWORKDAYS(K61,L61,[1]Congés!C$2:C$160) -> 3 | T61: Arrêt Maladie | V61: =IF(S61<3,"1) 1 à 2 jours",IF(S61<5,"2) 3 à 4 jours",IF(S61=5,"3) 5 jours",IF(S61<=10,"4) 6 à 10 jours",IF(S61>10,"5) plus de 10 jours"))))) -> 2) 3 à 4 jours | W61: * | Y61: =L61-K61+1 -> 3
A62: 20048 | D62: =VLOOKUP(A62,'[1]BDD RH'!$A$9:$W$453,4,FALSE) -> t | E62: =VLOOKUP(A62,'[1]BDD RH'!$A$9:$W$453,3,FALSE) -> F | F62: =DATEDIF((VLOOKUP(A62,'[1]BDD RH'!$A$2:$W$485,7,FALSE)),K62,"y") -> 33 | G62: =IF(F62<=20,"<=20",IF(F62<=30,"21/30",IF(F62<=40,"31/40",IF(F62<=50,"41/50",IF(F62<=60,"51/60",IF(F62>60,"61 et plus",FALSE)))))) -> 31/40 | H62: =DATEDIF((VLOOKUP(A62,'[1]BDD RH'!$A$2:$W$485,11,FALSE)),K62,"y") -> 6 | I62: =IF(H62<2,"<2",IF(H62<6,"2/5",IF(H62<11,"6/10",IF(H62<16,"11/15",IF(H62<21,"16/20",IF(H62<26,"21/25",IF(H62>25,"26 et plus",FALSE))))))) -> 6/10 | J62: DULS01 | K62: 42394 | L62: 42408 | M62: =MONTH(K62) -> 1 | N62: =MONTH(L62) -> 2 | O62: =IF(N62-M62=0,NETWORKDAYS(K62,L62,[1]Congés!$D$2:$D$26),NETWORKDAYS(K62,EOMONTH(K62,0),[1]Congés!$D$2:$D$26)) -> 5 | P62: =IF(N62-M62=0,0,IF(N62-M62=1,NETWORKDAYS(K62,L62,[1]Congés!$D$2:$D$160)-O62,IF(N62-M62=2,NETWORKDAYS(K62,EOMONTH(K62,1),[1]Congés!$D$2:$D$160)-O62,IF(N62-M62=3,NETWORKDAYS(K62,EOMONTH(K62,1),[1]Congés!$D$2:$D$160)-O62)))) -> 6 | Q62: =IF(N62-M62<2,0,IF(N62-M62=2,NETWORKDAYS(K62,L62,[1]Congés!$D$2:$D$160)-P62-O62,IF(N62-M62=3,NETWORKDAYS(K62,EOMONTH(K62,2),[1]Congés!$D$2:$D$160)-P62-O62))) -> 0 | R62: =IF(N62-M62<3,0,NETWORKDAYS(K62,L62,[1]Congés!$D$2:$D$160)-Q62-P62-O62) -> 0 | S62: =NETWORKDAYS(K62,L62,[1]Congés!C$2:C$160) -> 11 | T62: Arrêt Maladie | V62: =IF(S62<3,"1) 1 à 2 jours",IF(S62<5,"2) 3 à 4 jours",IF(S62=5,"3) 5 jours",IF(S62<=10,"4) 6 à 10 jours",IF(S62>10,"5) plus de 10 jours"))))) -> 5) plus de 10 jours | W62: * | Y62: =L62-K62+1 -> 15
A63: 10888 | D63: =VLOOKUP(A63,'[1]BDD RH'!$A$9:$W$453,4,FALSE) -> c | E63: =VLOOKUP(A63,'[1]BDD RH'!$A$9:$W$453,3,FALSE) -> H | F63: =DATEDIF((VLOOKUP(A63,'[1]BDD RH'!$A$2:$W$485,7,FALSE)),K63,"y") -> 54 | G63: =IF(F63<=20,"<=20",IF(F63<=30,"21/30",IF(F63<=40,"31/40",IF(F63<=50,"41/50",IF(F63<=60,"51/60",IF(F63>60,"61 et plus",FALSE)))))) -> 51/60 | H63: =DATEDIF((VLOOKUP(A63,'[1]BDD RH'!$A$2:$W$485,11,FALSE)),K63,"y") -> 13 | I63: =IF(H63<2,"<2",IF(H63<6,"2/5",IF(H63<11,"6/10",IF(H63<16,"11/15",IF(H63<21,"16/20",IF(H63<26,"21/25",IF(H63>25,"26 et plus",FALSE))))))) -> 11/15 | J63: DUJ01 | K63: 42370 | L63: 42372 | M63: =MONTH(K63) -> 1 | N63: =MONTH(L63) -> 1 | O63: =IF(N63-M63=0,NETWORKDAYS(K63,L63,[1]Congés!$D$2:$D$26),NETWORKDAYS(K63,EOMONTH(K63,0),[1]Congés!$D$2:$D$26)) -> 1 | P63: =IF(N63-M63=0,0,IF(N63-M63=1,NETWORKDAYS(K63,L63,[1]Congés!$D$2:$D$160)-O63,IF(N63-M63=2,NETWORKDAYS(K63,EOMONTH(K63,1),[1]Congés!$D$2:$D$160)-O63,IF(N63-M63=3,NETWORKDAYS(K63,EOMONTH(K63,1),[1]Congés!$D$2:$D$160)-O63)))) -> 0 | Q63: =IF(N63-M63<2,0,IF(N63-M63=2,NETWORKDAYS(K63,L63,[1]Congés!$D$2:$D$160)-P63-O63,IF(N63-M63=3,NETWORKDAYS(K63,EOMONTH(K63,2),[1]Congés!$D$2:$D$160)-P63-O63))) -> 0 | R63: =IF(N63-M63<3,0,NETWORKDAYS(K63,L63,[1]Congés!$D$2:$D$160)-Q63-P63-O63) -> 0 | S63: =NETWORKDAYS(K63,L63,[1]Congés!C$2:C$160) -> 0 | T63: Arrêt Maladie | U63: 42349 | V63: =IF(S63<3,"1) 1 à 2 jours",IF(S63<5,"2) 3 à 4 jours",IF(S63=5,"3) 5 jours",IF(S63<=10,"4) 6 à 10 jours",IF(S63>10,"5) plus de 10 jours"))))) -> 1) 1 à 2 jours | W63: * | Y63: =L63-K63+1 -> 3
A64: 17389 | D64: =VLOOKUP(A64,'[1]BDD RH'!$A$9:$W$453,4,FALSE) -> t | E64: =VLOOKUP(A64,'[1]BDD RH'!$A$9:$W$453,3,FALSE) -> F | F64: =DATEDIF((VLOOKUP(A64,'[1]BDD RH'!$A$2:$W$485,7,FALSE)),K64,"y") -> 38 | G64: =IF(F64<=20,"<=20",IF(F64<=30,"21/30",IF(F64<=40,"31/40",IF(F64<=50,"41/50",IF(F64<=60,"51/60",IF(F64>60,"61 et plus",FALSE)))))) -> 31/40 | H64: =DATEDIF((VLOOKUP(A64,'[1]BDD RH'!$A$2:$W$485,11,FALSE)),K64,"y") -> 8 | I64: =IF(H64<2,"<2",IF(H64<6,"2/5",IF(H64<11,"6/10",IF(H64<16,"11/15",IF(H64<21,"16/20",IF(H64<26,"21/25",IF(H64>25,"26 et plus",FALSE))))))) -> 6/10 | K64: 42370 | L64: 42387 | M64: =MONTH(K64) -> 1 | N64: =MONTH(L64) -> 1 | O64: =IF(N64-M64=0,NETWORKDAYS(K64,L64,[1]Congés!$D$2:$D$26),NETWORKDAYS(K64,EOMONTH(K64,0),[1]Congés!$D$2:$D$26)) -> 12 | P64: =IF(N64-M64=0,0,IF(N64-M64=1,NETWORKDAYS(K64,L64,[1]Congés!$D$2:$D$160)-O64,IF(N64-M64=2,NETWORKDAYS(K64,EOMONTH(K64,1),[1]Congés!$D$2:$D$160)-O64,IF(N64-M64=3,NETWORKDAYS(K64,EOMONTH(K64,1),[1]Congés!$D$2:$D$160)-O64)))) -> 0 | Q64: =IF(N64-M64<2,0,IF(N64-M64=2,NETWORKDAYS(K64,L64,[1]Congés!$D$2:$D$160)-P64-O64,IF(N64-M64=3,NETWORKDAYS(K64,EOMONTH(K64,2),[1]Congés!$D$2:$D$160)-P64-O64))) -> 0 | R64: =IF(N64-M64<3,0,NETWORKDAYS(K64,L64,[1]Congés!$D$2:$D$160)-Q64-P64-O64) -> 0 | S64: =NETWORKDAYS(K64,L64,[1]Congés!C$2:C$160) -> 11 | T64: Mi-temps | U64: 42709 | V64: =IF(S64<3,"1) 1 à 2 jours",IF(S64<5,"2) 3 à 4 jours",IF(S64=5,"3) 5 jours",IF(S64<=10,"4) 6 à 10 jours",IF(S64>10,"5) plus de 10 jours"))))) -> 5) plus de 10 jours | Y64: =L64-K64+1 -> 18
A65: 17389 | D65: =VLOOKUP(A65,'[1]BDD RH'!$A$9:$W$453,4,FALSE) -> t | E65: =VLOOKUP(A65,'[1]BDD RH'!$A$9:$W$453,3,FALSE) -> F | F65: =DATEDIF((VLOOKUP(A65,'[1]BDD RH'!$A$2:$W$485,7,FALSE)),K65,"y") -> 38 | G65: =IF(F65<=20,"<=20",IF(F65<=30,"21/30",IF(F65<=40,"31/40",IF(F65<=50,"41/50",IF(F65<=60,"51/60",IF(F65>60,"61 et plus",FALSE)))))) -> 31/40 | H65: =DATEDIF((VLOOKUP(A65,'[1]BDD RH'!$A$2:$W$485,11,FALSE)),K65,"y") -> 8 | I65: =IF(H65<2,"<2",IF(H65<6,"2/5",IF(H65<11,"6/10",IF(H65<16,"11/15",IF(H65<21,"16/20",IF(H65<26,"21/25",IF(H65>25,"26 et plus",FALSE))))))) -> 6/10 | J65: FAG01 | K65: 42388 | L65: 42390 | M65: =MONTH(K65) -> 1 | N65: =MONTH(L65) -> 1 | O65: =IF(N65-M65=0,NETWORKDAYS(K65,L65,[1]Congés!$D$2:$D$26),NETWORKDAYS(K65,EOMONTH(K65,0),[1]Congés!$D$2:$D$26)) -> 3 | P65: =IF(N65-M65=0,0,IF(N65-M65=1,NETWORKDAYS(K65,L65,[1]Congés!$D$2:$D$160)-O65,IF(N65-M65=2,NETWORKDAYS(K65,EOMONTH(K65,1),[1]Congés!$D$2:$D$160)-O65,IF(N65-M65=3,NETWORKDAYS(K65,EOMONTH(K65,1),[1]Congés!$D$2:$D$160)-O65)))) -> 0 | Q65: =IF(N65-M65<2,0,IF(N65-M65=2,NETWORKDAYS(K65,L65,[1]Congés!$D$2:$D$160)-P65-O65,IF(N65-M65=3,NETWORKDAYS(K65,EOMONTH(K65,2),[1]Congés!$D$2:$D$160)-P65-O65))) -> 0 | R65: =IF(N65-M65<3,0,NETWORKDAYS(K65,L65,[1]Congés!$D$2:$D$160)-Q65-P65-O65) -> 0 | S65: =NETWORKDAYS(K65,L65,[1]Congés!C$2:C$160) -> 3 | T65: Arrêt Maladie | V65: =IF(S65<3,"1) 1 à 2 jours",IF(S65<5,"2) 3 à 4 jours",IF(S65=5,"3) 5 jours",IF(S65<=10,"4) 6 à 10 jours",IF(S65>10,"5) plus de 10 jours"))))) -> 2) 3 à 4 jours | W65: * | Y65: =L65-K65+1 -> 3
A66: 17389 | D66: =VLOOKUP(A66,'[1]BDD RH'!$A$9:$W$453,4,FALSE) -> t | E66: =VLOOKUP(A66,'[1]BDD RH'!$A$9:$W$453,3,FALSE) -> F | F66: =DATEDIF((VLOOKUP(A66,'[1]BDD RH'!$A$2:$W$485,7,FALSE)),K66,"y") -> 38 | G66: =IF(F66<=20,"<=20",IF(F66<=30,"21/30",IF(F66<=40,"31/40",IF(F66<=50,"41/50",IF(F66<=60,"51/60",IF(F66>60,"61 et plus",FALSE)))))) -> 31/40 | H66: =DATEDIF((VLOOKUP(A66,'[1]BDD RH'!$A$2:$W$485,11,FALSE)),K66,"y") -> 8 | I66: =IF(H66<2,"<2",IF(H66<6,"2/5",IF(H66<11,"6/10",IF(H66<16,"11/15",IF(H66<21,"16/20",IF(H66<26,"21/25",IF(H66>25,"26 et plus",FALSE))))))) -> 6/10 | K66: 42391 | L66: 42433 | M66: =MONTH(K66) -> 1 | N66: =MONTH(L66) -> 3 | O66: =IF(N66-M66=0,NETWORKDAYS(K66,L66,[1]Congés!$D$2:$D$26),NETWORKDAYS(K66,EOMONTH(K66,0),[1]Congés!$D$2:$D$26)) -> 6 | P66: =IF(N66-M66=0,0,IF(N66-M66=1,NETWORKDAYS(K66,L66,[1]Congés!$D$2:$D$160)-O66,IF(N66-M66=2,NETWORKDAYS(K66,EOMONTH(K66,1),[1]Congés!$D$2:$D$160)-O66,IF(N66-M66=3,NETWORKDAYS(K66,EOMONTH(K66,1),[1]Congés!$D$2:$D$160)-O66)))) -> 21 | Q66: =IF(N66-M66<2,0,IF(N66-M66=2,NETWORKDAYS(K66,L66,[1]Congés!$D$2:$D$160)-P66-O66,IF(N66-M66=3,NETWORKDAYS(K66,EOMONTH(K66,2),[1]Congés!$D$2:$D$160)-P66-O66))) -> 4 | R66: =IF(N66-M66<3,0,NETWORKDAYS(K66,L66,[1]Congés!$D$2:$D$160)-Q66-P66-O66) -> 0 | S66: =NETWORKDAYS(K66,L66,[1]Congés!C$2:C$160) -> 31 | T66: Mi-temps | U66: 42343 | V66: =IF(S66<3,"1) 1 à 2 jours",IF(S66<5,"2) 3 à 4 jours",IF(S66=5,"3) 5 jours",IF(S66<=10,"4) 6 à 10 jours",IF(S66>10,"5) plus de 10 jours"))))) -> 5) plus de 10 jours | Y66: =L66-K66+1 -> 43
A67: 17577 | D67: =VLOOKUP(A67,'[1]BDD RH'!$A$9:$W$453,4,FALSE) -> t | E67: =VLOOKUP(A67,'[1]BDD RH'!$A$9:$W$453,3,FALSE) -> F | F67: =DATEDIF((VLOOKUP(A67,'[1]BDD RH'!$A$2:$W$485,7,FALSE)),K67,"y") -> 45 | G67: =IF(F67<=20,"<=20",IF(F67<=30,"21/30",IF(F67<=40,"31/40",IF(F67<=50,"41/50",IF(F67<=60,"51/60",IF(F67>60,"61 et plus",FALSE)))))) -> 41/50 | H67: =DATEDIF((VLOOKUP(A67,'[1]BDD RH'!$A$2:$W$485,11,FALSE)),K67,"y") -> 8 | I67: =IF(H67<2,"<2",IF(H67<6,"2/5",IF(H67<11,"6/10",IF(H67<16,"11/15",IF(H67<21,"16/20",IF(H67<26,"21/25",IF(H67>25,"26 et plus",FALSE))))))) -> 6/10 | J67: FAA01 | K67: 42370 | L67: 42379 | M67: =MONTH(K67) -> 1 | N67: =MONTH(L67) -> 1 | O67: =IF(N67-M67=0,NETWORKDAYS(K67,L67,[1]Congés!$D$2:$D$26),NETWORKDAYS(K67,EOMONTH(K67,0),[1]Congés!$D$2:$D$26)) -> 6 | P67: =IF(N67-M67=0,0,IF(N67-M67=1,NETWORKDAYS(K67,L67,[1]Congés!$D$2:$D$160)-O67,IF(N67-M67=2,NETWORKDAYS(K67,EOMONTH(K67,1),[1]Congés!$D$2:$D$160)-O67,IF(N67-M67=3,NETWORKDAYS(K67,EOMONTH(K67,1),[1]Congés!$D$2:$D$160)-O67)))) -> 0 | Q67: =IF(N67-M67<2,0,IF(N67-M67=2,NETWORKDAYS(K67,L67,[1]Congés!$D$2:$D$160)-P67-O67,IF(N67-M67=3,NETWORKDAYS(K67,EOMONTH(K67,2),[1]Congés!$D$2:$D$160)-P67-O67))) -> 0 | R67: =IF(N67-M67<3,0,NETWORKDAYS(K67,L67,[1]Congés!$D$2:$D$160)-Q67-P67-O67) -> 0 | S67: =NETWORKDAYS(K67,L67,[1]Congés!C$2:C$160) -> 5 | T67: Arrêt Maladie | V67: =IF(S67<3,"1) 1 à 2 jours",IF(S67<5,"2) 3 à 4 jours",IF(S67=5,"3) 5 jours",IF(S67<=10,"4) 6 à 10 jours",IF(S67>10,"5) plus de 10 jours"))))) -> 3) 5 jours | W67: * | Y67: =L67-K67+1 -> 10
A68: 82322 | D68: =VLOOKUP(A68,'[1]BDD RH'!$A$9:$W$453,4,FALSE) -> 0 | E68: =VLOOKUP(A68,'[1]BDD RH'!$A$9:$W$453,3,FALSE) -> F | F68: =DATEDIF((VLOOKUP(A68,'[1]BDD RH'!$A$2:$W$485,7,FALSE)),K68,"y") -> 23 | G68: =IF(F68<=20,"<=20",IF(F68<=30,"21/30",IF(F68<=40,"31/40",IF(F68<=50,"41/50",IF(F68<=60,"51/60",IF(F68>60,"61 et plus",FALSE)))))) -> 21/30 | H68: =DATEDIF((VLOOKUP(A68,'[1]BDD RH'!$A$2:$W$485,11,FALSE)),K68,"y") -> 2 | I68: =IF(H68<2,"<2",IF(H68<6,"2/5",IF(H68<11,"6/10",IF(H68<16,"11/15",IF(H68<21,"16/20",IF(H68<26,"21/25",IF(H68>25,"26 et plus",FALSE))))))) -> 2/5 | J68: FLA01 | K68: 42380 | L68: 42386 | M68: =MONTH(K68) -> 1 | N68: =MONTH(L68) -> 1 | O68: =IF(N68-M68=0,NETWORKDAYS(K68,L68,[1]Congés!$D$2:$D$26),NETWORKDAYS(K68,EOMONTH(K68,0),[1]Congés!$D$2:$D$26)) -> 5 | P68: =IF(N68-M68=0,0,IF(N68-M68=1,NETWORKDAYS(K68,L68,[1]Congés!$D$2:$D$160)-O68,IF(N68-M68=2,NETWORKDAYS(K68,EOMONTH(K68,1),[1]Congés!$D$2:$D$160)-O68,IF(N68-M68=3,NETWORKDAYS(K68,EOMONTH(K68,1),[1]Congés!$D$2:$D$160)-O68)))) -> 0 | Q68: =IF(N68-M68<2,0,IF(N68-M68=2,NETWORKDAYS(K68,L68,[1]Congés!$D$2:$D$160)-P68-O68,IF(N68-M68=3,NETWORKDAYS(K68,EOMONTH(K68,2),[1]Congés!$D$2:$D$160)-P68-O68))) -> 0 | R68: =IF(N68-M68<3,0,NETWORKDAYS(K68,L68,[1]Congés!$D$2:$D$160)-Q68-P68-O68) -> 0 | S68: =NETWORKDAYS(K68,L68,[1]Congés!C$2:C$160) -> 5 | T68: Arrêt Maladie | U68: 42380 | V68: =IF(S68<3,"1) 1 à 2 jours",IF(S68<5,"2) 3 à 4 jours",IF(S68=5,"3) 5 jours",IF(S68<=10,"4) 6 à 10 jours",IF(S68>10,"5) plus de 10 jours"))))) -> 3) 5 jours | W68: prol | Y68: =L68-K68+1 -> 7
A69: 82322 | D69: =VLOOKUP(A69,'[1]BDD RH'!$A$9:$W$453,4,FALSE) -> 0 | E69: =VLOOKUP(A69,'[1]BDD RH'!$A$9:$W$453,3,FALSE) -> F | F69: =DATEDIF((VLOOKUP(A69,'[1]BDD RH'!$A$2:$W$485,7,FALSE)),K69,"y") -> 23 | G69: =IF(F69<=20,"<=20",IF(F69<=30,"21/30",IF(F69<=40,"31/40",IF(F69<=50,"41/50",IF(F69<=60,"51/60",IF(F69>60,"61 et plus",FALSE)))))) -> 21/30 | H69: =DATEDIF((VLOOKUP(A69,'[1]BDD RH'!$A$2:$W$485,11,FALSE)),K69,"y") -> 2 | I69: =IF(H69<2,"<2",IF(H69<6,"2/5",IF(H69<11,"6/10",IF(H69<16,"11/15",IF(H69<21,"16/20",IF(H69<26,"21/25",IF(H69>25,"26 et plus",FALSE))))))) -> 2/5 | J69: FLA01 | K69: 42387 | L69: 42393 | M69: =MONTH(K69) -> 1 | N69: =MONTH(L69) -> 1 | O69: =IF(N69-M69=0,NETWORKDAYS(K69,L69,[1]Congés!$D$2:$D$26),NETWORKDAYS(K69,EOMONTH(K69,0),[1]Congés!$D$2:$D$26)) -> 5 | P69: =IF(N69-M69=0,0,IF(N69-M69=1,NETWORKDAYS(K69,L69,[1]Congés!$D$2:$D$160)-O69,IF(N69-M69=2,NETWORKDAYS(K69,EOMONTH(K69,1),[1]Congés!$D$2:$D$160)-O69,IF(N69-M69=3,NETWORKDAYS(K69,EOMONTH(K69,1),[1]Congés!$D$2:$D$160)-O69)))) -> 0 | Q69: =IF(N69-M69<2,0,IF(N69-M69=2,NETWORKDAYS(K69,L69,[1]Congés!$D$2:$D$160)-P69-O69,IF(N69-M69=3,NETWORKDAYS(K69,EOMONTH(K69,2),[1]Congés!$D$2:$D$160)-P69-O69))) -> 0 | R69: =IF(N69-M69<3,0,NETWORKDAYS(K69,L69,[1]Congés!$D$2:$D$160)-Q69-P69-O69) -> 0 | S69: =NETWORKDAYS(K69,L69,[1]Congés!C$2:C$160) -> 5 | T69: Arrêt Maladie | U69: 42380 | V69: =IF(S69<3,"1) 1 à 2 jours",IF(S69<5,"2) 3 à 4 jours",IF(S69=5,"3) 5 jours",IF(S69<=10,"4) 6 à 10 jours",IF(S69>10,"5) plus de 10 jours"))))) -> 3) 5 jours | W69: * | Y69: =L69-K69+1 -> 7
A70: 7717 | D70: =VLOOKUP(A70,'[1]BDD RH'!$A$9:$W$453,4,FALSE) -> t | E70: =VLOOKUP(A70,'[1]BDD RH'!$A$9:$W$453,3,FALSE) -> F | F70: =DATEDIF((VLOOKUP(A70,'[1]BDD RH'!$A$2:$W$485,7,FALSE)),K70,"y") -> 48 | G70: =IF(F70<=20,"<=20",IF(F70<=30,"21/30",IF(F70<=40,"31/40",IF(F70<=50,"41/50",IF(F70<=60,"51/60",IF(F70>60,"61 et plus",FALSE)))))) -> 41/50 | H70: =DATEDIF((VLOOKUP(A70,'[1]BDD RH'!$A$2:$W$485,11,FALSE)),K70,"y") -> 23 | I70: =IF(H70<2,"<2",IF(H70<6,"2/5",IF(H70<11,"6/10",IF(H70<16,"11/15",IF(H70<21,"16/20",IF(H70<26,"21/25",IF(H70>25,"26 et plus",FALSE))))))) -> 21/25 | J70: GAE01 | K70: 42373 | L70: 42374 | M70: =MONTH(K70) -> 1 | N70: =MONTH(L70) -> 1 | O70: =IF(N70-M70=0,NETWORKDAYS(K70,L70,[1]Congés!$D$2:$D$26),NETWORKDAYS(K70,EOMONTH(K70,0),[1]Congés!$D$2:$D$26)) -> 2 | P70: =IF(N70-M70=0,0,IF(N70-M70=1,NETWORKDAYS(K70,L70,[1]Congés!$D$2:$D$160)-O70,IF(N70-M70=2,NETWORKDAYS(K70,EOMONTH(K70,1),[1]Congés!$D$2:$D$160)-O70,IF(N70-M70=3,NETWORKDAYS(K70,EOMONTH(K70,1),[1]Congés!$D$2:$D$160)-O70)))) -> 0 | Q70: =IF(N70-M70<2,0,IF(N70-M70=2,NETWORKDAYS(K70,L70,[1]Congés!$D$2:$D$160)-P70-O70,IF(N70-M70=3,NETWORKDAYS(K70,EOMONTH(K70,2),[1]Congés!$D$2:$D$160)-P70-O70))) -> 0 | R70: =IF(N70-M70<3,0,NETWORKDAYS(K70,L70,[1]Congés!$D$2:$D$160)-Q70-P70-O70) -> 0 | S70: =NETWORKDAYS(K70,L70,[1]Congés!C$2:C$160) -> 2 | T70: Arrêt Maladie | V70: =IF(S70<3,"1) 1 à 2 jours",IF(S70<5,"2) 3 à 4 jours",IF(S70=5,"3) 5 jours",IF(S70<=10,"4) 6 à 10 jours",IF(S70>10,"5) plus de 10 jours"))))) -> 1) 1 à 2 jours | W70: * | Y70: =L70-K70+1 -> 2
A71: 82699 | D71: =VLOOKUP(A71,'[1]BDD RH'!$A$9:$W$453,4,FALSE) -> 0 | E71: =VLOOKUP(A71,'[1]BDD RH'!$A$9:$W$453,3,FALSE) -> H | F71: =DATEDIF((VLOOKUP(A71,'[1]BDD RH'!$A$2:$W$485,7,FALSE)),K71,"y") -> 28 | G71: =IF(F71<=20,"<=20",IF(F71<=30,"21/30",IF(F71<=40,"31/40",IF(F71<=50,"41/50",IF(F71<=60,"51/60",IF(F71>60,"61 et plus",FALSE)))))) -> 21/30 | H71: =DATEDIF((VLOOKUP(A71,'[1]BDD RH'!$A$2:$W$485,11,FALSE)),K71,"y") -> 2 | I71: =IF(H71<2,"<2",IF(H71<6,"2/5",IF(H71<11,"6/10",IF(H71<16,"11/15",IF(H71<21,"16/20",IF(H71<26,"21/25",IF(H71>25,"26 et plus",FALSE))))))) -> 2/5 | J71: GAJ01 | K71: 42387 | L71: 42388 | M71: =MONTH(K71) -> 1 | N71: =MONTH(L71) -> 1 | O71: =IF(N71-M71=0,NETWORKDAYS(K71,L71,[1]Congés!$D$2:$D$26),NETWORKDAYS(K71,EOMONTH(K71,0),[1]Congés!$D$2:$D$26)) -> 2 | P71: =IF(N71-M71=0,0,IF(N71-M71=1,NETWORKDAYS(K71,L71,[1]Congés!$D$2:$D$160)-O71,IF(N71-M71=2,NETWORKDAYS(K71,EOMONTH(K71,1),[1]Congés!$D$2:$D$160)-O71,IF(N71-M71=3,NETWORKDAYS(K71,EOMONTH(K71,1),[1]Congés!$D$2:$D$160)-O71)))) -> 0 | Q71: =IF(N71-M71<2,0,IF(N71-M71=2,NETWORKDAYS(K71,L71,[1]Congés!$D$2:$D$160)-P71-O71,IF(N71-M71=3,NETWORKDAYS(K71,EOMONTH(K71,2),[1]Congés!$D$2:$D$160)-P71-O71))) -> 0 | R71: =IF(N71-M71<3,0,NETWORKDAYS(K71,L71,[1]Congés!$D$2:$D$160)-Q71-P71-O71) -> 0 | S71: =NETWORKDAYS(K71,L71,[1]Congés!C$2:C$160) -> 2 | T71: Arrêt Maladie | V71: =IF(S71<3,"1) 1 à 2 jours",IF(S71<5,"2) 3 à 4 jours",IF(S71=5,"3) 5 jours",IF(S71<=10,"4) 6 à 10 jours",IF(S71>10,"5) plus de 10 jours"))))) -> 1) 1 à 2 jours | W71: * | Y71: =L71-K71+1 -> 2
A72: 4109 | D72: =VLOOKUP(A72,'[1]BDD RH'!$A$9:$W$453,4,FALSE) -> c | E72: =VLOOKUP(A72,'[1]BDD RH'!$A$9:$W$453,3,FALSE) -> H | F72: =DATEDIF((VLOOKUP(A72,'[1]BDD RH'!$A$2:$W$485,7,FALSE)),K72,"y") -> 59 | G72: =IF(F72<=20,"<=20",IF(F72<=30,"21/30",IF(F72<=40,"31/40",IF(F72<=50,"41/50",IF(F72<=60,"51/60",IF(F72>60,"61 et plus",FALSE)))))) -> 51/60 | H72: =DATEDIF((VLOOKUP(A72,'[1]BDD RH'!$A$2:$W$485,11,FALSE)),K72,"y") -> 15 | I72: =IF(H72<2,"<2",IF(H72<6,"2/5",IF(H72<11,"6/10",IF(H72<16,"11/15",IF(H72<21,"16/20",IF(H72<26,"21/25",IF(H72>25,"26 et plus",FALSE))))))) -> 11/15 | J72: GAM01 | K72: 42370 | L72: 42378 | M72: =MONTH(K72) -> 1 | N72: =MONTH(L72) -> 1 | O72: =IF(N72-M72=0,NETWORKDAYS(K72,L72,[1]Congés!$D$2:$D$26),NETWORKDAYS(K72,EOMONTH(K72,0),[1]Congés!$D$2:$D$26)) -> 6 | P72: =IF(N72-M72=0,0,IF(N72-M72=1,NETWORKDAYS(K72,L72,[1]Congés!$D$2:$D$160)-O72,IF(N72-M72=2,NETWORKDAYS(K72,EOMONTH(K72,1),[1]Congés!$D$2:$D$160)-O72,IF(N72-M72=3,NETWORKDAYS(K72,EOMONTH(K72,1),[1]Congés!$D$2:$D$160)-O72)))) -> 0 | Q72: =IF(N72-M72<2,0,IF(N72-M72=2,NETWORKDAYS(K72,L72,[1]Congés!$D$2:$D$160)-P72-O72,IF(N72-M72=3,NETWORKDAYS(K72,EOMONTH(K72,2),[1]Congés!$D$2:$D$160)-P72-O72))) -> 0 | R72: =IF(N72-M72<3,0,NETWORKDAYS(K72,L72,[1]Congés!$D$2:$D$160)-Q72-P72-O72) -> 0 | S72: =NETWORKDAYS(K72,L72,[1]Congés!C$2:C$160) -> 5 | T72: ATT 15 SPEC | U72: 42339 | V72: =IF(S72<3,"1) 1 à 2 jours",IF(S72<5,"2) 3 à 4 jours",IF(S72=5,"3) 5 jours",IF(S72<=10,"4) 6 à 10 jours",IF(S72>10,"5) plus de 10 jours"))))) -> 3) 5 jours | W72: prol | Y72: =L72-K72+1 -> 9
A73: 4109 | D73: =VLOOKUP(A73,'[1]BDD RH'!$A$9:$W$453,4,FALSE) -> c | E73: =VLOOKUP(A73,'[1]BDD RH'!$A$9:$W$453,3,FALSE) -> H | F73: =DATEDIF((VLOOKUP(A73,'[1]BDD RH'!$A$2:$W$485,7,FALSE)),K73,"y") -> 59 | G73: =IF(F73<=20,"<=20",IF(F73<=30,"21/30",IF(F73<=40,"31/40",IF(F73<=50,"41/50",IF(F73<=60,"51/60",IF(F73>60,"61 et plus",FALSE)))))) -> 51/60 | H73: =DATEDIF((VLOOKUP(A73,'[1]BDD RH'!$A$2:$W$485,11,FALSE)),K73,"y") -> 15 | I73: =IF(H73<2,"<2",IF(H73<6,"2/5",IF(H73<11,"6/10",IF(H73<16,"11/15",IF(H73<21,"16/20",IF(H73<26,"21/25",IF(H73>25,"26 et plus",FALSE))))))) -> 11/15 | J73: GAM01 | K73: 42379 | L73: 42392 | M73: =MONTH(K73) -> 1 | N73: =MONTH(L73) -> 1 | O73: =IF(N73-M73=0,NETWORKDAYS(K73,L73,[1]Congés!$D$2:$D$26),NETWORKDAYS(K73,EOMONTH(K73,0),[1]Congés!$D$2:$D$26)) -> 10 | P73: =IF(N73-M73=0,0,IF(N73-M73=1,NETWORKDAYS(K73,L73,[1]Congés!$D$2:$D$160)-O73,IF(N73-M73=2,NETWORKDAYS(K73,EOMONTH(K73,1),[1]Congés!$D$2:$D$160)-O73,IF(N73-M73=3,NETWORKDAYS(K73,EOMONTH(K73,1),[1]Congés!$D$2:$D$160)-O73)))) -> 0 | Q73: =IF(N73-M73<2,0,IF(N73-M73=2,NETWORKDAYS(K73,L73,[1]Congés!$D$2:$D$160)-P73-O73,IF(N73-M73=3,NETWORKDAYS(K73,EOMONTH(K73,2),[1]Congés!$D$2:$D$160)-P73-O73))) -> 0 | R73: =IF(N73-M73<3,0,NETWORKDAYS(K73,L73,[1]Congés!$D$2:$D$160)-Q73-P73-O73) -> 0 | S73: =NETWORKDAYS(K73,L73,[1]Congés!C$2:C$160) -> 10 | T73: ATT 15 SPEC | U73: 42339 | V73: =IF(S73<3,"1) 1 à 2 jours",IF(S73<5,"2) 3 à 4 jours",IF(S73=5,"3) 5 jours",IF(S73<=10,"4) 6 à 10 jours",IF(S73>10,"5) plus de 10 jours"))))) -> 4) 6 à 10 jours | W73: prol | Y73: =L73-K73+1 -> 14
A74: 4109 | D74: =VLOOKUP(A74,'[1]BDD RH'!$A$9:$W$453,4,FALSE) -> c | E74: =VLOOKUP(A74,'[1]BDD RH'!$A$9:$W$453,3,FALSE) -> H | F74: =DATEDIF((VLOOKUP(A74,'[1]BDD RH'!$A$2:$W$485,7,FALSE)),K74,"y") -> 59 | G74: =IF(F74<=20,"<=20",IF(F74<=30,"21/30",IF(F74<=40,"31/40",IF(F74<=50,"41/50",IF(F74<=60,"51/60",IF(F74>60,"61 et plus",FALSE)))))) -> 51/60 | H74: =DATEDIF((VLOOKUP(A74,'[1]BDD RH'!$A$2:$W$485,11,FALSE)),K74,"y") -> 15 | I74: =IF(H74<2,"<2",IF(H74<6,"2/5",IF(H74<11,"6/10",IF(H74<16,"11/15",IF(H74<21,"16/20",IF(H74<26,"21/25",IF(H74>25,"26 et plus",FALSE))))))) -> 11/15 | J74: GAM01 | K74: 42393 | L74: 42406 | M74: =MONTH(K74) -> 1 | N74: =MONTH(L74) -> 2 | O74: =IF(N74-M74=0,NETWORKDAYS(K74,L74,[1]Congés!$D$2:$D$26),NETWORKDAYS(K74,EOMONTH(K74,0),[1]Congés!$D$2:$D$26)) -> 5 | P74: =IF(N74-M74=0,0,IF(N74-M74=1,NETWORKDAYS(K74,L74,[1]Congés!$D$2:$D$160)-O74,IF(N74-M74=2,NETWORKDAYS(K74,EOMONTH(K74,1),[1]Congés!$D$2:$D$160)-O74,IF(N74-M74=3,NETWORKDAYS(K74,EOMONTH(K74,1),[1]Congés!$D$2:$D$160)-O74)))) -> 5 | Q74: =IF(N74-M74<2,0,IF(N74-M74=2,NETWORKDAYS(K74,L74,[1]Congés!$D$2:$D$160)-P74-O74,IF(N74-M74=3,NETWORKDAYS(K74,EOMONTH(K74,2),[1]Congés!$D$2:$D$160)-P74-O74))) -> 0 | R74: =IF(N74-M74<3,0,NETWORKDAYS(K74,L74,[1]Congés!$D$2:$D$160)-Q74-P74-O74) -> 0 | S74: =NETWORKDAYS(K74,L74,[1]Congés!C$2:C$160) -> 10 | T74: ATT 15 SPEC | U74: 42705 | V74: =IF(S74<3,"1) 1 à 2 jours",IF(S74<5,"2) 3 à 4 jours",IF(S74=5,"3) 5 jours",IF(S74<=10,"4) 6 à 10 jours",IF(S74>10,"5) plus de 10 jours"))))) -> 4) 6 à 10 jours | W74: vm à prévoir | Y74: =L74-K74+1 -> 14
A75: 4109 | D75: =VLOOKUP(A75,'[1]BDD RH'!$A$9:$W$453,4,FALSE) -> c | E75: =VLOOKUP(A75,'[1]BDD RH'!$A$9:$W$453,3,FALSE) -> H | F75: =DATEDIF((VLOOKUP(A75,'[1]BDD RH'!$A$2:$W$485,7,FALSE)),K75,"y") -> 59 | G75: =IF(F75<=20,"<=20",IF(F75<=30,"21/30",IF(F75<=40,"31/40",IF(F75<=50,"41/50",IF(F75<=60,"51/60",IF(F75>60,"61 et plus",FALSE)))))) -> 51/60 | H75: =DATEDIF((VLOOKUP(A75,'[1]BDD RH'!$A$2:$W$485,11,FALSE)),K75,"y") -> 15 | I75: =IF(H75<2,"<2",IF(H75<6,"2/5",IF(H75<11,"6/10",IF(H75<16,"11/15",IF(H75<21,"16/20",IF(H75<26,"21/25",IF(H75>25,"26 et plus",FALSE))))))) -> 11/15 | K75: 42407 | L75: 42420 | M75: =MONTH(K75) -> 2 | N75: =MONTH(L75) -> 2 | O75: =IF(N75-M75=0,NETWORKDAYS(K75,L75,[1]Congés!$D$2:$D$26),NETWORKDAYS(K75,EOMONTH(K75,0),[1]Congés!$D$2:$D$26)) -> 10 | P75: =IF(N75-M75=0,0,IF(N75-M75=1,NETWORKDAYS(K75,L75,[1]Congés!$D$2:$D$160)-O75,IF(N75-M75=2,NETWORKDAYS(K75,EOMONTH(K75,1),[1]Congés!$D$2:$D$160)-O75,IF(N75-M75=3,NETWORKDAYS(K75,EOMONTH(K75,1),[1]Congés!$D$2:$D$160)-O75)))) -> 0 | Q75: =IF(N75-M75<2,0,IF(N75-M75=2,NETWORKDAYS(K75,L75,[1]Congés!$D$2:$D$160)-P75-O75,IF(N75-M75=3,NETWORKDAYS(K75,EOMONTH(K75,2),[1]Congés!$D$2:$D$160)-P75-O75))) -> 0 | R75: =IF(N75-M75<3,0,NETWORKDAYS(K75,L75,[1]Congés!$D$2:$D$160)-Q75-P75-O75) -> 0 | S75: =NETWORKDAYS(K75,L75,[1]Congés!C$2:C$160) -> 10 | T75: ATT 15 SPEC | U75: 42705 | V75: =IF(S75<3,"1) 1 à 2 jours",IF(S75<5,"2) 3 à 4 jours",IF(S75=5,"3) 5 jours",IF(S75<=10,"4) 6 à 10 jours",IF(S75>10,"5) plus de 10 jours"))))) -> 4) 6 à 10 jours | Y75: =L75-K75+1 -> 14
A76: 9885 | D76: =VLOOKUP(A76,'[1]BDD RH'!$A$9:$W$453,4,FALSE) -> t | E76: =VLOOKUP(A76,'[1]BDD RH'!$A$9:$W$453,3,FALSE) -> F | F76: =DATEDIF((VLOOKUP(A76,'[1]BDD RH'!$A$2:$W$485,7,FALSE)),K76,"y") -> 34 | G76: =IF(F76<=20,"<=20",IF(F76<=30,"21/30",IF(F76<=40,"31/40",IF(F76<=50,"41/50",IF(F76<=60,"51/60",IF(F76>60,"61 et plus",FALSE)))))) -> 31/40 | H76: =DATEDIF((VLOOKUP(A76,'[1]BDD RH'!$A$2:$W$485,11,FALSE)),K76,"y") -> 2 | I76: =IF(H76<2,"<2",IF(H76<6,"2/5",IF(H76<11,"6/10",IF(H76<16,"11/15",IF(H76<21,"16/20",IF(H76<26,"21/25",IF(H76>25,"26 et plus",FALSE))))))) -> 2/5 | J76: GES01 | K76: 42403 | L76: 42405 | M76: =MONTH(K76) -> 2 | N76: =MONTH(L76) -> 2 | O76: =IF(N76-M76=0,NETWORKDAYS(K76,L76,[1]Congés!$D$2:$D$26),NETWORKDAYS(K76,EOMONTH(K76,0),[1]Congés!$D$2:$D$26)) -> 3 | P76: =IF(N76-M76=0,0,IF(N76-M76=1,NETWORKDAYS(K76,L76,[1]Congés!$D$2:$D$160)-O76,IF(N76-M76=2,NETWORKDAYS(K76,EOMONTH(K76,1),[1]Congés!$D$2:$D$160)-O76,IF(N76-M76=3,NETWORKDAYS(K76,EOMONTH(K76,1),[1]Congés!$D$2:$D$160)-O76)))) -> 0 | Q76: =IF(N76-M76<2,0,IF(N76-M76=2,NETWORKDAYS(K76,L76,[1]Congés!$D$2:$D$160)-P76-O76,IF(N76-M76=3,NETWORKDAYS(K76,EOMONTH(K76,2),[1]Congés!$D$2:$D$160)-P76-O76))) -> 0 | R76: =IF(N76-M76<3,0,NETWORKDAYS(K76,L76,[1]Congés!$D$2:$D$160)-Q76-P76-O76) -> 0 | S76: =NETWORKDAYS(K76,L76,[1]Congés!C$2:C$160) -> 3 | T76: Arrêt Maladie | V76: =IF(S76<3,"1) 1 à 2 jours",IF(S76<5,"2) 3 à 4 jours",IF(S76=5,"3) 5 jours",IF(S76<=10,"4) 6 à 10 jours",IF(S76>10,"5) plus de 10 jours"))))) -> 2) 3 à 4 jours | W76: * | Y76: =L76-K76+1 -> 3
A77: 18270 | D77: =VLOOKUP(A77,'[1]BDD RH'!$A$9:$W$453,4,FALSE) -> t | E77: =VLOOKUP(A77,'[1]BDD RH'!$A$9:$W$453,3,FALSE) -> F | F77: =DATEDIF((VLOOKUP(A77,'[1]BDD RH'!$A$2:$W$485,7,FALSE)),K77,"y") -> 29 | G77: =IF(F77<=20,"<=20",IF(F77<=30,"21/30",IF(F77<=40,"31/40",IF(F77<=50,"41/50",IF(F77<=60,"51/60",IF(F77>60,"61 et plus",FALSE)))))) -> 21/30 | H77: =DATEDIF((VLOOKUP(A77,'[1]BDD RH'!$A$2:$W$485,11,FALSE)),K77,"y") -> 7 | I77: =IF(H77<2,"<2",IF(H77<6,"2/5",IF(H77<11,"6/10",IF(H77<16,"11/15",IF(H77<21,"16/20",IF(H77<26,"21/25",IF(H77>25,"26 et plus",FALSE))))))) -> 6/10 | J77: GHA01 | K77: 42375 | L77: 42377 | M77: =MONTH(K77) -> 1 | N77: =MONTH(L77) -> 1 | O77: =IF(N77-M77=0,NETWORKDAYS(K77,L77,[1]Congés!$D$2:$D$26),NETWORKDAYS(K77,EOMONTH(K77,0),[1]Congés!$D$2:$D$26)) -> 3 | P77: =IF(N77-M77=0,0,IF(N77-M77=1,NETWORKDAYS(K77,L77,[1]Congés!$D$2:$D$160)-O77,IF(N77-M77=2,NETWORKDAYS(K77,EOMONTH(K77,1),[1]Congés!$D$2:$D$160)-O77,IF(N77-M77=3,NETWORKDAYS(K77,EOMONTH(K77,1),[1]Congés!$D$2:$D$160)-O77)))) -> 0 | Q77: =IF(N77-M77<2,0,IF(N77-M77=2,NETWORKDAYS(K77,L77,[1]Congés!$D$2:$D$160)-P77-O77,IF(N77-M77=3,NETWORKDAYS(K77,EOMONTH(K77,2),[1]Congés!$D$2:$D$160)-P77-O77))) -> 0 | R77: =IF(N77-M77<3,0,NETWORKDAYS(K77,L77,[1]Congés!$D$2:$D$160)-Q77-P77-O77) -> 0 | S77: =NETWORKDAYS(K77,L77,[1]Congés!C$2:C$160) -> 3 | T77: Arrêt Maladie | V77: =IF(S77<3,"1) 1 à 2 jours",IF(S77<5,"2) 3 à 4 jours",IF(S77=5,"3) 5 jours",IF(S77<=10,"4) 6 à 10 jours",IF(S77>10,"5) plus de 10 jours"))))) -> 2) 3 à 4 jours | W77: * | Y77: =L77-K77+1 -> 3
A78: 4233 | D78: =VLOOKUP(A78,'[1]BDD RH'!$A$9:$W$453,4,FALSE) -> t | E78: =VLOOKUP(A78,'[1]BDD RH'!$A$9:$W$453,3,FALSE) -> F | F78: =DATEDIF((VLOOKUP(A78,'[1]BDD RH'!$A$2:$W$485,7,FALSE)),K78,"y") -> 37 | G78: =IF(F78<=20,"<=20",IF(F78<=30,"21/30",IF(F78<=40,"31/40",IF(F78<=50,"41/50",IF(F78<=60,"51/60",IF(F78>60,"61 et plus",FALSE)))))) -> 31/40 | H78: =DATEDIF((VLOOKUP(A78,'[1]BDD RH'!$A$2:$W$485,11,FALSE)),K78,"y") -> 19 | I78: =IF(H78<2,"<2",IF(H78<6,"2/5",IF(H78<11,"6/10",IF(H78<16,"11/15",IF(H78<21,"16/20",IF(H78<26,"21/25",IF(H78>25,"26 et plus",FALSE))))))) -> 16/20 | J78: GOL01 | K78: 42380 | L78: 42382 | M78: =MONTH(K78) -> 1 | N78: =MONTH(L78) -> 1 | O78: =IF(N78-M78=0,NETWORKDAYS(K78,L78,[1]Congés!$D$2:$D$26),NETWORKDAYS(K78,EOMONTH(K78,0),[1]Congés!$D$2:$D$26)) -> 3 | P78: =IF(N78-M78=0,0,IF(N78-M78=1,NETWORKDAYS(K78,L78,[1]Congés!$D$2:$D$160)-O78,IF(N78-M78=2,NETWORKDAYS(K78,EOMONTH(K78,1),[1]Congés!$D$2:$D$160)-O78,IF(N78-M78=3,NETWORKDAYS(K78,EOMONTH(K78,1),[1]Congés!$D$2:$D$160)-O78)))) -> 0 | Q78: =IF(N78-M78<2,0,IF(N78-M78=2,NETWORKDAYS(K78,L78,[1]Congés!$D$2:$D$160)-P78-O78,IF(N78-M78=3,NETWORKDAYS(K78,EOMONTH(K78,2),[1]Congés!$D$2:$D$160)-P78-O78))) -> 0 | R78: =IF(N78-M78<3,0,NETWORKDAYS(K78,L78,[1]Congés!$D$2:$D$160)-Q78-P78-O78) -> 0 | S78: =NETWORKDAYS(K78,L78,[1]Congés!C$2:C$160) -> 3 | T78: Arrêt Maladie | V78: =IF(S78<3,"1) 1 à 2 jours",IF(S78<5,"2) 3 à 4 jours",IF(S78=5,"3) 5 jours",IF(S78<=10,"4) 6 à 10 jours",IF(S78>10,"5) plus de 10 jours"))))) -> 2) 3 à 4 jours | W78: * | Y78: =L78-K78+1 -> 3
A79: 3784 | D79: =VLOOKUP(A79,'[1]BDD RH'!$A$9:$W$453,4,FALSE) -> t | E79: =VLOOKUP(A79,'[1]BDD RH'!$A$9:$W$453,3,FALSE) -> F | F79: =DATEDIF((VLOOKUP(A79,'[1]BDD RH'!$A$2:$W$485,7,FALSE)),K79,"y") -> 48 | G79: =IF(F79<=20,"<=20",IF(F79<=30,"21/30",IF(F79<=40,"31/40",IF(F79<=50,"41/50",IF(F79<=60,"51/60",IF(F79>60,"61 et plus",FALSE)))))) -> 41/50 | H79: =DATEDIF((VLOOKUP(A79,'[1]BDD RH'!$A$2:$W$485,11,FALSE)),K79,"y") -> 25 | I79: =IF(H79<2,"<2",IF(H79<6,"2/5",IF(H79<11,"6/10",IF(H79<16,"11/15",IF(H79<21,"16/20",IF(H79<26,"21/25",IF(H79>25,"26 et plus",FALSE))))))) -> 21/25 | K79: 42370 | L79: 42460 | M79: =MONTH(K79) -> 1 | N79: =MONTH(L79) -> 3 | O79: =IF(N79-M79=0,NETWORKDAYS(K79,L79,[1]Congés!$D$2:$D$26),NETWORKDAYS(K79,EOMONTH(K79,0),[1]Congés!$D$2:$D$26)) -> 21 | P79: =IF(N79-M79=0,0,IF(N79-M79=1,NETWORKDAYS(K79,L79,[1]Congés!$D$2:$D$160)-O79,IF(N79-M79=2,NETWORKDAYS(K79,EOMONTH(K79,1),[1]Congés!$D$2:$D$160)-O79,IF(N79-M79=3,NETWORKDAYS(K79,EOMONTH(K79,1),[1]Congés!$D$2:$D$160)-O79)))) -> 21 | Q79: =IF(N79-M79<2,0,IF(N79-M79=2,NETWORKDAYS(K79,L79,[1]Congés!$D$2:$D$160)-P79-O79,IF(N79-M79=3,NETWORKDAYS(K79,EOMONTH(K79,2),[1]Congés!$D$2:$D$160)-P79-O79))) -> 23 | R79: =IF(N79-M79<3,0,NETWORKDAYS(K79,L79,[1]Congés!$D$2:$D$160)-Q79-P79-O79) -> 0 | S79: =NETWORKDAYS(K79,L79,[1]Congés!C$2:C$160) -> 63 | T79: Mi-temps | U79: 42370 | V79: =IF(S79<3,"1) 1 à 2 jours",IF(S79<5,"2) 3 à 4 jours",IF(S79=5,"3) 5 jours",IF(S79<=10,"4) 6 à 10 jours",IF(S79>10,"5) plus de 10 jours"))))) -> 5) plus de 10 jours | Y79: =L79-K79+1 -> 91
A80: 3784 | D80: =VLOOKUP(A80,'[1]BDD RH'!$A$9:$W$453,4,FALSE) -> t | E80: =VLOOKUP(A80,'[1]BDD RH'!$A$9:$W$453,3,FALSE) -> F | F80: =DATEDIF((VLOOKUP(A80,'[1]BDD RH'!$A$2:$W$485,7,FALSE)),K80,"y") -> 48 | G80: =IF(F80<=20,"<=20",IF(F80<=30,"21/30",IF(F80<=40,"31/40",IF(F80<=50,"41/50",IF(F80<=60,"51/60",IF(F80>60,"61 et plus",FALSE)))))) -> 41/50 | H80: =DATEDIF((VLOOKUP(A80,'[1]BDD RH'!$A$2:$W$485,11,FALSE)),K80,"y") -> 25 | I80: =IF(H80<2,"<2",IF(H80<6,"2/5",IF(H80<11,"6/10",IF(H80<16,"11/15",IF(H80<21,"16/20",IF(H80<26,"21/25",IF(H80>25,"26 et plus",FALSE))))))) -> 21/25 | J80: GUA01 | K80: 42370 | L80: 42372 | M80: =MONTH(K80) -> 1 | N80: =MONTH(L80) -> 1 | O80: =IF(N80-M80=0,NETWORKDAYS(K80,L80,[1]Congés!$D$2:$D$26),NETWORKDAYS(K80,EOMONTH(K80,0),[1]Congés!$D$2:$D$26)) -> 1 | P80: =IF(N80-M80=0,0,IF(N80-M80=1,NETWORKDAYS(K80,L80,[1]Congés!$D$2:$D$160)-O80,IF(N80-M80=2,NETWORKDAYS(K80,EOMONTH(K80,1),[1]Congés!$D$2:$D$160)-O80,IF(N80-M80=3,NETWORKDAYS(K80,EOMONTH(K80,1),[1]Congés!$D$2:$D$160)-O80)))) -> 0 | Q80: =IF(N80-M80<2,0,IF(N80-M80=2,NETWORKDAYS(K80,L80,[1]Congés!$D$2:$D$160)-P80-O80,IF(N80-M80=3,NETWORKDAYS(K80,EOMONTH(K80,2),[1]Congés!$D$2:$D$160)-P80-O80))) -> 0 | R80: =IF(N80-M80<3,0,NETWORKDAYS(K80,L80,[1]Congés!$D$2:$D$160)-Q80-P80-O80) -> 0 | S80: =NETWORKDAYS(K80,L80,[1]Congés!C$2:C$160) -> 0 | T80: Arrêt Maladie | U80: 42324 | V80: =IF(S80<3,"1) 1 à 2 jours",IF(S80<5,"2) 3 à 4 jours",IF(S80=5,"3) 5 jours",IF(S80<=10,"4) 6 à 10 jours",IF(S80>10,"5) plus de 10 jours"))))) -> 1) 1 à 2 jours | W80: vm faite | X80: 42402 | Y80: =L80-K80+1 -> 3
A81: 3290 | D81: =VLOOKUP(A81,'[1]BDD RH'!$A$9:$W$453,4,FALSE) -> t | E81: =VLOOKUP(A81,'[1]BDD RH'!$A$9:$W$453,3,FALSE) -> F | F81: =DATEDIF((VLOOKUP(A81,'[1]BDD RH'!$A$2:$W$485,7,FALSE)),K81,"y") -> 41 | G81: =IF(F81<=20,"<=20",IF(F81<=30,"21/30",IF(F81<=40,"31/40",IF(F81<=50,"41/50",IF(F81<=60,"51/60",IF(F81>60,"61 et plus",FALSE)))))) -> 41/50 | H81: =DATEDIF((VLOOKUP(A81,'[1]BDD RH'!$A$2:$W$485,11,FALSE)),K81,"y") -> 20 | I81: =IF(H81<2,"<2",IF(H81<6,"2/5",IF(H81<11,"6/10",IF(H81<16,"11/15",IF(H81<21,"16/20",IF(H81<26,"21/25",IF(H81>25,"26 et plus",FALSE))))))) -> 16/20 | J81: HAC01 | K81: 42389 | L81: 42391 | M81: =MONTH(K81) -> 1 | N81: =MONTH(L81) -> 1 | O81: =IF(N81-M81=0,NETWORKDAYS(K81,L81,[1]Congés!$D$2:$D$26),NETWORKDAYS(K81,EOMONTH(K81,0),[1]Congés!$D$2:$D$26)) -> 3 | P81: =IF(N81-M81=0,0,IF(N81-M81=1,NETWORKDAYS(K81,L81,[1]Congés!$D$2:$D$160)-O81,IF(N81-M81=2,NETWORKDAYS(K81,EOMONTH(K81,1),[1]Congés!$D$2:$D$160)-O81,IF(N81-M81=3,NETWORKDAYS(K81,EOMONTH(K81,1),[1]Congés!$D$2:$D$160)-O81)))) -> 0 | Q81: =IF(N81-M81<2,0,IF(N81-M81=2,NETWORKDAYS(K81,L81,[1]Congés!$D$2:$D$160)-P81-O81,IF(N81-M81=3,NETWORKDAYS(K81,EOMONTH(K81,2),[1]Congés!$D$2:$D$160)-P81-O81))) -> 0 | R81: =IF(N81-M81<3,0,NETWORKDAYS(K81,L81,[1]Congés!$D$2:$D$160)-Q81-P81-O81) -> 0 | S81: =NETWORKDAYS(K81,L81,[1]Congés!C$2:C$160) -> 3 | T81: Arrêt Maladie | V81: =IF(S81<3,"1) 1 à 2 jours",IF(S81<5,"2) 3 à 4 jours",IF(S81=5,"3) 5 jours",IF(S81<=10,"4) 6 à 10 jours",IF(S81>10,"5) plus de 10 jours"))))) -> 2) 3 à 4 jours | W81: * | Y81: =L81-K81+1 -> 3
A82: 6141 | D82: =VLOOKUP(A82,'[1]BDD RH'!$A$9:$W$453,4,FALSE) -> t | E82: =VLOOKUP(A82,'[1]BDD RH'!$A$9:$W$453,3,FALSE) -> F | F82: =DATEDIF((VLOOKUP(A82,'[1]BDD RH'!$A$2:$W$485,7,FALSE)),K82,"y") -> 44 | G82: =IF(F82<=20,"<=20",IF(F82<=30,"21/30",IF(F82<=40,"31/40",IF(F82<=50,"41/50",IF(F82<=60,"51/60",IF(F82>60,"61 et plus",FALSE)))))) -> 41/50 | H82: =DATEDIF((VLOOKUP(A82,'[1]BDD RH'!$A$2:$W$485,11,FALSE)),K82,"y") -> 21 | I82: =IF(H82<2,"<2",IF(H82<6,"2/5",IF(H82<11,"6/10",IF(H82<16,"11/15",IF(H82<21,"16/20",IF(H82<26,"21/25",IF(H82>25,"26 et plus",FALSE))))))) -> 21/25 | J82: HAF01 | K82: 42387 | L82: 42389 | M82: =MONTH(K82) -> 1 | N82: =MONTH(L82) -> 1 | O82: =IF(N82-M82=0,NETWORKDAYS(K82,L82,[1]Congés!$D$2:$D$26),NETWORKDAYS(K82,EOMONTH(K82,0),[1]Congés!$D$2:$D$26)) -> 3 | P82: =IF(N82-M82=0,0,IF(N82-M82=1,NETWORKDAYS(K82,L82,[1]Congés!$D$2:$D$160)-O82,IF(N82-M82=2,NETWORKDAYS(K82,EOMONTH(K82,1),[1]Congés!$D$2:$D$160)-O82,IF(N82-M82=3,NETWORKDAYS(K82,EOMONTH(K82,1),[1]Congés!$D$2:$D$160)-O82)))) -> 0 | Q82: =IF(N82-M82<2,0,IF(N82-M82=2,NETWORKDAYS(K82,L82,[1]Congés!$D$2:$D$160)-P82-O82,IF(N82-M82=3,NETWORKDAYS(K82,EOMONTH(K82,2),[1]Congés!$D$2:$D$160)-P82-O82))) -> 0 | R82: =IF(N82-M82<3,0,NETWORKDAYS(K82,L82,[1]Congés!$D$2:$D$160)-Q82-P82-O82) -> 0 | S82: =NETWORKDAYS(K82,L82,[1]Congés!C$2:C$160) -> 3 | T82: Arrêt Maladie | V82: =IF(S82<3,"1) 1 à 2 jours",IF(S82<5,"2) 3 à 4 jours",IF(S82=5,"3) 5 jours",IF(S82<=10,"4) 6 à 10 jours",IF(S82>10,"5) plus de 10 jours"))))) -> 2) 3 à 4 jours | W82: * | Y82: =L82-K82+1 -> 3
A83: 3489 | D83: =VLOOKUP(A83,'[1]BDD RH'!$A$9:$W$453,4,FALSE) -> s | E83: =VLOOKUP(A83,'[1]BDD RH'!$A$9:$W$453,3,FALSE) -> F | F83: =DATEDIF((VLOOKUP(A83,'[1]BDD RH'!$A$2:$W$485,7,FALSE)),K83,"y") -> 47 | G83: =IF(F83<=20,"<=20",IF(F83<=30,"21/30",IF(F83<=40,"31/40",IF(F83<=50,"41/50",IF(F83<=60,"51/60",IF(F83>60,"61 et plus",FALSE)))))) -> 41/50 | H83: =DATEDIF((VLOOKUP(A83,'[1]BDD RH'!$A$2:$W$485,11,FALSE)),K83,"y") -> 30 | I83: =IF(H83<2,"<2",IF(H83<6,"2/5",IF(H83<11,"6/10",IF(H83<16,"11/15",IF(H83<21,"16/20",IF(H83<26,"21/25",IF(H83>25,"26 et plus",FALSE))))))) -> 26 et plus | J83: HEF01 | K83: 42370 | L83: 42379 | M83: =MONTH(K83) -> 1 | N83: =MONTH(L83) -> 1 | O83: =IF(N83-M83=0,NETWORKDAYS(K83,L83,[1]Congés!$D$2:$D$26),NETWORKDAYS(K83,EOMONTH(K83,0),[1]Congés!$D$2:$D$26)) -> 6 | P83: =IF(N83-M83=0,0,IF(N83-M83=1,NETWORKDAYS(K83,L83,[1]Congés!$D$2:$D$160)-O83,IF(N83-M83=2,NETWORKDAYS(K83,EOMONTH(K83,1),[1]Congés!$D$2:$D$160)-O83,IF(N83-M83=3,NETWORKDAYS(K83,EOMONTH(K83,1),[1]Congés!$D$2:$D$160)-O83)))) -> 0 | Q83: =IF(N83-M83<2,0,IF(N83-M83=2,NETWORKDAYS(K83,L83,[1]Congés!$D$2:$D$160)-P83-O83,IF(N83-M83=3,NETWORKDAYS(K83,EOMONTH(K83,2),[1]Congés!$D$2:$D$160)-P83-O83))) -> 0 | R83: =IF(N83-M83<3,0,NETWORKDAYS(K83,L83,[1]Congés!$D$2:$D$160)-Q83-P83-O83) -> 0 | S83: =NETWORKDAYS(K83,L83,[1]Congés!C$2:C$160) -> 5 | T83: Arrêt Maladie | U83: 42346 | V83: =IF(S83<3,"1) 1 à 2 jours",IF(S83<5,"2) 3 à 4 jours",IF(S83=5,"3) 5 jours",IF(S83<=10,"4) 6 à 10 jours",IF(S83>10,"5) plus de 10 jours"))))) -> 3) 5 jours | W83: prol | Y83: =L83-K83+1 -> 10
A84: 3489 | D84: =VLOOKUP(A84,'[1]BDD RH'!$A$9:$W$453,4,FALSE) -> s | E84: =VLOOKUP(A84,'[1]BDD RH'!$A$9:$W$453,3,FALSE) -> F | F84: =DATEDIF((VLOOKUP(A84,'[1]BDD RH'!$A$2:$W$485,7,FALSE)),K84,"y") -> 47 | G84: =IF(F84<=20,"<=20",IF(F84<=30,"21/30",IF(F84<=40,"31/40",IF(F84<=50,"41/50",IF(F84<=60,"51/60",IF(F84>60,"61 et plus",FALSE)))))) -> 41/50 | H84: =DATEDIF((VLOOKUP(A84,'[1]BDD RH'!$A$2:$W$485,11,FALSE)),K84,"y") -> 30 | I84: =IF(H84<2,"<2",IF(H84<6,"2/5",IF(H84<11,"6/10",IF(H84<16,"11/15",IF(H84<21,"16/20",IF(H84<26,"21/25",IF(H84>25,"26 et plus",FALSE))))))) -> 26 et plus | J84: HEF01 | K84: 42380 | L84: 42391 | M84: =MONTH(K84) -> 1 | N84: =MONTH(L84) -> 1 | O84: =IF(N84-M84=0,NETWORKDAYS(K84,L84,[1]Congés!$D$2:$D$26),NETWORKDAYS(K84,EOMONTH(K84,0),[1]Congés!$D$2:$D$26)) -> 10 | P84: =IF(N84-M84=0,0,IF(N84-M84=1,NETWORKDAYS(K84,L84,[1]Congés!$D$2:$D$160)-O84,IF(N84-M84=2,NETWORKDAYS(K84,EOMONTH(K84,1),[1]Congés!$D$2:$D$160)-O84,IF(N84-M84=3,NETWORKDAYS(K84,EOMONTH(K84,1),[1]Congés!$D$2:$D$160)-O84)))) -> 0 | Q84: =IF(N84-M84<2,0,IF(N84-M84=2,NETWORKDAYS(K84,L84,[1]Congés!$D$2:$D$160)-P84-O84,IF(N84-M84=3,NETWORKDAYS(K84,EOMONTH(K84,2),[1]Congés!$D$2:$D$160)-P84-O84))) -> 0 | R84: =IF(N84-M84<3,0,NETWORKDAYS(K84,L84,[1]Congés!$D$2:$D$160)-Q84-P84-O84) -> 0 | S84: =NETWORKDAYS(K84,L84,[1]Congés!C$2:C$160) -> 10 | T84: Arrêt Maladie | U84: 42346 | V84: =IF(S84<3,"1) 1 à 2 jours",IF(S84<5,"2) 3 à 4 jours",IF(S84=5,"3) 5 jours",IF(S84<=10,"4) 6 à 10 jours",IF(S84>10,"5) plus de 10 jours"))))) -> 4) 6 à 10 jours | W84: vm faite | X84: 42402 | Y84: =L84-K84+1 -> 12
A85: 3493 | D85: =VLOOKUP(A85,'[1]BDD RH'!$A$9:$W$453,4,FALSE) -> s | E85: =VLOOKUP(A85,'[1]BDD RH'!$A$9:$W$453,3,FALSE) -> H | F85: =DATEDIF((VLOOKUP(A85,'[1]BDD RH'!$A$2:$W$485,7,FALSE)),K85,"y") -> 49 | G85: =IF(F85<=20,"<=20",IF(F85<=30,"21/30",IF(F85<=40,"31/40",IF(F85<=50,"41/50",IF(F85<=60,"51/60",IF(F85>60,"61 et plus",FALSE)))))) -> 41/50 | H85: =DATEDIF((VLOOKUP(A85,'[1]BDD RH'!$A$2:$W$485,11,FALSE)),K85,"y") -> 25 | I85: =IF(H85<2,"<2",IF(H85<6,"2/5",IF(H85<11,"6/10",IF(H85<16,"11/15",IF(H85<21,"16/20",IF(H85<26,"21/25",IF(H85>25,"26 et plus",FALSE))))))) -> 21/25 | J85: HEP01 | K85: 42370 | L85: 42377 | M85: =MONTH(K85) -> 1 | N85: =MONTH(L85) -> 1 | O85: =IF(N85-M85=0,NETWORKDAYS(K85,L85,[1]Congés!$D$2:$D$26),NETWORKDAYS(K85,EOMONTH(K85,0),[1]Congés!$D$2:$D$26)) -> 6 | P85: =IF(N85-M85=0,0,IF(N85-M85=1,NETWORKDAYS(K85,L85,[1]Congés!$D$2:$D$160)-O85,IF(N85-M85=2,NETWORKDAYS(K85,EOMONTH(K85,1),[1]Congés!$D$2:$D$160)-O85,IF(N85-M85=3,NETWORKDAYS(K85,EOMONTH(K85,1),[1]Congés!$D$2:$D$160)-O85)))) -> 0 | Q85: =IF(N85-M85<2,0,IF(N85-M85=2,NETWORKDAYS(K85,L85,[1]Congés!$D$2:$D$160)-P85-O85,IF(N85-M85=3,NETWORKDAYS(K85,EOMONTH(K85,2),[1]Congés!$D$2:$D$160)-P85-O85))) -> 0 | R85: =IF(N85-M85<3,0,NETWORKDAYS(K85,L85,[1]Congés!$D$2:$D$160)-Q85-P85-O85) -> 0 | S85: =NETWORKDAYS(K85,L85,[1]Congés!C$2:C$160) -> 5 | T85: LM | U85: 42278 | V85: =IF(S85<3,"1) 1 à 2 jours",IF(S85<5,"2) 3 à 4 jours",IF(S85=5,"3) 5 jours",IF(S85<=10,"4) 6 à 10 jours",IF(S85>10,"5) plus de 10 jours"))))) -> 3) 5 jours | W85: prol | Y85: =L85-K85+1 -> 8
A86: 3493 | D86: =VLOOKUP(A86,'[1]BDD RH'!$A$9:$W$453,4,FALSE) -> s | E86: =VLOOKUP(A86,'[1]BDD RH'!$A$9:$W$453,3,FALSE) -> H | F86: =DATEDIF((VLOOKUP(A86,'[1]BDD RH'!$A$2:$W$485,7,FALSE)),K86,"y") -> 49 | G86: =IF(F86<=20,"<=20",IF(F86<=30,"21/30",IF(F86<=40,"31/40",IF(F86<=50,"41/50",IF(F86<=60,"51/60",IF(F86>60,"61 et plus",FALSE)))))) -> 41/50 | H86: =DATEDIF((VLOOKUP(A86,'[1]BDD RH'!$A$2:$W$485,11,FALSE)),K86,"y") -> 25 | I86: =IF(H86<2,"<2",IF(H86<6,"2/5",IF(H86<11,"6/10",IF(H86<16,"11/15",IF(H86<21,"16/20",IF(H86<26,"21/25",IF(H86>25,"26 et plus",FALSE))))))) -> 21/25 | J86: HEP01 | K86: 42375 | L86: 42398 | M86: =MONTH(K86) -> 1 | N86: =MONTH(L86) -> 1 | O86: =IF(N86-M86=0,NETWORKDAYS(K86,L86,[1]Congés!$D$2:$D$26),NETWORKDAYS(K86,EOMONTH(K86,0),[1]Congés!$D$2:$D$26)) -> 18 | P86: =IF(N86-M86=0,0,IF(N86-M86=1,NETWORKDAYS(K86,L86,[1]Congés!$D$2:$D$160)-O86,IF(N86-M86=2,NETWORKDAYS(K86,EOMONTH(K86,1),[1]Congés!$D$2:$D$160)-O86,IF(N86-M86=3,NETWORKDAYS(K86,EOMONTH(K86,1),[1]Congés!$D$2:$D$160)-O86)))) -> 0 | Q86: =IF(N86-M86<2,0,IF(N86-M86=2,NETWORKDAYS(K86,L86,[1]Congés!$D$2:$D$160)-P86-O86,IF(N86-M86=3,NETWORKDAYS(K86,EOMONTH(K86,2),[1]Congés!$D$2:$D$160)-P86-O86))) -> 0 | R86: =IF(N86-M86<3,0,NETWORKDAYS(K86,L86,[1]Congés!$D$2:$D$160)-Q86-P86-O86) -> 0 | S86: =NETWORKDAYS(K86,L86,[1]Congés!C$2:C$160) -> 18 | T86: LM | U86: 42278 | V86: =IF(S86<3,"1) 1 à 2 jours",IF(S86<5,"2) 3 à 4 jours",IF(S86=5,"3) 5 jours",IF(S86<=10,"4) 6 à 10 jours",IF(S86>10,"5) plus de 10 jours"))))) -> 5) plus de 10 jours | W86: vm à prévoir | Y86: =L86-K86+1 -> 24
A87: 8111 | D87: =VLOOKUP(A87,'[1]BDD RH'!$A$9:$W$453,4,FALSE) -> T | E87: =VLOOKUP(A87,'[1]BDD RH'!$A$9:$W$453,3,FALSE) -> H | F87: =DATEDIF((VLOOKUP(A87,'[1]BDD RH'!$A$2:$W$485,7,FALSE)),K87,"y") -> 45 | G87: =IF(F87<=20,"<=20",IF(F87<=30,"21/30",IF(F87<=40,"31/40",IF(F87<=50,"41/50",IF(F87<=60,"51/60",IF(F87>60,"61 et plus",FALSE)))))) -> 41/50 | H87: =DATEDIF((VLOOKUP(A87,'[1]BDD RH'!$A$2:$W$485,11,FALSE)),K87,"y") -> 0 | I87: =IF(H87<2,"<2",IF(H87<6,"2/5",IF(H87<11,"6/10",IF(H87<16,"11/15",IF(H87<21,"16/20",IF(H87<26,"21/25",IF(H87>25,"26 et plus",FALSE))))))) -> <2 | J87: JOR01 | K87: 42375 | L87: 42386 | M87: =MONTH(K87) -> 1 | N87: =MONTH(L87) -> 1 | O87: =IF(N87-M87=0,NETWORKDAYS(K87,L87,[1]Congés!$D$2:$D$26),NETWORKDAYS(K87,EOMONTH(K87,0),[1]Congés!$D$2:$D$26)) -> 8 | P87: =IF(N87-M87=0,0,IF(N87-M87=1,NETWORKDAYS(K87,L87,[1]Congés!$D$2:$D$160)-O87,IF(N87-M87=2,NETWORKDAYS(K87,EOMONTH(K87,1),[1]Congés!$D$2:$D$160)-O87,IF(N87-M87=3,NETWORKDAYS(K87,EOMONTH(K87,1),[1]Congés!$D$2:$D$160)-O87)))) -> 0 | Q87: =IF(N87-M87<2,0,IF(N87-M87=2,NETWORKDAYS(K87,L87,[1]Congés!$D$2:$D$160)-P87-O87,IF(N87-M87=3,NETWORKDAYS(K87,EOMONTH(K87,2),[1]Congés!$D$2:$D$160)-P87-O87))) -> 0 | R87: =IF(N87-M87<3,0,NETWORKDAYS(K87,L87,[1]Congés!$D$2:$D$160)-Q87-P87-O87) -> 0 | S87: =NETWORKDAYS(K87,L87,[1]Congés!C$2:C$160) -> 8 | T87: Arrêt Maladie | V87: =IF(S87<3,"1) 1 à 2 jours",IF(S87<5,"2) 3 à 4 jours",IF(S87=5,"3) 5 jours",IF(S87<=10,"4) 6 à 10 jours",IF(S87>10,"5) plus de 10 jours"))))) -> 4) 6 à 10 jours | W87: * | Y87: =L87-K87+1 -> 12
A88: 15872 | D88: =VLOOKUP(A88,'[1]BDD RH'!$A$9:$W$453,4,FALSE) -> c | E88: =VLOOKUP(A88,'[1]BDD RH'!$A$9:$W$453,3,FALSE) -> F | F88: =DATEDIF((VLOOKUP(A88,'[1]BDD RH'!$A$2:$W$485,7,FALSE)),K88,"y") -> 55 | G88: =IF(F88<=20,"<=20",IF(F88<=30,"21/30",IF(F88<=40,"31/40",IF(F88<=50,"41/50",IF(F88<=60,"51/60",IF(F88>60,"61 et plus",FALSE)))))) -> 51/60 | H88: =DATEDIF((VLOOKUP(A88,'[1]BDD RH'!$A$2:$W$485,11,FALSE)),K88,"y") -> 10 | I88: =IF(H88<2,"<2",IF(H88<6,"2/5",IF(H88<11,"6/10",IF(H88<16,"11/15",IF(H88<21,"16/20",IF(H88<26,"21/25",IF(H88>25,"26 et plus",FALSE))))))) -> 6/10 | J88: JUV01 | K88: 42370 | L88: 42372 | M88: =MONTH(K88) -> 1 | N88: =MONTH(L88) -> 1 | O88: =IF(N88-M88=0,NETWORKDAYS(K88,L88,[1]Congés!$D$2:$D$26),NETWORKDAYS(K88,EOMONTH(K88,0),[1]Congés!$D$2:$D$26)) -> 1 | P88: =IF(N88-M88=0,0,IF(N88-M88=1,NETWORKDAYS(K88,L88,[1]Congés!$D$2:$D$160)-O88,IF(N88-M88=2,NETWORKDAYS(K88,EOMONTH(K88,1),[1]Congés!$D$2:$D$160)-O88,IF(N88-M88=3,NETWORKDAYS(K88,EOMONTH(K88,1),[1]Congés!$D$2:$D$160)-O88)))) -> 0 | Q88: =IF(N88-M88<2,0,IF(N88-M88=2,NETWORKDAYS(K88,L88,[1]Congés!$D$2:$D$160)-P88-O88,IF(N88-M88=3,NETWORKDAYS(K88,EOMONTH(K88,2),[1]Congés!$D$2:$D$160)-P88-O88))) -> 0 | R88: =IF(N88-M88<3,0,NETWORKDAYS(K88,L88,[1]Congés!$D$2:$D$160)-Q88-P88-O88) -> 0 | S88: =NETWORKDAYS(K88,L88,[1]Congés!C$2:C$160) -> 0 | T88: Arrêt Maladie | U88: 42338 | V88: =IF(S88<3,"1) 1 à 2 jours",IF(S88<5,"2) 3 à 4 jours",IF(S88=5,"3) 5 jours",IF(S88<=10,"4) 6 à 10 jours",IF(S88>10,"5) plus de 10 jours"))))) -> 1) 1 à 2 jours | W88: vm faite | X88: 42402 | Y88: =L88-K88+1 -> 3
A89: 15363 | D89: =VLOOKUP(A89,'[1]BDD RH'!$A$9:$W$453,4,FALSE) -> t | E89: =VLOOKUP(A89,'[1]BDD RH'!$A$9:$W$453,3,FALSE) -> F | F89: =DATEDIF((VLOOKUP(A89,'[1]BDD RH'!$A$2:$W$485,7,FALSE)),K89,"y") -> 31 | G89: =IF(F89<=20,"<=20",IF(F89<=30,"21/30",IF(F89<=40,"31/40",IF(F89<=50,"41/50",IF(F89<=60,"51/60",IF(F89>60,"61 et plus",FALSE)))))) -> 31/40 | H89: =DATEDIF((VLOOKUP(A89,'[1]BDD RH'!$A$2:$W$485,11,FALSE)),K89,"y") -> 8 | I89: =IF(H89<2,"<2",IF(H89<6,"2/5",IF(H89<11,"6/10",IF(H89<16,"11/15",IF(H89<21,"16/20",IF(H89<26,"21/25",IF(H89>25,"26 et plus",FALSE))))))) -> 6/10 | K89: 42370 | L89: 42378 | M89: =MONTH(K89) -> 1 | N89: =MONTH(L89) -> 1 | O89: =IF(N89-M89=0,NETWORKDAYS(K89,L89,[1]Congés!$D$2:$D$26),NETWORKDAYS(K89,EOMONTH(K89,0),[1]Congés!$D$2:$D$26)) -> 6 | P89: =IF(N89-M89=0,0,IF(N89-M89=1,NETWORKDAYS(K89,L89,[1]Congés!$D$2:$D$160)-O89,IF(N89-M89=2,NETWORKDAYS(K89,EOMONTH(K89,1),[1]Congés!$D$2:$D$160)-O89,IF(N89-M89=3,NETWORKDAYS(K89,EOMONTH(K89,1),[1]Congés!$D$2:$D$160)-O89)))) -> 0 | Q89: =IF(N89-M89<2,0,IF(N89-M89=2,NETWORKDAYS(K89,L89,[1]Congés!$D$2:$D$160)-P89-O89,IF(N89-M89=3,NETWORKDAYS(K89,EOMONTH(K89,2),[1]Congés!$D$2:$D$160)-P89-O89))) -> 0 | R89: =IF(N89-M89<3,0,NETWORKDAYS(K89,L89,[1]Congés!$D$2:$D$160)-Q89-P89-O89) -> 0 | S89: =NETWORKDAYS(K89,L89,[1]Congés!C$2:C$160) -> 5 | T89: Mi-temps | U89: 42683 | V89: =IF(S89<3,"1) 1 à 2 jours",IF(S89<5,"2) 3 à 4 jours",IF(S89=5,"3) 5 jours",IF(S89<=10,"4) 6 à 10 jours",IF(S89>10,"5) plus de 10 jours"))))) -> 3) 5 jours | Y89: =L89-K89+1 -> 9
A90: 15363 | D90: =VLOOKUP(A90,'[1]BDD RH'!$A$9:$W$453,4,FALSE) -> t | E90: =VLOOKUP(A90,'[1]BDD RH'!$A$9:$W$453,3,FALSE) -> F | F90: =DATEDIF((VLOOKUP(A90,'[1]BDD RH'!$A$2:$W$485,7,FALSE)),K90,"y") -> 31 | G90: =IF(F90<=20,"<=20",IF(F90<=30,"21/30",IF(F90<=40,"31/40",IF(F90<=50,"41/50",IF(F90<=60,"51/60",IF(F90>60,"61 et plus",FALSE)))))) -> 31/40 | H90: =DATEDIF((VLOOKUP(A90,'[1]BDD RH'!$A$2:$W$485,11,FALSE)),K90,"y") -> 8 | I90: =IF(H90<2,"<2",IF(H90<6,"2/5",IF(H90<11,"6/10",IF(H90<16,"11/15",IF(H90<21,"16/20",IF(H90<26,"21/25",IF(H90>25,"26 et plus",FALSE))))))) -> 6/10 | K90: 42376 | L90: 42438 | M90: =MONTH(K90) -> 1 | N90: =MONTH(L90) -> 3 | O90: =IF(N90-M90=0,NETWORKDAYS(K90,L90,[1]Congés!$D$2:$D$26),NETWORKDAYS(K90,EOMONTH(K90,0),[1]Congés!$D$2:$D$26)) -> 17 | P90: =IF(N90-M90=0,0,IF(N90-M90=1,NETWORKDAYS(K90,L90,[1]Congés!$D$2:$D$160)-O90,IF(N90-M90=2,NETWORKDAYS(K90,EOMONTH(K90,1),[1]Congés!$D$2:$D$160)-O90,IF(N90-M90=3,NETWORKDAYS(K90,EOMONTH(K90,1),[1]Congés!$D$2:$D$160)-O90)))) -> 21 | Q90: =IF(N90-M90<2,0,IF(N90-M90=2,NETWORKDAYS(K90,L90,[1]Congés!$D$2:$D$160)-P90-O90,IF(N90-M90=3,NETWORKDAYS(K90,EOMONTH(K90,2),[1]Congés!$D$2:$D$160)-P90-O90))) -> 7 | R90: =IF(N90-M90<3,0,NETWORKDAYS(K90,L90,[1]Congés!$D$2:$D$160)-Q90-P90-O90) -> 0 | S90: =NETWORKDAYS(K90,L90,[1]Congés!C$2:C$160) -> 45 | T90: Mi-temps | U90: 42683 | V90: =IF(S90<3,"1) 1 à 2 jours",IF(S90<5,"2) 3 à 4 jours",IF(S90=5,"3) 5 jours",IF(S90<=10,"4) 6 à 10 jours",IF(S90>10,"5) plus de 10 jours"))))) -> 5) plus de 10 jours | Y90: =L90-K90+1 -> 63
A91: 10509 | D91: =VLOOKUP(A91,'[1]BDD RH'!$A$9:$W$453,4,FALSE) -> t | E91: =VLOOKUP(A91,'[1]BDD RH'!$A$9:$W$453,3,FALSE) -> F | F91: =DATEDIF((VLOOKUP(A91,'[1]BDD RH'!$A$2:$W$485,7,FALSE)),K91,"y") -> 38 | G91: =IF(F91<=20,"<=20",IF(F91<=30,"21/30",IF(F91<=40,"31/40",IF(F91<=50,"41/50",IF(F91<=60,"51/60",IF(F91>60,"61 et plus",FALSE)))))) -> 31/40 | H91: =DATEDIF((VLOOKUP(A91,'[1]BDD RH'!$A$2:$W$485,11,FALSE)),K91,"y") -> 13 | I91: =IF(H91<2,"<2",IF(H91<6,"2/5",IF(H91<11,"6/10",IF(H91<16,"11/15",IF(H91<21,"16/20",IF(H91<26,"21/25",IF(H91>25,"26 et plus",FALSE))))))) -> 11/15 | J91: KUD01 | K91: 42394 | L91: 42395 | M91: =MONTH(K91) -> 1 | N91: =MONTH(L91) -> 1 | O91: =IF(N91-M91=0,NETWORKDAYS(K91,L91,[1]Congés!$D$2:$D$26),NETWORKDAYS(K91,EOMONTH(K91,0),[1]Congés!$D$2:$D$26)) -> 2 | P91: =IF(N91-M91=0,0,IF(N91-M91=1,NETWORKDAYS(K91,L91,[1]Congés!$D$2:$D$160)-O91,IF(N91-M91=2,NETWORKDAYS(K91,EOMONTH(K91,1),[1]Congés!$D$2:$D$160)-O91,IF(N91-M91=3,NETWORKDAYS(K91,EOMONTH(K91,1),[1]Congés!$D$2:$D$160)-O91)))) -> 0 | Q91: =IF(N91-M91<2,0,IF(N91-M91=2,NETWORKDAYS(K91,L91,[1]Congés!$D$2:$D$160)-P91-O91,IF(N91-M91=3,NETWORKDAYS(K91,EOMONTH(K91,2),[1]Congés!$D$2:$D$160)-P91-O91))) -> 0 | R91: =IF(N91-M91<3,0,NETWORKDAYS(K91,L91,[1]Congés!$D$2:$D$160)-Q91-P91-O91) -> 0 | S91: =NETWORKDAYS(K91,L91,[1]Congés!C$2:C$160) -> 2 | T91: Arrêt Maladie | V91: =IF(S91<3,"1) 1 à 2 jours",IF(S91<5,"2) 3 à 4 jours",IF(S91=5,"3) 5 jours",IF(S91<=10,"4) 6 à 10 jours",IF(S91>10,"5) plus de 10 jours"))))) -> 1) 1 à 2 jours | W91: * | Y91: =L91-K91+1 -> 2
A92: 18291 | D92: =VLOOKUP(A92,'[1]BDD RH'!$A$9:$W$453,4,FALSE) -> t | E92: =VLOOKUP(A92,'[1]BDD RH'!$A$9:$W$453,3,FALSE) -> F | F92: =DATEDIF((VLOOKUP(A92,'[1]BDD RH'!$A$2:$W$485,7,FALSE)),K92,"y") -> 39 | G92: =IF(F92<=20,"<=20",IF(F92<=30,"21/30",IF(F92<=40,"31/40",IF(F92<=50,"41/50",IF(F92<=60,"51/60",IF(F92>60,"61 et plus",FALSE)))))) -> 31/40 | H92: =DATEDIF((VLOOKUP(A92,'[1]BDD RH'!$A$2:$W$485,11,FALSE)),K92,"y") -> 7 | I92: =IF(H92<2,"<2",IF(H92<6,"2/5",IF(H92<11,"6/10",IF(H92<16,"11/15",IF(H92<21,"16/20",IF(H92<26,"21/25",IF(H92>25,"26 et plus",FALSE))))))) -> 6/10 | J92: LAJ01 | K92: 42380 | L92: 42384 | M92: =MONTH(K92) -> 1 | N92: =MONTH(L92) -> 1 | O92: =IF(N92-M92=0,NETWORKDAYS(K92,L92,[1]Congés!$D$2:$D$26),NETWORKDAYS(K92,EOMONTH(K92,0),[1]Congés!$D$2:$D$26)) -> 5 | P92: =IF(N92-M92=0,0,IF(N92-M92=1,NETWORKDAYS(K92,L92,[1]Congés!$D$2:$D$160)-O92,IF(N92-M92=2,NETWORKDAYS(K92,EOMONTH(K92,1),[1]Congés!$D$2:$D$160)-O92,IF(N92-M92=3,NETWORKDAYS(K92,EOMONTH(K92,1),[1]Congés!$D$2:$D$160)-O92)))) -> 0 | Q92: =IF(N92-M92<2,0,IF(N92-M92=2,NETWORKDAYS(K92,L92,[1]Congés!$D$2:$D$160)-P92-O92,IF(N92-M92=3,NETWORKDAYS(K92,EOMONTH(K92,2),[1]Congés!$D$2:$D$160)-P92-O92))) -> 0 | R92: =IF(N92-M92<3,0,NETWORKDAYS(K92,L92,[1]Congés!$D$2:$D$160)-Q92-P92-O92) -> 0 | S92: =NETWORKDAYS(K92,L92,[1]Congés!C$2:C$160) -> 5 | T92: AT 15 | U92: 42380 | V92: =IF(S92<3,"1) 1 à 2 jours",IF(S92<5,"2) 3 à 4 jours",IF(S92=5,"3) 5 jours",IF(S92<=10,"4) 6 à 10 jours",IF(S92>10,"5) plus de 10 jours"))))) -> 3) 5 jours | W92: prol | Y92: =L92-K92+1 -> 5
A93: 18291 | D93: =VLOOKUP(A93,'[1]BDD RH'!$A$9:$W$453,4,FALSE) -> t | E93: =VLOOKUP(A93,'[1]BDD RH'!$A$9:$W$453,3,FALSE) -> F | F93: =DATEDIF((VLOOKUP(A93,'[1]BDD RH'!$A$2:$W$485,7,FALSE)),K93,"y") -> 39 | G93: =IF(F93<=20,"<=20",IF(F93<=30,"21/30",IF(F93<=40,"31/40",IF(F93<=50,"41/50",IF(F93<=60,"51/60",IF(F93>60,"61 et plus",FALSE)))))) -> 31/40 | H93: =DATEDIF((VLOOKUP(A93,'[1]BDD RH'!$A$2:$W$485,11,FALSE)),K93,"y") -> 7 | I93: =IF(H93<2,"<2",IF(H93<6,"2/5",IF(H93<11,"6/10",IF(H93<16,"11/15",IF(H93<21,"16/20",IF(H93<26,"21/25",IF(H93>25,"26 et plus",FALSE))))))) -> 6/10 | J93: LAJ01 | K93: 42387 | L93: 42398 | M93: =MONTH(K93) -> 1 | N93: =MONTH(L93) -> 1 | O93: =IF(N93-M93=0,NETWORKDAYS(K93,L93,[1]Congés!$D$2:$D$26),NETWORKDAYS(K93,EOMONTH(K93,0),[1]Congés!$D$2:$D$26)) -> 10 | P93: =IF(N93-M93=0,0,IF(N93-M93=1,NETWORKDAYS(K93,L93,[1]Congés!$D$2:$D$160)-O93,IF(N93-M93=2,NETWORKDAYS(K93,EOMONTH(K93,1),[1]Congés!$D$2:$D$160)-O93,IF(N93-M93=3,NETWORKDAYS(K93,EOMONTH(K93,1),[1]Congés!$D$2:$D$160)-O93)))) -> 0 | Q93: =IF(N93-M93<2,0,IF(N93-M93=2,NETWORKDAYS(K93,L93,[1]Congés!$D$2:$D$160)-P93-O93,IF(N93-M93=3,NETWORKDAYS(K93,EOMONTH(K93,2),[1]Congés!$D$2:$D$160)-P93-O93))) -> 0 | R93: =IF(N93-M93<3,0,NETWORKDAYS(K93,L93,[1]Congés!$D$2:$D$160)-Q93-P93-O93) -> 0 | S93: =NETWORKDAYS(K93,L93,[1]Congés!C$2:C$160) -> 10 | T93: AT 15 | U93: 42380 | V93: =IF(S93<3,"1) 1 à 2 jours",IF(S93<5,"2) 3 à 4 jours",IF(S93=5,"3) 5 jours",IF(S93<=10,"4) 6 à 10 jours",IF(S93>10,"5) plus de 10 jours"))))) -> 4) 6 à 10 jours | W93: prol | Y93: =L93-K93+1 -> 12
A94: 18291 | D94: =VLOOKUP(A94,'[1]BDD RH'!$A$9:$W$453,4,FALSE) -> t | E94: =VLOOKUP(A94,'[1]BDD RH'!$A$9:$W$453,3,FALSE) -> F | F94: =DATEDIF((VLOOKUP(A94,'[1]BDD RH'!$A$2:$W$485,7,FALSE)),K94,"y") -> 39 | G94: =IF(F94<=20,"<=20",IF(F94<=30,"21/30",IF(F94<=40,"31/40",IF(F94<=50,"41/50",IF(F94<=60,"51/60",IF(F94>60,"61 et plus",FALSE)))))) -> 31/40 | H94: =DATEDIF((VLOOKUP(A94,'[1]BDD RH'!$A$2:$W$485,11,FALSE)),K94,"y") -> 7 | I94: =IF(H94<2,"<2",IF(H94<6,"2/5",IF(H94<11,"6/10",IF(H94<16,"11/15",IF(H94<21,"16/20",IF(H94<26,"21/25",IF(H94>25,"26 et plus",FALSE))))))) -> 6/10 | J94: LAJ01 | K94: 42399 | L94: 42412 | M94: =MONTH(K94) -> 1 | N94: =MONTH(L94) -> 2 | O94: =IF(N94-M94=0,NETWORKDAYS(K94,L94,[1]Congés!$D$2:$D$26),NETWORKDAYS(K94,EOMONTH(K94,0),[1]Congés!$D$2:$D$26)) -> 0 | P94: =IF(N94-M94=0,0,IF(N94-M94=1,NETWORKDAYS(K94,L94,[1]Congés!$D$2:$D$160)-O94,IF(N94-M94=2,NETWORKDAYS(K94,EOMONTH(K94,1),[1]Congés!$D$2:$D$160)-O94,IF(N94-M94=3,NETWORKDAYS(K94,EOMONTH(K94,1),[1]Congés!$D$2:$D$160)-O94)))) -> 10 | Q94: =IF(N94-M94<2,0,IF(N94-M94=2,NETWORKDAYS(K94,L94,[1]Congés!$D$2:$D$160)-P94-O94,IF(N94-M94=3,NETWORKDAYS(K94,EOMONTH(K94,2),[1]Congés!$D$2:$D$160)-P94-O94))) -> 0 | R94: =IF(N94-M94<3,0,NETWORKDAYS(K94,L94,[1]Congés!$D$2:$D$160)-Q94-P94-O94) -> 0 | S94: =NETWORKDAYS(K94,L94,[1]Congés!C$2:C$160) -> 10 | T94: AT 15 | U94: 42380 | V94: =IF(S94<3,"1) 1 à 2 jours",IF(S94<5,"2) 3 à 4 jours",IF(S94=5,"3) 5 jours",IF(S94<=10,"4) 6 à 10 jours",IF(S94>10,"5) plus de 10 jours"))))) -> 4) 6 à 10 jours | W94: vm à prévoir | Y94: =L94-K94+1 -> 14
A95: 18392 | D95: =VLOOKUP(A95,'[1]BDD RH'!$A$9:$W$453,4,FALSE) -> c | E95: =VLOOKUP(A95,'[1]BDD RH'!$A$9:$W$453,3,FALSE) -> F | F95: =DATEDIF((VLOOKUP(A95,'[1]BDD RH'!$A$2:$W$485,7,FALSE)),K95,"y") -> 37 | G95: =IF(F95<=20,"<=20",IF(F95<=30,"21/30",IF(F95<=40,"31/40",IF(F95<=50,"41/50",IF(F95<=60,"51/60",IF(F95>60,"61 et plus",FALSE)))))) -> 31/40 | H95: =DATEDIF((VLOOKUP(A95,'[1]BDD RH'!$A$2:$W$485,11,FALSE)),K95,"y") -> 7 | I95: =IF(H95<2,"<2",IF(H95<6,"2/5",IF(H95<11,"6/10",IF(H95<16,"11/15",IF(H95<21,"16/20",IF(H95<26,"21/25",IF(H95>25,"26 et plus",FALSE))))))) -> 6/10 | J95: LIS01 | K95: 42380 | L95: 42381 | M95: =MONTH(K95) -> 1 | N95: =MONTH(L95) -> 1 | O95: =IF(N95-M95=0,NETWORKDAYS(K95,L95,[1]Congés!$D$2:$D$26),NETWORKDAYS(K95,EOMONTH(K95,0),[1]Congés!$D$2:$D$26)) -> 2 | P95: =IF(N95-M95=0,0,IF(N95-M95=1,NETWORKDAYS(K95,L95,[1]Congés!$D$2:$D$160)-O95,IF(N95-M95=2,NETWORKDAYS(K95,EOMONTH(K95,1),[1]Congés!$D$2:$D$160)-O95,IF(N95-M95=3,NETWORKDAYS(K95,EOMONTH(K95,1),[1]Congés!$D$2:$D$160)-O95)))) -> 0 | Q95: =IF(N95-M95<2,0,IF(N95-M95=2,NETWORKDAYS(K95,L95,[1]Congés!$D$2:$D$160)-P95-O95,IF(N95-M95=3,NETWORKDAYS(K95,EOMONTH(K95,2),[1]Congés!$D$2:$D$160)-P95-O95))) -> 0 | R95: =IF(N95-M95<3,0,NETWORKDAYS(K95,L95,[1]Congés!$D$2:$D$160)-Q95-P95-O95) -> 0 | S95: =NETWORKDAYS(K95,L95,[1]Congés!C$2:C$160) -> 2 | T95: Arrêt Maladie | V95: =IF(S95<3,"1) 1 à 2 jours",IF(S95<5,"2) 3 à 4 jours",IF(S95=5,"3) 5 jours",IF(S95<=10,"4) 6 à 10 jours",IF(S95>10,"5) plus de 10 jours"))))) -> 1) 1 à 2 jours | W95: * | Y95: =L95-K95+1 -> 2
A96: 15875 | D96: =VLOOKUP(A96,'[1]BDD RH'!$A$9:$W$453,4,FALSE) -> c | E96: =VLOOKUP(A96,'[1]BDD RH'!$A$9:$W$453,3,FALSE) -> H | F96: =DATEDIF((VLOOKUP(A96,'[1]BDD RH'!$A$2:$W$485,7,FALSE)),K96,"y") -> 33 | G96: =IF(F96<=20,"<=20",IF(F96<=30,"21/30",IF(F96<=40,"31/40",IF(F96<=50,"41/50",IF(F96<=60,"51/60",IF(F96>60,"61 et plus",FALSE)))))) -> 31/40 | H96: =DATEDIF((VLOOKUP(A96,'[1]BDD RH'!$A$2:$W$485,11,FALSE)),K96,"y") -> 10 | I96: =IF(H96<2,"<2",IF(H96<6,"2/5",IF(H96<11,"6/10",IF(H96<16,"11/15",IF(H96<21,"16/20",IF(H96<26,"21/25",IF(H96>25,"26 et plus",FALSE))))))) -> 6/10 | J96: MAY01 | K96: 42402 | L96: 42407 | M96: =MONTH(K96) -> 2 | N96: =MONTH(L96) -> 2 | O96: =IF(N96-M96=0,NETWORKDAYS(K96,L96,[1]Congés!$D$2:$D$26),NETWORKDAYS(K96,EOMONTH(K96,0),[1]Congés!$D$2:$D$26)) -> 4 | P96: =IF(N96-M96=0,0,IF(N96-M96=1,NETWORKDAYS(K96,L96,[1]Congés!$D$2:$D$160)-O96,IF(N96-M96=2,NETWORKDAYS(K96,EOMONTH(K96,1),[1]Congés!$D$2:$D$160)-O96,IF(N96-M96=3,NETWORKDAYS(K96,EOMONTH(K96,1),[1]Congés!$D$2:$D$160)-O96)))) -> 0 | Q96: =IF(N96-M96<2,0,IF(N96-M96=2,NETWORKDAYS(K96,L96,[1]Congés!$D$2:$D$160)-P96-O96,IF(N96-M96=3,NETWORKDAYS(K96,EOMONTH(K96,2),[1]Congés!$D$2:$D$160)-P96-O96))) -> 0 | R96: =IF(N96-M96<3,0,NETWORKDAYS(K96,L96,[1]Congés!$D$2:$D$160)-Q96-P96-O96) -> 0 | S96: =NETWORKDAYS(K96,L96,[1]Congés!C$2:C$160) -> 4 | T96: Arrêt Maladie | V96: =IF(S96<3,"1) 1 à 2 jours",IF(S96<5,"2) 3 à 4 jours",IF(S96=5,"3) 5 jours",IF(S96<=10,"4) 6 à 10 jours",IF(S96>10,"5) plus de 10 jours"))))) -> 2) 3 à 4 jours | W96: * | Y96: =L96-K96+1 -> 6
A97: 3434 | D97: =VLOOKUP(A97,'[1]BDD RH'!$A$9:$W$453,4,FALSE) -> t | E97: =VLOOKUP(A97,'[1]BDD RH'!$A$9:$W$453,3,FALSE) -> F | F97: =DATEDIF((VLOOKUP(A97,'[1]BDD RH'!$A$2:$W$485,7,FALSE)),K97,"y") -> 40 | G97: =IF(F97<=20,"<=20",IF(F97<=30,"21/30",IF(F97<=40,"31/40",IF(F97<=50,"41/50",IF(F97<=60,"51/60",IF(F97>60,"61 et plus",FALSE)))))) -> 31/40 | H97: =DATEDIF((VLOOKUP(A97,'[1]BDD RH'!$A$2:$W$485,11,FALSE)),K97,"y") -> 15 | I97: =IF(H97<2,"<2",IF(H97<6,"2/5",IF(H97<11,"6/10",IF(H97<16,"11/15",IF(H97<21,"16/20",IF(H97<26,"21/25",IF(H97>25,"26 et plus",FALSE))))))) -> 11/15 | J97: MAC01 | K97: 42389 | L97: 42398 | M97: =MONTH(K97) -> 1 | N97: =MONTH(L97) -> 1 | O97: =IF(N97-M97=0,NETWORKDAYS(K97,L97,[1]Congés!$D$2:$D$26),NETWORKDAYS(K97,EOMONTH(K97,0),[1]Congés!$D$2:$D$26)) -> 8 | P97: =IF(N97-M97=0,0,IF(N97-M97=1,NETWORKDAYS(K97,L97,[1]Congés!$D$2:$D$160)-O97,IF(N97-M97=2,NETWORKDAYS(K97,EOMONTH(K97,1),[1]Congés!$D$2:$D$160)-O97,IF(N97-M97=3,NETWORKDAYS(K97,EOMONTH(K97,1),[1]Congés!$D$2:$D$160)-O97)))) -> 0 | Q97: =IF(N97-M97<2,0,IF(N97-M97=2,NETWORKDAYS(K97,L97,[1]Congés!$D$2:$D$160)-P97-O97,IF(N97-M97=3,NETWORKDAYS(K97,EOMONTH(K97,2),[1]Congés!$D$2:$D$160)-P97-O97))) -> 0 | R97: =IF(N97-M97<3,0,NETWORKDAYS(K97,L97,[1]Congés!$D$2:$D$160)-Q97-P97-O97) -> 0 | S97: =NETWORKDAYS(K97,L97,[1]Congés!C$2:C$160) -> 8 | T97: Arrêt Maladie | V97: =IF(S97<3,"1) 1 à 2 jours",IF(S97<5,"2) 3 à 4 jours",IF(S97=5,"3) 5 jours",IF(S97<=10,"4) 6 à 10 jours",IF(S97>10,"5) plus de 10 jours"))))) -> 4) 6 à 10 jours | W97: * | Y97: =L97-K97+1 -> 10
A98: 3559 | D98: =VLOOKUP(A98,'[1]BDD RH'!$A$9:$W$453,4,FALSE) -> t | E98: =VLOOKUP(A98,'[1]BDD RH'!$A$9:$W$453,3,FALSE) -> F | F98: =DATEDIF((VLOOKUP(A98,'[1]BDD RH'!$A$2:$W$485,7,FALSE)),K98,"y") -> 43 | G98: =IF(F98<=20,"<=20",IF(F98<=30,"21/30",IF(F98<=40,"31/40",IF(F98<=50,"41/50",IF(F98<=60,"51/60",IF(F98>60,"61 et plus",FALSE)))))) -> 41/50 | H98: =DATEDIF((VLOOKUP(A98,'[1]BDD RH'!$A$2:$W$485,11,FALSE)),K98,"y") -> 25 | I98: =IF(H98<2,"<2",IF(H98<6,"2/5",IF(H98<11,"6/10",IF(H98<16,"11/15",IF(H98<21,"16/20",IF(H98<26,"21/25",IF(H98>25,"26 et plus",FALSE))))))) -> 21/25 | J98: MAA01 | K98: 42370 | L98: 42375 | M98: =MONTH(K98) -> 1 | N98: =MONTH(L98) -> 1 | O98: =IF(N98-M98=0,NETWORKDAYS(K98,L98,[1]Congés!$D$2:$D$26),NETWORKDAYS(K98,EOMONTH(K98,0),[1]Congés!$D$2:$D$26)) -> 4 | P98: =IF(N98-M98=0,0,IF(N98-M98=1,NETWORKDAYS(K98,L98,[1]Congés!$D$2:$D$160)-O98,IF(N98-M98=2,NETWORKDAYS(K98,EOMONTH(K98,1),[1]Congés!$D$2:$D$160)-O98,IF(N98-M98=3,NETWORKDAYS(K98,EOMONTH(K98,1),[1]Congés!$D$2:$D$160)-O98)))) -> 0 | Q98: =IF(N98-M98<2,0,IF(N98-M98=2,NETWORKDAYS(K98,L98,[1]Congés!$D$2:$D$160)-P98-O98,IF(N98-M98=3,NETWORKDAYS(K98,EOMONTH(K98,2),[1]Congés!$D$2:$D$160)-P98-O98))) -> 0 | R98: =IF(N98-M98<3,0,NETWORKDAYS(K98,L98,[1]Congés!$D$2:$D$160)-Q98-P98-O98) -> 0 | S98: =NETWORKDAYS(K98,L98,[1]Congés!C$2:C$160) -> 3 | T98: AT 15 | U98: 42352 | V98: =IF(S98<3,"1) 1 à 2 jours",IF(S98<5,"2) 3 à 4 jours",IF(S98=5,"3) 5 jours",IF(S98<=10,"4) 6 à 10 jours",IF(S98>10,"5) plus de 10 jours"))))) -> 2) 3 à 4 jours | W98: prol | Y98: =L98-K98+1 -> 6
A99: 3559 | D99: =VLOOKUP(A99,'[1]BDD RH'!$A$9:$W$453,4,FALSE) -> t | E99: =VLOOKUP(A99,'[1]BDD RH'!$A$9:$W$453,3,FALSE) -> F | F99: =DATEDIF((VLOOKUP(A99,'[1]BDD RH'!$A$2:$W$485,7,FALSE)),K99,"y") -> 43 | G99: =IF(F99<=20,"<=20",IF(F99<=30,"21/30",IF(F99<=40,"31/40",IF(F99<=50,"41/50",IF(F99<=60,"51/60",IF(F99>60,"61 et plus",FALSE)))))) -> 41/50 | H99: =DATEDIF((VLOOKUP(A99,'[1]BDD RH'!$A$2:$W$485,11,FALSE)),K99,"y") -> 25 | I99: =IF(H99<2,"<2",IF(H99<6,"2/5",IF(H99<11,"6/10",IF(H99<16,"11/15",IF(H99<21,"16/20",IF(H99<26,"21/25",IF(H99>25,"26 et plus",FALSE))))))) -> 21/25 | J99: MAA01 | K99: 42376 | L99: 42396 | M99: =MONTH(K99) -> 1 | N99: =MONTH(L99) -> 1 | O99: =IF(N99-M99=0,NETWORKDAYS(K99,L99,[1]Congés!$D$2:$D$26),NETWORKDAYS(K99,EOMONTH(K99,0),[1]Congés!$D$2:$D$26)) -> 15 | P99: =IF(N99-M99=0,0,IF(N99-M99=1,NETWORKDAYS(K99,L99,[1]Congés!$D$2:$D$160)-O99,IF(N99-M99=2,NETWORKDAYS(K99,EOMONTH(K99,1),[1]Congés!$D$2:$D$160)-O99,IF(N99-M99=3,NETWORKDAYS(K99,EOMONTH(K99,1),[1]Congés!$D$2:$D$160)-O99)))) -> 0 | Q99: =IF(N99-M99<2,0,IF(N99-M99=2,NETWORKDAYS(K99,L99,[1]Congés!$D$2:$D$160)-P99-O99,IF(N99-M99=3,NETWORKDAYS(K99,EOMONTH(K99,2),[1]Congés!$D$2:$D$160)-P99-O99))) -> 0 | R99: =IF(N99-M99<3,0,NETWORKDAYS(K99,L99,[1]Congés!$D$2:$D$160)-Q99-P99-O99) -> 0 | S99: =NETWORKDAYS(K99,L99,[1]Congés!C$2:C$160) -> 15 | T99: AT 15 | U99: 42352 | V99: =IF(S99<3,"1) 1 à 2 jours",IF(S99<5,"2) 3 à 4 jours",IF(S99=5,"3) 5 jours",IF(S99<=10,"4) 6 à 10 jours",IF(S99>10,"5) plus de 10 jours"))))) -> 5) plus de 10 jours | W99: prol | Y99: =L99-K99+1 -> 21
A100: 3559 | D100: =VLOOKUP(A100,'[1]BDD RH'!$A$9:$W$453,4,FALSE) -> t | E100: =VLOOKUP(A100,'[1]BDD RH'!$A$9:$W$453,3,FALSE) -> F | F100: =DATEDIF((VLOOKUP(A100,'[1]BDD RH'!$A$2:$W$485,7,FALSE)),K100,"y") -> 43 | G100: =IF(F100<=20,"<=20",IF(F100<=30,"21/30",IF(F100<=40,"31/40",IF(F100<=50,"41/50",IF(F100<=60,"51/60",IF(F100>60,"61 et plus",FALSE)))))) -> 41/50 | H100: =DATEDIF((VLOOKUP(A100,'[1]BDD RH'!$A$2:$W$485,11,FALSE)),K100,"y") -> 25 | I100: =IF(H100<2,"<2",IF(H100<6,"2/5",IF(H100<11,"6/10",IF(H100<16,"11/15",IF(H100<21,"16/20",IF(H100<26,"21/25",IF(H100>25,"26 et plus",FALSE))))))) -> 21/25 | J100: MAA01 | K100: 42397 | L100: 42419 | M100: =MONTH(K100) -> 1 | N100: =MONTH(L100) -> 2 | O100: =IF(N100-M100=0,NETWORKDAYS(K100,L100,[1]Congés!$D$2:$D$26),NETWORKDAYS(K100,EOMONTH(K100,0),[1]Congés!$D$2:$D$26)) -> 2 | P100: =IF(N100-M100=0,0,IF(N100-M100=1,NETWORKDAYS(K100,L100,[1]Congés!$D$2:$D$160)-O100,IF(N100-M100=2,NETWORKDAYS(K100,EOMONTH(K100,1),[1]Congés!$D$2:$D$160)-O100,IF(N100-M100=3,NETWORKDAYS(K100,EOMONTH(K100,1),[1]Congés!$D$2:$D$160)-O100)))) -> 15 | Q100: =IF(N100-M100<2,0,IF(N100-M100=2,NETWORKDAYS(K100,L100,[1]Congés!$D$2:$D$160)-P100-O100,IF(N100-M100=3,NETWORKDAYS(K100,EOMONTH(K100,2),[1]Congés!$D$2:$D$160)-P100-O100))) -> 0 | R100: =IF(N100-M100<3,0,NETWORKDAYS(K100,L100,[1]Congés!$D$2:$D$160)-Q100-P100-O100) -> 0 | S100: =NETWORKDAYS(K100,L100,[1]Congés!C$2:C$160) -> 17 | T100: AT 15 | U100: 42352 | V100: =IF(S100<3,"1) 1 à 2 jours",IF(S100<5,"2) 3 à 4 jours",IF(S100=5,"3) 5 jours",IF(S100<=10,"4) 6 à 10 jours",IF(S100>10,"5) plus de 10 jours"))))) -> 5) plus de 10 jours | W100: vm à prévoir | Y100: =L100-K100+1 -> 23
...

Sheet Nb pers <-> types
B1: janvier | C1: février | D1: mars | E1: avril | F1: mai | G1: juin | H1: juillet | I1: août | J1: septembre | K1: octobre | L1: novembre | M1: décembre
A2: Arrêt Maladie | B2: {=COUNT(1/FREQUENCY(IF(('[1]2016'!M$17:M$500=1)*('[1]2016'!T$17:T$500="Arrêt Maladie"),'[1]2016'!A$17:A$500),'[1]2016'!A$17:A$500))} -> 48 | C2: {=COUNT(1/FREQUENCY(IF(('[1]2016'!$M$17:$M$500=2)*('[1]2016'!$T$17:$T$500="Arrêt Maladie"),'[1]2016'!$A$17:A$500),'[1]2016'!$A$17:$A$500))} -> 10 | D2: =COUNT(1/FREQUENCY(IF(('2016'!$M$17:$M$500=3)*('2016'!$T$17:$T$500="Arrêt Maladie"),'2016'!$A$17:B$500),'2016'!$A$17:$A$500)) -> 0 | E2: {=COUNT(1/FREQUENCY(IF(('[1]2016'!$M$17:$M$500=2)*('[1]2016'!$T$17:$T$500="Arrêt Maladie"),'[1]2016'!$A$17:C$500),'[1]2016'!$A$17:$A$500))} -> 10 | F2: {=COUNT(1/FREQUENCY(IF(('[1]2016'!$M$17:$M$500=2)*('[1]2016'!$T$17:$T$500="Arrêt Maladie"),'[1]2016'!$A$17:D$500),'[1]2016'!$A$17:$A$500))} -> 10 | G2: {=COUNT(1/FREQUENCY(IF(('[1]2016'!$M$17:$M$500=2)*('[1]2016'!$T$17:$T$500="Arrêt Maladie"),'[1]2016'!$A$17:E$500),'[1]2016'!$A$17:$A$500))} -> 10 | H2: {=COUNT(1/FREQUENCY(IF(('[1]2016'!$M$17:$M$500=2)*('[1]2016'!$T$17:$T$500="Arrêt Maladie"),'[1]2016'!$A$17:F$500),'[1]2016'!$A$17:$A$500))} -> 11 | I2: {=COUNT(1/FREQUENCY(IF(('[1]2016'!$M$17:$M$500=2)*('[1]2016'!$T$17:$T$500="Arrêt Maladie"),'[1]2016'!$A$17:G$500),'[1]2016'!$A$17:$A$500))} -> 11 | J2: {=COUNT(1/FREQUENCY(IF(('[1]2016'!$M$17:$M$500=2)*('[1]2016'!$T$17:$T$500="Arrêt Maladie"),'[1]2016'!$A$17:H$500),'[1]2016'!$A$17:$A$500))} -> 11 | K2: {=COUNT(1/FREQUENCY(IF(('[1]2016'!$M$17:$M$500=2)*('[1]2016'!$T$17:$T$500="Arrêt Maladie"),'[1]2016'!$A$17:I$500),'[1]2016'!$A$17:$A$500))} -> 11 | L2: {=COUNT(1/FREQUENCY(IF(('[1]2016'!$M$17:$M$500=2)*('[1]2016'!$T$17:$T$500="Arrêt Maladie"),'[1]2016'!$A$17:J$500),'[1]2016'!$A$17:$A$500))} -> 11 | M2: {=COUNT(1/FREQUENCY(IF(('[1]2016'!$M$17:$M$500=2)*('[1]2016'!$T$17:$T$500="Arrêt Maladie"),'[1]2016'!$A$17:K$500),'[1]2016'!$A$17:$A$500))} -> 11
A3: AT 15 | B3: {=COUNT(1/FREQUENCY(IF(('[1]2016'!M$17:M$500=1)*('[1]2016'!T$17:T$500="AT 15"),'[1]2016'!A$17:A$500),'[1]2016'!A$17:A$500))} -> 5 | C3: {=COUNT(1/FREQUENCY(IF(('[1]2016'!$M$17:$M$500=2)*('[1]2016'!$T$17:$T$500="AT 15"),'[1]2016'!$A$17:A$500),'[1]2016'!$A$17:$A$500))} -> 1 | D3: {=COUNT(1/FREQUENCY(IF(('[1]2016'!$M$17:$M$500=3)*('[1]2016'!$T$17:$T$500="AT 15"),'[1]2016'!$A$17:B$500),'[1]2016'!$A$17:$A$500))} -> 0 | E3: {=COUNT(1/FREQUENCY(IF(('[1]2016'!$M$17:$M$500=2)*('[1]2016'!$T$17:$T$500="AT 15"),'[1]2016'!$A$17:C$500),'[1]2016'!$A$17:$A$500))} -> 1 | F3: {=COUNT(1/FREQUENCY(IF(('[1]2016'!$M$17:$M$500=2)*('[1]2016'!$T$17:$T$500="AT 15"),'[1]2016'!$A$17:D$500),'[1]2016'!$A$17:$A$500))} -> 1 | G3: {=COUNT(1/FREQUENCY(IF(('[1]2016'!$M$17:$M$500=2)*('[1]2016'!$T$17:$T$500="AT 15"),'[1]2016'!$A$17:E$500),'[1]2016'!$A$17:$A$500))} -> 1 | H3: {=COUNT(1/FREQUENCY(IF(('[1]2016'!$M$17:$M$500=2)*('[1]2016'!$T$17:$T$500="AT 15"),'[1]2016'!$A$17:F$500),'[1]2016'!$A$17:$A$500))} -> 2 | I3: {=COUNT(1/FREQUENCY(IF(('[1]2016'!$M$17:$M$500=2)*('[1]2016'!$T$17:$T$500="AT 15"),'[1]2016'!$A$17:G$500),'[1]2016'!$A$17:$A$500))} -> 2 | J3: {=COUNT(1/FREQUENCY(IF(('[1]2016'!$M$17:$M$500=2)*('[1]2016'!$T$17:$T$500="AT 15"),'[1]2016'!$A$17:H$500),'[1]2016'!$A$17:$A$500))} -> 2 | K3: {=COUNT(1/FREQUENCY(IF(('[1]2016'!$M$17:$M$500=2)*('[1]2016'!$T$17:$T$500="AT 15"),'[1]2016'!$A$17:I$500),'[1]2016'!$A$17:$A$500))} -> 2 | L3: {=COUNT(1/FREQUENCY(IF(('[1]2016'!$M$17:$M$500=2)*('[1]2016'!$T$17:$T$500="AT 15"),'[1]2016'!$A$17:J$500),'[1]2016'!$A$17:$A$500))} -> 2 | M3: {=COUNT(1/FREQUENCY(IF(('[1]2016'!$M$17:$M$500=2)*('[1]2016'!$T$17:$T$500="AT 15"),'[1]2016'!$A$17:K$500),'[1]2016'!$A$17:$A$500))} -> 3
A4: AT 15 SPEC | B4: {=COUNT(1/FREQUENCY(IF(('[1]2016'!M$17:M$500=1)*('[1]2016'!T$17:T$500="AT 15 SPEC"),'[1]2016'!A$17:A$500),'[1]2016'!A$17:A$500))} -> 0 | C4: {=COUNT(1/FREQUENCY(IF(('[1]2016'!$M$17:$M$500=2)*('[1]2016'!$T$17:$T$500="AT 15 SPEC"),'[1]2016'!$A$17:A$500),'[1]2016'!$A$17:$A$500))} -> 0 | D4: {=COUNT(1/FREQUENCY(IF(('[1]2016'!$M$17:$M$500=3)*('[1]2016'!$T$17:$T$500="AT 15 SPEC"),'[1]2016'!$A$17:B$500),'[1]2016'!$A$17:$A$500))} -> 0 | E4: {=COUNT(1/FREQUENCY(IF(('[1]2016'!$M$17:$M$500=2)*('[1]2016'!$T$17:$T$500="AT 15 SPEC"),'[1]2016'!$A$17:C$500),'[1]2016'!$A$17:$A$500))} -> 0 | F4: {=COUNT(1/FREQUENCY(IF(('[1]2016'!$M$17:$M$500=2)*('[1]2016'!$T$17:$T$500="AT 15 SPEC"),'[1]2016'!$A$17:D$500),'[1]2016'!$A$17:$A$500))} -> 0 | G4: {=COUNT(1/FREQUENCY(IF(('[1]2016'!$M$17:$M$500=2)*('[1]2016'!$T$17:$T$500="AT 15 SPEC"),'[1]2016'!$A$17:E$500),'[1]2016'!$A$17:$A$500))} -> 0 | H4: {=COUNT(1/FREQUENCY(IF(('[1]2016'!$M$17:$M$500=2)*('[1]2016'!$T$17:$T$500="AT 15 SPEC"),'[1]2016'!$A$17:F$500),'[1]2016'!$A$17:$A$500))} -> 0 | I4: {=COUNT(1/FREQUENCY(IF(('[1]2016'!$M$17:$M$500=2)*('[1]2016'!$T$17:$T$500="AT 15 SPEC"),'[1]2016'!$A$17:G$500),'[1]2016'!$A$17:$A$500))} -> 0 | J4: {=COUNT(1/FREQUENCY(IF(('[1]2016'!$M$17:$M$500=2)*('[1]2016'!$T$17:$T$500="AT 15 SPEC"),'[1]2016'!$A$17:H$500),'[1]2016'!$A$17:$A$500))} -> 0 | K4: {=COUNT(1/FREQUENCY(IF(('[1]2016'!$M$17:$M$500=2)*('[1]2016'!$T$17:$T$500="AT 15 SPEC"),'[1]2016'!$A$17:I$500),'[1]2016'!$A$17:$A$500))} -> 0 | L4: {=COUNT(1/FREQUENCY(IF(('[1]2016'!$M$17:$M$500=2)*('[1]2016'!$T$17:$T$500="AT 15 SPEC"),'[1]2016'!$A$17:J$500),'[1]2016'!$A$17:$A$500))} -> 0 | M4: {=COUNT(1/FREQUENCY(IF(('[1]2016'!$M$17:$M$500=2)*('[1]2016'!$T$17:$T$500="AT 15 SPEC"),'[1]2016'!$A$17:K$500),'[1]2016'!$A$17:$A$500))} -> 0
A5: AT 16 | B5: {=COUNT(1/FREQUENCY(IF(('[1]2016'!M$17:M$500=1)*('[1]2016'!T$17:T$500="AT 16"),'[1]2016'!A$17:A$500),'[1]2016'!A$17:A$500))} -> 0 | C5: {=COUNT(1/FREQUENCY(IF(('[1]2016'!$M$17:$M$500=2)*('[1]2016'!$T$17:$T$500="AT 16"),'[1]2016'!$A$17:A$500),'[1]2016'!$A$17:$A$500))} -> 0 | D5: {=COUNT(1/FREQUENCY(IF(('[1]2016'!$M$17:$M$500=3)*('[1]2016'!$T$17:$T$500="AT 16"),'[1]2016'!$A$17:B$500),'[1]2016'!$A$17:$A$500))} -> 0 | E5: {=COUNT(1/FREQUENCY(IF(('[1]2016'!$M$17:$M$500=2)*('[1]2016'!$T$17:$T$500="AT 16"),'[1]2016'!$A$17:C$500),'[1]2016'!$A$17:$A$500))} -> 0 | F5: {=COUNT(1/FREQUENCY(IF(('[1]2016'!$M$17:$M$500=2)*('[1]2016'!$T$17:$T$500="AT 16"),'[1]2016'!$A$17:D$500),'[1]2016'!$A$17:$A$500))} -> 0 | G5: {=COUNT(1/FREQUENCY(IF(('[1]2016'!$M$17:$M$500=2)*('[1]2016'!$T$17:$T$500="AT 16"),'[1]2016'!$A$17:E$500),'[1]2016'!$A$17:$A$500))} -> 0 | H5: {=COUNT(1/FREQUENCY(IF(('[1]2016'!$M$17:$M$500=2)*('[1]2016'!$T$17:$T$500="AT 16"),'[1]2016'!$A$17:F$500),'[1]2016'!$A$17:$A$500))} -> 0 | I5: {=COUNT(1/FREQUENCY(IF(('[1]2016'!$M$17:$M$500=2)*('[1]2016'!$T$17:$T$500="AT 16"),'[1]2016'!$A$17:G$500),'[1]2016'!$A$17:$A$500))} -> 0 | J5: {=COUNT(1/FREQUENCY(IF(('[1]2016'!$M$17:$M$500=2)*('[1]2016'!$T$17:$T$500="AT 16"),'[1]2016'!$A$17:H$500),'[1]2016'!$A$17:$A$500))} -> 0 | K5: {=COUNT(1/FREQUENCY(IF(('[1]2016'!$M$17:$M$500=2)*('[1]2016'!$T$17:$T$500="AT 16"),'[1]2016'!$A$17:I$500),'[1]2016'!$A$17:$A$500))} -> 0 | L5: {=COUNT(1/FREQUENCY(IF(('[1]2016'!$M$17:$M$500=2)*('[1]2016'!$T$17:$T$500="AT 16"),'[1]2016'!$A$17:J$500),'[1]2016'!$A$17:$A$500))} -> 0 | M5: {=COUNT(1/FREQUENCY(IF(('[1]2016'!$M$17:$M$500=2)*('[1]2016'!$T$17:$T$500="AT 16"),'[1]2016'!$A$17:K$500),'[1]2016'!$A$17:$A$500))} -> 0
A6: AT 16 SPEC | B6: {=COUNT(1/FREQUENCY(IF(('[1]2016'!M$17:M$500=1)*('[1]2016'!T$17:T$500="AT 16 SPEC"),'[1]2016'!A$17:A$500),'[1]2016'!A$17:A$500))} -> 1 | C6: {=COUNT(1/FREQUENCY(IF(('[1]2016'!$M$17:$M$500=2)*('[1]2016'!$T$17:$T$500="AT 16 SPEC"),'[1]2016'!$A$17:A$500),'[1]2016'!$A$17:$A$500))} -> 0 | D6: {=COUNT(1/FREQUENCY(IF(('[1]2016'!$M$17:$M$500=3)*('[1]2016'!$T$17:$T$500="AT 16 SPEC"),'[1]2016'!$A$17:B$500),'[1]2016'!$A$17:$A$500))} -> 0 | E6: {=COUNT(1/FREQUENCY(IF(('[1]2016'!$M$17:$M$500=2)*('[1]2016'!$T$17:$T$500="AT 16 SPEC"),'[1]2016'!$A$17:C$500),'[1]2016'!$A$17:$A$500))} -> 0 | F6: {=COUNT(1/FREQUENCY(IF(('[1]2016'!$M$17:$M$500=2)*('[1]2016'!$T$17:$T$500="AT 16 SPEC"),'[1]2016'!$A$17:D$500),'[1]2016'!$A$17:$A$500))} -> 0 | G6: {=COUNT(1/FREQUENCY(IF(('[1]2016'!$M$17:$M$500=2)*('[1]2016'!$T$17:$T$500="AT 16 SPEC"),'[1]2016'!$A$17:E$500),'[1]2016'!$A$17:$A$500))} -> 0 | H6: {=COUNT(1/FREQUENCY(IF(('[1]2016'!$M$17:$M$500=2)*('[1]2016'!$T$17:$T$500="AT 16 SPEC"),'[1]2016'!$A$17:F$500),'[1]2016'!$A$17:$A$500))} -> 0 | I6: {=COUNT(1/FREQUENCY(IF(('[1]2016'!$M$17:$M$500=2)*('[1]2016'!$T$17:$T$500="AT 16 SPEC"),'[1]2016'!$A$17:G$500),'[1]2016'!$A$17:$A$500))} -> 0 | J6: {=COUNT(1/FREQUENCY(IF(('[1]2016'!$M$17:$M$500=2)*('[1]2016'!$T$17:$T$500="AT 16 SPEC"),'[1]2016'!$A$17:H$500),'[1]2016'!$A$17:$A$500))} -> 0 | K6: {=COUNT(1/FREQUENCY(IF(('[1]2016'!$M$17:$M$500=2)*('[1]2016'!$T$17:$T$500="AT 16 SPEC"),'[1]2016'!$A$17:I$500),'[1]2016'!$A$17:$A$500))} -> 0 | L6: {=COUNT(1/FREQUENCY(IF(('[1]2016'!$M$17:$M$500=2)*('[1]2016'!$T$17:$T$500="AT 16 SPEC"),'[1]2016'!$A$17:J$500),'[1]2016'!$A$17:$A$500))} -> 0 | M6: {=COUNT(1/FREQUENCY(IF(('[1]2016'!$M$17:$M$500=2)*('[1]2016'!$T$17:$T$500="AT 16 SPEC"),'[1]2016'!$A$17:K$500),'[1]2016'!$A$17:$A$500))} -> 0
A7: ATT 15 | B7: {=COUNT(1/FREQUENCY(IF(('[1]2016'!M$17:M$500=1)*('[1]2016'!T$17:T$500="ATT 15"),'[1]2016'!A$17:A$500),'[1]2016'!A$17:A$500))} -> 1 | C7: {=COUNT(1/FREQUENCY(IF(('[1]2016'!$M$17:$M$500=2)*('[1]2016'!$T$17:$T$500="ATT 15"),'[1]2016'!$A$17:A$500),'[1]2016'!$A$17:$A$500))} -> 1 | D7: {=COUNT(1/FREQUENCY(IF(('[1]2016'!$M$17:$M$500=3)*('[1]2016'!$T$17:$T$500="ATT 15"),'[1]2016'!$A$17:B$500),'[1]2016'!$A$17:$A$500))} -> 0 | E7: {=COUNT(1/FREQUENCY(IF(('[1]2016'!$M$17:$M$500=2)*('[1]2016'!$T$17:$T$500="ATT 15"),'[1]2016'!$A$17:C$500),'[1]2016'!$A$17:$A$500))} -> 1 | F7: {=COUNT(1/FREQUENCY(IF(('[1]2016'!$M$17:$M$500=2)*('[1]2016'!$T$17:$T$500="ATT 15"),'[1]2016'!$A$17:D$500),'[1]2016'!$A$17:$A$500))} -> 1 | G7: {=COUNT(1/FREQUENCY(IF(('[1]2016'!$M$17:$M$500=2)*('[1]2016'!$T$17:$T$500="ATT 15"),'[1]2016'!$A$17:E$500),'[1]2016'!$A$17:$A$500))} -> 1 | H7: {=COUNT(1/FREQUENCY(IF(('[1]2016'!$M$17:$M$500=2)*('[1]2016'!$T$17:$T$500="ATT 15"),'[1]2016'!$A$17:F$500),'[1]2016'!$A$17:$A$500))} -> 2 | I7: {=COUNT(1/FREQUENCY(IF(('[1]2016'!$M$17:$M$500=2)*('[1]2016'!$T$17:$T$500="ATT 15"),'[1]2016'!$A$17:G$500),'[1]2016'!$A$17:$A$500))} -> 2 | J7: {=COUNT(1/FREQUENCY(IF(('[1]2016'!$M$17:$M$500=2)*('[1]2016'!$T$17:$T$500="ATT 15"),'[1]2016'!$A$17:H$500),'[1]2016'!$A$17:$A$500))} -> 2 | K7: {=COUNT(1/FREQUENCY(IF(('[1]2016'!$M$17:$M$500=2)*('[1]2016'!$T$17:$T$500="ATT 15"),'[1]2016'!$A$17:I$500),'[1]2016'!$A$17:$A$500))} -> 2 | L7: {=COUNT(1/FREQUENCY(IF(('[1]2016'!$M$17:$M$500=2)*('[1]2016'!$T$17:$T$500="ATT 15"),'[1]2016'!$A$17:J$500),'[1]2016'!$A$17:$A$500))} -> 2 | M7: {=COUNT(1/FREQUENCY(IF(('[1]2016'!$M$17:$M$500=2)*('[1]2016'!$T$17:$T$500="ATT 15"),'[1]2016'!$A$17:K$500),'[1]2016'!$A$17:$A$500))} -> 3
A8: ATT 15 SPEC | B8: {=COUNT(1/FREQUENCY(IF(('[1]2016'!M$17:M$500=1)*('[1]2016'!T$17:T$500="ATT 15 SPEC"),'[1]2016'!A$17:A$500),'[1]2016'!A$17:A$500))} -> 1 | C8: {=COUNT(1/FREQUENCY(IF(('[1]2016'!$M$17:$M$500=2)*('[1]2016'!$T$17:$T$500="ATT 15 SPEC"),'[1]2016'!$A$17:A$500),'[1]2016'!$A$17:$A$500))} -> 1 | D8: {=COUNT(1/FREQUENCY(IF(('[1]2016'!$M$17:$M$500=3)*('[1]2016'!$T$17:$T$500="ATT 15 SPEC"),'[1]2016'!$A$17:B$500),'[1]2016'!$A$17:$A$500))} -> 0 | E8: {=COUNT(1/FREQUENCY(IF(('[1]2016'!$M$17:$M$500=2)*('[1]2016'!$T$17:$T$500="ATT 15 SPEC"),'[1]2016'!$A$17:C$500),'[1]2016'!$A$17:$A$500))} -> 1 | F8: {=COUNT(1/FREQUENCY(IF(('[1]2016'!$M$17:$M$500=2)*('[1]2016'!$T$17:$T$500="ATT 15 SPEC"),'[1]2016'!$A$17:D$500),'[1]2016'!$A$17:$A$500))} -> 1 | G8: {=COUNT(1/FREQUENCY(IF(('[1]2016'!$M$17:$M$500=2)*('[1]2016'!$T$17:$T$500="ATT 15 SPEC"),'[1]2016'!$A$17:E$500),'[1]2016'!$A$17:$A$500))} -> 1 | H8: {=COUNT(1/FREQUENCY(IF(('[1]2016'!$M$17:$M$500=2)*('[1]2016'!$T$17:$T$500="ATT 15 SPEC"),'[1]2016'!$A$17:F$500),'[1]2016'!$A$17:$A$500))} -> 2 | I8: {=COUNT(1/FREQUENCY(IF(('[1]2016'!$M$17:$M$500=2)*('[1]2016'!$T$17:$T$500="ATT 15 SPEC"),'[1]2016'!$A$17:G$500),'[1]2016'!$A$17:$A$500))} -> 2 | J8: {=COUNT(1/FREQUENCY(IF(('[1]2016'!$M$17:$M$500=2)*('[1]2016'!$T$17:$T$500="ATT 15 SPEC"),'[1]2016'!$A$17:H$500),'[1]2016'!$A$17:$A$500))} -> 2 | K8: {=COUNT(1/FREQUENCY(IF(('[1]2016'!$M$17:$M$500=2)*('[1]2016'!$T$17:$T$500="ATT 15 SPEC"),'[1]2016'!$A$17:I$500),'[1]2016'!$A$17:$A$500))} -> 2 | L8: {=COUNT(1/FREQUENCY(IF(('[1]2016'!$M$17:$M$500=2)*('[1]2016'!$T$17:$T$500="ATT 15 SPEC"),'[1]2016'!$A$17:J$500),'[1]2016'!$A$17:$A$500))} -> 2 | M8: {=COUNT(1/FREQUENCY(IF(('[1]2016'!$M$17:$M$500=2)*('[1]2016'!$T$17:$T$500="ATT 15 SPEC"),'[1]2016'!$A$17:K$500),'[1]2016'!$A$17:$A$500))} -> 3
A9: ATT 16 | B9: {=COUNT(1/FREQUENCY(IF(('[1]2016'!M$17:M$500=1)*('[1]2016'!T$17:T$500="ATT 16"),'[1]2016'!A$17:A$500),'[1]2016'!A$17:A$500))} -> 0 | C9: {=COUNT(1/FREQUENCY(IF(('[1]2016'!$M$17:$M$500=2)*('[1]2016'!$T$17:$T$500="ATT 16"),'[1]2016'!$A$17:A$500),'[1]2016'!$A$17:$A$500))} -> 0 | D9: {=COUNT(1/FREQUENCY(IF(('[1]2016'!$M$17:$M$500=3)*('[1]2016'!$T$17:$T$500="ATT 16"),'[1]2016'!$A$17:B$500),'[1]2016'!$A$17:$A$500))} -> 0 | E9: {=COUNT(1/FREQUENCY(IF(('[1]2016'!$M$17:$M$500=2)*('[1]2016'!$T$17:$T$500="ATT 16"),'[1]2016'!$A$17:C$500),'[1]2016'!$A$17:$A$500))} -> 0 | F9: {=COUNT(1/FREQUENCY(IF(('[1]2016'!$M$17:$M$500=2)*('[1]2016'!$T$17:$T$500="ATT 16"),'[1]2016'!$A$17:D$500),'[1]2016'!$A$17:$A$500))} -> 0 | G9: {=COUNT(1/FREQUENCY(IF(('[1]2016'!$M$17:$M$500=2)*('[1]2016'!$T$17:$T$500="ATT 16"),'[1]2016'!$A$17:E$500),'[1]2016'!$A$17:$A$500))} -> 0 | H9: {=COUNT(1/FREQUENCY(IF(('[1]2016'!$M$17:$M$500=2)*('[1]2016'!$T$17:$T$500="ATT 16"),'[1]2016'!$A$17:F$500),'[1]2016'!$A$17:$A$500))} -> 0 | I9: {=COUNT(1/FREQUENCY(IF(('[1]2016'!$M$17:$M$500=2)*('[1]2016'!$T$17:$T$500="ATT 16"),'[1]2016'!$A$17:G$500),'[1]2016'!$A$17:$A$500))} -> 0 | J9: {=COUNT(1/FREQUENCY(IF(('[1]2016'!$M$17:$M$500=2)*('[1]2016'!$T$17:$T$500="ATT 16"),'[1]2016'!$A$17:H$500),'[1]2016'!$A$17:$A$500))} -> 0 | K9: {=COUNT(1/FREQUENCY(IF(('[1]2016'!$M$17:$M$500=2)*('[1]2016'!$T$17:$T$500="ATT 16"),'[1]2016'!$A$17:I$500),'[1]2016'!$A$17:$A$500))} -> 0 | L9: {=COUNT(1/FREQUENCY(IF(('[1]2016'!$M$17:$M$500=2)*('[1]2016'!$T$17:$T$500="ATT 16"),'[1]2016'!$A$17:J$500),'[1]2016'!$A$17:$A$500))} -> 0 | M9: {=COUNT(1/FREQUENCY(IF(('[1]2016'!$M$17:$M$500=2)*('[1]2016'!$T$17:$T$500="ATT 16"),'[1]2016'!$A$17:K$500),'[1]2016'!$A$17:$A$500))} -> 0
A10: ATT 16 SPEC | B10: {=COUNT(1/FREQUENCY(IF(('[1]2016'!M$17:M$500=1)*('[1]2016'!T$17:T$500="ATT 16 SPEC"),'[1]2016'!A$17:A$500),'[1]2016'!A$17:A$500))} -> 0 | C10: {=COUNT(1/FREQUENCY(IF(('[1]2016'!$M$17:$M$500=2)*('[1]2016'!$T$17:$T$500="ATT 16 SPEC"),'[1]2016'!$A$17:A$500),'[1]2016'!$A$17:$A$500))} -> 0 | D10: {=COUNT(1/FREQUENCY(IF(('[1]2016'!$M$17:$M$500=3)*('[1]2016'!$T$17:$T$500="ATT 16 SPEC"),'[1]2016'!$A$17:B$500),'[1]2016'!$A$17:$A$500))} -> 0 | E10: {=COUNT(1/FREQUENCY(IF(('[1]2016'!$M$17:$M$500=2)*('[1]2016'!$T$17:$T$500="ATT 16 SPEC"),'[1]2016'!$A$17:C$500),'[1]2016'!$A$17:$A$500))} -> 0 | F10: {=COUNT(1/FREQUENCY(IF(('[1]2016'!$M$17:$M$500=2)*('[1]2016'!$T$17:$T$500="ATT 16 SPEC"),'[1]2016'!$A$17:D$500),'[1]2016'!$A$17:$A$500))} -> 0 | G10: {=COUNT(1/FREQUENCY(IF(('[1]2016'!$M$17:$M$500=2)*('[1]2016'!$T$17:$T$500="ATT 16 SPEC"),'[1]2016'!$A$17:E$500),'[1]2016'!$A$17:$A$500))} -> 0 | H10: {=COUNT(1/FREQUENCY(IF(('[1]2016'!$M$17:$M$500=2)*('[1]2016'!$T$17:$T$500="ATT 16 SPEC"),'[1]2016'!$A$17:F$500),'[1]2016'!$A$17:$A$500))} -> 0 | I10: {=COUNT(1/FREQUENCY(IF(('[1]2016'!$M$17:$M$500=2)*('[1]2016'!$T$17:$T$500="ATT 16 SPEC"),'[1]2016'!$A$17:G$500),'[1]2016'!$A$17:$A$500))} -> 0 | J10: {=COUNT(1/FREQUENCY(IF(('[1]2016'!$M$17:$M$500=2)*('[1]2016'!$T$17:$T$500="ATT 16 SPEC"),'[1]2016'!$A$17:H$500),'[1]2016'!$A$17:$A$500))} -> 0 | K10: {=COUNT(1/FREQUENCY(IF(('[1]2016'!$M$17:$M$500=2)*('[1]2016'!$T$17:$T$500="ATT 16 SPEC"),'[1]2016'!$A$17:I$500),'[1]2016'!$A$17:$A$500))} -> 0 | L10: {=COUNT(1/FREQUENCY(IF(('[1]2016'!$M$17:$M$500=2)*('[1]2016'!$T$17:$T$500="ATT 16 SPEC"),'[1]2016'!$A$17:J$500),'[1]2016'!$A$17:$A$500))} -> 0 | M10: {=COUNT(1/FREQUENCY(IF(('[1]2016'!$M$17:$M$500=2)*('[1]2016'!$T$17:$T$500="ATT 16 SPEC"),'[1]2016'!$A$17:K$500),'[1]2016'!$A$17:$A$500))} -> 0
A11: LM | B11: {=COUNT(1/FREQUENCY(IF(('[1]2016'!M$17:M$500=1)*('[1]2016'!T$17:T$500="LM"),'[1]2016'!A$17:A$500),'[1]2016'!A$17:A$500))} -> 7 | C11: {=COUNT(1/FREQUENCY(IF(('[1]2016'!$M$17:$M$500=2)*('[1]2016'!$T$17:$T$500="LM"),'[1]2016'!$A$17:A$500),'[1]2016'!$A$17:$A$500))} -> 0 | D11: {=COUNT(1/FREQUENCY(IF(('[1]2016'!$M$17:$M$500=3)*('[1]2016'!$T$17:$T$500="LM"),'[1]2016'!$A$17:B$500),'[1]2016'!$A$17:$A$500))} -> 0 | E11: {=COUNT(1/FREQUENCY(IF(('[1]2016'!$M$17:$M$500=2)*('[1]2016'!$T$17:$T$500="LM"),'[1]2016'!$A$17:C$500),'[1]2016'!$A$17:$A$500))} -> 0 | F11: {=COUNT(1/FREQUENCY(IF(('[1]2016'!$M$17:$M$500=2)*('[1]2016'!$T$17:$T$500="LM"),'[1]2016'!$A$17:D$500),'[1]2016'!$A$17:$A$500))} -> 0 | G11: {=COUNT(1/FREQUENCY(IF(('[1]2016'!$M$17:$M$500=2)*('[1]2016'!$T$17:$T$500="LM"),'[1]2016'!$A$17:E$500),'[1]2016'!$A$17:$A$500))} -> 0 | H11: {=COUNT(1/FREQUENCY(IF(('[1]2016'!$M$17:$M$500=2)*('[1]2016'!$T$17:$T$500="LM"),'[1]2016'!$A$17:F$500),'[1]2016'!$A$17:$A$500))} -> 0 | I11: {=COUNT(1/FREQUENCY(IF(('[1]2016'!$M$17:$M$500=2)*('[1]2016'!$T$17:$T$500="LM"),'[1]2016'!$A$17:G$500),'[1]2016'!$A$17:$A$500))} -> 0 | J11: {=COUNT(1/FREQUENCY(IF(('[1]2016'!$M$17:$M$500=2)*('[1]2016'!$T$17:$T$500="LM"),'[1]2016'!$A$17:H$500),'[1]2016'!$A$17:$A$500))} -> 0 | K11: {=COUNT(1/FREQUENCY(IF(('[1]2016'!$M$17:$M$500=2)*('[1]2016'!$T$17:$T$500="LM"),'[1]2016'!$A$17:I$500),'[1]2016'!$A$17:$A$500))} -> 0 | L11: {=COUNT(1/FREQUENCY(IF(('[1]2016'!$M$17:$M$500=2)*('[1]2016'!$T$17:$T$500="LM"),'[1]2016'!$A$17:J$500),'[1]2016'!$A$17:$A$500))} -> 0 | M11: {=COUNT(1/FREQUENCY(IF(('[1]2016'!$M$17:$M$500=2)*('[1]2016'!$T$17:$T$500="LM"),'[1]2016'!$A$17:K$500),'[1]2016'!$A$17:$A$500))} -> 0
A12: LM Pro | B12: {=COUNT(1/FREQUENCY(IF(('[1]2016'!M$17:M$500=1)*('[1]2016'!T$17:T$500="LM Pro"),'[1]2016'!A$17:A$500),'[1]2016'!A$17:A$500))} -> 0 | C12: {=COUNT(1/FREQUENCY(IF(('[1]2016'!$M$17:$M$500=2)*('[1]2016'!$T$17:$T$500="LM Pro"),'[1]2016'!$A$17:A$500),'[1]2016'!$A$17:$A$500))} -> 0 | D12: {=COUNT(1/FREQUENCY(IF(('[1]2016'!$M$17:$M$500=3)*('[1]2016'!$T$17:$T$500="LM Pro"),'[1]2016'!$A$17:B$500),'[1]2016'!$A$17:$A$500))} -> 0 | E12: {=COUNT(1/FREQUENCY(IF(('[1]2016'!$M$17:$M$500=2)*('[1]2016'!$T$17:$T$500="LM Pro"),'[1]2016'!$A$17:C$500),'[1]2016'!$A$17:$A$500))} -> 0 | F12: {=COUNT(1/FREQUENCY(IF(('[1]2016'!$M$17:$M$500=2)*('[1]2016'!$T$17:$T$500="LM Pro"),'[1]2016'!$A$17:D$500),'[1]2016'!$A$17:$A$500))} -> 0 | G12: {=COUNT(1/FREQUENCY(IF(('[1]2016'!$M$17:$M$500=2)*('[1]2016'!$T$17:$T$500="LM Pro"),'[1]2016'!$A$17:E$500),'[1]2016'!$A$17:$A$500))} -> 0 | H12: {=COUNT(1/FREQUENCY(IF(('[1]2016'!$M$17:$M$500=2)*('[1]2016'!$T$17:$T$500="LM Pro"),'[1]2016'!$A$17:F$500),'[1]2016'!$A$17:$A$500))} -> 0 | I12: {=COUNT(1/FREQUENCY(IF(('[1]2016'!$M$17:$M$500=2)*('[1]2016'!$T$17:$T$500="LM Pro"),'[1]2016'!$A$17:G$500),'[1]2016'!$A$17:$A$500))} -> 0 | J12: {=COUNT(1/FREQUENCY(IF(('[1]2016'!$M$17:$M$500=2)*('[1]2016'!$T$17:$T$500="LM Pro"),'[1]2016'!$A$17:H$500),'[1]2016'!$A$17:$A$500))} -> 0 | K12: {=COUNT(1/FREQUENCY(IF(('[1]2016'!$M$17:$M$500=2)*('[1]2016'!$T$17:$T$500="LM Pro"),'[1]2016'!$A$17:I$500),'[1]2016'!$A$17:$A$500))} -> 0 | L12: {=COUNT(1/FREQUENCY(IF(('[1]2016'!$M$17:$M$500=2)*('[1]2016'!$T$17:$T$500="LM Pro"),'[1]2016'!$A$17:J$500),'[1]2016'!$A$17:$A$500))} -> 0 | M12: {=COUNT(1/FREQUENCY(IF(('[1]2016'!$M$17:$M$500=2)*('[1]2016'!$T$17:$T$500="LM Pro"),'[1]2016'!$A$17:K$500),'[1]2016'!$A$17:$A$500))} -> 0
A13: M Pro | B13: {=COUNT(1/FREQUENCY(IF(('[1]2016'!M$17:M$500=1)*('[1]2016'!T$17:T$500="M Pro"),'[1]2016'!A$17:A$500),'[1]2016'!A$17:A$500))} -> 0 | C13: {=COUNT(1/FREQUENCY(IF(('[1]2016'!$M$17:$M$500=2)*('[1]2016'!$T$17:$T$500="M Pro"),'[1]2016'!$A$17:A$500),'[1]2016'!$A$17:$A$500))} -> 0 | D13: {=COUNT(1/FREQUENCY(IF(('[1]2016'!$M$17:$M$500=3)*('[1]2016'!$T$17:$T$500="M Pro"),'[1]2016'!$A$17:B$500),'[1]2016'!$A$17:$A$500))} -> 0 | E13: {=COUNT(1/FREQUENCY(IF(('[1]2016'!$M$17:$M$500=2)*('[1]2016'!$T$17:$T$500="M Pro"),'[1]2016'!$A$17:C$500),'[1]2016'!$A$17:$A$500))} -> 0 | F13: {=COUNT(1/FREQUENCY(IF(('[1]2016'!$M$17:$M$500=2)*('[1]2016'!$T$17:$T$500="M Pro"),'[1]2016'!$A$17:D$500),'[1]2016'!$A$17:$A$500))} -> 0 | G13: {=COUNT(1/FREQUENCY(IF(('[1]2016'!$M$17:$M$500=2)*('[1]2016'!$T$17:$T$500="M Pro"),'[1]2016'!$A$17:E$500),'[1]2016'!$A$17:$A$500))} -> 0 | H13: {=COUNT(1/FREQUENCY(IF(('[1]2016'!$M$17:$M$500=2)*('[1]2016'!$T$17:$T$500="M Pro"),'[1]2016'!$A$17:F$500),'[1]2016'!$A$17:$A$500))} -> 0 | I13: {=COUNT(1/FREQUENCY(IF(('[1]2016'!$M$17:$M$500=2)*('[1]2016'!$T$17:$T$500="M Pro"),'[1]2016'!$A$17:G$500),'[1]2016'!$A$17:$A$500))} -> 0 | J13: {=COUNT(1/FREQUENCY(IF(('[1]2016'!$M$17:$M$500=2)*('[1]2016'!$T$17:$T$500="M Pro"),'[1]2016'!$A$17:H$500),'[1]2016'!$A$17:$A$500))} -> 0 | K13: {=COUNT(1/FREQUENCY(IF(('[1]2016'!$M$17:$M$500=2)*('[1]2016'!$T$17:$T$500="M Pro"),'[1]2016'!$A$17:I$500),'[1]2016'!$A$17:$A$500))} -> 0 | L13: {=COUNT(1/FREQUENCY(IF(('[1]2016'!$M$17:$M$500=2)*('[1]2016'!$T$17:$T$500="M Pro"),'[1]2016'!$A$17:J$500),'[1]2016'!$A$17:$A$500))} -> 0 | M13: {=COUNT(1/FREQUENCY(IF(('[1]2016'!$M$17:$M$500=2)*('[1]2016'!$T$17:$T$500="M Pro"),'[1]2016'!$A$17:K$500),'[1]2016'!$A$17:$A$500))} -> 0
A14: Mi-temps | B14: {=COUNT(1/FREQUENCY(IF(('[1]2016'!M$17:M$500=1)*('[1]2016'!T$17:T$500="Mi-temps"),'[1]2016'!A$17:A$500),'[1]2016'!A$17:A$500))} -> 10 | C14: {=COUNT(1/FREQUENCY(IF(('[1]2016'!$M$17:$M$500=2)*('[1]2016'!$T$17:$T$500="Mi-temps"),'[1]2016'!$A$17:A$500),'[1]2016'!$A$17:$A$500))} -> 3 | D14: {=COUNT(1/FREQUENCY(IF(('[1]2016'!$M$17:$M$500=3)*('[1]2016'!$T$17:$T$500="Mi-temps"),'[1]2016'!$A$17:B$500),'[1]2016'!$A$17:$A$500))} -> 0 | E14: {=COUNT(1/FREQUENCY(IF(('[1]2016'!$M$17:$M$500=2)*('[1]2016'!$T$17:$T$500="Mi-temps"),'[1]2016'!$A$17:C$500),'[1]2016'!$A$17:$A$500))} -> 3 | F14: {=COUNT(1/FREQUENCY(IF(('[1]2016'!$M$17:$M$500=2)*('[1]2016'!$T$17:$T$500="Mi-temps"),'[1]2016'!$A$17:D$500),'[1]2016'!$A$17:$A$500))} -> 3 | G14: {=COUNT(1/FREQUENCY(IF(('[1]2016'!$M$17:$M$500=2)*('[1]2016'!$T$17:$T$500="Mi-temps"),'[1]2016'!$A$17:E$500),'[1]2016'!$A$17:$A$500))} -> 3 | H14: {=COUNT(1/FREQUENCY(IF(('[1]2016'!$M$17:$M$500=2)*('[1]2016'!$T$17:$T$500="Mi-temps"),'[1]2016'!$A$17:F$500),'[1]2016'!$A$17:$A$500))} -> 4 | I14: {=COUNT(1/FREQUENCY(IF(('[1]2016'!$M$17:$M$500=2)*('[1]2016'!$T$17:$T$500="Mi-temps"),'[1]2016'!$A$17:G$500),'[1]2016'!$A$17:$A$500))} -> 4 | J14: {=COUNT(1/FREQUENCY(IF(('[1]2016'!$M$17:$M$500=2)*('[1]2016'!$T$17:$T$500="Mi-temps"),'[1]2016'!$A$17:H$500),'[1]2016'!$A$17:$A$500))} -> 4 | K14: {=COUNT(1/FREQUENCY(IF(('[1]2016'!$M$17:$M$500=2)*('[1]2016'!$T$17:$T$500="Mi-temps"),'[1]2016'!$A$17:I$500),'[1]2016'!$A$17:$A$500))} -> 4 | L14: {=COUNT(1/FREQUENCY(IF(('[1]2016'!$M$17:$M$500=2)*('[1]2016'!$T$17:$T$500="Mi-temps"),'[1]2016'!$A$17:J$500),'[1]2016'!$A$17:$A$500))} -> 4 | M14: {=COUNT(1/FREQUENCY(IF(('[1]2016'!$M$17:$M$500=2)*('[1]2016'!$T$17:$T$500="Mi-temps"),'[1]2016'!$A$17:K$500),'[1]2016'!$A$17:$A$500))} -> 5
A15: A traiter | B15: ok | C15: ok | D15: ok
C16: Attention formule matricielle : F2 puis contrôle+shift+entrer
A17: Tableaux issus de NB JA
A18: Derniere mise à jour manuelle le | C18: 42401
B20: 1 er trimestre | C20: 2 er trimestre | D20: 3 er trimestre | E20: 4 er trimestre | I20: Total annuel
A21: Arrêt Maladie | B21: =SUMPRODUCT(N(FREQUENCY(('2016'!$M$17:$M$500<4)*('2016'!$T17:$T500="AM")*('2016'!A2:A10),'2016'!$A$17:$A$500)>0)) -> #VALUE! | H21: Arrêt Maladie | I21: 48 | K21: Nbre de personne ayant eu au moins 1 arret en 2015 | M21: 69
A22: AT 15 | B22: 5 | H22: AT 15 | I22: 5
A23: AT 15 SPEC | B23: 0 | H23: AT 15 SPEC | I23: 0
A24: AT 16 | H24: AT 16
A25: AT 16 SPEC | B25: 1 | H25: AT 16 SPEC | I25: 1 | K25: Soit sur une population de 362 salariés: | M25: =M21/362 -> 0.19060773
A26: ATT 15 | B26: 1 | H26: ATT 15 | I26: 1
A27: ATT 15 SPEC | B27: 1 | H27: ATT 15 SPEC | I27: 1
A28: ATT 16 | H28: ATT 16
A29: ATT 16 SPEC | H29: ATT 16 SPEC
A30: LM | B30: 7 | H30: LM | I30: 7
A31: LM Pro | H31: LM Pro
A32: M Pro | H32: M Pro
A33: Mi-temps | B33: 10 | H33: Mi-temps | I33: 10

Sheet Feuil1
