Workbook

Sheet 2016
A1: MAJ le | B1: 42376 | AC1: Vm
AC2: 0
A3: Mat. | B3: Nom Prénom | C3: Atelier | D3: secteur | E3: sexe | F3: Age | G3: tranche d'âge | H3: Ancienneté | I3: Categorie ancienneté | J3: arret N° en 2016 | K3: Début | L3: Fin | M3: Mois du début de l'arrêt | N3: Mois de fin de l'arrêt | O3: Nombre de jours M | P3: Nombre de jours M+1 | Q3: Nombre de jours M+2 | R3: Nombre de jours M+3 | S3: Nombre jours arrêts | T3: type d'arrêt | U3: Date de début de MT/LM/AM | V3: Classification arrêts | W3: suite | X3: VM le | Y3: infos nbre jrs arret calendaire | Z3: Colonne1
A4: 1/12 | B4: 0 Ne pas effacer cette ligne !! | D4: =VLOOKUP(A4,'[1]BDD RH'!$A$9:$W$453,4,FALSE) -> #N/A | E4: =VLOOKUP(A4,'[1]BDD RH'!$A$9:$W$453,3,FALSE) -> #N/A | F4: =DATEDIF((VLOOKUP(A4,'[1]BDD RH'!$A$2:$W$485,7,FALSE)),K4,"y") -> #N/A | G4: =IF(F4<=20,"<=20",IF(F4<=30,"21/30",IF(F4<=40,"31/40",IF(F4<=50,"41/50",IF(F4<=60,"51/60",IF(F4>60,"61 et plus",FALSE)))))) -> #N/A | H4: =DATEDIF((VLOOKUP(A4,'[1]BDD RH'!$A$2:$W$485,11,FALSE)),K4,"y") -> #N/A | I4: =IF(H4<2,"<2",IF(H4<6,"2/5",IF(H4<11,"6/10",IF(H4<16,"11/15",IF(H4<21,"16/20",IF(H4<26,"21/25",IF(H4>25,"26 et plus",FALSE))))))) -> #N/A | M4: 1 | N4: =MONTH(L4) -> 1 | O4: 0 | P4: =IF(N4-M4=0,0,IF(N4-M4=1,NETWORKDAYS(K4,L4,[1]Congés!$D$2:$D$160)-O4,IF(N4-M4=2,NETWORKDAYS(K4,EOMONTH(K4,1),[1]Congés!$D$2:$D$160)-O4,IF(N4-M4=3,NETWORKDAYS(K4,EOMONTH(K4,1),[1]Congés!$D$2:$D$160)-O4)))) -> 0 | Q4: =IF(N4-M4<2,0,IF(N4-M4=2,NETWORKDAYS(K4,L4,[1]Congés!$D$2:$D$160)-P4-O4,IF(N4-M4=3,NETWORKDAYS(K4,EOMONTH(K4,2),[1]Congés!$D$2:$D$160)-P4-O4))) -> 0 | R4: =IF(N4-M4<3,0,NETWORKDAYS(K4,L4,[1]Congés!$D$2:$D$160)-Q4-P4-O4) -> 0 | S4: =NETWORKDAYS(K4,L4,[1]Congés!C$2:C$160) -> 0 | T4: Arrêt Maladie | V4: =IF(S4<3,"1) 1 à 2 jours",IF(S4<5,"2) 3 à 4 jours",IF(S4=5,"3) 5 jours",IF(S4<=10,"4) 6 à 10 jours",IF(S4>10,"5) plus de 10 jours"))))) -> 1) 1 à 2 jours | Y4: =L4-K4+1 -> 1
A5: 2/12 | B5: 0 Ne pas effacer cette ligne !! | C5: =VLOOKUP(A5,'[1]BDD RH'!$A$9:$W$453,16,FALSE) -> #N/A | D5: =VLOOKUP(A5,'[1]BDD RH'!$A$9:$W$453,4,FALSE) -> #N/A | E5: =VLOOKUP(A5,'[1]BDD RH'!$A$9:$W$453,3,FALSE) -> #N/A | F5: =DATEDIF((VLOOKUP(A5,'[1]BDD RH'!$A$2:$W$485,7,FALSE)),K5,"y") -> #N/A | G5: =IF(F5<=20,"<=20",IF(F5<=30,"21/30",IF(F5<=40,"31/40",IF(F5<=50,"41/50",IF(F5<=60,"51/60",IF(F5>60,"61 et plus",FALSE)))))) -> #N/A | H5: =DATEDIF((VLOOKUP(A5,'[1]BDD RH'!$A$2:$W$485,11,FALSE)),K5,"y") -> #N/A | I5: =IF(H5<2,"<2",IF(H5<6,"2/5",IF(H5<11,"6/10",IF(H5<16,"11/15",IF(H5<21,"16/20",IF(H5<26,"21/25",IF(H5>25,"26 et plus",FALSE))))))) -> #N/A | M5: 2 | N5: =MONTH(L5) -> 1 | O5: 0 | P5: =IF(N5-M5=0,0,IF(N5-M5=1,NETWORKDAYS(K5,L5,[1]Congés!$D$2:$D$160)-O5,IF(N5-M5=2,NETWORKDAYS(K5,EOMONTH(K5,1),[1]Congés!$D$2:$D$160)-O5,IF(N5-M5=3,NETWORKDAYS(K5,EOMONTH(K5,1),[1]Congés!$D$2:$D$160)-O5)))) -> FALSE | Q5: =IF(N5-M5<2,0,IF(N5-M5=2,NETWORKDAYS(K5,L5,[1]Congés!$D$2:$D$160)-P5-O5,IF(N5-M5=3,NETWORKDAYS(K5,EOMONTH(K5,2),[1]Congés!$D$2:$D$160)-P5-O5))) -> 0 | R5: =IF(N5-M5<3,0,NETWORKDAYS(K5,L5,[1]Congés!$D$2:$D$160)-Q5-P5-O5) -> 0 | S5: =NETWORKDAYS(K5,L5,[1]Congés!C$2:C$160) -> 0 | T5: Mi-temps | V5: =IF(S5<3,"1) 1 à 2 jours",IF(S5<5,"2) 3 à 4 jours",IF(S5=5,"3) 5 jours",IF(S5<=10,"4) 6 à 10 jours",IF(S5>10,"5) plus de 10 jours"))))) -> 1) 1 à 2 jours | Y5: =L5-K5+1 -> 1
A6: 3/12 | B6: 0 Ne pas effacer cette ligne !! | C6: =VLOOKUP(A6,'[1]BDD RH'!$A$9:$W$453,16,FALSE) -> #N/A | D6: =VLOOKUP(A6,'[1]BDD RH'!$A$9:$W$453,4,FALSE) -> #N/A | E6: =VLOOKUP(A6,'[1]BDD RH'!$A$9:$W$453,3,FALSE) -> #N/A | F6: =DATEDIF((VLOOKUP(A6,'[1]BDD RH'!$A$2:$W$485,7,FALSE)),K6,"y") -> #N/A | G6: =IF(F6<=20,"<=20",IF(F6<=30,"21/30",IF(F6<=40,"31/40",IF(F6<=50,"41/50",IF(F6<=60,"51/60",IF(F6>60,"61 et plus",FALSE)))))) -> #N/A | H6: =DATEDIF((VLOOKUP(A6,'[1]BDD RH'!$A$2:$W$485,11,FALSE)),K6,"y") -> #N/A | I6: =IF(H6<2,"<2",IF(H6<6,"2/5",IF(H6<11,"6/10",IF(H6<16,"11/15",IF(H6<21,"16/20",IF(H6<26,"21/25",IF(H6>25,"26 et plus",FALSE))))))) -> #N/A | M6: 3 | N6: =MONTH(L6) -> 1 | O6: 0 | P6: =IF(N6-M6=0,0,IF(N6-M6=1,NETWORKDAYS(K6,L6,[1]Congés!$D$2:$D$160)-O6,IF(N6-M6=2,NETWORKDAYS(K6,EOMONTH(K6,1),[1]Congés!$D$2:$D$160)-O6,IF(N6-M6=3,NETWORKDAYS(K6,EOMONTH(K6,1),[1]Congés!$D$2:$D$160)-O6)))) -> FALSE | Q6: =IF(N6-M6<2,0,IF(N6-M6=2,NETWORKDAYS(K6,L6,[1]Congés!$D$2:$D$160)-P6-O6,IF(N6-M6=3,NETWORKDAYS(K6,EOMONTH(K6,2),[1]Congés!$D$2:$D$160)-P6-O6))) -> 0 | R6: =IF(N6-M6<3,0,NETWORKDAYS(K6,L6,[1]Congés!$D$2:$D$160)-Q6-P6-O6) -> 0 | S6: =NETWORKDAYS(K6,L6,[1]Congés!C$2:C$160) -> 0 | T6: AT 16 | V6: =IF(S6<3,"1) 1 à 2 jours",IF(S6<5,"2) 3 à 4 jours",IF(S6=5,"3) 5 jours",IF(S6<=10,"4) 6 à 10 jours",IF(S6>10,"5) plus de 10 jours"))))) -> 1) 1 à 2 jours | Y6: =L6-K6+1 -> 1
A7: 4/12 | B7: 0 Ne pas effacer cette ligne !! | C7: =VLOOKUP(A7,'[1]BDD RH'!$A$9:$W$453,16,FALSE) -> #N/A | D7: =VLOOKUP(A7,'[1]BDD RH'!$A$9:$W$453,4,FALSE) -> #N/A | E7: =VLOOKUP(A7,'[1]BDD RH'!$A$9:$W$453,3,FALSE) -> #N/A | F7: =DATEDIF((VLOOKUP(A7,'[1]BDD RH'!$A$2:$W$485,7,FALSE)),K7,"y") -> #N/A | G7: =IF(F7<=20,"<=20",IF(F7<=30,"21/30",IF(F7<=40,"31/40",IF(F7<=50,"41/50",IF(F7<=60,"51/60",IF(F7>60,"61 et plus",FALSE)))))) -> #N/A | H7: =DATEDIF((VLOOKUP(A7,'[1]BDD RH'!$A$2:$W$485,11,FALSE)),K7,"y") -> #N/A | I7: =IF(H7<2,"<2",IF(H7<6,"2/5",IF(H7<11,"6/10",IF(H7<16,"11/15",IF(H7<21,"16/20",IF(H7<26,"21/25",IF(H7>25,"26 et plus",FALSE))))))) -> #N/A | M7: 4 | N7: =MONTH(L7) -> 1 | O7: 0 | P7: =IF(N7-M7=0,0,IF(N7-M7=1,NETWORKDAYS(K7,L7,[1]Congés!$D$2:$D$160)-O7,IF(N7-M7=2,NETWORKDAYS(K7,EOMONTH(K7,1),[1]Congés!$D$2:$D$160)-O7,IF(N7-M7=3,NETWORKDAYS(K7,EOMONTH(K7,1),[1]Congés!$D$2:$D$160)-O7)))) -> FALSE | Q7: =IF(N7-M7<2,0,IF(N7-M7=2,NETWORKDAYS(K7,L7,[1]Congés!$D$2:$D$160)-P7-O7,IF(N7-M7=3,NETWORKDAYS(K7,EOMONTH(K7,2),[1]Congés!$D$2:$D$160)-P7-O7))) -> 0 | R7: =IF(N7-M7<3,0,NETWORKDAYS(K7,L7,[1]Congés!$D$2:$D$160)-Q7-P7-O7) -> 0 | S7: =NETWORKDAYS(K7,L7,[1]Congés!C$2:C$160) -> 0 | T7: AT 16 SPEC | V7: =IF(S7<3,"1) 1 à 2 jours",IF(S7<5,"2) 3 à 4 jours",IF(S7=5,"3) 5 jours",IF(S7<=10,"4) 6 à 10 jours",IF(S7>10,"5) plus de 10 jours"))))) -> 1) 1 à 2 jours | Y7: =L7-K7+1 -> 1
A8: 4/12 | B8: 0 Ne pas effacer cette ligne !! | C8: =VLOOKUP(A8,'[1]BDD RH'!$A$9:$W$453,16,FALSE) -> #N/A | D8: =VLOOKUP(A8,'[1]BDD RH'!$A$9:$W$453,4,FALSE) -> #N/A | E8: =VLOOKUP(A8,'[1]BDD RH'!$A$9:$W$453,3,FALSE) -> #N/A | F8: =DATEDIF((VLOOKUP(A8,'[1]BDD RH'!$A$2:$W$485,7,FALSE)),K8,"y") -> #N/A | G8: =IF(F8<=20,"<=20",IF(F8<=30,"21/30",IF(F8<=40,"31/40",IF(F8<=50,"41/50",IF(F8<=60,"51/60",IF(F8>60,"61 et plus",FALSE)))))) -> #N/A | H8: =DATEDIF((VLOOKUP(A8,'[1]BDD RH'!$A$2:$W$485,11,FALSE)),K8,"y") -> #N/A | I8: =IF(H8<2,"<2",IF(H8<6,"2/5",IF(H8<11,"6/10",IF(H8<16,"11/15",IF(H8<21,"16/20",IF(H8<26,"21/25",IF(H8>25,"26 et plus",FALSE))))))) -> #N/A | M8: 5 | N8: =MONTH(L8) -> 1 | O8: 0 | P8: =IF(N8-M8=0,0,IF(N8-M8=1,NETWORKDAYS(K8,L8,[1]Congés!$D$2:$D$160)-O8,IF(N8-M8=2,NETWORKDAYS(K8,EOMONTH(K8,1),[1]Congés!$D$2:$D$160)-O8,IF(N8-M8=3,NETWORKDAYS(K8,EOMONTH(K8,1),[1]Congés!$D$2:$D$160)-O8)))) -> FALSE | Q8: =IF(N8-M8<2,0,IF(N8-M8=2,NETWORKDAYS(K8,L8,[1]Congés!$D$2:$D$160)-P8-O8,IF(N8-M8=3,NETWORKDAYS(K8,EOMONTH(K8,2),[1]Congés!$D$2:$D$160)-P8-O8))) -> 0 | R8: =IF(N8-M8<3,0,NETWORKDAYS(K8,L8,[1]Congés!$D$2:$D$160)-Q8-P8-O8) -> 0 | S8: =NETWORKDAYS(K8,L8,[1]Congés!C$2:C$160) -> 0 | T8: AT 15 SPEC | V8: =IF(S8<3,"1) 1 à 2 jours",IF(S8<5,"2) 3 à 4 jours",IF(S8=5,"3) 5 jours",IF(S8<=10,"4) 6 à 10 jours",IF(S8>10,"5) plus de 10 jours"))))) -> 1) 1 à 2 jours | Y8: =L8-K8+1 -> 1
A9: 5/12 | B9: 0 Ne pas effacer cette ligne !! | C9: =VLOOKUP(A9,'[1]BDD RH'!$A$9:$W$453,16,FALSE) -> #N/A | D9: =VLOOKUP(A9,'[1]BDD RH'!$A$9:$W$453,4,FALSE) -> #N/A | E9: =VLOOKUP(A9,'[1]BDD RH'!$A$9:$W$453,3,FALSE) -> #N/A | F9: =DATEDIF((VLOOKUP(A9,'[1]BDD RH'!$A$2:$W$485,7,FALSE)),K9,"y") -> #N/A | G9: =IF(F9<=20,"<=20",IF(F9<=30,"21/30",IF(F9<=40,"31/40",IF(F9<=50,"41/50",IF(F9<=60,"51/60",IF(F9>60,"61 et plus",FALSE)))))) -> #N/A | H9: =DATEDIF((VLOOKUP(A9,'[1]BDD RH'!$A$2:$W$485,11,FALSE)),K9,"y") -> #N/A | I9: =IF(H9<2,"<2",IF(H9<6,"2/5",IF(H9<11,"6/10",IF(H9<16,"11/15",IF(H9<21,"16/20",IF(H9<26,"21/25",IF(H9>25,"26 et plus",FALSE))))))) -> #N/A | M9: 5 | N9: =MONTH(L9) -> 1 | O9: 0 | P9: =IF(N9-M9=0,0,IF(N9-M9=1,NETWORKDAYS(K9,L9,[1]Congés!$D$2:$D$160)-O9,IF(N9-M9=2,NETWORKDAYS(K9,EOMONTH(K9,1),[1]Congés!$D$2:$D$160)-O9,IF(N9-M9=3,NETWORKDAYS(K9,EOMONTH(K9,1),[1]Congés!$D$2:$D$160)-O9)))) -> FALSE | Q9: =IF(N9-M9<2,0,IF(N9-M9=2,NETWORKDAYS(K9,L9,[1]Congés!$D$2:$D$160)-P9-O9,IF(N9-M9=3,NETWORKDAYS(K9,EOMONTH(K9,2),[1]Congés!$D$2:$D$160)-P9-O9))) -> 0 | R9: =IF(N9-M9<3,0,NETWORKDAYS(K9,L9,[1]Congés!$D$2:$D$160)-Q9-P9-O9) -> 0 | S9: =NETWORKDAYS(K9,L9,[1]Congés!C$2:C$160) -> 0 | T9: AT 15 | V9: =IF(S9<3,"1) 1 à 2 jours",IF(S9<5,"2) 3 à 4 jours",IF(S9=5,"3) 5 jours",IF(S9<=10,"4) 6 à 10 jours",IF(S9>10,"5) plus de 10 jours"))))) -> 1) 1 à 2 jours | Y9: =L9-K9+1 -> 1
A10: 6/12 | B10: 0 Ne pas effacer cette ligne !! | C10: =VLOOKUP(A10,'[1]BDD RH'!$A$9:$W$453,16,FALSE) -> #N/A | D10: =VLOOKUP(A10,'[1]BDD RH'!$A$9:$W$453,4,FALSE) -> #N/A | E10: =VLOOKUP(A10,'[1]BDD RH'!$A$9:$W$453,3,FALSE) -> #N/A | F10: =DATEDIF((VLOOKUP(A10,'[1]BDD RH'!$A$2:$W$485,7,FALSE)),K10,"y") -> #N/A | G10: =IF(F10<=20,"<=20",IF(F10<=30,"21/30",IF(F10<=40,"31/40",IF(F10<=50,"41/50",IF(F10<=60,"51/60",IF(F10>60,"61 et plus",FALSE)))))) -> #N/A | H10: =DATEDIF((VLOOKUP(A10,'[1]BDD RH'!$A$2:$W$485,11,FALSE)),K10,"y") -> #N/A | I10: =IF(H10<2,"<2",IF(H10<6,"2/5",IF(H10<11,"6/10",IF(H10<16,"11/15",IF(H10<21,"16/20",IF(H10<26,"21/25",IF(H10>25,"26 et plus",FALSE))))))) -> #N/A | M10: 6 | N10: =MONTH(L10) -> 1 | O10: 0 | P10: =IF(N10-M10=0,0,IF(N10-M10=1,NETWORKDAYS(K10,L10,[1]Congés!$D$2:$D$160)-O10,IF(N10-M10=2,NETWORKDAYS(K10,EOMONTH(K10,1),[1]Congés!$D$2:$D$160)-O10,IF(N10-M10=3,NETWORKDAYS(K10,EOMONTH(K10,1),[1]Congés!$D$2:$D$160)-O10)))) -> FALSE | Q10: =IF(N10-M10<2,0,IF(N10-M10=2,NETWORKDAYS(K10,L10,[1]Congés!$D$2:$D$160)-P10-O10,IF(N10-M10=3,NETWORKDAYS(K10,EOMONTH(K10,2),[1]Congés!$D$2:$D$160)-P10-O10))) -> 0 | R10: =IF(N10-M10<3,0,NETWORKDAYS(K10,L10,[1]Congés!$D$2:$D$160)-Q10-P10-O10) -> 0 | S10: =NETWORKDAYS(K10,L10,[1]Congés!C$2:C$160) -> 0 | T10: ATT 16 | V10: =IF(S10<3,"1) 1 à 2 jours",IF(S10<5,"2) 3 à 4 jours",IF(S10=5,"3) 5 jours",IF(S10<=10,"4) 6 à 10 jours",IF(S10>10,"5) plus de 10 jours"))))) -> 1) 1 à 2 jours | Y10: =L10-K10+1 -> 1
A11: 7/12 | B11: 0 Ne pas effacer cette ligne !! | C11: =VLOOKUP(A11,'[1]BDD RH'!$A$9:$W$453,16,FALSE) -> #N/A | D11: =VLOOKUP(A11,'[1]BDD RH'!$A$9:$W$453,4,FALSE) -> #N/A | E11: =VLOOKUP(A11,'[1]BDD RH'!$A$9:$W$453,3,FALSE) -> #N/A | F11: =DATEDIF((VLOOKUP(A11,'[1]BDD RH'!$A$2:$W$485,7,FALSE)),K11,"y") -> #N/A | G11: =IF(F11<=20,"<=20",IF(F11<=30,"21/30",IF(F11<=40,"31/40",IF(F11<=50,"41/50",IF(F11<=60,"51/60",IF(F11>60,"61 et plus",FALSE)))))) -> #N/A | H11: =DATEDIF((VLOOKUP(A11,'[1]BDD RH'!$A$2:$W$485,11,FALSE)),K11,"y") -> #N/A | I11: =IF(H11<2,"<2",IF(H11<6,"2/5",IF(H11<11,"6/10",IF(H11<16,"11/15",IF(H11<21,"16/20",IF(H11<26,"21/25",IF(H11>25,"26 et plus",FALSE))))))) -> #N/A | M11: 7 | N11: =MONTH(L11) -> 1 | O11: 0 | P11: =IF(N11-M11=0,0,IF(N11-M11=1,NETWORKDAYS(K11,L11,[1]Congés!$D$2:$D$160)-O11,IF(N11-M11=2,NETWORKDAYS(K11,EOMONTH(K11,1),[1]Congés!$D$2:$D$160)-O11,IF(N11-M11=3,NETWORKDAYS(K11,EOMONTH(K11,1),[1]Congés!$D$2:$D$160)-O11)))) -> FALSE | Q11: =IF(N11-M11<2,0,IF(N11-M11=2,NETWORKDAYS(K11,L11,[1]Congés!$D$2:$D$160)-P11-O11,IF(N11-M11=3,NETWORKDAYS(K11,EOMONTH(K11,2),[1]Congés!$D$2:$D$160)-P11-O11))) -> 0 | R11: =IF(N11-M11<3,0,NETWORKDAYS(K11,L11,[1]Congés!$D$2:$D$160)-Q11-P11-O11) -> 0 | S11: =NETWORKDAYS(K11,L11,[1]Congés!C$2:C$160) -> 0 | T11: ATT 16 SPEC | V11: =IF(S11<3,"1) 1 à 2 jours",IF(S11<5,"2) 3 à 4 jours",IF(S11=5,"3) 5 jours",IF(S11<=10,"4) 6 à 10 jours",IF(S11>10,"5) plus de 10 jours"))))) -> 1) 1 à 2 jours | Y11: =L11-K11+1 -> 1
A12: 8/12 | B12: 0 Ne pas effacer cette ligne !! | C12: =VLOOKUP(A12,'[1]BDD RH'!$A$9:$W$453,16,FALSE) -> #N/A | D12: =VLOOKUP(A12,'[1]BDD RH'!$A$9:$W$453,4,FALSE) -> #N/A | E12: =VLOOKUP(A12,'[1]BDD RH'!$A$9:$W$453,3,FALSE) -> #N/A | F12: =DATEDIF((VLOOKUP(A12,'[1]BDD RH'!$A$2:$W$485,7,FALSE)),K12,"y") -> #N/A | G12: =IF(F12<=20,"<=20",IF(F12<=30,"21/30",IF(F12<=40,"31/40",IF(F12<=50,"41/50",IF(F12<=60,"51/60",IF(F12>60,"61 et plus",FALSE)))))) -> #N/A | H12: =DATEDIF((VLOOKUP(A12,'[1]BDD RH'!$A$2:$W$485,11,FALSE)),K12,"y") -> #N/A | I12: =IF(H12<2,"<2",IF(H12<6,"2/5",IF(H12<11,"6/10",IF(H12<16,"11/15",IF(H12<21,"16/20",IF(H12<26,"21/25",IF(H12>25,"26 et plus",FALSE))))))) -> #N/A | M12: 8 | N12: =MONTH(L12) -> 1 | O12: 0 | P12: =IF(N12-M12=0,0,IF(N12-M12=1,NETWORKDAYS(K12,L12,[1]Congés!$D$2:$D$160)-O12,IF(N12-M12=2,NETWORKDAYS(K12,EOMONTH(K12,1),[1]Congés!$D$2:$D$160)-O12,IF(N12-M12=3,NETWORKDAYS(K12,EOMONTH(K12,1),[1]Congés!$D$2:$D$160)-O12)))) -> FALSE | Q12: =IF(N12-M12<2,0,IF(N12-M12=2,NETWORKDAYS(K12,L12,[1]Congés!$D$2:$D$160)-P12-O12,IF(N12-M12=3,NETWORKDAYS(K12,EOMONTH(K12,2),[1]Congés!$D$2:$D$160)-P12-O12))) -> 0 | R12: =IF(N12-M12<3,0,NETWORKDAYS(K12,L12,[1]Congés!$D$2:$D$160)-Q12-P12-O12) -> 0 | S12: =NETWORKDAYS(K12,L12,[1]Congés!C$2:C$160) -> 0 | T12: LM Pro | V12: =IF(S12<3,"1) 1 à 2 jours",IF(S12<5,"2) 3 à 4 jours",IF(S12=5,"3) 5 jours",IF(S12<=10,"4) 6 à 10 jours",IF(S12>10,"5) plus de 10 jours"))))) -> 1) 1 à 2 jours | Y12: =L12-K12+1 -> 1
A13: 9/12 | B13: 0 Ne pas effacer cette ligne !! | C13: =VLOOKUP(A13,'[1]BDD RH'!$A$9:$W$453,16,FALSE) -> #N/A | D13: =VLOOKUP(A13,'[1]BDD RH'!$A$9:$W$453,4,FALSE) -> #N/A | E13: =VLOOKUP(A13,'[1]BDD RH'!$A$9:$W$453,3,FALSE) -> #N/A | F13: =DATEDIF((VLOOKUP(A13,'[1]BDD RH'!$A$2:$W$485,7,FALSE)),K13,"y") -> #N/A | G13: =IF(F13<=20,"<=20",IF(F13<=30,"21/30",IF(F13<=40,"31/40",IF(F13<=50,"41/50",IF(F13<=60,"51/60",IF(F13>60,"61 et plus",FALSE)))))) -> #N/A | H13: =DATEDIF((VLOOKUP(A13,'[1]BDD RH'!$A$2:$W$485,11,FALSE)),K13,"y") -> #N/A | I13: =IF(H13<2,"<2",IF(H13<6,"2/5",IF(H13<11,"6/10",IF(H13<16,"11/15",IF(H13<21,"16/20",IF(H13<26,"21/25",IF(H13>25,"26 et plus",FALSE))))))) -> #N/A | M13: 9 | N13: =MONTH(L13) -> 1 | O13: 0 | P13: =IF(N13-M13=0,0,IF(N13-M13=1,NETWORKDAYS(K13,L13,[1]Congés!$D$2:$D$160)-O13,IF(N13-M13=2,NETWORKDAYS(K13,EOMONTH(K13,1),[1]Congés!$D$2:$D$160)-O13,IF(N13-M13=3,NETWORKDAYS(K13,EOMONTH(K13,1),[1]Congés!$D$2:$D$160)-O13)))) -> FALSE | Q13: =IF(N13-M13<2,0,IF(N13-M13=2,NETWORKDAYS(K13,L13,[1]Congés!$D$2:$D$160)-P13-O13,IF(N13-M13=3,NETWORKDAYS(K13,EOMONTH(K13,2),[1]Congés!$D$2:$D$160)-P13-O13))) -> 0 | R13: =IF(N13-M13<3,0,NETWORKDAYS(K13,L13,[1]Congés!$D$2:$D$160)-Q13-P13-O13) -> 0 | S13: =NETWORKDAYS(K13,L13,[1]Congés!C$2:C$160) -> 0 | T13: M Pro | V13: =IF(S13<3,"1) 1 à 2 jours",IF(S13<5,"2) 3 à 4 jours",IF(S13=5,"3) 5 jours",IF(S13<=10,"4) 6 à 10 jours",IF(S13>10,"5) plus de 10 jours"))))) -> 1) 1 à 2 jours | Y13: =L13-K13+1 -> 1
A14: 10/12 | B14: 0 Ne pas effacer cette ligne !! | C14: =VLOOKUP(A14,'[1]BDD RH'!$A$9:$W$453,16,FALSE) -> #N/A | D14: =VLOOKUP(A14,'[1]BDD RH'!$A$9:$W$453,4,FALSE) -> #N/A | E14: =VLOOKUP(A14,'[1]BDD RH'!$A$9:$W$453,3,FALSE) -> #N/A | F14: =DATEDIF((VLOOKUP(A14,'[1]BDD RH'!$A$2:$W$485,7,FALSE)),K14,"y") -> #N/A | G14: =IF(F14<=20,"<=20",IF(F14<=30,"21/30",IF(F14<=40,"31/40",IF(F14<=50,"41/50",IF(F14<=60,"51/60",IF(F14>60,"61 et plus",FALSE)))))) -> #N/A | H14: =DATEDIF((VLOOKUP(A14,'[1]BDD RH'!$A$2:$W$485,11,FALSE)),K14,"y") -> #N/A | I14: =IF(H14<2,"<2",IF(H14<6,"2/5",IF(H14<11,"6/10",IF(H14<16,"11/15",IF(H14<21,"16/20",IF(H14<26,"21/25",IF(H14>25,"26 et plus",FALSE))))))) -> #N/A | M14: 10 | N14: =MONTH(L14) -> 1 | O14: 0 | P14: =IF(N14-M14=0,0,IF(N14-M14=1,NETWORKDAYS(K14,L14,[1]Congés!$D$2:$D$160)-O14,IF(N14-M14=2,NETWORKDAYS(K14,EOMONTH(K14,1),[1]Congés!$D$2:$D$160)-O14,IF(N14-M14=3,NETWORKDAYS(K14,EOMONTH(K14,1),[1]Congés!$D$2:$D$160)-O14)))) -> FALSE | Q14: =IF(N14-M14<2,0,IF(N14-M14=2,NETWORKDAYS(K14,L14,[1]Congés!$D$2:$D$160)-P14-O14,IF(N14-M14=3,NETWORKDAYS(K14,EOMONTH(K14,2),[1]Congés!$D$2:$D$160)-P14-O14))) -> 0 | R14: =IF(N14-M14<3,0,NETWORKDAYS(K14,L14,[1]Congés!$D$2:$D$160)-Q14-P14-O14) -> 0 | S14: =NETWORKDAYS(K14,L14,[1]Congés!C$2:C$160) -> 0 | T14: LM | V14: =IF(S14<3,"1) 1 à 2 jours",IF(S14<5,"2) 3 à 4 jours",IF(S14=5,"3) 5 jours",IF(S14<=10,"4) 6 à 10 jours",IF(S14>10,"5) plus de 10 jours"))))) -> 1) 1 à 2 jours | Y14: =L14-K14+1 -> 1
A15: 11/12 | B15: 0 Ne pas effacer cette ligne !! | C15: =VLOOKUP(A15,'[1]BDD RH'!$A$9:$W$453,16,FALSE) -> #N/A | D15: =VLOOKUP(A15,'[1]BDD RH'!$A$9:$W$453,4,FALSE) -> #N/A | E15: =VLOOKUP(A15,'[1]BDD RH'!$A$9:$W$453,3,FALSE) -> #N/A | F15: =DATEDIF((VLOOKUP(A15,'[1]BDD RH'!$A$2:$W$485,7,FALSE)),K15,"y") -> #N/A | G15: =IF(F15<=20,"<=20",IF(F15<=30,"21/30",IF(F15<=40,"31/40",IF(F15<=50,"41/50",IF(F15<=60,"51/60",IF(F15>60,"61 et plus",FALSE)))))) -> #N/A | H15: =DATEDIF((VLOOKUP(A15,'[1]BDD RH'!$A$2:$W$485,11,FALSE)),K15,"y") -> #N/A | I15: =IF(H15<2,"<2",IF(H15<6,"2/5",IF(H15<11,"6/10",IF(H15<16,"11/15",IF(H15<21,"16/20",IF(H15<26,"21/25",IF(H15>25,"26 et plus",FALSE))))))) -> #N/A | M15: 11 | N15: =MONTH(L15) -> 1 | O15: 0 | P15: =IF(N15-M15=0,0,IF(N15-M15=1,NETWORKDAYS(K15,L15,[1]Congés!$D$2:$D$160)-O15,IF(N15-M15=2,NETWORKDAYS(K15,EOMONTH(K15,1),[1]Congés!$D$2:$D$160)-O15,IF(N15-M15=3,NETWORKDAYS(K15,EOMONTH(K15,1),[1]Congés!$D$2:$D$160)-O15)))) -> FALSE | Q15: =IF(N15-M15<2,0,IF(N15-M15=2,NETWORKDAYS(K15,L15,[1]Congés!$D$2:$D$160)-P15-O15,IF(N15-M15=3,NETWORKDAYS(K15,EOMONTH(K15,2),[1]Congés!$D$2:$D$160)-P15-O15))) -> 0 | R15: =IF(N15-M15<3,0,NETWORKDAYS(K15,L15,[1]Congés!$D$2:$D$160)-Q15-P15-O15) -> 0 | S15: =NETWORKDAYS(K15,L15,[1]Congés!C$2:C$160) -> 0 | T15: ATT 15 | V15: =IF(S15<3,"1) 1 à 2 jours",IF(S15<5,"2) 3 à 4 jours",IF(S15=5,"3) 5 jours",IF(S15<=10,"4) 6 à 10 jours",IF(S15>10,"5) plus de 10 jours"))))) -> 1) 1 à 2 jours | Y15: =L15-K15+1 -> 1
A16: 12/12 | B16: 0 Ne pas effacer cette ligne !! | C16: =VLOOKUP(A16,'[1]BDD RH'!$A$9:$W$453,16,FALSE) -> #N/A | D16: =VLOOKUP(A16,'[1]BDD RH'!$A$9:$W$453,4,FALSE) -> #N/A | E16: =VLOOKUP(A16,'[1]BDD RH'!$A$9:$W$453,3,FALSE) -> #N/A | F16: =DATEDIF((VLOOKUP(A16,'[1]BDD RH'!$A$2:$W$485,7,FALSE)),K16,"y") -> #N/A | G16: =IF(F16<=20,"<=20",IF(F16<=30,"21/30",IF(F16<=40,"31/40",IF(F16<=50,"41/50",IF(F16<=60,"51/60",IF(F16>60,"61 et plus",FALSE)))))) -> #N/A | H16: =DATEDIF((VLOOKUP(A16,'[1]BDD RH'!$A$2:$W$485,11,FALSE)),K16,"y") -> #N/A | I16: =IF(H16<2,"<2",IF(H16<6,"2/5",IF(H16<11,"6/10",IF(H16<16,"11/15",IF(H16<21,"16/20",IF(H16<26,"21/25",IF(H16>25,"26 et plus",FALSE))))))) -> #N/A | M16: 12 | N16: =MONTH(L16) -> 1 | O16: 0 | P16: =IF(N16-M16=0,0,IF(N16-M16=1,NETWORKDAYS(K16,L16,[1]Congés!$D$2:$D$160)-O16,IF(N16-M16=2,NETWORKDAYS(K16,EOMONTH(K16,1),[1]Congés!$D$2:$D$160)-O16,IF(N16-M16=3,NETWORKDAYS(K16,EOMONTH(K16,1),[1]Congés!$D$2:$D$160)-O16)))) -> FALSE | Q16: =IF(N16-M16<2,0,IF(N16-M16=2,NETWORKDAYS(K16,L16,[1]Congés!$D$2:$D$160)-P16-O16,IF(N16-M16=3,NETWORKDAYS(K16,EOMONTH(K16,2),[1]Congés!$D$2:$D$160)-P16-O16))) -> 0 | R16: =IF(N16-M16<3,0,NETWORKDAYS(K16,L16,[1]Congés!$D$2:$D$160)-Q16-P16-O16) -> 0 | S16: =NETWORKDAYS(K16,L16,[1]Congés!C$2:C$160) -> 0 | T16: Arrêt Maladie | V16: =IF(S16<3,"1) 1 à 2 jours",IF(S16<5,"2) 3 à 4 jours",IF(S16=5,"3) 5 jours",IF(S16<=10,"4) 6 à 10 jours",IF(S16>10,"5) plus de 10 jours"))))) -> 1) 1 à 2 jours | Y16: =L16-K16+1 -> 1
A17: 16737 | D17: =VLOOKUP(A17,'[1]BDD RH'!$A$9:$W$453,4,FALSE) -> t | E17: =VLOOKUP(A17,'[1]BDD RH'!$A$9:$W$453,3,FALSE) -> F | F17: =DATEDIF((VLOOKUP(A17,'[1]BDD RH'!$A$2:$W$485,7,FALSE)),K17,"y") -> 41 | G17: =IF(F17<=20,"<=20",IF(F17<=30,"21/30",IF(F17<=40,"31/40",IF(F17<=50,"41/50",IF(F17<=60,"51/60",IF(F17>60,"61 et plus",FALSE)))))) -> 41/50 | H17: =DATEDIF((VLOOKUP(A17,'[1]BDD RH'!$A$2:$W$485,11,FALSE)),K17,"y") -> 9 | I17: =IF(H17<2,"<2",IF(H17<6,"2/5",IF(H17<11,"6/10",IF(H17<16,"11/15",IF(H17<21,"16/20",IF(H17<26,"21/25",IF(H17>25,"26 et plus",FALSE))))))) -> 6/10 | J17: ABA00 | K17: 42370 | L17: 42372 | M17: =MONTH(K17) -> 1 | N17: =MONTH(L17) -> 1 | O17: =IF(N17-M17=0,NETWORKDAYS(K17,L17,[1]Congés!$D$2:$D$26),NETWORKDAYS(K17,EOMONTH(K17,0),[1]Congés!$D$2:$D$26)) -> 1 | P17: =IF(N17-M17=0,0,IF(N17-M17=1,NETWORKDAYS(K17,L17,[1]Congés!$D$2:$D$160)-O17,IF(N17-M17=2,NETWORKDAYS(K17,EOMONTH(K17,1),[1]Congés!$D$2:$D$160)-O17,IF(N17-M17=3,NETWORKDAYS(K17,EOMONTH(K17,1),[1]Congés!$D$2:$D$160)-O17)))) -> 0 | Q17: =IF(N17-M17<2,0,IF(N17-M17=2,NETWORKDAYS(K17,L17,[1]Congés!$D$2:$D$160)-P17-O17,IF(N17-M17=3,NETWORKDAYS(K17,EOMONTH(K17,2),[1]Congés!$D$2:$D$160)-P17-O17))) -> 0 | R17: =IF(N17-M17<3,0,NETWORKDAYS(K17,L17,[1]Congés!$D$2:$D$160)-Q17-P17-O17) -> 0 | S17: =NETWORKDAYS(K17,L17,[1]Congés!C$2:C$160) -> 0 | T17: LM | U17: 42254 | V17: =IF(S17<3,"1) 1 à 2 jours",IF(S17<5,"2) 3 à 4 jours",IF(S17=5,"3) 5 jours",IF(S17<=10,"4) 6 à 10 jours",IF(S17>10,"5) plus de 10 jours"))))) -> 1) 1 à 2 jours | W17: vm faite | X17: 42402 | Y17: =L17-K17+1 -> 3
A18: 16737 | D18: =VLOOKUP(A18,'[1]BDD RH'!$A$9:$W$453,4,FALSE) -> t | E18: =VLOOKUP(A18,'[1]BDD RH'!$A$9:$W$453,3,FALSE) -> F | F18: =DATEDIF((VLOOKUP(A18,'[1]BDD RH'!$A$2:$W$485,7,FALSE)),K18,"y") -> 41 | G18: =IF(F18<=20,"<=20",IF(F18<=30,"21/30",IF(F18<=40,"31/40",IF(F18<=50,"41/50",IF(F18<=60,"51/60",IF(F18>60,"61 et plus",FALSE)))))) -> 41/50 | H18: =DATEDIF((VLOOKUP(A18,'[1]BDD RH'!$A$2:$W$485,11,FALSE)),K18,"y") -> 9 | I18: =IF(H18<2,"<2",IF(H18<6,"2/5",IF(H18<11,"6/10",IF(H18<16,"11/15",IF(H18<21,"16/20",IF(H18<26,"21/25",IF(H18>25,"26 et plus",FALSE))))))) -> 6/10 | K18: 42373 | L18: 42433 | M18: =MONTH(K18) -> 1 | N18: =MONTH(L18) -> 3 | O18: =IF(N18-M18=0,NETWORKDAYS(K18,L18,[1]Congés!$D$2:$D$26),NETWORKDAYS(K18,EOMONTH(K18,0),[1]Congés!$D$2:$D$26)) -> 20 | P18: =IF(N18-M18=0,0,IF(N18-M18=1,NETWORKDAYS(K18,L18,[1]Congés!$D$2:$D$160)-O18,IF(N18-M18=2,NETWORKDAYS(K18,EOMONTH(K18,1),[1]Congés!$D$2:$D$160)-O18,IF(N18-M18=3,NETWORKDAYS(K18,EOMONTH(K18,1),[1]Congés!$D$2:$D$160)-O18)))) -> 21 | Q18: =IF(N18-M18<2,0,IF(N18-M18=2,NETWORKDAYS(K18,L18,[1]Congés!$D$2:$D$160)-P18-O18,IF(N18-M18=3,NETWORKDAYS(K18,EOMONTH(K18,2),[1]Congés!$D$2:$D$160)-P18-O18))) -> 4 | R18: =IF(N18-M18<3,0,NETWORKDAYS(K18,L18,[1]Congés!$D$2:$D$160)-Q18-P18-O18) -> 0 | S18: =NETWORKDAYS(K18,L18,[1]Congés!C$2:C$160) -> 45 | T18: Mi-temps | U18: 42373 | V18: =IF(S18<3,"1) 1 à 2 jours",IF(S18<5,"2) 3 à 4 jours",IF(S18=5,"3) 5 jours",IF(S18<=10,"4) 6 à 10 jours",IF(S18>10,"5) plus de 10 jours"))))) -> 5) plus de 10 jours | Y18: =L18-K18+1 -> 61
A19: 17354 | D19: =VLOOKUP(A19,'[1]BDD RH'!$A$9:$W$453,4,FALSE) -> t | E19: =VLOOKUP(A19,'[1]BDD RH'!$A$9:$W$453,3,FALSE) -> F | F19: =DATEDIF((VLOOKUP(A19,'[1]BDD RH'!$A$2:$W$485,7,FALSE)),K19,"y") -> 29 | G19: =IF(F19<=20,"<=20",IF(F19<=30,"21/30",IF(F19<=40,"31/40",IF(F19<=50,"41/50",IF(F19<=60,"51/60",IF(F19>60,"61 et plus",FALSE)))))) -> 21/30 | H19: =DATEDIF((VLOOKUP(A19,'[1]BDD RH'!$A$2:$W$485,11,FALSE)),K19,"y") -> 8 | I19: =IF(H19<2,"<2",IF(H19<6,"2/5",IF(H19<11,"6/10",IF(H19<16,"11/15",IF(H19<21,"16/20",IF(H19<26,"21/25",IF(H19>25,"26 et plus",FALSE))))))) -> 6/10 | J19: ACE01 | K19: 42376 | L19: 42408 | M19: =MONTH(K19) -> 1 | N19: =MONTH(L19) -> 2 | O19: =IF(N19-M19=0,NETWORKDAYS(K19,L19,[1]Congés!$D$2:$D$26),NETWORKDAYS(K19,EOMONTH(K19,0),[1]Congés!$D$2:$D$26)) -> 17 | P19: =IF(N19-M19=0,0,IF(N19-M19=1,NETWORKDAYS(K19,L19,[1]Congés!$D$2:$D$160)-O19,IF(N19-M19=2,NETWORKDAYS(K19,EOMONTH(K19,1),[1]Congés!$D$2:$D$160)-O19,IF(N19-M19=3,NETWORKDAYS(K19,EOMONTH(K19,1),[1]Congés!$D$2:$D$160)-O19)))) -> 6 | Q19: =IF(N19-M19<2,0,IF(N19-M19=2,NETWORKDAYS(K19,L19,[1]Congés!$D$2:$D$160)-P19-O19,IF(N19-M19=3,NETWORKDAYS(K19,EOMONTH(K19,2),[1]Congés!$D$2:$D$160)-P19-O19))) -> 0 | R19: =IF(N19-M19<3,0,NETWORKDAYS(K19,L19,[1]Congés!$D$2:$D$160)-Q19-P19-O19) -> 0 | S19: =NETWORKDAYS(K19,L19,[1]Congés!C$2:C$160) -> 23 | T19: Arrêt Maladie | V19: =IF(S19<3,"1) 1 à 2 jours",IF(S19<5,"2) 3 à 4 jours",IF(S19=5,"3) 5 jours",IF(S19<=10,"4) 6 à 10 jours",IF(S19>10,"5) plus de 10 jours"))))) -> 5) plus de 10 jours | W19: vm à prévoir | Y19: =L19-K19+1 -> 33
A20: 4300 | D20: =VLOOKUP(A20,'[1]BDD RH'!$A$9:$W$453,4,FALSE) -> s | E20: =VLOOKUP(A20,'[1]BDD RH'!$A$9:$W$453,3,FALSE) -> F | F20: =DATEDIF((VLOOKUP(A20,'[1]BDD RH'!$A$2:$W$485,7,FALSE)),K20,"y") -> 46 | G20: =IF(F20<=20,"<=20",IF(F20<=30,"21/30",IF(F20<=40,"31/40",IF(F20<=50,"41/50",IF(F20<=60,"51/60",IF(F20>60,"61 et plus",FALSE)))))) -> 41/50 | H20: =DATEDIF((VLOOKUP(A20,'[1]BDD RH'!$A$2:$W$485,11,FALSE)),K20,"y") -> 24 | I20: =IF(H20<2,"<2",IF(H20<6,"2/5",IF(H20<11,"6/10",IF(H20<16,"11/15",IF(H20<21,"16/20",IF(H20<26,"21/25",IF(H20>25,"26 et plus",FALSE))))))) -> 21/25 | J20: ALM01 | K20: 42370 | L20: 42380 | M20: =MONTH(K20) -> 1 | N20: =MONTH(L20) -> 1 | O20: =IF(N20-M20=0,NETWORKDAYS(K20,L20,[1]Congés!$D$2:$D$26),NETWORKDAYS(K20,EOMONTH(K20,0),[1]Congés!$D$2:$D$26)) -> 7 | P20: =IF(N20-M20=0,0,IF(N20-M20=1,NETWORKDAYS(K20,L20,[1]Congés!$D$2:$D$160)-O20,IF(N20-M20=2,NETWORKDAYS(K20,EOMONTH(K20,1),[1]Congés!$D$2:$D$160)-O20,IF(N20-M20=3,NETWORKDAYS(K20,EOMONTH(K20,1),[1]Congés!$D$2:$D$160)-O20)))) -> 0 | Q20: =IF(N20-M20<2,0,IF(N20-M20=2,NETWORKDAYS(K20,L20,[1]Congés!$D$2:$D$160)-P20-O20,IF(N20-M20=3,NETWORKDAYS(K20,EOMONTH(K20,2),[1]Congés!$D$2:$D$160)-P20-O20))) -> 0 | R20: =IF(N20-M20<3,0,NETWORKDAYS(K20,L20,[1]Congés!$D$2:$D$160)-Q20-P20-O20) -> 0 | S20: =NETWORKDAYS(K20,L20,[1]Congés!C$2:C$160) -> 6 | T20: LM | U20: 42032 | V20: =IF(S20<3,"1) 1 à 2 jours",IF(S20<5,"2) 3 à 4 jours",IF(S20=5,"3) 5 jours",IF(S20<=10,"4) 6 à 10 jours",IF(S20>10,"5) plus de 10 jours"))))) -> 4) 6 à 10 jours | W20: prol | Y20: =L20-K20+1 -> 11
A21: 4300 | D21: =VLOOKUP(A21,'[1]BDD RH'!$A$9:$W$453,4,FALSE) -> s | E21: =VLOOKUP(A21,'[1]BDD RH'!$A$9:$W$453,3,FALSE) -> F | F21: =DATEDIF((VLOOKUP(A21,'[1]BDD RH'!$A$2:$W$485,7,FALSE)),K21,"y") -> 46 | G21: =IF(F21<=20,"<=20",IF(F21<=30,"21/30",IF(F21<=40,"31/40",IF(F21<=50,"41/50",IF(F21<=60,"51/60",IF(F21>60,"61 et plus",FALSE)))))) -> 41/50 | H21: =DATEDIF((VLOOKUP(A21,'[1]BDD RH'!$A$2:$W$485,11,FALSE)),K21,"y") -> 24 | I21: =IF(H21<2,"<2",IF(H21<6,"2/5",IF(H21<11,"6/10",IF(H21<16,"11/15",IF(H21<21,"16/20",IF(H21<26,"21/25",IF(H21>25,"26 et plus",FALSE))))))) -> 21/25 | J21: ALM01 | K21: 42381 | L21: 42464 | M21: =MONTH(K21) -> 1 | N21: =MONTH(L21) -> 4 | O21: =IF(N21-M21=0,NETWORKDAYS(K21,L21,[1]Congés!$D$2:$D$26),NETWORKDAYS(K21,EOMONTH(K21,0),[1]Congés!$D$2:$D$26)) -> 14 | P21: =IF(N21-M21=0,0,IF(N21-M21=1,NETWORKDAYS(K21,L21,[1]Congés!$D$2:$D$160)-O21,IF(N21-M21=2,NETWORKDAYS(K21,EOMONTH(K21,1),[1]Congés!$D$2:$D$160)-O21,IF(N21-M21=3,NETWORKDAYS(K21,EOMONTH(K21,1),[1]Congés!$D$2:$D$160)-O21)))) -> 21 | Q21: =IF(N21-M21<2,0,IF(N21-M21=2,NETWORKDAYS(K21,L21,[1]Congés!$D$2:$D$160)-P21-O21,IF(N21-M21=3,NETWORKDAYS(K21,EOMONTH(K21,2),[1]Congés!$D$2:$D$160)-P21-O21))) -> 23 | R21: =IF(N21-M21<3,0,NETWORKDAYS(K21,L21,[1]Congés!$D$2:$D$160)-Q21-P21-O21) -> 2 | S21: =NETWORKDAYS(K21,L21,[1]Congés!C$2:C$160) -> 59 | T21: LM | U21: 42032 | V21: =IF(S21<3,"1) 1 à 2 jours",IF(S21<5,"2) 3 à 4 jours",IF(S21=5,"3) 5 jours",IF(S21<=10,"4) 6 à 10 jours",IF(S21>10,"5) plus de 10 jours"))))) -> 5) plus de 10 jours | W21: vm à prévoir | Y21: =L21-K21+1 -> 84
A22: 20944 | D22: =VLOOKUP(A22,'[1]BDD RH'!$A$9:$W$453,4,FALSE) -> t | E22: =VLOOKUP(A22,'[1]BDD RH'!$A$9:$W$453,3,FALSE) -> F | F22: =DATEDIF((VLOOKUP(A22,'[1]BDD RH'!$A$2:$W$485,7,FALSE)),K22,"y") -> 25 | G22: =IF(F22<=20,"<=20",IF(F22<=30,"21/30",IF(F22<=40,"31/40",IF(F22<=50,"41/50",IF(F22<=60,"51/60",IF(F22>60,"61 et plus",FALSE)))))) -> 21/30 | H22: =DATEDIF((VLOOKUP(A22,'[1]BDD RH'!$A$2:$W$485,11,FALSE)),K22,"y") -> 4 | I22: =IF(H22<2,"<2",IF(H22<6,"2/5",IF(H22<11,"6/10",IF(H22<16,"11/15",IF(H22<21,"16/20",IF(H22<26,"21/25",IF(H22>25,"26 et plus",FALSE))))))) -> 2/5 | J22: AML01 | K22: 42381 | L22: 42382 | M22: =MONTH(K22) -> 1 | N22: =MONTH(L22) -> 1 | O22: =IF(N22-M22=0,NETWORKDAYS(K22,L22,[1]Congés!$D$2:$D$26),NETWORKDAYS(K22,EOMONTH(K22,0),[1]Congés!$D$2:$D$26)) -> 2 | P22: =IF(N22-M22=0,0,IF(N22-M22=1,NETWORKDAYS(K22,L22,[1]Congés!$D$2:$D$160)-O22,IF(N22-M22=2,NETWORKDAYS(K22,EOMONTH(K22,1),[1]Congés!$D$2:$D$160)-O22,IF(N22-M22=3,NETWORKDAYS(K22,EOMONTH(K22,1),[1]Congés!$D$2:$D$160)-O22)))) -> 0 | Q22: =IF(N22-M22<2,0,IF(N22-M22=2,NETWORKDAYS(K22,L22,[1]Congés!$D$2:$D$160)-P22-O22,IF(N22-M22=3,NETWORKDAYS(K22,EOMONTH(K22,2),[1]Congés!$D$2:$D$160)-P22-O22))) -> 0 | R22: =IF(N22-M22<3,0,NETWORKDAYS(K22,L22,[1]Congés!$D$2:$D$160)-Q22-P22-O22) -> 0 | S22: =NETWORKDAYS(K22,L22,[1]Congés!C$2:C$160) -> 2 | T22: Arrêt Maladie | U22: 42381 | V22: =IF(S22<3,"1) 1 à 2 jours",IF(S22<5,"2) 3 à 4 jours",IF(S22=5,"3) 5 jours",IF(S22<=10,"4) 6 à 10 jours",IF(S22>10,"5) plus de 10 jours"))))) -> 1) 1 à 2 jours | W22: prol | Y22: =L22-K22+1 -> 2
A23: 20944 | D23: =VLOOKUP(A23,'[1]BDD RH'!$A$9:$W$453,4,FALSE) -> t | E23: =VLOOKUP(A23,'[1]BDD RH'!$A$9:$W$453,3,FALSE) -> F | F23: =DATEDIF((VLOOKUP(A23,'[1]BDD RH'!$A$2:$W$485,7,FALSE)),K23,"y") -> 25 | G23: =IF(F23<=20,"<=20",IF(F23<=30,"21/30",IF(F23<=40,"31/40",IF(F23<=50,"41/50",IF(F23<=60,"51/60",IF(F23>60,"61 et plus",FALSE)))))) -> 21/30 | H23: =DATEDIF((VLOOKUP(A23,'[1]BDD RH'!$A$2:$W$485,11,FALSE)),K23,"y") -> 4 | I23: =IF(H23<2,"<2",IF(H23<6,"2/5",IF(H23<11,"6/10",IF(H23<16,"11/15",IF(H23<21,"16/20",IF(H23<26,"21/25",IF(H23>25,"26 et plus",FALSE))))))) -> 2/5 | J23: AML01 | K23: 42383 | L23: 42384 | M23: =MONTH(K23) -> 1 | N23: =MONTH(L23) -> 1 | O23: =IF(N23-M23=0,NETWORKDAYS(K23,L23,[1]Congés!$D$2:$D$26),NETWORKDAYS(K23,EOMONTH(K23,0),[1]Congés!$D$2:$D$26)) -> 2 | P23: =IF(N23-M23=0,0,IF(N23-M23=1,NETWORKDAYS(K23,L23,[1]Congés!$D$2:$D$160)-O23,IF(N23-M23=2,NETWORKDAYS(K23,EOMONTH(K23,1),[1]Congés!$D$2:$D$160)-O23,IF(N23-M23=3,NETWORKDAYS(K23,EOMONTH(K23,1),[1]Congés!$D$2:$D$160)-O23)))) -> 0 | Q23: =IF(N23-M23<2,0,IF(N23-M23=2,NETWORKDAYS(K23,L23,[1]Congés!$D$2:$D$160)-P23-O23,IF(N23-M23=3,NETWORKDAYS(K23,EOMONTH(K23,2),[1]Congés!$D$2:$D$160)-P23-O23))) -> 0 | R23: =IF(N23-M23<3,0,NETWORKDAYS(K23,L23,[1]Congés!$D$2:$D$160)-Q23-P23-O23) -> 0 | S23: =NETWORKDAYS(K23,L23,[1]Congés!C$2:C$160) -> 2 | T23: Arrêt Maladie | U23: 42381 | V23: =IF(S23<3,"1) 1 à 2 jours",IF(S23<5,"2) 3 à 4 jours",IF(S23=5,"3) 5 jours",IF(S23<=10,"4) 6 à 10 jours",IF(S23>10,"5) plus de 10 jours"))))) -> 1) 1 à 2 jours | W23: * | Y23: =L23-K23+1 -> 2
A24: 16614 | D24: =VLOOKUP(A24,'[1]BDD RH'!$A$9:$W$453,4,FALSE) -> t | E24: =VLOOKUP(A24,'[1]BDD RH'!$A$9:$W$453,3,FALSE) -> F | F24: =DATEDIF((VLOOKUP(A24,'[1]BDD RH'!$A$2:$W$485,7,FALSE)),K24,"y") -> 41 | G24: =IF(F24<=20,"<=20",IF(F24<=30,"21/30",IF(F24<=40,"31/40",IF(F24<=50,"41/50",IF(F24<=60,"51/60",IF(F24>60,"61 et plus",FALSE)))))) -> 41/50 | H24: =DATEDIF((VLOOKUP(A24,'[1]BDD RH'!$A$2:$W$485,11,FALSE)),K24,"y") -> 9 | I24: =IF(H24<2,"<2",IF(H24<6,"2/5",IF(H24<11,"6/10",IF(H24<16,"11/15",IF(H24<21,"16/20",IF(H24<26,"21/25",IF(H24>25,"26 et plus",FALSE))))))) -> 6/10 | J24: ABL01 | K24: 42374 | L24: 42375 | M24: =MONTH(K24) -> 1 | N24: =MONTH(L24) -> 1 | O24: =IF(N24-M24=0,NETWORKDAYS(K24,L24,[1]Congés!$D$2:$D$26),NETWORKDAYS(K24,EOMONTH(K24,0),[1]Congés!$D$2:$D$26)) -> 2 | P24: =IF(N24-M24=0,0,IF(N24-M24=1,NETWORKDAYS(K24,L24,[1]Congés!$D$2:$D$160)-O24,IF(N24-M24=2,NETWORKDAYS(K24,EOMONTH(K24,1),[1]Congés!$D$2:$D$160)-O24,IF(N24-M24=3,NETWORKDAYS(K24,EOMONTH(K24,1),[1]Congés!$D$2:$D$160)-O24)))) -> 0 | Q24: =IF(N24-M24<2,0,IF(N24-M24=2,NETWORKDAYS(K24,L24,[1]Congés!$D$2:$D$160)-P24-O24,IF(N24-M24=3,NETWORKDAYS(K24,EOMONTH(K24,2),[1]Congés!$D$2:$D$160)-P24-O24))) -> 0 | R24: =IF(N24-M24<3,0,NETWORKDAYS(K24,L24,[1]Congés!$D$2:$D$160)-Q24-P24-O24) -> 0 | S24: =NETWORKDAYS(K24,L24,[1]Congés!C$2:C$160) -> 2 | T24: Arrêt Maladie | V24: =IF(S24<3,"1) 1 à 2 jours",IF(S24<5,"2) 3 à 4 jours",IF(S24=5,"3) 5 jours",IF(S24<=10,"4) 6 à 10 jours",IF(S24>10,"5) plus de 10 jours"))))) -> 1) 1 à 2 jours | W24: * | Y24: =L24-K24+1 -> 2
A25: 11437 | D25: =VLOOKUP(A25,'[1]BDD RH'!$A$9:$W$453,4,FALSE) -> t | E25: =VLOOKUP(A25,'[1]BDD RH'!$A$9:$W$453,3,FALSE) -> F | F25: =DATEDIF((VLOOKUP(A25,'[1]BDD RH'!$A$2:$W$485,7,FALSE)),K25,"y") -> 45 | G25: =IF(F25<=20,"<=20",IF(F25<=30,"21/30",IF(F25<=40,"31/40",IF(F25<=50,"41/50",IF(F25<=60,"51/60",IF(F25>60,"61 et plus",FALSE)))))) -> 41/50 | H25: =DATEDIF((VLOOKUP(A25,'[1]BDD RH'!$A$2:$W$485,11,FALSE)),K25,"y") -> 12 | I25: =IF(H25<2,"<2",IF(H25<6,"2/5",IF(H25<11,"6/10",IF(H25<16,"11/15",IF(H25<21,"16/20",IF(H25<26,"21/25",IF(H25>25,"26 et plus",FALSE))))))) -> 11/15 | J25: AVY01 | K25: 42380 | L25: 42387 | M25: =MONTH(K25) -> 1 | N25: =MONTH(L25) -> 1 | O25: =IF(N25-M25=0,NETWORKDAYS(K25,L25,[1]Congés!$D$2:$D$26),NETWORKDAYS(K25,EOMONTH(K25,0),[1]Congés!$D$2:$D$26)) -> 6 | P25: =IF(N25-M25=0,0,IF(N25-M25=1,NETWORKDAYS(K25,L25,[1]Congés!$D$2:$D$160)-O25,IF(N25-M25=2,NETWORKDAYS(K25,EOMONTH(K25,1),[1]Congés!$D$2:$D$160)-O25,IF(N25-M25=3,NETWORKDAYS(K25,EOMONTH(K25,1),[1]Congés!$D$2:$D$160)-O25)))) -> 0 | Q25: =IF(N25-M25<2,0,IF(N25-M25=2,NETWORKDAYS(K25,L25,[1]Congés!$D$2:$D$160)-P25-O25,IF(N25-M25=3,NETWORKDAYS(K25,EOMONTH(K25,2),[1]Congés!$D$2:$D$160)-P25-O25))) -> 0 | R25: =IF(N25-M25<3,0,NETWORKDAYS(K25,L25,[1]Congés!$D$2:$D$160)-Q25-P25-O25) -> 0 | S25: =NETWORKDAYS(K25,L25,[1]Congés!C$2:C$160) -> 6 | T25: Arrêt Maladie | V25: =IF(S25<3,"1) 1 à 2 jours",IF(S25<5,"2) 3 à 4 jours",IF(S25=5,"3) 5 jours",IF(S25<=10,"4) 6 à 10 jours",IF(S25>10,"5) plus de 10 jours"))))) -> 4) 6 à 10 jours | W25: * | Y25: =L25-K25+1 -> 8
A26: 17876 | D26: =VLOOKUP(A26,'[1]BDD RH'!$A$9:$W$453,4,FALSE) -> c | E26: =VLOOKUP(A26,'[1]BDD RH'!$A$9:$W$453,3,FALSE) -> H | F26: =DATEDIF((VLOOKUP(A26,'[1]BDD RH'!$A$2:$W$485,7,FALSE)),K26,"y") -> 28 | G26: =IF(F26<=20,"<=20",IF(F26<=30,"21/30",IF(F26<=40,"31/40",IF(F26<=50,"41/50",IF(F26<=60,"51/60",IF(F26>60,"61 et plus",FALSE)))))) -> 21/30 | H26: =DATEDIF((VLOOKUP(A26,'[1]BDD RH'!$A$2:$W$485,11,FALSE)),K26,"y") -> 8 | I26: =IF(H26<2,"<2",IF(H26<6,"2/5",IF(H26<11,"6/10",IF(H26<16,"11/15",IF(H26<21,"16/20",IF(H26<26,"21/25",IF(H26>25,"26 et plus",FALSE))))))) -> 6/10 | J26: AVM01 | K26: 42370 | L26: 42373 | M26: =MONTH(K26) -> 1 | N26: =MONTH(L26) -> 1 | O26: =IF(N26-M26=0,NETWORKDAYS(K26,L26,[1]Congés!$D$2:$D$26),NETWORKDAYS(K26,EOMONTH(K26,0),[1]Congés!$D$2:$D$26)) -> 2 | P26: =IF(N26-M26=0,0,IF(N26-M26=1,NETWORKDAYS(K26,L26,[1]Congés!$D$2:$D$160)-O26,IF(N26-M26=2,NETWORKDAYS(K26,EOMONTH(K26,1),[1]Congés!$D$2:$D$160)-O26,IF(N26-M26=3,NETWORKDAYS(K26,EOMONTH(K26,1),[1]Congés!$D$2:$D$160)-O26)))) -> 0 | Q26: =IF(N26-M26<2,0,IF(N26-M26=2,NETWORKDAYS(K26,L26,[1]Congés!$D$2:$D$160)-P26-O26,IF(N26-M26=3,NETWORKDAYS(K26,EOMONTH(K26,2),[1]Congés!$D$2:$D$160)-P26-O26))) -> 0 | R26: =IF(N26-M26<3,0,NETWORKDAYS(K26,L26,[1]Congés!$D$2:$D$160)-Q26-P26-O26) -> 0 | S26: =NETWORKDAYS(K26,L26,[1]Congés!C$2:C$160) -> 1 | T26: AT 15 | U26: 42367 | V26: =IF(S26<3,"1) 1 à 2 jours",IF(S26<5,"2) 3 à 4 jours",IF(S26=5,"3) 5 jours",IF(S26<=10,"4) 6 à 10 jours",IF(S26>10,"5) plus de 10 jours"))))) -> 1) 1 à 2 jours | W26: prol | Y26: =L26-K26+1 -> 4
A27: 17876 | D27: =VLOOKUP(A27,'[1]BDD RH'!$A$9:$W$453,4,FALSE) -> c | E27: =VLOOKUP(A27,'[1]BDD RH'!$A$9:$W$453,3,FALSE) -> H | F27: =DATEDIF((VLOOKUP(A27,'[1]BDD RH'!$A$2:$W$485,7,FALSE)),K27,"y") -> 28 | G27: =IF(F27<=20,"<=20",IF(F27<=30,"21/30",IF(F27<=40,"31/40",IF(F27<=50,"41/50",IF(F27<=60,"51/60",IF(F27>60,"61 et plus",FALSE)))))) -> 21/30 | H27: =DATEDIF((VLOOKUP(A27,'[1]BDD RH'!$A$2:$W$485,11,FALSE)),K27,"y") -> 8 | I27: =IF(H27<2,"<2",IF(H27<6,"2/5",IF(H27<11,"6/10",IF(H27<16,"11/15",IF(H27<21,"16/20",IF(H27<26,"21/25",IF(H27>25,"26 et plus",FALSE))))))) -> 6/10 | J27: AVM01 | K27: 42374 | L27: 42380 | M27: =MONTH(K27) -> 1 | N27: =MONTH(L27) -> 1 | O27: =IF(N27-M27=0,NETWORKDAYS(K27,L27,[1]Congés!$D$2:$D$26),NETWORKDAYS(K27,EOMONTH(K27,0),[1]Congés!$D$2:$D$26)) -> 5 | P27: =IF(N27-M27=0,0,IF(N27-M27=1,NETWORKDAYS(K27,L27,[1]Congés!$D$2:$D$160)-O27,IF(N27-M27=2,NETWORKDAYS(K27,EOMONTH(K27,1),[1]Congés!$D$2:$D$160)-O27,IF(N27-M27=3,NETWORKDAYS(K27,EOMONTH(K27,1),[1]Congés!$D$2:$D$160)-O27)))) -> 0 | Q27: =IF(N27-M27<2,0,IF(N27-M27=2,NETWORKDAYS(K27,L27,[1]Congés!$D$2:$D$160)-P27-O27,IF(N27-M27=3,NETWORKDAYS(K27,EOMONTH(K27,2),[1]Congés!$D$2:$D$160)-P27-O27))) -> 0 | R27: =IF(N27-M27<3,0,NETWORKDAYS(K27,L27,[1]Congés!$D$2:$D$160)-Q27-P27-O27) -> 0 | S27: =NETWORKDAYS(K27,L27,[1]Congés!C$2:C$160) -> 5 | T27: AT 15 | U27: 42367 | V27: =IF(S27<3,"1) 1 à 2 jours",IF(S27<5,"2) 3 à 4 jours",IF(S27=5,"3) 5 jours",IF(S27<=10,"4) 6 à 10 jours",IF(S27>10,"5) plus de 10 jours"))))) -> 3) 5 jours | W27: prol | Y27: =L27-K27+1 -> 7
A28: 17876 | D28: =VLOOKUP(A28,'[1]BDD RH'!$A$9:$W$453,4,FALSE) -> c | E28: =VLOOKUP(A28,'[1]BDD RH'!$A$9:$W$453,3,FALSE) -> H | F28: =DATEDIF((VLOOKUP(A28,'[1]BDD RH'!$A$2:$W$485,7,FALSE)),K28,"y") -> 28 | G28: =IF(F28<=20,"<=20",IF(F28<=30,"21/30",IF(F28<=40,"31/40",IF(F28<=50,"41/50",IF(F28<=60,"51/60",IF(F28>60,"61 et plus",FALSE)))))) -> 21/30 | H28: =DATEDIF((VLOOKUP(A28,'[1]BDD RH'!$A$2:$W$485,11,FALSE)),K28,"y") -> 8 | I28: =IF(H28<2,"<2",IF(H28<6,"2/5",IF(H28<11,"6/10",IF(H28<16,"11/15",IF(H28<21,"16/20",IF(H28<26,"21/25",IF(H28>25,"26 et plus",FALSE))))))) -> 6/10 | J28: AVM01 | K28: 42381 | L28: 42387 | M28: =MONTH(K28) -> 1 | N28: =MONTH(L28) -> 1 | O28: =IF(N28-M28=0,NETWORKDAYS(K28,L28,[1]Congés!$D$2:$D$26),NETWORKDAYS(K28,EOMONTH(K28,0),[1]Congés!$D$2:$D$26)) -> 5 | P28: =IF(N28-M28=0,0,IF(N28-M28=1,NETWORKDAYS(K28,L28,[1]Congés!$D$2:$D$160)-O28,IF(N28-M28=2,NETWORKDAYS(K28,EOMONTH(K28,1),[1]Congés!$D$2:$D$160)-O28,IF(N28-M28=3,NETWORKDAYS(K28,EOMONTH(K28,1),[1]Congés!$D$2:$D$160)-O28)))) -> 0 | Q28: =IF(N28-M28<2,0,IF(N28-M28=2,NETWORKDAYS(K28,L28,[1]Congés!$D$2:$D$160)-P28-O28,IF(N28-M28=3,NETWORKDAYS(K28,EOMONTH(K28,2),[1]Congés!$D$2:$D$160)-P28-O28))) -> 0 | R28: =IF(N28-M28<3,0,NETWORKDAYS(K28,L28,[1]Congés!$D$2:$D$160)-Q28-P28-O28) -> 0 | S28: =NETWORKDAYS(K28,L28,[1]Congés!C$2:C$160) -> 5 | T28: AT 15 | U28: 42733 | V28: =IF(S28<3,"1) 1 à 2 jours",IF(S28<5,"2) 3 à 4 jours",IF(S28=5,"3) 5 jours",IF(S28<=10,"4) 6 à 10 jours",IF(S28>10,"5) plus de 10 jours"))))) -> 3) 5 jours | W28: * | Y28: =L28-K28+1 -> 7
A29: 9313 | D29: =VLOOKUP(A29,'[1]BDD RH'!$A$9:$W$453,4,FALSE) -> c | E29: =VLOOKUP(A29,'[1]BDD RH'!$A$9:$W$453,3,FALSE) -> H | F29: =DATEDIF((VLOOKUP(A29,'[1]BDD RH'!$A$2:$W$485,7,FALSE)),K29,"y") -> 42 | G29: =IF(F29<=20,"<=20",IF(F29<=30,"21/30",IF(F29<=40,"31/40",IF(F29<=50,"41/50",IF(F29<=60,"51/60",IF(F29>60,"61 et plus",FALSE)))))) -> 41/50 | H29: =DATEDIF((VLOOKUP(A29,'[1]BDD RH'!$A$2:$W$485,11,FALSE)),K29,"y") -> 17 | I29: =IF(H29<2,"<2",IF(H29<6,"2/5",IF(H29<11,"6/10",IF(H29<16,"11/15",IF(H29<21,"16/20",IF(H29<26,"21/25",IF(H29>25,"26 et plus",FALSE))))))) -> 16/20 | J29: BER01 | K29: 42370 | L29: 42409 | M29: =MONTH(K29) -> 1 | N29: =MONTH(L29) -> 2 | O29: =IF(N29-M29=0,NETWORKDAYS(K29,L29,[1]Congés!$D$2:$D$26),NETWORKDAYS(K29,EOMONTH(K29,0),[1]Congés!$D$2:$D$26)) -> 21 | P29: =IF(N29-M29=0,0,IF(N29-M29=1,NETWORKDAYS(K29,L29,[1]Congés!$D$2:$D$160)-O29,IF(N29-M29=2,NETWORKDAYS(K29,EOMONTH(K29,1),[1]Congés!$D$2:$D$160)-O29,IF(N29-M29=3,NETWORKDAYS(K29,EOMONTH(K29,1),[1]Congés!$D$2:$D$160)-O29)))) -> 7 | Q29: =IF(N29-M29<2,0,IF(N29-M29=2,NETWORKDAYS(K29,L29,[1]Congés!$D$2:$D$160)-P29-O29,IF(N29-M29=3,NETWORKDAYS(K29,EOMONTH(K29,2),[1]Congés!$D$2:$D$160)-P29-O29))) -> 0 | R29: =IF(N29-M29<3,0,NETWORKDAYS(K29,L29,[1]Congés!$D$2:$D$160)-Q29-P29-O29) -> 0 | S29: =NETWORKDAYS(K29,L29,[1]Congés!C$2:C$160) -> 27 | T29: LM | U29: 42156 | V29: =IF(S29<3,"1) 1 à 2 jours",IF(S29<5,"2) 3 à 4 jours",IF(S29=5,"3) 5 jours",IF(S29<=10,"4) 6 à 10 jours",IF(S29>10,"5) plus de 10 jours"))))) -> 5) plus de 10 jours | W29: vm à prévoir | Y29: =L29-K29+1 -> 40
A30: 7741 | D30: =VLOOKUP(A30,'[1]BDD RH'!$A$9:$W$453,4,FALSE) -> s | E30: =VLOOKUP(A30,'[1]BDD RH'!$A$9:$W$453,3,FALSE) -> F | F30: =DATEDIF((VLOOKUP(A30,'[1]BDD RH'!$A$2:$W$485,7,FALSE)),K30,"y") -> 44 | G30: =IF(F30<=20,"<=20",IF(F30<=30,"21/30",IF(F30<=40,"31/40",IF(F30<=50,"41/50",IF(F30<=60,"51/60",IF(F30>60,"61 et plus",FALSE)))))) -> 41/50 | H30: =DATEDIF((VLOOKUP(A30,'[1]BDD RH'!$A$2:$W$485,11,FALSE)),K30,"y") -> 23 | I30: =IF(H30<2,"<2",IF(H30<6,"2/5",IF(H30<11,"6/10",IF(H30<16,"11/15",IF(H30<21,"16/20",IF(H30<26,"21/25",IF(H30>25,"26 et plus",FALSE))))))) -> 21/25 | J30: BES01 | K30: 42373 | L30: 42377 | M30: =MONTH(K30) -> 1 | N30: =MONTH(L30) -> 1 | O30: =IF(N30-M30=0,NETWORKDAYS(K30,L30,[1]Congés!$D$2:$D$26),NETWORKDAYS(K30,EOMONTH(K30,0),[1]Congés!$D$2:$D$26)) -> 5 | P30: =IF(N30-M30=0,0,IF(N30-M30=1,NETWORKDAYS(K30,L30,[1]Congés!$D$2:$D$160)-O30,IF(N30-M30=2,NETWORKDAYS(K30,EOMONTH(K30,1),[1]Congés!$D$2:$D$160)-O30,IF(N30-M30=3,NETWORKDAYS(K30,EOMONTH(K30,1),[1]Congés!$D$2:$D$160)-O30)))) -> 0 | Q30: =IF(N30-M30<2,0,IF(N30-M30=2,NETWORKDAYS(K30,L30,[1]Congés!$D$2:$D$160)-P30-O30,IF(N30-M30=3,NETWORKDAYS(K30,EOMONTH(K30,2),[1]Congés!$D$2:$D$160)-P30-O30))) -> 0 | R30: =IF(N30-M30<3,0,NETWORKDAYS(K30,L30,[1]Congés!$D$2:$D$160)-Q30-P30-O30) -> 0 | S30: =NETWORKDAYS(K30,L30,[1]Congés!C$2:C$160) -> 5 | T30: Arrêt Maladie | U30: 42373 | V30: =IF(S30<3,"1) 1 à 2 jours",IF(S30<5,"2) 3 à 4 jours",IF(S30=5,"3) 5 jours",IF(S30<=10,"4) 6 à 10 jours",IF(S30>10,"5) plus de 10 jours"))))) -> 3) 5 jours | W30: prol | Y30: =L30-K30+1 -> 5
A31: 7741 | D31: =VLOOKUP(A31,'[1]BDD RH'!$A$9:$W$453,4,FALSE) -> s | E31: =VLOOKUP(A31,'[1]BDD RH'!$A$9:$W$453,3,FALSE) -> F | F31: =DATEDIF((VLOOKUP(A31,'[1]BDD RH'!$A$2:$W$485,7,FALSE)),K31,"y") -> 44 | G31: =IF(F31<=20,"<=20",IF(F31<=30,"21/30",IF(F31<=40,"31/40",IF(F31<=50,"41/50",IF(F31<=60,"51/60",IF(F31>60,"61 et plus",FALSE)))))) -> 41/50 | H31: =DATEDIF((VLOOKUP(A31,'[1]BDD RH'!$A$2:$W$485,11,FALSE)),K31,"y") -> 23 | I31: =IF(H31<2,"<2",IF(H31<6,"2/5",IF(H31<11,"6/10",IF(H31<16,"11/15",IF(H31<21,"16/20",IF(H31<26,"21/25",IF(H31>25,"26 et plus",FALSE))))))) -> 21/25 | J31: BES01 | K31: 42378 | L31: 42384 | M31: =MONTH(K31) -> 1 | N31: =MONTH(L31) -> 1 | O31: =IF(N31-M31=0,NETWORKDAYS(K31,L31,[1]Congés!$D$2:$D$26),NETWORKDAYS(K31,EOMONTH(K31,0),[1]Congés!$D$2:$D$26)) -> 5 | P31: =IF(N31-M31=0,0,IF(N31-M31=1,NETWORKDAYS(K31,L31,[1]Congés!$D$2:$D$160)-O31,IF(N31-M31=2,NETWORKDAYS(K31,EOMONTH(K31,1),[1]Congés!$D$2:$D$160)-O31,IF(N31-M31=3,NETWORKDAYS(K31,EOMONTH(K31,1),[1]Congés!$D$2:$D$160)-O31)))) -> 0 | Q31: =IF(N31-M31<2,0,IF(N31-M31=2,NETWORKDAYS(K31,L31,[1]Congés!$D$2:$D$160)-P31-O31,IF(N31-M31=3,NETWORKDAYS(K31,EOMONTH(K31,2),[1]Congés!$D$2:$D$160)-P31-O31))) -> 0 | R31: =IF(N31-M31<3,0,NETWORKDAYS(K31,L31,[1]Congés!$D$2:$D$160)-Q31-P31-O31) -> 0 | S31: =NETWORKDAYS(K31,L31,[1]Congés!C$2:C$160) -> 5 | T31: Arrêt Maladie | U31: 42373 | V31: =IF(S31<3,"1) 1 à 2 jours",IF(S31<5,"2) 3 à 4 jours",IF(S31=5,"3) 5 jours",IF(S31<=10,"4) 6 à 10 jours",IF(S31>10,"5) plus de 10 jours"))))) -> 3) 5 jours | W31: * | Y31: =L31-K31+1 -> 7
A32: 7741 | D32: =VLOOKUP(A32,'[1]BDD RH'!$A$9:$W$453,4,FALSE) -> s | E32: =VLOOKUP(A32,'[1]BDD RH'!$A$9:$W$453,3,FALSE) -> F | F32: =DATEDIF((VLOOKUP(A32,'[1]BDD RH'!$A$2:$W$485,7,FALSE)),K32,"y") -> 44 | G32: =IF(F32<=20,"<=20",IF(F32<=30,"21/30",IF(F32<=40,"31/40",IF(F32<=50,"41/50",IF(F32<=60,"51/60",IF(F32>60,"61 et plus",FALSE)))))) -> 41/50 | H32: =DATEDIF((VLOOKUP(A32,'[1]BDD RH'!$A$2:$W$485,11,FALSE)),K32,"y") -> 23 | I32: =IF(H32<2,"<2",IF(H32<6,"2/5",IF(H32<11,"6/10",IF(H32<16,"11/15",IF(H32<21,"16/20",IF(H32<26,"21/25",IF(H32>25,"26 et plus",FALSE))))))) -> 21/25 | J32: BES0 | K32: 42389 | L32: 42391 | M32: =MONTH(K32) -> 1 | N32: =MONTH(L32) -> 1 | O32: =IF(N32-M32=0,NETWORKDAYS(K32,L32,[1]Congés!$D$2:$D$26),NETWORKDAYS(K32,EOMONTH(K32,0),[1]Congés!$D$2:$D$26)) -> 3 | P32: =IF(N32-M32=0,0,IF(N32-M32=1,NETWORKDAYS(K32,L32,[1]Congés!$D$2:$D$160)-O32,IF(N32-M32=2,NETWORKDAYS(K32,EOMONTH(K32,1),[1]Congés!$D$2:$D$160)-O32,IF(N32-M32=3,NETWORKDAYS(K32,EOMONTH(K32,1),[1]Congés!$D$2:$D$160)-O32)))) -> 0 | Q32: =IF(N32-M32<2,0,IF(N32-M32=2,NETWORKDAYS(K32,L32,[1]Congés!$D$2:$D$160)-P32-O32,IF(N32-M32=3,NETWORKDAYS(K32,EOMONTH(K32,2),[1]Congés!$D$2:$D$160)-P32-O32))) -> 0 | R32: =IF(N32-M32<3,0,NETWORKDAYS(K32,L32,[1]Congés!$D$2:$D$160)-Q32-P32-O32) -> 0 | S32: =NETWORKDAYS(K32,L32,[1]Congés!C$2:C$160) -> 3 | T32: Arrêt Maladie | V32: =IF(S32<3,"1) 1 à 2 jours",IF(S32<5,"2) 3 à 4 jours",IF(S32=5,"3) 5 jours",IF(S32<=10,"4) 6 à 10 jours",IF(S32>10,"5) plus de 10 jours"))))) -> 2) 3 à 4 jours | Y32: =L32-K32+1 -> 3
A33: 15626 | D33: =VLOOKUP(A33,'[1]BDD RH'!$A$9:$W$453,4,FALSE) -> c | E33: =VLOOKUP(A33,'[1]BDD RH'!$A$9:$W$453,3,FALSE) -> H | F33: =DATEDIF((VLOOKUP(A33,'[1]BDD RH'!$A$2:$W$485,7,FALSE)),K33,"y") -> 42 | G33: =IF(F33<=20,"<=20",IF(F33<=30,"21/30",IF(F33<=40,"31/40",IF(F33<=50,"41/50",IF(F33<=60,"51/60",IF(F33>60,"61 et plus",FALSE)))))) -> 41/50 | H33: =DATEDIF((VLOOKUP(A33,'[1]BDD RH'!$A$2:$W$485,11,FALSE)),K33,"y") -> 11 | I33: =IF(H33<2,"<2",IF(H33<6,"2/5",IF(H33<11,"6/10",IF(H33<16,"11/15",IF(H33<21,"16/20",IF(H33<26,"21/25",IF(H33>25,"26 et plus",FALSE))))))) -> 11/15 | K33: 42370 | L33: 42374 | M33: =MONTH(K33) -> 1 | N33: =MONTH(L33) -> 1 | O33: =IF(N33-M33=0,NETWORKDAYS(K33,L33,[1]Congés!$D$2:$D$26),NETWORKDAYS(K33,EOMONTH(K33,0),[1]Congés!$D$2:$D$26)) -> 3 | P33: =IF(N33-M33=0,0,IF(N33-M33=1,NETWORKDAYS(K33,L33,[1]Congés!$D$2:$D$160)-O33,IF(N33-M33=2,NETWORKDAYS(K33,EOMONTH(K33,1),[1]Congés!$D$2:$D$160)-O33,IF(N33-M33=3,NETWORKDAYS(K33,EOMONTH(K33,1),[1]Congés!$D$2:$D$160)-O33)))) -> 0 | Q33: =IF(N33-M33<2,0,IF(N33-M33=2,NETWORKDAYS(K33,L33,[1]Congés!$D$2:$D$160)-P33-O33,IF(N33-M33=3,NETWORKDAYS(K33,EOMONTH(K33,2),[1]Congés!$D$2:$D$160)-P33-O33))) -> 0 | R33: =IF(N33-M33<3,0,NETWORKDAYS(K33,L33,[1]Congés!$D$2:$D$160)-Q33-P33-O33) -> 0 | S33: =NETWORKDAYS(K33,L33,[1]Congés!C$2:C$160) -> 2 | T33: Mi-temps | U33: 42282 | V33: =IF(S33<3,"1) 1 à 2 jours",IF(S33<5,"2) 3 à 4 jours",IF(S33=5,"3) 5 jours",IF(S33<=10,"4) 6 à 10 jours",IF(S33>10,"5) plus de 10 jours"))))) -> 1) 1 à 2 jours | Y33: =L33-K33+1 -> 5
A34: 15626 | D34: =VLOOKUP(A34,'[1]BDD RH'!$A$9:$W$453,4,FALSE) -> c | E34: =VLOOKUP(A34,'[1]BDD RH'!$A$9:$W$453,3,FALSE) -> H | F34: =DATEDIF((VLOOKUP(A34,'[1]BDD RH'!$A$2:$W$485,7,FALSE)),K34,"y") -> 42 | G34: =IF(F34<=20,"<=20",IF(F34<=30,"21/30",IF(F34<=40,"31/40",IF(F34<=50,"41/50",IF(F34<=60,"51/60",IF(F34>60,"61 et plus",FALSE)))))) -> 41/50 | H34: =DATEDIF((VLOOKUP(A34,'[1]BDD RH'!$A$2:$W$485,11,FALSE)),K34,"y") -> 11 | I34: =IF(H34<2,"<2",IF(H34<6,"2/5",IF(H34<11,"6/10",IF(H34<16,"11/15",IF(H34<21,"16/20",IF(H34<26,"21/25",IF(H34>25,"26 et plus",FALSE))))))) -> 11/15 | K34: 42373 | L34: 42402 | M34: =MONTH(K34) -> 1 | N34: =MONTH(L34) -> 2 | O34: =IF(N34-M34=0,NETWORKDAYS(K34,L34,[1]Congés!$D$2:$D$26),NETWORKDAYS(K34,EOMONTH(K34,0),[1]Congés!$D$2:$D$26)) -> 20 | P34: =IF(N34-M34=0,0,IF(N34-M34=1,NETWORKDAYS(K34,L34,[1]Congés!$D$2:$D$160)-O34,IF(N34-M34=2,NETWORKDAYS(K34,EOMONTH(K34,1),[1]Congés!$D$2:$D$160)-O34,IF(N34-M34=3,NETWORKDAYS(K34,EOMONTH(K34,1),[1]Congés!$D$2:$D$160)-O34)))) -> 2 | Q34: =IF(N34-M34<2,0,IF(N34-M34=2,NETWORKDAYS(K34,L34,[1]Congés!$D$2:$D$160)-P34-O34,IF(N34-M34=3,NETWORKDAYS(K34,EOMONTH(K34,2),[1]Congés!$D$2:$D$160)-P34-O34))) -> 0 | R34: =IF(N34-M34<3,0,NETWORKDAYS(K34,L34,[1]Congés!$D$2:$D$160)-Q34-P34-O34) -> 0 | S34: =NETWORKDAYS(K34,L34,[1]Congés!C$2:C$160) -> 22 | T34: Mi-temps | U34: 42282 | V34: =IF(S34<3,"1) 1 à 2 jours",IF(S34<5,"2) 3 à 4 jours",IF(S34=5,"3) 5 jours",IF(S34<=10,"4) 6 à 10 jours",IF(S34>10,"5) plus de 10 jours"))))) -> 5) plus de 10 jours | Y34: =L34-K34+1 -> 30
A35: 15626 | D35: =VLOOKUP(A35,'[1]BDD RH'!$A$9:$W$453,4,FALSE) -> c | E35: =VLOOKUP(A35,'[1]BDD RH'!$A$9:$W$453,3,FALSE) -> H | F35: =DATEDIF((VLOOKUP(A35,'[1]BDD RH'!$A$2:$W$485,7,FALSE)),K35,"y") -> 42 | G35: =IF(F35<=20,"<=20",IF(F35<=30,"21/30",IF(F35<=40,"31/40",IF(F35<=50,"41/50",IF(F35<=60,"51/60",IF(F35>60,"61 et plus",FALSE)))))) -> 41/50 | H35: =DATEDIF((VLOOKUP(A35,'[1]BDD RH'!$A$2:$W$485,11,FALSE)),K35,"y") -> 11 | I35: =IF(H35<2,"<2",IF(H35<6,"2/5",IF(H35<11,"6/10",IF(H35<16,"11/15",IF(H35<21,"16/20",IF(H35<26,"21/25",IF(H35>25,"26 et plus",FALSE))))))) -> 11/15 | K35: 42403 | L35: 42432 | M35: =MONTH(K35) -> 2 | N35: =MONTH(L35) -> 3 | O35: =IF(N35-M35=0,NETWORKDAYS(K35,L35,[1]Congés!$D$2:$D$26),NETWORKDAYS(K35,EOMONTH(K35,0),[1]Congés!$D$2:$D$26)) -> 19 | P35: =IF(N35-M35=0,0,IF(N35-M35=1,NETWORKDAYS(K35,L35,[1]Congés!$D$2:$D$160)-O35,IF(N35-M35=2,NETWORKDAYS(K35,EOMONTH(K35,1),[1]Congés!$D$2:$D$160)-O35,IF(N35-M35=3,NETWORKDAYS(K35,EOMONTH(K35,1),[1]Congés!$D$2:$D$160)-O35)))) -> 3 | Q35: =IF(N35-M35<2,0,IF(N35-M35=2,NETWORKDAYS(K35,L35,[1]Congés!$D$2:$D$160)-P35-O35,IF(N35-M35=3,NETWORKDAYS(K35,EOMONTH(K35,2),[1]Congés!$D$2:$D$160)-P35-O35))) -> 0 | R35: =IF(N35-M35<3,0,NETWORKDAYS(K35,L35,[1]Congés!$D$2:$D$160)-Q35-P35-O35) -> 0 | S35: =NETWORKDAYS(K35,L35,[1]Congés!C$2:C$160) -> 22 | T35: Mi-temps | U35: 42282 | V35: =IF(S35<3,"1) 1 à 2 jours",IF(S35<5,"2) 3 à 4 jours",IF(S35=5,"3) 5 jours",IF(S35<=10,"4) 6 à 10 jours",IF(S35>10,"5) plus de 10 jours"))))) -> 5) plus de 10 jours | Y35: =L35-K35+1 -> 30
A36: 20945 | D36: =VLOOKUP(A36,'[1]BDD RH'!$A$9:$W$453,4,FALSE) -> t | E36: =VLOOKUP(A36,'[1]BDD RH'!$A$9:$W$453,3,FALSE) -> F | F36: =DATEDIF((VLOOKUP(A36,'[1]BDD RH'!$A$2:$W$485,7,FALSE)),K36,"y") -> 39 | G36: =IF(F36<=20,"<=20",IF(F36<=30,"21/30",IF(F36<=40,"31/40",IF(F36<=50,"41/50",IF(F36<=60,"51/60",IF(F36>60,"61 et plus",FALSE)))))) -> 31/40 | H36: =DATEDIF((VLOOKUP(A36,'[1]BDD RH'!$A$2:$W$485,11,FALSE)),K36,"y") -> 4 | I36: =IF(H36<2,"<2",IF(H36<6,"2/5",IF(H36<11,"6/10",IF(H36<16,"11/15",IF(H36<21,"16/20",IF(H36<26,"21/25",IF(H36>25,"26 et plus",FALSE))))))) -> 2/5 | J36: BLL01 | K36: 42370 | L36: 42386 | M36: =MONTH(K36) -> 1 | N36: =MONTH(L36) -> 1 | O36: =IF(N36-M36=0,NETWORKDAYS(K36,L36,[1]Congés!$D$2:$D$26),NETWORKDAYS(K36,EOMONTH(K36,0),[1]Congés!$D$2:$D$26)) -> 11 | P36: =IF(N36-M36=0,0,IF(N36-M36=1,NETWORKDAYS(K36,L36,[1]Congés!$D$2:$D$160)-O36,IF(N36-M36=2,NETWORKDAYS(K36,EOMONTH(K36,1),[1]Congés!$D$2:$D$160)-O36,IF(N36-M36=3,NETWORKDAYS(K36,EOMONTH(K36,1),[1]Congés!$D$2:$D$160)-O36)))) -> 0 | Q36: =IF(N36-M36<2,0,IF(N36-M36=2,NETWORKDAYS(K36,L36,[1]Congés!$D$2:$D$160)-P36-O36,IF(N36-M36=3,NETWORKDAYS(K36,EOMONTH(K36,2),[1]Congés!$D$2:$D$160)-P36-O36))) -> 0 | R36: =IF(N36-M36<3,0,NETWORKDAYS(K36,L36,[1]Congés!$D$2:$D$160)-Q36-P36-O36) -> 0 | S36: =NETWORKDAYS(K36,L36,[1]Congés!C$2:C$160) -> 10 | T36: AT 15 | U36: 42263 | V36: =IF(S36<3,"1) 1 à 2 jours",IF(S36<5,"2) 3 à 4 jours",IF(S36=5,"3) 5 jours",IF(S36<=10,"4) 6 à 10 jours",IF(S36>10,"5) plus de 10 jours"))))) -> 4) 6 à 10 jours | W36: prol | Y36: =L36-K36+1 -> 17
A37: 20945 | D37: =VLOOKUP(A37,'[1]BDD RH'!$A$9:$W$453,4,FALSE) -> t | E37: =VLOOKUP(A37,'[1]BDD RH'!$A$9:$W$453,3,FALSE) -> F | F37: =DATEDIF((VLOOKUP(A37,'[1]BDD RH'!$A$2:$W$485,7,FALSE)),K37,"y") -> 39 | G37: =IF(F37<=20,"<=20",IF(F37<=30,"21/30",IF(F37<=40,"31/40",IF(F37<=50,"41/50",IF(F37<=60,"51/60",IF(F37>60,"61 et plus",FALSE)))))) -> 31/40 | H37: =DATEDIF((VLOOKUP(A37,'[1]BDD RH'!$A$2:$W$485,11,FALSE)),K37,"y") -> 4 | I37: =IF(H37<2,"<2",IF(H37<6,"2/5",IF(H37<11,"6/10",IF(H37<16,"11/15",IF(H37<21,"16/20",IF(H37<26,"21/25",IF(H37>25,"26 et plus",FALSE))))))) -> 2/5 | K37: 42387 | L37: 42400 | M37: =MONTH(K37) -> 1 | N37: =MONTH(L37) -> 1 | O37: =IF(N37-M37=0,NETWORKDAYS(K37,L37,[1]Congés!$D$2:$D$26),NETWORKDAYS(K37,EOMONTH(K37,0),[1]Congés!$D$2:$D$26)) -> 10 | P37: =IF(N37-M37=0,0,IF(N37-M37=1,NETWORKDAYS(K37,L37,[1]Congés!$D$2:$D$160)-O37,IF(N37-M37=2,NETWORKDAYS(K37,EOMONTH(K37,1),[1]Congés!$D$2:$D$160)-O37,IF(N37-M37=3,NETWORKDAYS(K37,EOMONTH(K37,1),[1]Congés!$D$2:$D$160)-O37)))) -> 0 | Q37: =IF(N37-M37<2,0,IF(N37-M37=2,NETWORKDAYS(K37,L37,[1]Congés!$D$2:$D$160)-P37-O37,IF(N37-M37=3,NETWORKDAYS(K37,EOMONTH(K37,2),[1]Congés!$D$2:$D$160)-P37-O37))) -> 0 | R37: =IF(N37-M37<3,0,NETWORKDAYS(K37,L37,[1]Congés!$D$2:$D$160)-Q37-P37-O37) -> 0 | S37: =NETWORKDAYS(K37,L37,[1]Congés!C$2:C$160) -> 10 | T37: AT 15 | U37: 42629 | V37: =IF(S37<3,"1) 1 à 2 jours",IF(S37<5,"2) 3 à 4 jours",IF(S37=5,"3) 5 jours",IF(S37<=10,"4) 6 à 10 jours",IF(S37>10,"5) plus de 10 jours"))))) -> 4) 6 à 10 jours | W37: vm, reprise ok | X37: df le 01/02/16 | Y37: =L37-K37+1 -> 14
A38: 20945 | D38: =VLOOKUP(A38,'[1]BDD RH'!$A$9:$W$453,4,FALSE) -> t | E38: =VLOOKUP(A38,'[1]BDD RH'!$A$9:$W$453,3,FALSE) -> F | F38: =DATEDIF((VLOOKUP(A38,'[1]BDD RH'!$A$2:$W$485,7,FALSE)),K38,"y") -> 39 | G38: =IF(F38<=20,"<=20",IF(F38<=30,"21/30",IF(F38<=40,"31/40",IF(F38<=50,"41/50",IF(F38<=60,"51/60",IF(F38>60,"61 et plus",FALSE)))))) -> 31/40 | H38: =DATEDIF((VLOOKUP(A38,'[1]BDD RH'!$A$2:$W$485,11,FALSE)),K38,"y") -> 4 | I38: =IF(H38<2,"<2",IF(H38<6,"2/5",IF(H38<11,"6/10",IF(H38<16,"11/15",IF(H38<21,"16/20",IF(H38<26,"21/25",IF(H38>25,"26 et plus",FALSE))))))) -> 2/5 | K38: 42401 | L38: 42430 | M38: =MONTH(K38) -> 2 | N38: =MONTH(L38) -> 3 | O38: =IF(N38-M38=0,NETWORKDAYS(K38,L38,[1]Congés!$D$2:$D$26),NETWORKDAYS(K38,EOMONTH(K38,0),[1]Congés!$D$2:$D$26)) -> 21 | P38: =IF(N38-M38=0,0,IF(N38-M38=1,NETWORKDAYS(K38,L38,[1]Congés!$D$2:$D$160)-O38,IF(N38-M38=2,NETWORKDAYS(K38,EOMONTH(K38,1),[1]Congés!$D$2:$D$160)-O38,IF(N38-M38=3,NETWORKDAYS(K38,EOMONTH(K38,1),[1]Congés!$D$2:$D$160)-O38)))) -> 1 | Q38: =IF(N38-M38<2,0,IF(N38-M38=2,NETWORKDAYS(K38,L38,[1]Congés!$D$2:$D$160)-P38-O38,IF(N38-M38=3,NETWORKDAYS(K38,EOMONTH(K38,2),[1]Congés!$D$2:$D$160)-P38-O38))) -> 0 | R38: =IF(N38-M38<3,0,NETWORKDAYS(K38,L38,[1]Congés!$D$2:$D$160)-Q38-P38-O38) -> 0 | S38: =NETWORKDAYS(K38,L38,[1]Congés!C$2:C$160) -> 22 | T38: Mi-temps | V38: =IF(S38<3,"1) 1 à 2 jours",IF(S38<5,"2) 3 à 4 jours",IF(S38=5,"3) 5 jours",IF(S38<=10,"4) 6 à 10 jours",IF(S38>10,"5) plus de 10 jours"))))) -> 5) plus de 10 jours | Y38: =L38-K38+1 -> 30
A39: 17355 | D39: =VLOOKUP(A39,'[1]BDD RH'!$A$9:$W$453,4,FALSE) -> t | E39: =VLOOKUP(A39,'[1]BDD RH'!$A$9:$W$453,3,FALSE) -> F | F39: =DATEDIF((VLOOKUP(A39,'[1]BDD RH'!$A$2:$W$485,7,FALSE)),K39,"y") -> 44 | G39: =IF(F39<=20,"<=20",IF(F39<=30,"21/30",IF(F39<=40,"31/40",IF(F39<=50,"41/50",IF(F39<=60,"51/60",IF(F39>60,"61 et plus",FALSE)))))) -> 41/50 | H39: =DATEDIF((VLOOKUP(A39,'[1]BDD RH'!$A$2:$W$485,11,FALSE)),K39,"y") -> 8 | I39: =IF(H39<2,"<2",IF(H39<6,"2/5",IF(H39<11,"6/10",IF(H39<16,"11/15",IF(H39<21,"16/20",IF(H39<26,"21/25",IF(H39>25,"26 et plus",FALSE))))))) -> 6/10 | J39: BUS01 | K39: 42383 | L39: 42384 | M39: =MONTH(K39) -> 1 | N39: =MONTH(L39) -> 1 | O39: =IF(N39-M39=0,NETWORKDAYS(K39,L39,[1]Congés!$D$2:$D$26),NETWORKDAYS(K39,EOMONTH(K39,0),[1]Congés!$D$2:$D$26)) -> 2 | P39: =IF(N39-M39=0,0,IF(N39-M39=1,NETWORKDAYS(K39,L39,[1]Congés!$D$2:$D$160)-O39,IF(N39-M39=2,NETWORKDAYS(K39,EOMONTH(K39,1),[1]Congés!$D$2:$D$160)-O39,IF(N39-M39=3,NETWORKDAYS(K39,EOMONTH(K39,1),[1]Congés!$D$2:$D$160)-O39)))) -> 0 | Q39: =IF(N39-M39<2,0,IF(N39-M39=2,NETWORKDAYS(K39,L39,[1]Congés!$D$2:$D$160)-P39-O39,IF(N39-M39=3,NETWORKDAYS(K39,EOMONTH(K39,2),[1]Congés!$D$2:$D$160)-P39-O39))) -> 0 | R39: =IF(N39-M39<3,0,NETWORKDAYS(K39,L39,[1]Congés!$D$2:$D$160)-Q39-P39-O39) -> 0 | S39: =NETWORKDAYS(K39,L39,[1]Congés!C$2:C$160) -> 2 | T39: Arrêt Maladie | U39: 42383 | V39: =IF(S39<3,"1) 1 à 2 jours",IF(S39<5,"2) 3 à 4 jours",IF(S39=5,"3) 5 jours",IF(S39<=10,"4) 6 à 10 jours",IF(S39>10,"5) plus de 10 jours"))))) -> 1) 1 à 2 jours | W39: prol | Y39: =L39-K39+1 -> 2
A40: 17355 | D40: =VLOOKUP(A40,'[1]BDD RH'!$A$9:$W$453,4,FALSE) -> t | E40: =VLOOKUP(A40,'[1]BDD RH'!$A$9:$W$453,3,FALSE) -> F | F40: =DATEDIF((VLOOKUP(A40,'[1]BDD RH'!$A$2:$W$485,7,FALSE)),K40,"y") -> 44 | G40: =IF(F40<=20,"<=20",IF(F40<=30,"21/30",IF(F40<=40,"31/40",IF(F40<=50,"41/50",IF(F40<=60,"51/60",IF(F40>60,"61 et plus",FALSE)))))) -> 41/50 | H40: =DATEDIF((VLOOKUP(A40,'[1]BDD RH'!$A$2:$W$485,11,FALSE)),K40,"y") -> 8 | I40: =IF(H40<2,"<2",IF(H40<6,"2/5",IF(H40<11,"6/10",IF(H40<16,"11/15",IF(H40<21,"16/20",IF(H40<26,"21/25",IF(H40>25,"26 et plus",FALSE))))))) -> 6/10 | J40: BUS01 | K40: 42387 | L40: 42388 | M40: =MONTH(K40) -> 1 | N40: =MONTH(L40) -> 1 | O40: =IF(N40-M40=0,NETWORKDAYS(K40,L40,[1]Congés!$D$2:$D$26),NETWORKDAYS(K40,EOMONTH(K40,0),[1]Congés!$D$2:$D$26)) -> 2 | P40: =IF(N40-M40=0,0,IF(N40-M40=1,NETWORKDAYS(K40,L40,[1]Congés!$D$2:$D$160)-O40,IF(N40-M40=2,NETWORKDAYS(K40,EOMONTH(K40,1),[1]Congés!$D$2:$D$160)-O40,IF(N40-M40=3,NETWORKDAYS(K40,EOMONTH(K40,1),[1]Congés!$D$2:$D$160)-O40)))) -> 0 | Q40: =IF(N40-M40<2,0,IF(N40-M40=2,NETWORKDAYS(K40,L40,[1]Congés!$D$2:$D$160)-P40-O40,IF(N40-M40=3,NETWORKDAYS(K40,EOMONTH(K40,2),[1]Congés!$D$2:$D$160)-P40-O40))) -> 0 | R40: =IF(N40-M40<3,0,NETWORKDAYS(K40,L40,[1]Congés!$D$2:$D$160)-Q40-P40-O40) -> 0 | S40: =NETWORKDAYS(K40,L40,[1]Congés!C$2:C$160) -> 2 | T40: Arrêt Maladie | U40: 42383 | V40: =IF(S40<3,"1) 1 à 2 jours",IF(S40<5,"2) 3 à 4 jours",IF(S40=5,"3) 5 jours",IF(S40<=10,"4) 6 à 10 jours",IF(S40>10,"5) plus de 10 jours"))))) -> 1) 1 à 2 jours | W40: * | Y40: =L40-K40+1 -> 2
...

Sheet Nb pers <-> types
B1: janvier | C1: février | D1: mars | E1: avril | F1: mai | G1: juin | H1: juillet | I1: août | J1: septembre | K1: octobre | L1: novembre | M1: décembre
A2: Arrêt Maladie | B2: {=COUNT(1/FREQUENCY(IF(('[1]2016'!M$17:M$500=1)*('[1]2016'!T$17:T$500="Arrêt Maladie"),'[1]2016'!A$17:A$500),'[1]2016'!A$17:A$500))} -> 48 | C2: {=COUNT(1/FREQUENCY(IF(('[1]2016'!$M$17:$M$500=2)*('[1]2016'!$T$17:$T$500="Arrêt Maladie"),'[1]2016'!$A$17:A$500),'[1]2016'!$A$17:$A$500))} -> 10 | D2: =COUNT(1/FREQUENCY(IF(('2016'!$M$17:$M$500=3)*('2016'!$T$17:$T$500="Arrêt Maladie"),'2016'!$A$17:B$500),'2016'!$A$17:$A$500)) -> 0 | E2: {=COUNT(1/FREQUENCY(IF(('[1]2016'!$M$17:$M$500=2)*('[1]2016'!$T$17:$T$500="Arrêt Maladie"),'[1]2016'!$A$17:C$500),'[1]2016'!$A$17:$A$500))} -> 10 | F2: {=COUNT(1/FREQUENCY(IF(('[1]2016'!$M$17:$M$500=2)*('[1]2016'!$T$17:$T$500="Arrêt Maladie"),'[1]2016'!$A$17:D$500),'[1]2016'!$A$17:$A$500))} -> 10 | G2: {=COUNT(1/FREQUENCY(IF(('[1]2016'!$M$17:$M$500=2)*('[1]2016'!$T$17:$T$500="Arrêt Maladie"),'[1]2016'!$A$17:E$500),'[1]2016'!$A$17:$A$500))} -> 10 | H2: {=COUNT(1/FREQUENCY(IF(('[1]2016'!$M$17:$M$500=2)*('[1]2016'!$T$17:$T$500="Arrêt Maladie"),'[1]2016'!$A$17:F$500),'[1]2016'!$A$17:$A$500))} -> 11 | I2: {=COUNT(1/FREQUENCY(IF(('[1]2016'!$M$17:$M$500=2)*('[1]2016'!$T$17:$T$500="Arrêt Maladie"),'[1]2016'!$A$17:G$500),'[1]2016'!$A$17:$A$500))} -> 11 | J2: {=COUNT(1/FREQUENCY(IF(('[1]2016'!$M$17:$M$500=2)*('[1]2016'!$T$17:$T$500="Arrêt Maladie"),'[1]2016'!$A$17:H$500),'[1]2016'!$A$17:$A$500))} -> 11 | K2: {=COUNT(1/FREQUENCY(IF(('[1]2016'!$M$17:$M$500=2)*('[1]2016'!$T$17:$T$500="Arrêt Maladie"),'[1]2016'!$A$17:I$500),'[1]2016'!$A$17:$A$500))} -> 11 | L2: {=COUNT(1/FREQUENCY(IF(('[1]2016'!$M$17:$M$500=2)*('[1]2016'!$T$17:$T$500="Arrêt Maladie"),'[1]2016'!$A$17:J$500),'[1]2016'!$A$17:$A$500))} -> 11 | M2: {=COUNT(1/FREQUENCY(IF(('[1]2016'!$M$17:$M$500=2)*('[1]2016'!$T$17:$T$500="Arrêt Maladie"),'[1]2016'!$A$17:K$500),'[1]2016'!$A$17:$A$500))} -> 11
