Workbook
Name Abri_jardin: Listes!$F$13:$F$20
Name Bricolage_et_Extérieur: Listes!$H$3:$H$10
Name Bureau: Listes!$G$3:$G$10
Name Camping: Listes!$B$3:$B$10
Name Catégorie: Listes!$B$2:$I$2
Name Cuisine: Listes!$C$3:$C$10
Name Ecole_JP: Listes!$H$13:$H$20
Name Electroménager: Listes!$D$3:$D$10
Name Grenier: Listes!$B$13:$B$20
Name Local: Listes!$B$12:$I$12
Name Péda: Listes!$F$3:$F$10
Name Périscolaire: Listes!$D$13:$D$20
Name Pigeonnier: Listes!$C$13:$C$20
Name Resto_scolaire: Listes!$E$13:$E$20
Name Salle_Tilleuls: Listes!$G$13:$G$20
Name Technologie: Listes!$E$3:$E$10

Sheet Inventaire général
A1: n° référence interne | B1: Désignation | G1: Amortissement | J1: Stockage | M1: Disponible
B2: Catégorie | C2: sous-catégorie | D2: Marque désignation | E2: modèle couleur | F2: Quantité | G2: année d'achat | H2: valeur neuf | I2: année fin de vie | J2: Local | K2: localisation | L2: Malle
A3: 0000
A4: 0001 | B4: Bricolage_et_Extérieur | C4: Outils | D4: Diable | E4: Rouge | F4: 1 | G4: 2015 | H4: 50 | I4: 2025 | J4: Grenier | K4: Zone droite | M4: =IF(F4>0,"","NON")
A5: 0002 | B5: Electroménager | C5: Frigo | F5: 1 | J5: Grenier | M5: =IF(F5>0,"","NON")
A6: 0003 | B6: Camping | C6: Tente cuisine | F6: 1 | J6: Grenier | M6: =IF(F6>0,"","NON")
A7: 0004 | B7: Camping | C7: Tente marabout | F7: 1 | J7: Grenier | M7: =IF(F7>0,"","NON")
A8: 0005 | B8: Camping | C8: Tente igloo | D8: Quechua 3 personnes | E8: Rouge | F8: 3 | J8: Grenier | K8: Zone "Camps" | M8: =IF(F8>0,"","NON")
A9: 0006 | B9: Camping | C9: Tente igloo | D9: Quechua 3 personnes | E9: Bleu | F9: 3 | G9: 2015 | H9: 40 | J9: Grenier | K9: Zone "Camps" | M9: =IF(F9>0,"","NON")
A10: 0007 | B10: Camping | C10: Tente igloo | D10: Quechua 4 personnes | E10: Verte | F10: 7 | J10: Grenier | K10: Zone "Camps" | M10: =IF(F10>0,"","NON")
A11: 0008 | B11: Camping | C11: Tente canadienne | D11: Quechua 4 personnes | E11: Bleu | F11: 3 | J11: Grenier | K11: Zone "Camps" | M11: =IF(F11>0,"","NON")
A12: 0009 | B12: Camping | C12: Tente canadienne | D12: Quechua XL | E12: Bleu | F12: 1 | J12: Grenier | K12: Zone "Camps" | M12: =IF(F12>0,"","NON")
A13: 0010 | B13: Camping | C13: Divers | D13: Matelas gonflable | F13: 1 | J13: Grenier | K13: Zone "Camps" | M13: =IF(F13>0,"","NON")
A14: 0011 | B14: Camping | C14: Rangement | D14: Meuble de cuisson | E14: gris | F14: 1 | J14: Grenier | K14: Zone "Camps" | M14: =IF(F14>0,"","NON")
A15: 0012 | B15: Camping | C15: Rangement | D15: Meuble étageres | E15: rouge | F15: 1 | J15: Grenier | K15: Zone "Camps" | M15: =IF(F15>0,"","NON")
A16: 0013 | B16: Camping | C16: Divers | D16: Tables | E16: Bois | F16: 2 | J16: Grenier | K16: Zone "Camps" | M16: =IF(F16>0,"","NON")
A17: 0014 | B17: Camping | C17: Divers | D17: Bancs | E17: Bois | F17: 4 | J17: Grenier | K17: Zone "Camps" | M17: =IF(F17>0,"","NON")
A18: 0015 | B18: Camping | C18: Divers | D18: Table pliante | E18: Bois | F18: 1 | J18: Grenier | K18: Zone "Camps" | M18: =IF(F18>0,"","NON")
A19: 0016 | B19: Camping | C19: Divers | D19: Sièges 3 pieds | E19: Jaune | F19: 1 | J19: Grenier | K19: Zone "Camps" | M19: =IF(F19>0,"","NON")
A20: 0017 | B20: Camping | C20: Divers | D20: Sièges 3 pieds | E20: Verte | F20: 1 | J20: Grenier | K20: Zone "Camps" | M20: =IF(F20>0,"","NON")
A21: 0018 | B21: Camping | C21: Divers | D21: Sièges 4 pieds | E21: Vert | F21: 3 | J21: Grenier | K21: Zone "Camps" | M21: =IF(F21>0,"","NON")
A22: 0019 | B22: Bricolage_et_Extérieur | C22: Jardinage | D22: Bache | E22: Verte | F22: 1 | J22: Grenier | K22: Zone "Camps" | M22: =IF(F22>0,"","NON")
A23: 0020 | B23: Bricolage_et_Extérieur | C23: Jardinage | D23: Parasols | E23: Blanc et violet | F23: 2 | J23: Grenier | K23: Zone "Camps" | M23: =IF(F23>0,"","NON")
A24: 0021 | B24: Bricolage_et_Extérieur | C24: Jardinage | D24: Barbecue | F24: 1 | G24: 2015 | H24: 130 | I24: 2023 | J24: Grenier | K24: Zone droite | M24: =IF(F24>0,"","NON")
A25: 0022 | B25: Cuisine | C25: Gaz | D25: GAZ | E25: Cube gris | F25: 2 | J25: Grenier | K25: Zone "Camps" | M25: =IF(F25>0,"","NON")
A26: 0023 | B26: Cuisine | C26: Vaisselle | D26: Verres | E26: Jaune | F26: 15 | J26: Grenier | K26: Zone "Camps" | L26: Malle Cuisine | M26: =IF(F26>0,"","NON")
A27: 0024 | B27: Cuisine | C27: Vaisselle | D27: Verres | E27: Multicolores | F27: 17 | J27: Grenier | K27: Zone "Camps" | L27: Malle Cuisine | M27: =IF(F27>0,"","NON")
A28: 0025 | B28: Cuisine | C28: Vaisselle | D28: Assiettes | E28: Jaune | F28: 15 | J28: Grenier | K28: Zone "Camps" | L28: Malle Cuisine | M28: =IF(F28>0,"","NON")
A29: 0026 | B29: Cuisine | C29: Vaisselle | D29: Assiettes | E29: Multicolores | F29: 18 | J29: Grenier | K29: Zone "Camps" | L29: Malle Cuisine | M29: =IF(F29>0,"","NON")
A30: 0027 | B30: Cuisine | C30: Vaisselle | D30: Bols | E30: Blanc | F30: 21 | J30: Grenier | K30: Zone "Camps" | L30: Malle Cuisine | M30: =IF(F30>0,"","NON")
A31: 0028 | B31: Cuisine | C31: Vaisselle | D31: Bols | E31: Multicolores | F31: 11 | J31: Grenier | K31: Zone "Camps" | L31: Malle Cuisine | M31: =IF(F31>0,"","NON")
A32: 0029 | B32: Cuisine | C32: Vaisselle | D32: Cuillères à soupe | E32: Alluminium | F32: 50 | J32: Grenier | K32: Zone "Camps" | L32: Malle Cuisine | M32: =IF(F32>0,"","NON")
A33: 0030 | B33: Cuisine | C33: Vaisselle | D33: Fourchettes | E33: Alluminium | F33: 50 | J33: Grenier | K33: Zone "Camps" | L33: Malle Cuisine | M33: =IF(F33>0,"","NON")
A34: 0031 | B34: Cuisine | C34: Vaisselle | D34: Couteaux | E34: Alluminium | F34: 50 | J34: Grenier | K34: Zone "Camps" | L34: Malle Cuisine | M34: =IF(F34>0,"","NON")
A35: 0032 | B35: Cuisine | C35: Vaisselle | D35: Cuillères à café | E35: Alluminium | F35: 25 | J35: Grenier | K35: Zone "Camps" | L35: Malle Cuisine | M35: =IF(F35>0,"","NON")
A36: 0033 | B36: Cuisine | C36: Vaisselle | D36: Couteaux à viande | E36: Noir | F36: 4 | J36: Grenier | K36: Zone "Camps" | L36: Malle Cuisine | M36: =IF(F36>0,"","NON")
A37: 0034 | B37: Cuisine | C37: Vaisselle | D37: Economes | E37: Bois | F37: 3 | J37: Grenier | K37: Zone "Camps" | L37: Malle Cuisine | M37: =IF(F37>0,"","NON")
... A39: 0036 | B39: Cuisine | C39: Vaisselle | D39: Cuillères | E39: Plastique | F39: 18 | J39: Grenier | K39: Zone "Camps" | L39: Malle Cuisine | M39: =IF(F39>0,"","NON")
A40: 0037 | B40: Cuisine | C40: Vaisselle | D40: Fourchettes | E40: Plastique | F40: 18 | G40: 2015 | H40: 3 | J40: Grenier | K40: Zone "Camps" | L40: Malle Cuisine | M40: =IF(F40>0,"","NON")
A41: 0038 | B41: Cuisine | C41: Vaisselle | D41: Couteaux | E41: Plastique | F41: 18 | G41: 2015 | H41: 3 | J41: Grenier | K41: Zone "Camps" | L41: Malle Cuisine | M41: =IF(F41>0,"","NON")
...

Sheet Inventaire malle cuisine
A2: Code GIM | B2: Marque désignation | C2: modèle couleur | D2: Quantité

Sheet Inventaire malle entretien
A2: Code GIM | B2: Marque désignation | C2: modèle couleur | D2: Quantité

Sheet Inventaire malle plein air
A2: Code GIM | B2: Marque désignation | C2: modèle couleur | D2: Quantité

Sheet Inventaire malle cirque
A2: Code GIM | B2: Marque désignation | C2: modèle couleur | D2: Quantité

Sheet Inventaire malle péda
A2: Code GIM | B2: Marque désignation | C2: modèle couleur | D2: Quantité

Sheet Emprunteur 1
A2: Structure emprunteur 1 | H2: Responsable
A4: Lecture code barres | B4: Vérifié | C4: Inventaire | H4: Lieu de rangement au retour
C5: Catégorie | D5: sous-catégorie | E5: Marque désignation | F5: modèle couleur | G5: Quantité | H5: Local | I5: localisation | J5: Retour
A6: 0000 | B6: O | C6: =VLOOKUP(A6,'Inventaire général'!A:K,2,FALSE) | D6: =VLOOKUP(A6,'Inventaire général'!A:K,3,FALSE) | E6: =VLOOKUP(A6,'Inventaire général'!A:K,4,FALSE) | F6: =VLOOKUP(A6,'Inventaire général'!A:K,5,FALSE) | H6: =VLOOKUP(A6,'Inventaire général'!A:K,10,FALSE) | I6: =VLOOKUP(A6,'Inventaire général'!A:K,11,FALSE) | J6: =IFERROR(VLOOKUP('Emprunteur 1'!A6,'Retour emprunteur 1'!$A$3:$A$43,1,FALSE),"NON-RENDU !") -> NON-RENDU !
A7: 0000 | B7: O | C7: =VLOOKUP(A7,'Inventaire général'!A:K,2,FALSE) | D7: =VLOOKUP(A7,'Inventaire général'!A:K,3,FALSE) | E7: =VLOOKUP(A7,'Inventaire général'!A:K,4,FALSE) | F7: =VLOOKUP(A7,'Inventaire général'!A:K,5,FALSE) | H7: =VLOOKUP(A7,'Inventaire général'!A:K,10,FALSE) | I7: =VLOOKUP(A7,'Inventaire général'!A:K,11,FALSE) | J7: =IFERROR(VLOOKUP('Emprunteur 1'!A7,'Retour emprunteur 1'!$A$3:$A$43,1,FALSE),"NON-RENDU !") -> NON-RENDU !
A8: 0000 | B8: O | C8: =VLOOKUP(A8,'Inventaire général'!A:K,2,FALSE) | D8: =VLOOKUP(A8,'Inventaire général'!A:K,3,FALSE) | E8: =VLOOKUP(A8,'Inventaire général'!A:K,4,FALSE) | F8: =VLOOKUP(A8,'Inventaire général'!A:K,5,FALSE) | H8: =VLOOKUP(A8,'Inventaire général'!A:K,10,FALSE) | I8: =VLOOKUP(A8,'Inventaire général'!A:K,11,FALSE) | J8: =IFERROR(VLOOKUP('Emprunteur 1'!A8,'Retour emprunteur 1'!$A$3:$A$43,1,FALSE),"NON-RENDU !") -> NON-RENDU !
A9: 0000 | B9: O | C9: =VLOOKUP(A9,'Inventaire général'!A:K,2,FALSE) | D9: =VLOOKUP(A9,'Inventaire général'!A:K,3,FALSE) | E9: =VLOOKUP(A9,'Inventaire général'!A:K,4,FALSE) | F9: =VLOOKUP(A9,'Inventaire général'!A:K,5,FALSE) | H9: =VLOOKUP(A9,'Inventaire général'!A:K,10,FALSE) | I9: =VLOOKUP(A9,'Inventaire général'!A:K,11,FALSE) | J9: =IFERROR(VLOOKUP('Emprunteur 1'!A9,'Retour emprunteur 1'!$A$3:$A$43,1,FALSE),"NON-RENDU !") -> NON-RENDU !
A10: 0000 | B10: O | C10: =VLOOKUP(A10,'Inventaire général'!A:K,2,FALSE) | D10: =VLOOKUP(A10,'Inventaire général'!A:K,3,FALSE) | E10: =VLOOKUP(A10,'Inventaire général'!A:K,4,FALSE) | F10: =VLOOKUP(A10,'Inventaire général'!A:K,5,FALSE) | H10: =VLOOKUP(A10,'Inventaire général'!A:K,10,FALSE) | I10: =VLOOKUP(A10,'Inventaire général'!A:K,11,FALSE) | J10: =IFERROR(VLOOKUP('Emprunteur 1'!A10,'Retour emprunteur 1'!$A$3:$A$43,1,FALSE),"NON-RENDU !") -> NON-RENDU !
A11: 0000 | B11: O | C11: =VLOOKUP(A11,'Inventaire général'!A:K,2,FALSE) | D11: =VLOOKUP(A11,'Inventaire général'!A:K,3,FALSE) | E11: =VLOOKUP(A11,'Inventaire général'!A:K,4,FALSE) | F11: =VLOOKUP(A11,'Inventaire général'!A:K,5,FALSE) | H11: =VLOOKUP(A11,'Inventaire général'!A:K,10,FALSE) | I11: =VLOOKUP(A11,'Inventaire général'!A:K,11,FALSE) | J11: =IFERROR(VLOOKUP('Emprunteur 1'!A11,'Retour emprunteur 1'!$A$3:$A$43,1,FALSE),"NON-RENDU !") -> NON-RENDU !
A12: 0000 | B12: O | C12: =VLOOKUP(A12,'Inventaire général'!A:K,2,FALSE) | D12: =VLOOKUP(A12,'Inventaire général'!A:K,3,FALSE) | E12: =VLOOKUP(A12,'Inventaire général'!A:K,4,FALSE) | F12: =VLOOKUP(A12,'Inventaire général'!A:K,5,FALSE) | H12: =VLOOKUP(A12,'Inventaire général'!A:K,10,FALSE) | I12: =VLOOKUP(A12,'Inventaire général'!A:K,11,FALSE) | J12: =IFERROR(VLOOKUP('Emprunteur 1'!A12,'Retour emprunteur 1'!$A$3:$A$43,1,FALSE),"NON-RENDU !") -> NON-RENDU !
A13: 0000 | B13: O | C13: =VLOOKUP(A13,'Inventaire général'!A:K,2,FALSE) | D13: =VLOOKUP(A13,'Inventaire général'!A:K,3,FALSE) | E13: =VLOOKUP(A13,'Inventaire général'!A:K,4,FALSE) | F13: =VLOOKUP(A13,'Inventaire général'!A:K,5,FALSE) | H13: =VLOOKUP(A13,'Inventaire général'!A:K,10,FALSE) | I13: =VLOOKUP(A13,'Inventaire général'!A:K,11,FALSE) | J13: =IFERROR(VLOOKUP('Emprunteur 1'!A13,'Retour emprunteur 1'!$A$3:$A$43,1,FALSE),"NON-RENDU !") -> NON-RENDU !
A14: 0000 | B14: O | C14: =VLOOKUP(A14,'Inventaire général'!A:K,2,FALSE) | D14: =VLOOKUP(A14,'Inventaire général'!A:K,3,FALSE) | E14: =VLOOKUP(A14,'Inventaire général'!A:K,4,FALSE) | F14: =VLOOKUP(A14,'Inventaire général'!A:K,5,FALSE) | H14: =VLOOKUP(A14,'Inventaire général'!A:K,10,FALSE) | I14: =VLOOKUP(A14,'Inventaire général'!A:K,11,FALSE) | J14: =IFERROR(VLOOKUP('Emprunteur 1'!A14,'Retour emprunteur 1'!$A$3:$A$43,1,FALSE),"NON-RENDU !") -> NON-RENDU !
A15: 0000 | B15: O | C15: =VLOOKUP(A15,'Inventaire général'!A:K,2,FALSE) | D15: =VLOOKUP(A15,'Inventaire général'!A:K,3,FALSE) | E15: =VLOOKUP(A15,'Inventaire général'!A:K,4,FALSE) | F15: =VLOOKUP(A15,'Inventaire général'!A:K,5,FALSE) | H15: =VLOOKUP(A15,'Inventaire général'!A:K,10,FALSE) | I15: =VLOOKUP(A15,'Inventaire général'!A:K,11,FALSE) | J15: =IFERROR(VLOOKUP('Emprunteur 1'!A15,'Retour emprunteur 1'!$A$3:$A$43,1,FALSE),"NON-RENDU !") -> NON-RENDU !
A16: 0000 | B16: O | C16: =VLOOKUP(A16,'Inventaire général'!A:K,2,FALSE) | D16: =VLOOKUP(A16,'Inventaire général'!A:K,3,FALSE) | E16: =VLOOKUP(A16,'Inventaire général'!A:K,4,FALSE) | F16: =VLOOKUP(A16,'Inventaire général'!A:K,5,FALSE) | H16: =VLOOKUP(A16,'Inventaire général'!A:K,10,FALSE) | I16: =VLOOKUP(A16,'Inventaire général'!A:K,11,FALSE) | J16: =IFERROR(VLOOKUP('Emprunteur 1'!A16,'Retour emprunteur 1'!$A$3:$A$43,1,FALSE),"NON-RENDU !") -> NON-RENDU !
A17: 0000 | B17: O | C17: =VLOOKUP(A17,'Inventaire général'!A:K,2,FALSE) | D17: =VLOOKUP(A17,'Inventaire général'!A:K,3,FALSE) | E17: =VLOOKUP(A17,'Inventaire général'!A:K,4,FALSE) | F17: =VLOOKUP(A17,'Inventaire général'!A:K,5,FALSE) | H17: =VLOOKUP(A17,'Inventaire général'!A:K,10,FALSE) | I17: =VLOOKUP(A17,'Inventaire général'!A:K,11,FALSE) | J17: =IFERROR(VLOOKUP('Emprunteur 1'!A17,'Retour emprunteur 1'!$A$3:$A$43,1,FALSE),"NON-RENDU !") -> NON-RENDU !
... A100: 0000 | B100: O | C100: =VLOOKUP(A100,'Inventaire général'!A:K,2,FALSE) | D100: =VLOOKUP(A100,'Inventaire général'!A:K,3,FALSE) | E100: =VLOOKUP(A100,'Inventaire général'!A:K,4,FALSE) | F100: =VLOOKUP(A100,'Inventaire général'!A:K,5,FALSE) | H100: =VLOOKUP(A100,'Inventaire général'!A:K,10,FALSE) | I100: =VLOOKUP(A100,'Inventaire général'!A:K,11,FALSE) | J100: =IFERROR(VLOOKUP('Emprunteur 1'!A100,'Retour emprunteur 1'!$A$3:$A$43,1,FALSE),"NON-RENDU !") -> NON-RENDU !

Sheet Retour emprunteur 1
A1: codes barres

Sheet Emprunteur 2
A2: Structure emprunteur 2 | H2: Responsable
A4: Lecture code barres | B4: Vérifié | C4: Inventaire | H4: Lieu de rangement au retour
C5: Catégorie | D5: sous-catégorie | E5: Marque désignation | F5: modèle couleur | G5: Quantité | H5: Local | I5: localisation | J5: Retour
A6: 0000 | B6: O | C6: =VLOOKUP(A6,'Inventaire général'!A:K,2,FALSE) | D6: =VLOOKUP(A6,'Inventaire général'!A:K,3,FALSE) | E6: =VLOOKUP(A6,'Inventaire général'!A:K,4,FALSE) | F6: =VLOOKUP(A6,'Inventaire général'!A:K,5,FALSE) | H6: =VLOOKUP(A6,'Inventaire général'!A:K,10,FALSE) | I6: =VLOOKUP(A6,'Inventaire général'!A:K,11,FALSE) | J6: =IFERROR(VLOOKUP('Emprunteur 2'!A6,'Retour emprunteur 2'!$A$3:$A$43,1,FALSE),"NON-RENDU !") -> NON-RENDU !
A7: 0000 | B7: O | C7: =VLOOKUP(A7,'Inventaire général'!A:K,2,FALSE) | D7: =VLOOKUP(A7,'Inventaire général'!A:K,3,FALSE) | E7: =VLOOKUP(A7,'Inventaire général'!A:K,4,FALSE) | F7: =VLOOKUP(A7,'Inventaire général'!A:K,5,FALSE) | H7: =VLOOKUP(A7,'Inventaire général'!A:K,10,FALSE) | I7: =VLOOKUP(A7,'Inventaire général'!A:K,11,FALSE) | J7: =IFERROR(VLOOKUP('Emprunteur 2'!A7,'Retour emprunteur 2'!$A$3:$A$43,1,FALSE),"NON-RENDU !") -> NON-RENDU !
A8: 0000 | B8: O | C8: =VLOOKUP(A8,'Inventaire général'!A:K,2,FALSE) | D8: =VLOOKUP(A8,'Inventaire général'!A:K,3,FALSE) | E8: =VLOOKUP(A8,'Inventaire général'!A:K,4,FALSE) | F8: =VLOOKUP(A8,'Inventaire général'!A:K,5,FALSE) | H8: =VLOOKUP(A8,'Inventaire général'!A:K,10,FALSE) | I8: =VLOOKUP(A8,'Inventaire général'!A:K,11,FALSE) | J8: =IFERROR(VLOOKUP('Emprunteur 2'!A8,'Retour emprunteur 2'!$A$3:$A$43,1,FALSE),"NON-RENDU !") -> NON-RENDU !
A9: 0000 | B9: O | C9: =VLOOKUP(A9,'Inventaire général'!A:K,2,FALSE) | D9: =VLOOKUP(A9,'Inventaire général'!A:K,3,FALSE) | E9: =VLOOKUP(A9,'Inventaire général'!A:K,4,FALSE) | F9: =VLOOKUP(A9,'Inventaire général'!A:K,5,FALSE) | H9: =VLOOKUP(A9,'Inventaire général'!A:K,10,FALSE) | I9: =VLOOKUP(A9,'Inventaire général'!A:K,11,FALSE) | J9: =IFERROR(VLOOKUP('Emprunteur 2'!A9,'Retour emprunteur 2'!$A$3:$A$43,1,FALSE),"NON-RENDU !") -> NON-RENDU !
A10: 0000 | B10: O | C10: =VLOOKUP(A10,'Inventaire général'!A:K,2,FALSE) | D10: =VLOOKUP(A10,'Inventaire général'!A:K,3,FALSE) | E10: =VLOOKUP(A10,'Inventaire général'!A:K,4,FALSE) | F10: =VLOOKUP(A10,'Inventaire général'!A:K,5,FALSE) | H10: =VLOOKUP(A10,'Inventaire général'!A:K,10,FALSE) | I10: =VLOOKUP(A10,'Inventaire général'!A:K,11,FALSE) | J10: =IFERROR(VLOOKUP('Emprunteur 2'!A10,'Retour emprunteur 2'!$A$3:$A$43,1,FALSE),"NON-RENDU !") -> NON-RENDU !
A11: 0000 | B11: O | C11: =VLOOKUP(A11,'Inventaire général'!A:K,2,FALSE) | D11: =VLOOKUP(A11,'Inventaire général'!A:K,3,FALSE) | E11: =VLOOKUP(A11,'Inventaire général'!A:K,4,FALSE) | F11: =VLOOKUP(A11,'Inventaire général'!A:K,5,FALSE) | H11: =VLOOKUP(A11,'Inventaire général'!A:K,10,FALSE) | I11: =VLOOKUP(A11,'Inventaire général'!A:K,11,FALSE) | J11: =IFERROR(VLOOKUP('Emprunteur 2'!A11,'Retour emprunteur 2'!$A$3:$A$43,1,FALSE),"NON-RENDU !") -> NON-RENDU !
A12: 0000 | B12: O | C12: =VLOOKUP(A12,'Inventaire général'!A:K,2,FALSE) | D12: =VLOOKUP(A12,'Inventaire général'!A:K,3,FALSE) | E12: =VLOOKUP(A12,'Inventaire général'!A:K,4,FALSE) | F12: =VLOOKUP(A12,'Inventaire général'!A:K,5,FALSE) | H12: =VLOOKUP(A12,'Inventaire général'!A:K,10,FALSE) | I12: =VLOOKUP(A12,'Inventaire général'!A:K,11,FALSE) | J12: =IFERROR(VLOOKUP('Emprunteur 2'!A12,'Retour emprunteur 2'!$A$3:$A$43,1,FALSE),"NON-RENDU !") -> NON-RENDU !
A13: 0000 | B13: O | C13: =VLOOKUP(A13,'Inventaire général'!A:K,2,FALSE) | D13: =VLOOKUP(A13,'Inventaire général'!A:K,3,FALSE) | E13: =VLOOKUP(A13,'Inventaire général'!A:K,4,FALSE) | F13: =VLOOKUP(A13,'Inventaire général'!A:K,5,FALSE) | H13: =VLOOKUP(A13,'Inventaire général'!A:K,10,FALSE) | I13: =VLOOKUP(A13,'Inventaire général'!A:K,11,FALSE) | J13: =IFERROR(VLOOKUP('Emprunteur 2'!A13,'Retour emprunteur 2'!$A$3:$A$43,1,FALSE),"NON-RENDU !") -> NON-RENDU !
A14: 0000 | B14: O | C14: =VLOOKUP(A14,'Inventaire général'!A:K,2,FALSE) | D14: =VLOOKUP(A14,'Inventaire général'!A:K,3,FALSE) | E14: =VLOOKUP(A14,'Inventaire général'!A:K,4,FALSE) | F14: =VLOOKUP(A14,'Inventaire général'!A:K,5,FALSE) | H14: =VLOOKUP(A14,'Inventaire général'!A:K,10,FALSE) | I14: =VLOOKUP(A14,'Inventaire général'!A:K,11,FALSE) | J14: =IFERROR(VLOOKUP('Emprunteur 2'!A14,'Retour emprunteur 2'!$A$3:$A$43,1,FALSE),"NON-RENDU !") -> NON-RENDU !
A15: 0000 | B15: O | C15: =VLOOKUP(A15,'Inventaire général'!A:K,2,FALSE) | D15: =VLOOKUP(A15,'Inventaire général'!A:K,3,FALSE) | E15: =VLOOKUP(A15,'Inventaire général'!A:K,4,FALSE) | F15: =VLOOKUP(A15,'Inventaire général'!A:K,5,FALSE) | H15: =VLOOKUP(A15,'Inventaire général'!A:K,10,FALSE) | I15: =VLOOKUP(A15,'Inventaire général'!A:K,11,FALSE) | J15: =IFERROR(VLOOKUP('Emprunteur 2'!A15,'Retour emprunteur 2'!$A$3:$A$43,1,FALSE),"NON-RENDU !") -> NON-RENDU !
A16: 0000 | B16: O | C16: =VLOOKUP(A16,'Inventaire général'!A:K,2,FALSE) | D16: =VLOOKUP(A16,'Inventaire général'!A:K,3,FALSE) | E16: =VLOOKUP(A16,'Inventaire général'!A:K,4,FALSE) | F16: =VLOOKUP(A16,'Inventaire général'!A:K,5,FALSE) | H16: =VLOOKUP(A16,'Inventaire général'!A:K,10,FALSE) | I16: =VLOOKUP(A16,'Inventaire général'!A:K,11,FALSE) | J16: =IFERROR(VLOOKUP('Emprunteur 2'!A16,'Retour emprunteur 2'!$A$3:$A$43,1,FALSE),"NON-RENDU !") -> NON-RENDU !
A17: 0000 | B17: O | C17: =VLOOKUP(A17,'Inventaire général'!A:K,2,FALSE) | D17: =VLOOKUP(A17,'Inventaire général'!A:K,3,FALSE) | E17: =VLOOKUP(A17,'Inventaire général'!A:K,4,FALSE) | F17: =VLOOKUP(A17,'Inventaire général'!A:K,5,FALSE) | H17: =VLOOKUP(A17,'Inventaire général'!A:K,10,FALSE) | I17: =VLOOKUP(A17,'Inventaire général'!A:K,11,FALSE) | J17: =IFERROR(VLOOKUP('Emprunteur 2'!A17,'Retour emprunteur 2'!$A$3:$A$43,1,FALSE),"NON-RENDU !") -> NON-RENDU !
... A100: 0000 | B100: O | C100: =VLOOKUP(A100,'Inventaire général'!A:K,2,FALSE) | D100: =VLOOKUP(A100,'Inventaire général'!A:K,3,FALSE) | E100: =VLOOKUP(A100,'Inventaire général'!A:K,4,FALSE) | F100: =VLOOKUP(A100,'Inventaire général'!A:K,5,FALSE) | H100: =VLOOKUP(A100,'Inventaire général'!A:K,10,FALSE) | I100: =VLOOKUP(A100,'Inventaire général'!A:K,11,FALSE) | J100: =IFERROR(VLOOKUP('Emprunteur 2'!A100,'Retour emprunteur 2'!$A$3:$A$43,1,FALSE),"NON-RENDU !") -> NON-RENDU !

Sheet Retour emprunteur 2
A1: codes barres

Sheet Emprunteur 3
A2: Structure emprunteur 3 | H2: Responsable
A4: Lecture code barres | B4: Vérifié | C4: Inventaire | H4: Lieu de rangement au retour
C5: Catégorie | D5: sous-catégorie | E5: Marque désignation | F5: modèle couleur | G5: Quantité | H5: Local | I5: localisation | J5: Retour
A6: 0000 | B6: O | C6: =VLOOKUP(A6,'Inventaire général'!A:K,2,FALSE) | D6: =VLOOKUP(A6,'Inventaire général'!A:K,3,FALSE) | E6: =VLOOKUP(A6,'Inventaire général'!A:K,4,FALSE) | F6: =VLOOKUP(A6,'Inventaire général'!A:K,5,FALSE) | H6: =VLOOKUP(A6,'Inventaire général'!A:K,10,FALSE) | I6: =VLOOKUP(A6,'Inventaire général'!A:K,11,FALSE) | J6: =IFERROR(VLOOKUP('Emprunteur 3'!A6,'Retour emprunteur 3'!$A$3:$A$43,1,FALSE),"NON-RENDU !") -> NON-RENDU !
A7: 0000 | B7: O | C7: =VLOOKUP(A7,'Inventaire général'!A:K,2,FALSE) | D7: =VLOOKUP(A7,'Inventaire général'!A:K,3,FALSE) | E7: =VLOOKUP(A7,'Inventaire général'!A:K,4,FALSE) | F7: =VLOOKUP(A7,'Inventaire général'!A:K,5,FALSE) | H7: =VLOOKUP(A7,'Inventaire général'!A:K,10,FALSE) | I7: =VLOOKUP(A7,'Inventaire général'!A:K,11,FALSE) | J7: =IFERROR(VLOOKUP('Emprunteur 3'!A7,'Retour emprunteur 3'!$A$3:$A$43,1,FALSE),"NON-RENDU !") -> NON-RENDU !
A8: 0000 | B8: O | C8: =VLOOKUP(A8,'Inventaire général'!A:K,2,FALSE) | D8: =VLOOKUP(A8,'Inventaire général'!A:K,3,FALSE) | E8: =VLOOKUP(A8,'Inventaire général'!A:K,4,FALSE) | F8: =VLOOKUP(A8,'Inventaire général'!A:K,5,FALSE) | H8: =VLOOKUP(A8,'Inventaire général'!A:K,10,FALSE) | I8: =VLOOKUP(A8,'Inventaire général'!A:K,11,FALSE) | J8: =IFERROR(VLOOKUP('Emprunteur 3'!A8,'Retour emprunteur 3'!$A$3:$A$43,1,FALSE),"NON-RENDU !") -> NON-RENDU !
A9: 0000 | B9: O | C9: =VLOOKUP(A9,'Inventaire général'!A:K,2,FALSE) | D9: =VLOOKUP(A9,'Inventaire général'!A:K,3,FALSE) | E9: =VLOOKUP(A9,'Inventaire général'!A:K,4,FALSE) | F9: =VLOOKUP(A9,'Inventaire général'!A:K,5,FALSE) | H9: =VLOOKUP(A9,'Inventaire général'!A:K,10,FALSE) | I9: =VLOOKUP(A9,'Inventaire général'!A:K,11,FALSE) | J9: =IFERROR(VLOOKUP('Emprunteur 3'!A9,'Retour emprunteur 3'!$A$3:$A$43,1,FALSE),"NON-RENDU !") -> NON-RENDU !
A10: 0000 | B10: O | C10: =VLOOKUP(A10,'Inventaire général'!A:K,2,FALSE) | D10: =VLOOKUP(A10,'Inventaire général'!A:K,3,FALSE) | E10: =VLOOKUP(A10,'Inventaire général'!A:K,4,FALSE) | F10: =VLOOKUP(A10,'Inventaire général'!A:K,5,FALSE) | H10: =VLOOKUP(A10,'Inventaire général'!A:K,10,FALSE) | I10: =VLOOKUP(A10,'Inventaire général'!A:K,11,FALSE) | J10: =IFERROR(VLOOKUP('Emprunteur 3'!A10,'Retour emprunteur 3'!$A$3:$A$43,1,FALSE),"NON-RENDU !") -> NON-RENDU !
A11: 0000 | B11: O | C11: =VLOOKUP(A11,'Inventaire général'!A:K,2,FALSE) | D11: =VLOOKUP(A11,'Inventaire général'!A:K,3,FALSE) | E11: =VLOOKUP(A11,'Inventaire général'!A:K,4,FALSE) | F11: =VLOOKUP(A11,'Inventaire général'!A:K,5,FALSE) | H11: =VLOOKUP(A11,'Inventaire général'!A:K,10,FALSE) | I11: =VLOOKUP(A11,'Inventaire général'!A:K,11,FALSE) | J11: =IFERROR(VLOOKUP('Emprunteur 3'!A11,'Retour emprunteur 3'!$A$3:$A$43,1,FALSE),"NON-RENDU !") -> NON-RENDU !
A12: 0000 | B12: O | C12: =VLOOKUP(A12,'Inventaire général'!A:K,2,FALSE) | D12: =VLOOKUP(A12,'Inventaire général'!A:K,3,FALSE) | E12: =VLOOKUP(A12,'Inventaire général'!A:K,4,FALSE) | F12: =VLOOKUP(A12,'Inventaire général'!A:K,5,FALSE) | H12: =VLOOKUP(A12,'Inventaire général'!A:K,10,FALSE) | I12: =VLOOKUP(A12,'Inventaire général'!A:K,11,FALSE) | J12: =IFERROR(VLOOKUP('Emprunteur 3'!A12,'Retour emprunteur 3'!$A$3:$A$43,1,FALSE),"NON-RENDU !") -> NON-RENDU !
A13: 0000 | B13: O | C13: =VLOOKUP(A13,'Inventaire général'!A:K,2,FALSE) | D13: =VLOOKUP(A13,'Inventaire général'!A:K,3,FALSE) | E13: =VLOOKUP(A13,'Inventaire général'!A:K,4,FALSE) | F13: =VLOOKUP(A13,'Inventaire général'!A:K,5,FALSE) | H13: =VLOOKUP(A13,'Inventaire général'!A:K,10,FALSE) | I13: =VLOOKUP(A13,'Inventaire général'!A:K,11,FALSE) | J13: =IFERROR(VLOOKUP('Emprunteur 3'!A13,'Retour emprunteur 3'!$A$3:$A$43,1,FALSE),"NON-RENDU !") -> NON-RENDU !
A14: 0000 | B14: O | C14: =VLOOKUP(A14,'Inventaire général'!A:K,2,FALSE) | D14: =VLOOKUP(A14,'Inventaire général'!A:K,3,FALSE) | E14: =VLOOKUP(A14,'Inventaire général'!A:K,4,FALSE) | F14: =VLOOKUP(A14,'Inventaire général'!A:K,5,FALSE) | H14: =VLOOKUP(A14,'Inventaire général'!A:K,10,FALSE) | I14: =VLOOKUP(A14,'Inventaire général'!A:K,11,FALSE) | J14: =IFERROR(VLOOKUP('Emprunteur 3'!A14,'Retour emprunteur 3'!$A$3:$A$43,1,FALSE),"NON-RENDU !") -> NON-RENDU !
A15: 0000 | B15: O | C15: =VLOOKUP(A15,'Inventaire général'!A:K,2,FALSE) | D15: =VLOOKUP(A15,'Inventaire général'!A:K,3,FALSE) | E15: =VLOOKUP(A15,'Inventaire général'!A:K,4,FALSE) | F15: =VLOOKUP(A15,'Inventaire général'!A:K,5,FALSE) | H15: =VLOOKUP(A15,'Inventaire général'!A:K,10,FALSE) | I15: =VLOOKUP(A15,'Inventaire général'!A:K,11,FALSE) | J15: =IFERROR(VLOOKUP('Emprunteur 3'!A15,'Retour emprunteur 3'!$A$3:$A$43,1,FALSE),"NON-RENDU !") -> NON-RENDU !
A16: 0000 | B16: O | C16: =VLOOKUP(A16,'Inventaire général'!A:K,2,FALSE) | D16: =VLOOKUP(A16,'Inventaire général'!A:K,3,FALSE) | E16: =VLOOKUP(A16,'Inventaire général'!A:K,4,FALSE) | F16: =VLOOKUP(A16,'Inventaire général'!A:K,5,FALSE) | H16: =VLOOKUP(A16,'Inventaire général'!A:K,10,FALSE) | I16: =VLOOKUP(A16,'Inventaire général'!A:K,11,FALSE) | J16: =IFERROR(VLOOKUP('Emprunteur 3'!A16,'Retour emprunteur 3'!$A$3:$A$43,1,FALSE),"NON-RENDU !") -> NON-RENDU !
A17: 0000 | B17: O | C17: =VLOOKUP(A17,'Inventaire général'!A:K,2,FALSE) | D17: =VLOOKUP(A17,'Inventaire général'!A:K,3,FALSE) | E17: =VLOOKUP(A17,'Inventaire général'!A:K,4,FALSE) | F17: =VLOOKUP(A17,'Inventaire général'!A:K,5,FALSE) | H17: =VLOOKUP(A17,'Inventaire général'!A:K,10,FALSE) | I17: =VLOOKUP(A17,'Inventaire général'!A:K,11,FALSE) | J17: =IFERROR(VLOOKUP('Emprunteur 3'!A17,'Retour emprunteur 3'!$A$3:$A$43,1,FALSE),"NON-RENDU !") -> NON-RENDU !
... A100: 0000 | B100: O | C100: =VLOOKUP(A100,'Inventaire général'!A:K,2,FALSE) | D100: =VLOOKUP(A100,'Inventaire général'!A:K,3,FALSE) | E100: =VLOOKUP(A100,'Inventaire général'!A:K,4,FALSE) | F100: =VLOOKUP(A100,'Inventaire général'!A:K,5,FALSE) | H100: =VLOOKUP(A100,'Inventaire général'!A:K,10,FALSE) | I100: =VLOOKUP(A100,'Inventaire général'!A:K,11,FALSE) | J100: =IFERROR(VLOOKUP('Emprunteur 3'!A100,'Retour emprunteur 3'!$A$3:$A$43,1,FALSE),"NON-RENDU !") -> NON-RENDU !

Sheet Retour emprunteur 3
A1: codes barres

Sheet Listes
A2: Désignation | B2: Camping | C2: Cuisine | D2: Electroménager | E2: Technologie | F2: Péda | G2: Bureau | H2: Bricolage_et_Extérieur
B3: Tente igloo | C3: Cuisson | D3: Frigo | E3: Ordi portable | F3: Jeux intérieur | H3: Jardinage
B4: Tente canadienne | C4: Vaisselle | D4: Café/thé | E4: PC de bureau | F4: Jeux de société | H4: Matériel Animaux
B5: Tente cuisine | C5: Entretien | E5: Vidéo-projecteur | F5: Jeux de plein air | H5: Outils
B6: Tente marabout | C6: Gaz | E6: Écran de projection | F6: Fournitures fongibles
B7: Entretien | E7: Périphérique informatique | F7: Décoration
B8: Rangement | E8: Appareil photo
E9: Téléphonie
B10: Divers
A12: Stockage | B12: Grenier | C12: Pigeonnier | D12: Périscolaire | E12: Resto_scolaire | F12: Abri_jardin | G12: Salle_Tilleuls | H12: Ecole_JP
B13: Zone "Camps" | C13: Armoire Métalique | D13: Placards blancs gauche | H13: Salle motricité
B14: Zone droite | D14: Placards blancs centre | H14: Salle Créa
B15: Zone Gauche | D15: Placards blancs droite
B16: Zone centrale | D16: Coin cuisine
B17: Zone Espace Ludique | D17: Caisson place du village
B18: Zone stock | D18: Armoire place du village
B19: Rez-de-Chaussée | D19: Armoire animation

Sheet Feuil1
A2: Code GIM | B2: Marque désignation | C2: modèle couleur | D2: Quantité
