Workbook
Name Abri_jardin: Listes!$F$13:$F$20
Name Bricolage_et_Extérieur: Listes!$H$3:$H$10
Name Bureau: Listes!$G$3:$G$10
Name Camping: Listes!$B$3:$B$10
Name Catégorie: Listes!$B$2:$I$2
Name Cuisine: Listes!$C$3:$C$10
Name Ecole_JP: Listes!$H$13:$H$20
Name Electroménager: Listes!$D$3:$D$10
Name Grenier: Listes!$B$13:$B$20
Name Local: Listes!$B$12:$I$12
Name Péda: Listes!$F$3:$F$10
Name Périscolaire: Listes!$D$13:$D$20
Name Pigeonnier: Listes!$C$13:$C$20
Name Resto_scolaire: Listes!$E$13:$E$20
Name Salle_Tilleuls: Listes!$G$13:$G$20
Name Technologie: Listes!$E$3:$E$10

Sheet Inventaire général
A1: n° référence interne | B1: Désignation | G1: Amortissement | J1: Stockage | M1: Disponible
B2: Catégorie | C2: sous-catégorie | D2: Marque désignation | E2: modèle couleur | F2: Quantité | G2: année d'achat | H2: valeur neuf | I2: année fin de vie | J2: Local | K2: localisation | L2: Malle
A3: 0000
A4: 0001 | B4: Bricolage_et_Extérieur | C4: Outils | D4: Diable | E4: Rouge | F4: 1 | G4: 2015 | H4: 50 | I4: 2025 | J4: Grenier | K4: Zone droite | M4: =IF(F4>0,"","NON")
A5: 0002 | B5: Electroménager | C5: Frigo | F5: 1 | J5: Grenier | M5: =IF(F5>0,"","NON")
A6: 0003 | B6: Camping | C6: Tente cuisine | F6: 1 | J6: Grenier | M6: =IF(F6>0,"","NON")
A7: 0004 | B7: Camping | C7: Tente marabout | F7: 1 | J7: Grenier | M7: =IF(F7>0,"","NON")
A8: 0005 | B8: Camping | C8: Tente igloo | D8: Quechua 3 personnes | E8: Rouge | F8: 3 | J8: Grenier | K8: Zone "Camps" | M8: =IF(F8>0,"","NON")
A9: 0006 | B9: Camping | C9: Tente igloo | D9: Quechua 3 personnes | E9: Bleu | F9: 3 | G9: 2015 | H9: 40 | J9: Grenier | K9: Zone "Camps" | M9: =IF(F9>0,"","NON")
A10: 0007 | B10: Camping | C10: Tente igloo | D10: Quechua 4 personnes | E10: Verte | F10: 7 | J10: Grenier | K10: Zone "Camps" | M10: =IF(F10>0,"","NON")
A11: 0008 | B11: Camping | C11: Tente canadienne | D11: Quechua 4 personnes | E11: Bleu | F11: 3 | J11: Grenier | K11: Zone "Camps" | M11: =IF(F11>0,"","NON")
A12: 0009 | B12: Camping | C12: Tente canadienne | D12: Quechua XL | E12: Bleu | F12: 1 | J12: Grenier | K12: Zone "Camps" | M12: =IF(F12>0,"","NON")
A13: 0010 | B13: Camping | C13: Divers | D13: Matelas gonflable | F13: 1 | J13: Grenier | K13: Zone "Camps" | M13: =IF(F13>0,"","NON")
A14: 0011 | B14: Camping | C14: Rangement | D14: Meuble de cuisson | E14: gris | F14: 1 | J14: Grenier | K14: Zone "Camps" | M14: =IF(F14>0,"","NON")
A15: 0012 | B15: Camping | C15: Rangement | D15: Meuble étageres | E15: rouge | F15: 1 | J15: Grenier | K15: Zone "Camps" | M15: =IF(F15>0,"","NON")
A16: 0013 | B16: Camping | C16: Divers | D16: Tables | E16: Bois | F16: 2 | J16: Grenier | K16: Zone "Camps" | M16: =IF(F16>0,"","NON")
A17: 0014 | B17: Camping | C17: Divers | D17: Bancs | E17: Bois | F17: 4 | J17: Grenier | K17: Zone "Camps" | M17: =IF(F17>0,"","NON")
A18: 0015 | B18: Camping | C18: Divers | D18: Table pliante | E18: Bois | F18: 1 | J18: Grenier | K18: Zone "Camps" | M18: =IF(F18>0,"","NON")
A19: 0016 | B19: Camping | C19: Divers | D19: Sièges 3 pieds | E19: Jaune | F19: 1 | J19: Grenier | K19: Zone "Camps" | M19: =IF(F19>0,"","NON")
A20: 0017 | B20: Camping | C20: Divers | D20: Sièges 3 pieds | E20: Verte | F20: 1 | J20: Grenier | K20: Zone "Camps" | M20: =IF(F20>0,"","NON")
A21: 0018 | B21: Camping | C21: Divers | D21: Sièges 4 pieds | E21: Vert | F21: 3 | J21: Grenier | K21: Zone "Camps" | M21: =IF(F21>0,"","NON")
A22: 0019 | B22: Bricolage_et_Extérieur | C22: Jardinage | D22: Bache | E22: Verte | F22: 1 | J22: Grenier | K22: Zone "Camps" | M22: =IF(F22>0,"","NON")
A23: 0020 | B23: Bricolage_et_Extérieur | C23: Jardinage | D23: Parasols | E23: Blanc et violet | F23: 2 | J23: Grenier | K23: Zone "Camps" | M23: =IF(F23>0,"","NON")
A24: 0021 | B24: Bricolage_et_Extérieur | C24: Jardinage | D24: Barbecue | F24: 1 | G24: 2015 | H24: 130 | I24: 2023 | J24: Grenier | K24: Zone droite | M24: =IF(F24>0,"","NON")
A25: 0022 | B25: Cuisine | C25: Gaz | D25: GAZ | E25: Cube gris | F25: 2 | J25: Grenier | K25: Zone "Camps" | M25: =IF(F25>0,"","NON")
A26: 0023 | B26: Cuisine | C26: Vaisselle | D26: Verres | E26: Jaune | F26: 15 | J26: Grenier | K26: Zone "Camps" | L26: Malle Cuisine | M26: =IF(F26>0,"","NON")
A27: 0024 | B27: Cuisine | C27: Vaisselle | D27: Verres | E27: Multicolores | F27: 17 | J27: Grenier | K27: Zone "Camps" | L27: Malle Cuisine | M27: =IF(F27>0,"","NON")
A28: 0025 | B28: Cuisine | C28: Vaisselle | D28: Assiettes | E28: Jaune | F28: 15 | J28: Grenier | K28: Zone "Camps" | L28: Malle Cuisine | M28: =IF(F28>0,"","NON")
A29: 0026 | B29: Cuisine | C29: Vaisselle | D29: Assiettes | E29: Multicolores | F29: 18 | J29: Grenier | K29: Zone "Camps" | L29: Malle Cuisine | M29: =IF(F29>0,"","NON")
A30: 0027 | B30: Cuisine | C30: Vaisselle | D30: Bols | E30: Blanc | F30: 21 | J30: Grenier | K30: Zone "Camps" | L30: Malle Cuisine | M30: =IF(F30>0,"","NON")
A31: 0028 | B31: Cuisine | C31: Vaisselle | D31: Bols | E31: Multicolores | F31: 11 | J31: Grenier | K31: Zone "Camps" | L31: Malle Cuisine | M31: =IF(F31>0,"","NON")
A32: 0029 | B32: Cuisine | C32: Vaisselle | D32: Cuillères à soupe | E32: Alluminium | F32: 50 | J32: Grenier | K32: Zone "Camps" | L32: Malle Cuisine | M32: =IF(F32>0,"","NON")
A33: 0030 | B33: Cuisine | C33: Vaisselle | D33: Fourchettes | E33: Alluminium | F33: 50 | J33: Grenier | K33: Zone "Camps" | L33: Malle Cuisine | M33: =IF(F33>0,"","NON")
A34: 0031 | B34: Cuisine | C34: Vaisselle | D34: Couteaux | E34: Alluminium | F34: 50 | J34: Grenier | K34: Zone "Camps" | L34: Malle Cuisine | M34: =IF(F34>0,"","NON")
A35: 0032 | B35: Cuisine | C35: Vaisselle | D35: Cuillères à café | E35: Alluminium | F35: 25 | J35: Grenier | K35: Zone "Camps" | L35: Malle Cuisine | M35: =IF(F35>0,"","NON")
A36: 0033 | B36: Cuisine | C36: Vaisselle | D36: Couteaux à viande | E36: Noir | F36: 4 | J36: Grenier | K36: Zone "Camps" | L36: Malle Cuisine | M36: =IF(F36>0,"","NON")
A37: 0034 | B37: Cuisine | C37: Vaisselle | D37: Economes | E37: Bois | F37: 3 | J37: Grenier | K37: Zone "Camps" | L37: Malle Cuisine | M37: =IF(F37>0,"","NON")
... A39: 0036 | B39: Cuisine | C39: Vaisselle | D39: Cuillères | E39: Plastique | F39: 18 | J39: Grenier | K39: Zone "Camps" | L39: Malle Cuisine | M39: =IF(F39>0,"","NON")
A40: 0037 | B40: Cuisine | C40: Vaisselle | D40: Fourchettes | E40: Plastique | F40: 18 | G40: 2015 | H40: 3 | J40: Grenier | K40: Zone "Camps" | L40: Malle Cuisine | M40: =IF(F40>0,"","NON")
A41: 0038 | B41: Cuisine | C41: Vaisselle | D41: Couteaux | E41: Plastique | F41: 18 | G41: 2015 | H41: 3 | J41: Grenier | K41: Zone "Camps" | L41: Malle Cuisine | M41: =IF(F41>0,"","NON")
A42: 0039 | B42: Cuisine | C42: Vaisselle | D42: Casseroles | F42: 2 | J42: Grenier | K42: Zone "Camps" | L42: Malle Cuisine | M42: =IF(F42>0,"","NON")
A43: 0040 | B43: Cuisine | C43: Vaisselle | D43: Poëles | F43: 2 | J43: Grenier | K43: Zone "Camps" | L43: Malle Cuisine | M43: =IF(F43>0,"","NON")
A44: 0041 | B44: Cuisine | C44: Vaisselle | D44: Fait tout | F44: 2 | J44: Grenier | K44: Zone "Camps" | L44: Malle Cuisine | M44: =IF(F44>0,"","NON")
A45: 0042 | B45: Cuisine | C45: Vaisselle | D45: Passoires | E45: Alluminium | F45: 2 | J45: Grenier | K45: Zone "Camps" | L45: Malle Cuisine | M45: =IF(F45>0,"","NON")
A46: 0043 | B46: Cuisine | C46: Vaisselle | D46: Passoires | E46: Plastique | F46: 1 | J46: Grenier | K46: Zone "Camps" | L46: Malle Cuisine | M46: =IF(F46>0,"","NON")
A47: 0044 | B47: Cuisine | C47: Vaisselle | D47: Louche | F47: 2 | J47: Grenier | K47: Zone "Camps" | L47: Malle Cuisine | M47: =IF(F47>0,"","NON")
A48: 0045 | B48: Cuisine | C48: Vaisselle | D48: Grand Saladier | E48: Alluminium | F48: 1 | J48: Grenier | K48: Zone "Camps" | L48: Malle Cuisine | M48: =IF(F48>0,"","NON")
A49: 0046 | B49: Cuisine | C49: Vaisselle | D49: Petit Saladier | E49: Alluminium | F49: 2 | J49: Grenier | K49: Zone "Camps" | L49: Malle Cuisine | M49: =IF(F49>0,"","NON")
A50: 0047 | B50: Cuisine | C50: Vaisselle | D50: Planche en bois | F50: 1 | J50: Grenier | K50: Zone "Camps" | L50: Malle Cuisine | M50: =IF(F50>0,"","NON")
A51: 0048 | B51: Cuisine | C51: Vaisselle | D51: Cuillères | E51: Bois | F51: 2 | J51: Grenier | K51: Zone "Camps" | L51: Malle Cuisine | M51: =IF(F51>0,"","NON")
A52: 0049 | B52: Cuisine | C52: Vaisselle | D52: Couvercle | F52: 2 | J52: Grenier | K52: Zone "Camps" | L52: Malle Cuisine | M52: =IF(F52>0,"","NON")
A53: 0050 | B53: Cuisine | C53: Vaisselle | D53: Rape à fromage | E53: Verte | F53: 1 | J53: Grenier | K53: Zone "Camps" | L53: Malle Cuisine | M53: =IF(F53>0,"","NON")
A54: 0051 | B54: Cuisine | C54: Vaisselle | D54: Ouvre boite | E54: Noir | F54: 1 | J54: Grenier | K54: Zone "Camps" | L54: Malle Cuisine | M54: =IF(F54>0,"","NON")
A55: 0052 | B55: Cuisine | C55: Vaisselle | D55: Tuperware | E55: Bordeaux | F55: 1 | J55: Grenier | K55: Zone "Camps" | L55: Malle Cuisine | M55: =IF(F55>0,"","NON")
A56: 0053 | B56: Cuisine | C56: Vaisselle | D56: Wok | E56: Noir | F56: 1 | J56: Grenier | K56: Zone "Camps" | L56: Malle Cuisine | M56: =IF(F56>0,"","NON")
A57: 0054 | B57: Camping | C57: Entretien | D57: Produit multiusage | F57: 2 | J57: Grenier | K57: Zone "Camps" | L57: Malle Entretien | M57: =IF(F57>0,"","NON")
A58: 0055 | B58: Camping | C58: Entretien | D58: Recharge crème lavante | F58: 3 | J58: Grenier | K58: Zone "Camps" | L58: Malle Entretien | M58: =IF(F58>0,"","NON")
A59: 0056 | B59: Camping | C59: Entretien | D59: Lessive à main | F59: 1 | J59: Grenier | K59: Zone "Camps" | L59: Malle Entretien | M59: =IF(F59>0,"","NON")
A60: 0057 | B60: Camping | C60: Entretien | D60: Gel désinfectant main | F60: 1 | J60: Grenier | K60: Zone "Camps" | L60: Malle Entretien | M60: =IF(F60>0,"","NON")
A61: 0058 | B61: Camping | C61: Entretien | D61: Alluminium | F61: 2 | J61: Grenier | K61: Zone "Camps" | L61: Malle Entretien | M61: =IF(F61>0,"","NON")
A62: 0059 | B62: Camping | C62: Entretien | D62: Sac congélation | F62: 2 | J62: Grenier | K62: Zone "Camps" | L62: Malle Entretien | M62: =IF(F62>0,"","NON")
A63: 0060 | B63: Camping | C63: Entretien | D63: Lingette Bébé | F63: 3 | J63: Grenier | K63: Zone "Camps" | L63: Malle Entretien | M63: =IF(F63>0,"","NON")
A64: 0061 | B64: Camping | C64: Entretien | D64: Eponges | F64: 3 | J64: Grenier | K64: Zone "Camps" | L64: Malle Entretien | M64: =IF(F64>0,"","NON")
A65: 0062 | B65: Cuisine | C65: Vaisselle | D65: Allume feu manuel | F65: 1 | J65: Grenier | K65: Zone "Camps" | L65: Malle Cuisine | M65: =IF(F65>0,"","NON")
A66: 0063 | B66: Cuisine | C66: Vaisselle | D66: Pique à brochettes | F66: 1 | J66: Grenier | K66: Zone "Camps" | L66: Malle Cuisine | M66: =IF(F66>0,"","NON")
A67: 0064 | B67: Cuisine | C67: Vaisselle | D67: Thermomètre | F67: 2 | J67: Grenier | K67: Zone "Camps" | L67: Malle Cuisine | M67: =IF(F67>0,"","NON")
A68: 0065 | B68: Camping | C68: Entretien | D68: Poche de glace en gel | F68: 1 | J68: Grenier | K68: Zone "Camps" | L68: Malle Entretien | M68: =IF(F68>0,"","NON")
A69: 0066 | B69: Camping | C69: Entretien | D69: Sac poubelle | E69: Déchet ménagé | F69: 3 | J69: Grenier | K69: Zone "Camps" | L69: Malle Entretien | M69: =IF(F69>0,"","NON")
A70: 0067 | B70: Camping | C70: Entretien | D70: Sac poubelle | E70: Déchet recyclable | F70: 1 | J70: Grenier | K70: Zone "Camps" | L70: Malle Entretien | M70: =IF(F70>0,"","NON")
A71: 0068 | B71: Camping | C71: Entretien | D71: Boite plastique | E71: Pinces et fils à linge | F71: 1 | J71: Grenier | K71: Zone "Camps" | L71: Malle Entretien | M71: =IF(F71>0,"","NON")
A72: 0069 | B72: Camping | C72: Entretien | D72: Chaine vélo | F72: 2 | J72: Grenier | K72: Zone "Camps" | L72: Malle Entretien | M72: =IF(F72>0,"","NON")
A73: 0070 | B73: Camping | C73: Entretien | D73: Pompe à vélo | F73: 1 | J73: Grenier | K73: Zone "Camps" | L73: Malle Entretien | M73: =IF(F73>0,"","NON")
A74: 0071 | B74: Camping | C74: Entretien | D74: Boite de rustine | F74: 1 | J74: Grenier | K74: Zone "Camps" | L74: Malle Entretien | M74: =IF(F74>0,"","NON")
A75: 0072 | B75: Camping | C75: Entretien | D75: Bombe anti crevaison | F75: 2 | J75: Grenier | K75: Zone "Camps" | L75: Malle Entretien | M75: =IF(F75>0,"","NON")
A76: 0073 | B76: Camping | C76: Entretien | D76: Cadena | F76: 1 | J76: Grenier | K76: Zone "Camps" | L76: Malle Entretien | M76: =IF(F76>0,"","NON")
A77: 0074 | B77: Bricolage_et_Extérieur | C77: Outils | D77: Tournevis | F77: 1 | J77: Grenier | K77: Zone "Camps" | L77: Malle Entretien | M77: =IF(F77>0,"","NON")
A78: 0075 | B78: Camping | C78: Entretien | D78: Sac de Bougie | F78: 1 | J78: Grenier | K78: Zone "Camps" | L78: Malle Entretien | M78: =IF(F78>0,"","NON")
A79: 0076 | B79: Camping | C79: Entretien | D79: Ralonge | E79: Blanche | F79: 1 | J79: Grenier | K79: Zone "Camps" | L79: Malle Entretien | M79: =IF(F79>0,"","NON")
A80: 0077 | B80: Camping | C80: Entretien | D80: Multiprise | E80: Blanche | F80: 1 | J80: Grenier | K80: Zone "Camps" | L80: Malle Entretien | M80: =IF(F80>0,"","NON")
A81: 0078 | B81: Camping | C81: Entretien | D81: Lingette Dépoussiérante | F81: 1 | J81: Grenier | K81: Zone "Camps" | L81: Malle Entretien | M81: =IF(F81>0,"","NON")
A82: 0079 | B82: Camping | C82: Entretien | D82: Ramasse bourier | F82: 2 | J82: Grenier | K82: Zone "Camps" | L82: Malle Entretien | M82: =IF(F82>0,"","NON")
A83: 0080 | B83: Camping | C83: Entretien | D83: Serpillère | F83: 2 | J83: Grenier | K83: Zone "Camps" | L83: Malle Entretien | M83: =IF(F83>0,"","NON")
A84: 0081 | B84: Camping | C84: Entretien | D84: Pain de glace | F84: 2 | J84: Grenier | K84: Zone "Camps" | M84: =IF(F84>0,"","NON")
A85: 0082 | B85: Camping | C85: Entretien | D85: Pochette de sardine | F85: 1 | J85: Grenier | K85: Zone "Camps" | M85: =IF(F85>0,"","NON")
A86: 0083 | B86: Camping | C86: Entretien | D86: Poubelles | E86: Noir et verte | F86: 2 | J86: Grenier | K86: Zone "Camps" | L86: Malle Plein air | M86: =IF(F86>0,"","NON")
A87: 0084 | B87: Péda | C87: Jeux de plein air | D87: But de foot | E87: Vert | F87: 1 | J87: Grenier | K87: Zone "Camps" | L87: Malle Plein air | M87: =IF(F87>0,"","NON")
A88: 0085 | B88: Péda | C88: Jeux de plein air | D88: But de foot à cible | E88: Vert | F88: 1 | J88: Grenier | K88: Zone "Camps" | L88: Malle Plein air | M88: =IF(F88>0,"","NON")
A89: 0086 | B89: Péda | C89: Jeux de plein air | D89: Raquettes | E89: Badminton | F89: 10 | J89: Grenier | K89: Zone "Camps" | L89: Malle Plein air | M89: =IF(F89>0,"","NON")
A90: 0087 | B90: Péda | C90: Jeux de plein air | D90: Volant | E90: Badminton | F90: 10 | J90: Grenier | K90: Zone "Camps" | L90: Malle Plein air | M90: =IF(F90>0,"","NON")
A91: 0088 | B91: Péda | C91: Jeux de plein air | D91: Raquettes | E91: Plastique | F91: 4 | J91: Grenier | K91: Zone "Camps" | L91: Malle Plein air | M91: =IF(F91>0,"","NON")
A92: 0089 | B92: Péda | C92: Jeux de plein air | D92: Balle | E92: Mousse | F92: 2 | J92: Grenier | K92: Zone "Camps" | L92: Malle Plein air | M92: =IF(F92>0,"","NON")
A93: 0090 | B93: Péda | C93: Jeux de plein air | D93: Ballon | E93: Foot | F93: 1 | J93: Grenier | K93: Zone "Camps" | L93: Malle Plein air | M93: =IF(F93>0,"","NON")
A94: 0091 | B94: Péda | C94: Jeux de plein air | D94: Raquettes | E94: Ping-Pong | F94: 6 | J94: Grenier | K94: Zone "Camps" | L94: Malle Plein air | M94: =IF(F94>0,"","NON")
A95: 0092 | B95: Péda | C95: Jeux de plein air | D95: Filet | E95: Ping-Pong | F95: 1 | J95: Grenier | K95: Zone "Camps" | L95: Malle Plein air | M95: =IF(F95>0,"","NON")
A96: 0093 | B96: Péda | C96: Jeux de plein air | D96: Balle | E96: Ping-Pong | F96: 9 | J96: Grenier | K96: Zone "Camps" | L96: Malle Plein air | M96: =IF(F96>0,"","NON")
A97: 0094 | B97: Péda | C97: Jeux de plein air | D97: Raquettes | E97: Bois | F97: 1 | J97: Grenier | K97: Zone "Camps" | L97: Malle Plein air | M97: =IF(F97>0,"","NON")
A98: 0095 | B98: Péda | C98: Jeux de plein air | D98: Mikado | E98: Géant | F98: 1 | J98: Grenier | K98: Zone "Camps" | L98: Malle Plein air | M98: =IF(F98>0,"","NON")
A99: 0096 | B99: Péda | C99: Jeux de plein air | D99: Pistolet à eau | F99: 1 | J99: Grenier | K99: Zone "Camps" | L99: Malle Plein air | M99: =IF(F99>0,"","NON")
A100: 0097 | B100: Péda | C100: Jeux de plein air | D100: Sceau | E100: De sable | F100: 2 | J100: Grenier | K100: Zone "Camps" | L100: Malle Plein air | M100: =IF(F100>0,"","NON")
A101: 0098 | B101: Péda | C101: Jeux de plein air | D101: Tamis | E101: De sable | F101: 2 | J101: Grenier | K101: Zone "Camps" | L101: Malle Plein air | M101: =IF(F101>0,"","NON")
...

Sheet Inventaire malle cuisine
A2: Code GIM | B2: Marque désignation | C2: modèle couleur | D2: Quantité

Sheet Inventaire malle entretien
A2: Code GIM | B2: Marque désignation | C2: modèle couleur | D2: Quantité

Sheet Inventaire malle plein air
A2: Code GIM | B2: Marque désignation | C2: modèle couleur | D2: Quantité

Sheet Inventaire malle cirque
A2: Code GIM | B2: Marque désignation | C2: modèle couleur | D2: Quantité

Sheet Inventaire malle péda
A2: Code GIM | B2: Marque désignation | C2: modèle couleur | D2: Quantité

Sheet Emprunteur 1
A2: Structure emprunteur 1 | H2: Responsable
A4: Lecture code barres | B4: Vérifié | C4: Inventaire | H4: Lieu de rangement au retour
C5: Catégorie | D5: sous-catégorie | E5: Marque désignation | F5: modèle couleur | G5: Quantité | H5: Local | I5: localisation | J5: Retour
A6: 0000 | B6: O | C6: =VLOOKUP(A6,'Inventaire général'!A:K,2,FALSE) | D6: =VLOOKUP(A6,'Inventaire général'!A:K,3,FALSE) | E6: =VLOOKUP(A6,'Inventaire général'!A:K,4,FALSE) | F6: =VLOOKUP(A6,'Inventaire général'!A:K,5,FALSE) | H6: =VLOOKUP(A6,'Inventaire général'!A:K,10,FALSE) | I6: =VLOOKUP(A6,'Inventaire général'!A:K,11,FALSE) | J6: =IFERROR(VLOOKUP('Emprunteur 1'!A6,'Retour emprunteur 1'!$A$3:$A$43,1,FALSE),"NON-RENDU !") -> NON-RENDU !
A7: 0000 | B7: O | C7: =VLOOKUP(A7,'Inventaire général'!A:K,2,FALSE) | D7: =VLOOKUP(A7,'Inventaire général'!A:K,3,FALSE) | E7: =VLOOKUP(A7,'Inventaire général'!A:K,4,FALSE) | F7: =VLOOKUP(A7,'Inventaire général'!A:K,5,FALSE) | H7: =VLOOKUP(A7,'Inventaire général'!A:K,10,FALSE) | I7: =VLOOKUP(A7,'Inventaire général'!A:K,11,FALSE) | J7: =IFERROR(VLOOKUP('Emprunteur 1'!A7,'Retour emprunteur 1'!$A$3:$A$43,1,FALSE),"NON-RENDU !") -> NON-RENDU !
A8: 0000 | B8: O | C8: =VLOOKUP(A8,'Inventaire général'!A:K,2,FALSE) | D8: =VLOOKUP(A8,'Inventaire général'!A:K,3,FALSE) | E8: =VLOOKUP(A8,'Inventaire général'!A:K,4,FALSE) | F8: =VLOOKUP(A8,'Inventaire général'!A:K,5,FALSE) | H8: =VLOOKUP(A8,'Inventaire général'!A:K,10,FALSE) | I8: =VLOOKUP(A8,'Inventaire général'!A:K,11,FALSE) | J8: =IFERROR(VLOOKUP('Emprunteur 1'!A8,'Retour emprunteur 1'!$A$3:$A$43,1,FALSE),"NON-RENDU !") -> NON-RENDU !
A9: 0000 | B9: O | C9: =VLOOKUP(A9,'Inventaire général'!A:K,2,FALSE) | D9: =VLOOKUP(A9,'Inventaire général'!A:K,3,FALSE) | E9: =VLOOKUP(A9,'Inventaire général'!A:K,4,FALSE) | F9: =VLOOKUP(A9,'Inventaire général'!A:K,5,FALSE) | H9: =VLOOKUP(A9,'Inventaire général'!A:K,10,FALSE) | I9: =VLOOKUP(A9,'Inventaire général'!A:K,11,FALSE) | J9: =IFERROR(VLOOKUP('Emprunteur 1'!A9,'Retour emprunteur 1'!$A$3:$A$43,1,FALSE),"NON-RENDU !") -> NON-RENDU !
A10: 0000 | B10: O | C10: =VLOOKUP(A10,'Inventaire général'!A:K,2,FALSE) | D10: =VLOOKUP(A10,'Inventaire général'!A:K,3,FALSE) | E10: =VLOOKUP(A10,'Inventaire général'!A:K,4,FALSE) | F10: =VLOOKUP(A10,'Inventaire général'!A:K,5,FALSE) | H10: =VLOOKUP(A10,'Inventaire général'!A:K,10,FALSE) | I10: =VLOOKUP(A10,'Inventaire général'!A:K,11,FALSE) | J10: =IFERROR(VLOOKUP('Emprunteur 1'!A10,'Retour emprunteur 1'!$A$3:$A$43,1,FALSE),"NON-RENDU !") -> NON-RENDU !
A11: 0000 | B11: O | C11: =VLOOKUP(A11,'Inventaire général'!A:K,2,FALSE) | D11: =VLOOKUP(A11,'Inventaire général'!A:K,3,FALSE) | E11: =VLOOKUP(A11,'Inventaire général'!A:K,4,FALSE) | F11: =VLOOKUP(A11,'Inventaire général'!A:K,5,FALSE) | H11: =VLOOKUP(A11,'Inventaire général'!A:K,10,FALSE) | I11: =VLOOKUP(A11,'Inventaire général'!A:K,11,FALSE) | J11: =IFERROR(VLOOKUP('Emprunteur 1'!A11,'Retour emprunteur 1'!$A$3:$A$43,1,FALSE),"NON-RENDU !") -> NON-RENDU !
A12: 0000 | B12: O | C12: =VLOOKUP(A12,'Inventaire général'!A:K,2,FALSE) | D12: =VLOOKUP(A12,'Inventaire général'!A:K,3,FALSE) | E12: =VLOOKUP(A12,'Inventaire général'!A:K,4,FALSE) | F12: =VLOOKUP(A12,'Inventaire général'!A:K,5,FALSE) | H12: =VLOOKUP(A12,'Inventaire général'!A:K,10,FALSE) | I12: =VLOOKUP(A12,'Inventaire général'!A:K,11,FALSE) | J12: =IFERROR(VLOOKUP('Emprunteur 1'!A12,'Retour emprunteur 1'!$A$3:$A$43,1,FALSE),"NON-RENDU !") -> NON-RENDU !
A13: 0000 | B13: O | C13: =VLOOKUP(A13,'Inventaire général'!A:K,2,FALSE) | D13: =VLOOKUP(A13,'Inventaire général'!A:K,3,FALSE) | E13: =VLOOKUP(A13,'Inventaire général'!A:K,4,FALSE) | F13: =VLOOKUP(A13,'Inventaire général'!A:K,5,FALSE) | H13: =VLOOKUP(A13,'Inventaire général'!A:K,10,FALSE) | I13: =VLOOKUP(A13,'Inventaire général'!A:K,11,FALSE) | J13: =IFERROR(VLOOKUP('Emprunteur 1'!A13,'Retour emprunteur 1'!$A$3:$A$43,1,FALSE),"NON-RENDU !") -> NON-RENDU !
A14: 0000 | B14: O | C14: =VLOOKUP(A14,'Inventaire général'!A:K,2,FALSE) | D14: =VLOOKUP(A14,'Inventaire général'!A:K,3,FALSE) | E14: =VLOOKUP(A14,'Inventaire général'!A:K,4,FALSE) | F14: =VLOOKUP(A14,'Inventaire général'!A:K,5,FALSE) | H14: =VLOOKUP(A14,'Inventaire général'!A:K,10,FALSE) | I14: =VLOOKUP(A14,'Inventaire général'!A:K,11,FALSE) | J14: =IFERROR(VLOOKUP('Emprunteur 1'!A14,'Retour emprunteur 1'!$A$3:$A$43,1,FALSE),"NON-RENDU !") -> NON-RENDU !
A15: 0000 | B15: O | C15: =VLOOKUP(A15,'Inventaire général'!A:K,2,FALSE) | D15: =VLOOKUP(A15,'Inventaire général'!A:K,3,FALSE) | E15: =VLOOKUP(A15,'Inventaire général'!A:K,4,FALSE) | F15: =VLOOKUP(A15,'Inventaire général'!A:K,5,FALSE) | H15: =VLOOKUP(A15,'Inventaire général'!A:K,10,FALSE) | I15: =VLOOKUP(A15,'Inventaire général'!A:K,11,FALSE) | J15: =IFERROR(VLOOKUP('Emprunteur 1'!A15,'Retour emprunteur 1'!$A$3:$A$43,1,FALSE),"NON-RENDU !") -> NON-RENDU !
A16: 0000 | B16: O | C16: =VLOOKUP(A16,'Inventaire général'!A:K,2,FALSE) | D16: =VLOOKUP(A16,'Inventaire général'!A:K,3,FALSE) | E16: =VLOOKUP(A16,'Inventaire général'!A:K,4,FALSE) | F16: =VLOOKUP(A16,'Inventaire général'!A:K,5,FALSE) | H16: =VLOOKUP(A16,'Inventaire général'!A:K,10,FALSE) | I16: =VLOOKUP(A16,'Inventaire général'!A:K,11,FALSE) | J16: =IFERROR(VLOOKUP('Emprunteur 1'!A16,'Retour emprunteur 1'!$A$3:$A$43,1,FALSE),"NON-RENDU !") -> NON-RENDU !
A17: 0000 | B17: O | C17: =VLOOKUP(A17,'Inventaire général'!A:K,2,FALSE) | D17: =VLOOKUP(A17,'Inventaire général'!A:K,3,FALSE) | E17: =VLOOKUP(A17,'Inventaire général'!A:K,4,FALSE) | F17: =VLOOKUP(A17,'Inventaire général'!A:K,5,FALSE) | H17: =VLOOKUP(A17,'Inventaire général'!A:K,10,FALSE) | I17: =VLOOKUP(A17,'Inventaire général'!A:K,11,FALSE) | J17: =IFERROR(VLOOKUP('Emprunteur 1'!A17,'Retour emprunteur 1'!$A$3:$A$43,1,FALSE),"NON-RENDU !") -> NON-RENDU !
... A100: 0000 | B100: O | C100: =VLOOKUP(A100,'Inventaire général'!A:K,2,FALSE) | D100: =VLOOKUP(A100,'Inventaire général'!A:K,3,FALSE) | E100: =VLOOKUP(A100,'Inventaire général'!A:K,4,FALSE) | F100: =VLOOKUP(A100,'Inventaire général'!A:K,5,FALSE) | H100: =VLOOKUP(A100,'Inventaire général'!A:K,10,FALSE) | I100: =VLOOKUP(A100,'Inventaire général'!A:K,11,FALSE) | J100: =IFERROR(VLOOKUP('Emprunteur 1'!A100,'Retour emprunteur 1'!$A$3:$A$43,1,FALSE),"NON-RENDU !") -> NON-RENDU !

Sheet Retour emprunteur 1
A1: codes barres

Sheet Emprunteur 2
A2: Structure emprunteur 2 | H2: Responsable
A4: Lecture code barres | B4: Vérifié | C4: Inventaire | H4: Lieu de rangement au retour
C5: Catégorie | D5: sous-catégorie | E5: Marque désignation | F5: modèle couleur | G5: Quantité | H5: Local | I5: localisation | J5: Retour
A6: 0000 | B6: O | C6: =VLOOKUP(A6,'Inventaire général'!A:K,2,FALSE) | D6: =VLOOKUP(A6,'Inventaire général'!A:K,3,FALSE) | E6: =VLOOKUP(A6,'Inventaire général'!A:K,4,FALSE) | F6: =VLOOKUP(A6,'Inventaire général'!A:K,5,FALSE) | H6: =VLOOKUP(A6,'Inventaire général'!A:K,10,FALSE) | I6: =VLOOKUP(A6,'Inventaire général'!A:K,11,FALSE) | J6: =IFERROR(VLOOKUP('Emprunteur 2'!A6,'Retour emprunteur 2'!$A$3:$A$43,1,FALSE),"NON-RENDU !") -> NON-RENDU !
A7: 0000 | B7: O | C7: =VLOOKUP(A7,'Inventaire général'!A:K,2,FALSE) | D7: =VLOOKUP(A7,'Inventaire général'!A:K,3,FALSE) | E7: =VLOOKUP(A7,'Inventaire général'!A:K,4,FALSE) | F7: =VLOOKUP(A7,'Inventaire général'!A:K,5,FALSE) | H7: =VLOOKUP(A7,'Inventaire général'!A:K,10,FALSE) | I7: =VLOOKUP(A7,'Inventaire général'!A:K,11,FALSE) | J7: =IFERROR(VLOOKUP('Emprunteur 2'!A7,'Retour emprunteur 2'!$A$3:$A$43,1,FALSE),"NON-RENDU !") -> NON-RENDU !
A8: 0000 | B8: O | C8: =VLOOKUP(A8,'Inventaire général'!A:K,2,FALSE) | D8: =VLOOKUP(A8,'Inventaire général'!A:K,3,FALSE) | E8: =VLOOKUP(A8,'Inventaire général'!A:K,4,FALSE) | F8: =VLOOKUP(A8,'Inventaire général'!A:K,5,FALSE) | H8: =VLOOKUP(A8,'Inventaire général'!A:K,10,FALSE) | I8: =VLOOKUP(A8,'Inventaire général'!A:K,11,FALSE) | J8: =IFERROR(VLOOKUP('Emprunteur 2'!A8,'Retour emprunteur 2'!$A$3:$A$43,1,FALSE),"NON-RENDU !") -> NON-RENDU !
A9: 0000 | B9: O | C9: =VLOOKUP(A9,'Inventaire général'!A:K,2,FALSE) | D9: =VLOOKUP(A9,'Inventaire général'!A:K,3,FALSE) | E9: =VLOOKUP(A9,'Inventaire général'!A:K,4,FALSE) | F9: =VLOOKUP(A9,'Inventaire général'!A:K,5,FALSE) | H9: =VLOOKUP(A9,'Inventaire général'!A:K,10,FALSE) | I9: =VLOOKUP(A9,'Inventaire général'!A:K,11,FALSE) | J9: =IFERROR(VLOOKUP('Emprunteur 2'!A9,'Retour emprunteur 2'!$A$3:$A$43,1,FALSE),"NON-RENDU !") -> NON-RENDU !
A10: 0000 | B10: O | C10: =VLOOKUP(A10,'Inventaire général'!A:K,2,FALSE) | D10: =VLOOKUP(A10,'Inventaire général'!A:K,3,FALSE) | E10: =VLOOKUP(A10,'Inventaire général'!A:K,4,FALSE) | F10: =VLOOKUP(A10,'Inventaire général'!A:K,5,FALSE) | H10: =VLOOKUP(A10,'Inventaire général'!A:K,10,FALSE) | I10: =VLOOKUP(A10,'Inventaire général'!A:K,11,FALSE) | J10: =IFERROR(VLOOKUP('Emprunteur 2'!A10,'Retour emprunteur 2'!$A$3:$A$43,1,FALSE),"NON-RENDU !") -> NON-RENDU !
A11: 0000 | B11: O | C11: =VLOOKUP(A11,'Inventaire général'!A:K,2,FALSE) | D11: =VLOOKUP(A11,'Inventaire général'!A:K,3,FALSE) | E11: =VLOOKUP(A11,'Inventaire général'!A:K,4,FALSE) | F11: =VLOOKUP(A11,'Inventaire général'!A:K,5,FALSE) | H11: =VLOOKUP(A11,'Inventaire général'!A:K,10,FALSE) | I11: =VLOOKUP(A11,'Inventaire général'!A:K,11,FALSE) | J11: =IFERROR(VLOOKUP('Emprunteur 2'!A11,'Retour emprunteur 2'!$A$3:$A$43,1,FALSE),"NON-RENDU !") -> NON-RENDU !
A12: 0000 | B12: O | C12: =VLOOKUP(A12,'Inventaire général'!A:K,2,FALSE) | D12: =VLOOKUP(A12,'Inventaire général'!A:K,3,FALSE) | E12: =VLOOKUP(A12,'Inventaire général'!A:K,4,FALSE) | F12: =VLOOKUP(A12,'Inventaire général'!A:K,5,FALSE) | H12: =VLOOKUP(A12,'Inventaire général'!A:K,10,FALSE) | I12: =VLOOKUP(A12,'Inventaire général'!A:K,11,FALSE) | J12: =IFERROR(VLOOKUP('Emprunteur 2'!A12,'Retour emprunteur 2'!$A$3:$A$43,1,FALSE),"NON-RENDU !") -> NON-RENDU !
A13: 0000 | B13: O | C13: =VLOOKUP(A13,'Inventaire général'!A:K,2,FALSE) | D13: =VLOOKUP(A13,'Inventaire général'!A:K,3,FALSE) | E13: =VLOOKUP(A13,'Inventaire général'!A:K,4,FALSE) | F13: =VLOOKUP(A13,'Inventaire général'!A:K,5,FALSE) | H13: =VLOOKUP(A13,'Inventaire général'!A:K,10,FALSE) | I13: =VLOOKUP(A13,'Inventaire général'!A:K,11,FALSE) | J13: =IFERROR(VLOOKUP('Emprunteur 2'!A13,'Retour emprunteur 2'!$A$3:$A$43,1,FALSE),"NON-RENDU !") -> NON-RENDU !
A14: 0000 | B14: O | C14: =VLOOKUP(A14,'Inventaire général'!A:K,2,FALSE) | D14: =VLOOKUP(A14,'Inventaire général'!A:K,3,FALSE) | E14: =VLOOKUP(A14,'Inventaire général'!A:K,4,FALSE) | F14: =VLOOKUP(A14,'Inventaire général'!A:K,5,FALSE) | H14: =VLOOKUP(A14,'Inventaire général'!A:K,10,FALSE) | I14: =VLOOKUP(A14,'Inventaire général'!A:K,11,FALSE) | J14: =IFERROR(VLOOKUP('Emprunteur 2'!A14,'Retour emprunteur 2'!$A$3:$A$43,1,FALSE),"NON-RENDU !") -> NON-RENDU !
A15: 0000 | B15: O | C15: =VLOOKUP(A15,'Inventaire général'!A:K,2,FALSE) | D15: =VLOOKUP(A15,'Inventaire général'!A:K,3,FALSE) | E15: =VLOOKUP(A15,'Inventaire général'!A:K,4,FALSE) | F15: =VLOOKUP(A15,'Inventaire général'!A:K,5,FALSE) | H15: =VLOOKUP(A15,'Inventaire général'!A:K,10,FALSE) | I15: =VLOOKUP(A15,'Inventaire général'!A:K,11,FALSE) | J15: =IFERROR(VLOOKUP('Emprunteur 2'!A15,'Retour emprunteur 2'!$A$3:$A$43,1,FALSE),"NON-RENDU !") -> NON-RENDU !
A16: 0000 | B16: O | C16: =VLOOKUP(A16,'Inventaire général'!A:K,2,FALSE) | D16: =VLOOKUP(A16,'Inventaire général'!A:K,3,FALSE) | E16: =VLOOKUP(A16,'Inventaire général'!A:K,4,FALSE) | F16: =VLOOKUP(A16,'Inventaire général'!A:K,5,FALSE) | H16: =VLOOKUP(A16,'Inventaire général'!A:K,10,FALSE) | I16: =VLOOKUP(A16,'Inventaire général'!A:K,11,FALSE) | J16: =IFERROR(VLOOKUP('Emprunteur 2'!A16,'Retour emprunteur 2'!$A$3:$A$43,1,FALSE),"NON-RENDU !") -> NON-RENDU !
A17: 0000 | B17: O | C17: =VLOOKUP(A17,'Inventaire général'!A:K,2,FALSE) | D17: =VLOOKUP(A17,'Inventaire général'!A:K,3,FALSE) | E17: =VLOOKUP(A17,'Inventaire général'!A:K,4,FALSE) | F17: =VLOOKUP(A17,'Inventaire général'!A:K,5,FALSE) | H17: =VLOOKUP(A17,'Inventaire général'!A:K,10,FALSE) | I17: =VLOOKUP(A17,'Inventaire général'!A:K,11,FALSE) | J17: =IFERROR(VLOOKUP('Emprunteur 2'!A17,'Retour emprunteur 2'!$A$3:$A$43,1,FALSE),"NON-RENDU !") -> NON-RENDU !
... A100: 0000 | B100: O | C100: =VLOOKUP(A100,'Inventaire général'!A:K,2,FALSE) | D100: =VLOOKUP(A100,'Inventaire général'!A:K,3,FALSE) | E100: =VLOOKUP(A100,'Inventaire général'!A:K,4,FALSE) | F100: =VLOOKUP(A100,'Inventaire général'!A:K,5,FALSE) | H100: =VLOOKUP(A100,'Inventaire général'!A:K,10,FALSE) | I100: =VLOOKUP(A100,'Inventaire général'!A:K,11,FALSE) | J100: =IFERROR(VLOOKUP('Emprunteur 2'!A100,'Retour emprunteur 2'!$A$3:$A$43,1,FALSE),"NON-RENDU !") -> NON-RENDU !

Sheet Retour emprunteur 2
A1: codes barres

Sheet Emprunteur 3
A2: Structure emprunteur 3 | H2: Responsable
A4: Lecture code barres | B4: Vérifié | C4: Inventaire | H4: Lieu de rangement au retour
C5: Catégorie | D5: sous-catégorie | E5: Marque désignation | F5: modèle couleur | G5: Quantité | H5: Local | I5: localisation | J5: Retour
A6: 0000 | B6: O | C6: =VLOOKUP(A6,'Inventaire général'!A:K,2,FALSE) | D6: =VLOOKUP(A6,'Inventaire général'!A:K,3,FALSE) | E6: =VLOOKUP(A6,'Inventaire général'!A:K,4,FALSE) | F6: =VLOOKUP(A6,'Inventaire général'!A:K,5,FALSE) | H6: =VLOOKUP(A6,'Inventaire général'!A:K,10,FALSE) | I6: =VLOOKUP(A6,'Inventaire général'!A:K,11,FALSE) | J6: =IFERROR(VLOOKUP('Emprunteur 3'!A6,'Retour emprunteur 3'!$A$3:$A$43,1,FALSE),"NON-RENDU !") -> NON-RENDU !
A7: 0000 | B7: O | C7: =VLOOKUP(A7,'Inventaire général'!A:K,2,FALSE) | D7: =VLOOKUP(A7,'Inventaire général'!A:K,3,FALSE) | E7: =VLOOKUP(A7,'Inventaire général'!A:K,4,FALSE) | F7: =VLOOKUP(A7,'Inventaire général'!A:K,5,FALSE) | H7: =VLOOKUP(A7,'Inventaire général'!A:K,10,FALSE) | I7: =VLOOKUP(A7,'Inventaire général'!A:K,11,FALSE) | J7: =IFERROR(VLOOKUP('Emprunteur 3'!A7,'Retour emprunteur 3'!$A$3:$A$43,1,FALSE),"NON-RENDU !") -> NON-RENDU !
A8: 0000 | B8: O | C8: =VLOOKUP(A8,'Inventaire général'!A:K,2,FALSE) | D8: =VLOOKUP(A8,'Inventaire général'!A:K,3,FALSE) | E8: =VLOOKUP(A8,'Inventaire général'!A:K,4,FALSE) | F8: =VLOOKUP(A8,'Inventaire général'!A:K,5,FALSE) | H8: =VLOOKUP(A8,'Inventaire général'!A:K,10,FALSE) | I8: =VLOOKUP(A8,'Inventaire général'!A:K,11,FALSE) | J8: =IFERROR(VLOOKUP('Emprunteur 3'!A8,'Retour emprunteur 3'!$A$3:$A$43,1,FALSE),"NON-RENDU !") -> NON-RENDU !
A9: 0000 | B9: O | C9: =VLOOKUP(A9,'Inventaire général'!A:K,2,FALSE) | D9: =VLOOKUP(A9,'Inventaire général'!A:K,3,FALSE) | E9: =VLOOKUP(A9,'Inventaire général'!A:K,4,FALSE) | F9: =VLOOKUP(A9,'Inventaire général'!A:K,5,FALSE) | H9: =VLOOKUP(A9,'Inventaire général'!A:K,10,FALSE) | I9: =VLOOKUP(A9,'Inventaire général'!A:K,11,FALSE) | J9: =IFERROR(VLOOKUP('Emprunteur 3'!A9,'Retour emprunteur 3'!$A$3:$A$43,1,FALSE),"NON-RENDU !") -> NON-RENDU !
A10: 0000 | B10: O | C10: =VLOOKUP(A10,'Inventaire général'!A:K,2,FALSE) | D10: =VLOOKUP(A10,'Inventaire général'!A:K,3,FALSE) | E10: =VLOOKUP(A10,'Inventaire général'!A:K,4,FALSE) | F10: =VLOOKUP(A10,'Inventaire général'!A:K,5,FALSE) | H10: =VLOOKUP(A10,'Inventaire général'!A:K,10,FALSE) | I10: =VLOOKUP(A10,'Inventaire général'!A:K,11,FALSE) | J10: =IFERROR(VLOOKUP('Emprunteur 3'!A10,'Retour emprunteur 3'!$A$3:$A$43,1,FALSE),"NON-RENDU !") -> NON-RENDU !
A11: 0000 | B11: O | C11: =VLOOKUP(A11,'Inventaire général'!A:K,2,FALSE) | D11: =VLOOKUP(A11,'Inventaire général'!A:K,3,FALSE) | E11: =VLOOKUP(A11,'Inventaire général'!A:K,4,FALSE) | F11: =VLOOKUP(A11,'Inventaire général'!A:K,5,FALSE) | H11: =VLOOKUP(A11,'Inventaire général'!A:K,10,FALSE) | I11: =VLOOKUP(A11,'Inventaire général'!A:K,11,FALSE) | J11: =IFERROR(VLOOKUP('Emprunteur 3'!A11,'Retour emprunteur 3'!$A$3:$A$43,1,FALSE),"NON-RENDU !") -> NON-RENDU !
A12: 0000 | B12: O | C12: =VLOOKUP(A12,'Inventaire général'!A:K,2,FALSE) | D12: =VLOOKUP(A12,'Inventaire général'!A:K,3,FALSE) | E12: =VLOOKUP(A12,'Inventaire général'!A:K,4,FALSE) | F12: =VLOOKUP(A12,'Inventaire général'!A:K,5,FALSE) | H12: =VLOOKUP(A12,'Inventaire général'!A:K,10,FALSE) | I12: =VLOOKUP(A12,'Inventaire général'!A:K,11,FALSE) | J12: =IFERROR(VLOOKUP('Emprunteur 3'!A12,'Retour emprunteur 3'!$A$3:$A$43,1,FALSE),"NON-RENDU !") -> NON-RENDU !
A13: 0000 | B13: O | C13: =VLOOKUP(A13,'Inventaire général'!A:K,2,FALSE) | D13: =VLOOKUP(A13,'Inventaire général'!A:K,3,FALSE) | E13: =VLOOKUP(A13,'Inventaire général'!A:K,4,FALSE) | F13: =VLOOKUP(A13,'Inventaire général'!A:K,5,FALSE) | H13: =VLOOKUP(A13,'Inventaire général'!A:K,10,FALSE) | I13: =VLOOKUP(A13,'Inventaire général'!A:K,11,FALSE) | J13: =IFERROR(VLOOKUP('Emprunteur 3'!A13,'Retour emprunteur 3'!$A$3:$A$43,1,FALSE),"NON-RENDU !") -> NON-RENDU !
A14: 0000 | B14: O | C14: =VLOOKUP(A14,'Inventaire général'!A:K,2,FALSE) | D14: =VLOOKUP(A14,'Inventaire général'!A:K,3,FALSE) | E14: =VLOOKUP(A14,'Inventaire général'!A:K,4,FALSE) | F14: =VLOOKUP(A14,'Inventaire général'!A:K,5,FALSE) | H14: =VLOOKUP(A14,'Inventaire général'!A:K,10,FALSE) | I14: =VLOOKUP(A14,'Inventaire général'!A:K,11,FALSE) | J14: =IFERROR(VLOOKUP('Emprunteur 3'!A14,'Retour emprunteur 3'!$A$3:$A$43,1,FALSE),"NON-RENDU !") -> NON-RENDU !
A15: 0000 | B15: O | C15: =VLOOKUP(A15,'Inventaire général'!A:K,2,FALSE) | D15: =VLOOKUP(A15,'Inventaire général'!A:K,3,FALSE) | E15: =VLOOKUP(A15,'Inventaire général'!A:K,4,FALSE) | F15: =VLOOKUP(A15,'Inventaire général'!A:K,5,FALSE) | H15: =VLOOKUP(A15,'Inventaire général'!A:K,10,FALSE) | I15: =VLOOKUP(A15,'Inventaire général'!A:K,11,FALSE) | J15: =IFERROR(VLOOKUP('Emprunteur 3'!A15,'Retour emprunteur 3'!$A$3:$A$43,1,FALSE),"NON-RENDU !") -> NON-RENDU !
A16: 0000 | B16: O | C16: =VLOOKUP(A16,'Inventaire général'!A:K,2,FALSE) | D16: =VLOOKUP(A16,'Inventaire général'!A:K,3,FALSE) | E16: =VLOOKUP(A16,'Inventaire général'!A:K,4,FALSE) | F16: =VLOOKUP(A16,'Inventaire général'!A:K,5,FALSE) | H16: =VLOOKUP(A16,'Inventaire général'!A:K,10,FALSE) | I16: =VLOOKUP(A16,'Inventaire général'!A:K,11,FALSE) | J16: =IFERROR(VLOOKUP('Emprunteur 3'!A16,'Retour emprunteur 3'!$A$3:$A$43,1,FALSE),"NON-RENDU !") -> NON-RENDU !
A17: 0000 | B17: O | C17: =VLOOKUP(A17,'Inventaire général'!A:K,2,FALSE) | D17: =VLOOKUP(A17,'Inventaire général'!A:K,3,FALSE) | E17: =VLOOKUP(A17,'Inventaire général'!A:K,4,FALSE) | F17: =VLOOKUP(A17,'Inventaire général'!A:K,5,FALSE) | H17: =VLOOKUP(A17,'Inventaire général'!A:K,10,FALSE) | I17: =VLOOKUP(A17,'Inventaire général'!A:K,11,FALSE) | J17: =IFERROR(VLOOKUP('Emprunteur 3'!A17,'Retour emprunteur 3'!$A$3:$A$43,1,FALSE),"NON-RENDU !") -> NON-RENDU !
... A100: 0000 | B100: O | C100: =VLOOKUP(A100,'Inventaire général'!A:K,2,FALSE) | D100: =VLOOKUP(A100,'Inventaire général'!A:K,3,FALSE) | E100: =VLOOKUP(A100,'Inventaire général'!A:K,4,FALSE) | F100: =VLOOKUP(A100,'Inventaire général'!A:K,5,FALSE) | H100: =VLOOKUP(A100,'Inventaire général'!A:K,10,FALSE) | I100: =VLOOKUP(A100,'Inventaire général'!A:K,11,FALSE) | J100: =IFERROR(VLOOKUP('Emprunteur 3'!A100,'Retour emprunteur 3'!$A$3:$A$43,1,FALSE),"NON-RENDU !") -> NON-RENDU !

Sheet Retour emprunteur 3
A1: codes barres

Sheet Listes
A2: Désignation | B2: Camping | C2: Cuisine | D2: Electroménager | E2: Technologie | F2: Péda | G2: Bureau | H2: Bricolage_et_Extérieur
B3: Tente igloo | C3: Cuisson | D3: Frigo | E3: Ordi portable | F3: Jeux intérieur | H3: Jardinage
B4: Tente canadienne | C4: Vaisselle | D4: Café/thé | E4: PC de bureau | F4: Jeux de société | H4: Matériel Animaux
B5: Tente cuisine | C5: Entretien | E5: Vidéo-projecteur | F5: Jeux de plein air | H5: Outils
B6: Tente marabout | C6: Gaz | E6: Écran de projection | F6: Fournitures fongibles
B7: Entretien | E7: Périphérique informatique | F7: Décoration
B8: Rangement | E8: Appareil photo
E9: Téléphonie
B10: Divers
A12: Stockage | B12: Grenier | C12: Pigeonnier | D12: Périscolaire | E12: Resto_scolaire | F12: Abri_jardin | G12: Salle_Tilleuls | H12: Ecole_JP
B13: Zone "Camps" | C13: Armoire Métalique | D13: Placards blancs gauche | H13: Salle motricité
B14: Zone droite | D14: Placards blancs centre | H14: Salle Créa
B15: Zone Gauche | D15: Placards blancs droite
B16: Zone centrale | D16: Coin cuisine
B17: Zone Espace Ludique | D17: Caisson place du village
B18: Zone stock | D18: Armoire place du village
B19: Rez-de-Chaussée | D19: Armoire animation

Sheet Feuil1
A2: Code GIM | B2: Marque désignation | C2: modèle couleur | D2: Quantité
