Workbook

Sheet Feuil1
A1: AVANT UTILISATION | J1: APRES UTILISATION
A2: Date d'emprunt | B2: Emprunteur | C2: Référence | D2: Désignation | E2: Date de mise en service | F2: Date de dernière utilisation | G2: Taux de fuite pièce | H2: Critère d'acceptation | I2: Taux de fuite validé ? | J2: Combien d'utilisation | K2: Taux de fuite conforme durant l'utilisation | L2: Date de dernier taux de fuite | M2: dernier taux de fuite | N2: Critère d'acceptation | O2: Taux de fuite validé ?
A3: 44080 | B3: Fabrice | C3: 2020-001 | D3: =IF(C3="","",VLOOKUP(C3,Valeurs!$A$1:$F$31,2,FALSE)) -> Pièce 001 - 2020 | E3: =IF(C3="","",VLOOKUP(C3,Valeurs!$A$1:$F$31,3,FALSE)) -> 44080 | F3: =IF(C3="","",VLOOKUP(C3,Valeurs!$A$1:$F$31,4,FALSE)) -> 0 | G3: =IF(C3="","",VLOOKUP(C3,Valeurs!$A$1:$F$31,5,FALSE)) -> -9 | H3: =IF(C3="","",VLOOKUP(C3,Valeurs!$A$1:$F$31,6,FALSE)) -> -20 | I3: =IF(C3="","",IF(G3<H3,"Non Validé","Validé")) -> Validé | J3: 10 | K3: Oui | L3: 44080 | M3: -13 | N3: =H3 -> -20 | O3: =IF(I3="","",IF(M3<N3,"Non Validé","Validé")) -> Validé | Q3: =C3 -> 2020-001 | R3: =L3 -> 44080 | S3: =M3 -> -13
A4: 44080 | B4: Michel | C4: 2020-002 | D4: =IF(C4="","",VLOOKUP(C4,Valeurs!$A$1:$F$31,2,FALSE)) -> Pièce 002 - 2020 | E4: =IF(C4="","",VLOOKUP(C4,Valeurs!$A$1:$F$31,3,FALSE)) -> 44080 | F4: =IF(C4="","",VLOOKUP(C4,Valeurs!$A$1:$F$31,4,FALSE)) -> 0 | G4: =IF(C4="","",VLOOKUP(C4,Valeurs!$A$1:$F$31,5,FALSE)) -> -10 | H4: =IF(C4="","",VLOOKUP(C4,Valeurs!$A$1:$F$31,6,FALSE)) -> -20 | I4: =IF(C4="","",IF(G4<H4,"Non Validé","Validé")) -> Validé | J4: 10 | K4: Oui | L4: 44080 | M4: -19 | N4: =H4 -> -20 | O4: =IF(I4="","",IF(M4<N4,"Non Validé","Validé")) -> Validé | Q4: =C4 -> 2020-002 | R4: =L4 -> 44080 | S4: =M4 -> -19
A5: 44080 | B5: Nicolas | C5: 2020-003 | D5: =IF(C5="","",VLOOKUP(C5,Valeurs!$A$1:$F$31,2,FALSE)) -> Pièce 003 - 2020 | E5: =IF(C5="","",VLOOKUP(C5,Valeurs!$A$1:$F$31,3,FALSE)) -> 44080 | F5: =IF(C5="","",VLOOKUP(C5,Valeurs!$A$1:$F$31,4,FALSE)) -> 0 | G5: =IF(C5="","",VLOOKUP(C5,Valeurs!$A$1:$F$31,5,FALSE)) -> -11 | H5: =IF(C5="","",VLOOKUP(C5,Valeurs!$A$1:$F$31,6,FALSE)) -> -20 | I5: =IF(C5="","",IF(G5<H5,"Non Validé","Validé")) -> Validé | J5: 15 | K5: Oui | L5: 44080 | M5: -11 | N5: =H5 -> -20 | O5: =IF(I5="","",IF(M5<N5,"Non Validé","Validé")) -> Validé | Q5: =C5 -> 2020-003 | R5: =L5 -> 44080 | S5: =M5 -> -11
A6: 44080 | B6: Fabrice | C6: 2020-004 | D6: =IF(C6="","",VLOOKUP(C6,Valeurs!$A$1:$F$31,2,FALSE)) -> Pièce 004 - 2020 | E6: =IF(C6="","",VLOOKUP(C6,Valeurs!$A$1:$F$31,3,FALSE)) -> 44080 | F6: =IF(C6="","",VLOOKUP(C6,Valeurs!$A$1:$F$31,4,FALSE)) -> 0 | G6: =IF(C6="","",VLOOKUP(C6,Valeurs!$A$1:$F$31,5,FALSE)) -> -12 | H6: =IF(C6="","",VLOOKUP(C6,Valeurs!$A$1:$F$31,6,FALSE)) -> -20 | I6: =IF(C6="","",IF(G6<H6,"Non Validé","Validé")) -> Validé | J6: 16 | K6: Oui | L6: 44080 | M6: -10 | N6: =H6 -> -20 | O6: =IF(I6="","",IF(M6<N6,"Non Validé","Validé")) -> Validé | Q6: =C6 -> 2020-004 | R6: =L6 -> 44080 | S6: =M6 -> -10
A7: 44080 | B7: Fabrice | C7: 2020-001 | D7: =IF(C7="","",VLOOKUP(C7,Valeurs!$A$1:$F$31,2,FALSE)) -> Pièce 001 - 2020 | E7: =IF(C7="","",VLOOKUP(C7,Valeurs!$A$1:$F$31,3,FALSE)) -> 44080 | Q7: =C7 -> 2020-001 | R7: =L7 -> 0 | S7: =M7 -> 0

Sheet Valeurs
A1: Référence | B1: Désignation | C1: Date de mise en service | D1: Date de dernière utilisation | E1: Taux de fuite pièce
A2: 2020-001 | B2: Pièce 001 - 2020 | C2: 44080 | E2: -9 | F2: -20
A3: 2020-002 | B3: Pièce 002 - 2020 | C3: 44080 | E3: -10 | F3: -20
A4: 2020-003 | B4: Pièce 003 - 2020 | C4: 44080 | E4: -11 | F4: -20
A5: 2020-004 | B5: Pièce 004 - 2020 | C5: 44080 | E5: -12 | F5: -20
A6: 2020-005 | B6: Pièce 005 - 2020 | C6: 44080 | E6: -13 | F6: -20
