Workbook
Name calibre: Variables!$N$2:$N$102
Name conditionnement: Variables!$AO$2:$AO$100
Name couleur: Variables!$X$2:$X$100
Name elaboration: Variables!$C$2:$C$100
Name floreaerobie: Variables!$AH$1:$AH$100
Name goût: Variables!$AB$2:$AB$100
Name lieusourcing: Variables!$S$2:$S$100
Name marque: Variables!$W$2:$W$100
Name modesurgelation: Variables!$AF$1:$AF$100
Name Mon_Image: OFFSET(Images!$B$100,0,Images!$C$1-1,1,1)
Name MonImage: OFFSET(Images!$E$108,Images!$C$1-1,0,1,1)
Name nomproduit: Variables!$A$2:$A$100
Name nomscientifique: Variables!$E$2:$E$101
Name odeur: Variables!$AD$2:$AD$100
Name origine: Variables!$U$2:$U$100
Name Photographies: INDIRECT(VLOOKUP('Fiche Technique'!$D$8:$E$9,'BASE DE DONNEES'!$A$3:$BA$196,53,0))
Name Photolol: OFFSET('BASE DE DONNEES'!$A$3,MATCH('Fiche Technique'!XEG1048569:XEH1048570,'BASE DE DONNEES'!XED1048564:XED105),55,1,1)
Name sourcing: Variables!$O$2:$O$100
Name tauxglacage: Variables!$AG$1:$AG$100
Name technique: Variables!$Q$2:$Q$100
Name texture: Variables!$Z$2:$Z$100

Sheet Variables
A1: Nom produit | B1: Product's name | C1: Elaboration | D1: product specification | E1: Nom scientifique | F1: Glucides | G1: Dont sucre | H1: Lipides | I1: Dont AG saturés | J1: Protéines | K1: Valeur énergétique KJ | L1: Valeur énergétique Kcal | M1: Sel | N1: Calibre | O1: Sourcing | P1: Sourcing | Q1: Technique de pêche | R1: fishing metod | S1: Lieu sourcing | T1: Place | U1: Origine | V1: Origin | W1: Marque | X1: Couleur | Y1: Color | Z1: Texture | AA1: Texture en | AB1: Goût | AC1: Taste | AD1: Odeur | AE1: Smell | AF1: Mode de surgélation | AG1: Taux de glaçage | AH1: Flore aérobie mésophile totale | AI1: E.coli | AJ1: Staphylocoques à coagulase positive | AK1: Salmonelle spp | AL1: Additifs | AM1: OGM | AN1: Dimensions UVC | AO1: Conditionnement | AP1: Poids net UVC | AQ1: Poids net carton | AR1: Dimensions master carton | AS1: Poids master carton | AT1: Master carton/couche | AU1: Couche/palette | AV1: master carton/palette | AW1: poids net palette
A2: Corail de noix de Saint-Jacques | B2: Scallops roe | C2: Avec corail | D2: Roe on | E2: Argopecten purpuratus | F2: 4,7 | G2: 0,9 | H2: 0.8 | I2: 0.5 | J2: 16.3 | K2: 387 | L2: 91 | M2: 0.41 | N2: 10 / 20 / lbs | O2: Aquaculture | P2: Aquaculture | Q2: drague | R2: dredges | S2: Zone FAO 21 Atlantique Nord Est | T2: FAO 21 zone Atlantic northest | U2: Argentine | V2: Argentina | X2: Corail bicolore | Y2: doble colored roe | Z2: Moelleux en bouche avec sensation de fibres pour la chair | AA2: Melt-in-mouth, fibrous meat | AB2: Typique de la noix de Saint-Jacques | AD2: Caractéristique de la noix de Saint-Jacques | AO2: VRAC 3 KG | AP2: - | AQ2: 3 KG | AR2: 390 x 290 x 110 mm | AS2: 350 g
A3: Dos de saumonette | C3: Brisures | E3: Chlamys islandica | F3: 0 | G3: 0 | H3: 1.4 | I3: 0.4 | J3: 18.6 | K3: 349.45 | L3: 83.4 | M3: 0.7 | N3: 100/120 /lbs | O3: Pêche | P3: Fishing | Q3: sennes | R3: seines | S3: Zone FAO 61 Pacifique Nord Ouest | T3: FAO 61 zone Pacific Northwest | U3: Canada | V3: Canada | X3: Noix blanc crème | Y3: Light white/creamy meat | Z3: Moelleux en bouche avec sensation de fibres pour la chair et tendreté du corail | AA3: Melt-in-mouth, fibrous meat and smooth roe | AB3: Typique de la moule | AD3: Caractéristique de la moule | AO3: 10 X 1 KG | AP3: 1 KG | AQ3: 10 KG | AR3: 390 x 290 x 200 mm | AS3: 460 g
A4: Pavé de Saumon | C4: Portions | E4: Chlamys opercularis | F4: 5.2 | G4: 0 | H4: 0.7 | I4: 0.3 | J4: 16.6 | K4: 396 | L4: 93 | M4: 0.23 | N4: 120/150 /lbs | Q4: filets tournants et filets soulevés | R4: surrounding nets and liftnets | S4: Zone FAO 27 Atlantique Nord-Est | U4: Etats-Unis | V4: United States | Z4: Ferme | AB4: Typique du saumon | AD4: Caractéristique du saumon | AO4: 10 X 700 G | AP4: 700 G | AQ4: 7 KG
A5: Pavé de cabillaud | E5: Lophius gastrophysus | F5: 0 | G5: 0 | H5: 0.5 | I5: 0 | J5: 16.6 | K5: 283 | L5: 66 | M5: 0.42 | N5: 140 / 160 g | S5: Zone FAO 41 Atlantique Sud Ouest | U5: Pérou | V5: Peru | Z5: Fine et fondante | AB5: Typique du crabe | AD5: caractéristique du crabe | AO5: 12 X 1 KG | AP5: 1 KG | AQ5: 12 KG
C6: Sans peau | E6: macruronus novazelandia | F6: 0 | G6: 0 | H6: 2.4 | I6: 0.7 | J6: 18.4 | K6: 414 | L6: 98 | M6: 0.22 | N6: 150 g | Q6: casiers et pièges | R6: pots and trapes | S6: Zone FAO 47 Atlantique Sud Est | U6: Japon | V6: Japan | AB6: Typique du Hoki | AD6: Caractéristique du Hoki | AO6: 10 X 900 G | AP6: 900 G | AQ6: 9 KG
A7: Noix de Saint-Jacques | B7: Scallops | C7: Corail | D7: Roe | E7: Onchorynchus keta | F7: 158 | G7: 5 | N7: 20 / 30 / lbs | Q7: chaluts | R7: trawls | U7: Chili | V7: Chili | X7: Noix blanc crème, corail bicolore | Y7: Light white/creamy meat, double colored | Z7: Tendreté du corail | AA7: smooth roe | AB7: Typique du Merlu du Cap | AD7: Caractéristique du Merlu du Cap | AO7: 10 X 400 G | AP7: 400 G | AQ7: 4 KG
A8: Noix de Saint-Jacques demi-coquille | B8: Scallops half shell | C8: Corail Femelle | E8: Patinopecten yessoensis | F8: 2.1 | G8: 0.9 | H8: 1 | I8: 0.31 | J8: 17.8 | K8: 377 | L8: 89 | M8: 0.46 | N8: 20 / 40 / lbs | Q8: filets maillants et filets similaires | R8: gillnets and similar nets | U8: Chine | V8: China | X8: Noix blanc crème, deux types de corail | AO8: 10 X 500 G | AP8: 500G | AQ8: 5 KG
A9: Moule demi-coquille | C9: Sans corail | D9: Roe off | E9: Placopecten magellanicus | F9: 2 | G9: 0.4 | H9: 0.8 | I9: 0 | J9: 16.7 | K9: 317 | L9: 75 | M9: 0.39 | N9: 25 / 35 / lbs | Q9: lignes et hameçons | R9: hooks and lines | U9: Groenland | V9: Groenland | X9: Chair blanche | AO9: 10 X 800 G | AP9: 800 G | AQ9: 8 KG
A10: Filet de saumon | C10: Avec peau | E10: Perna canaliculus | N10: 30 / 40 / lbs | U10: Royaume-Uni | V10: United Kingdom | X10: Jaune prononcé à rouge orangé | AO10: 12 X 400 G | AP10: 400 G | AQ10: 4,8 KG
A11: Chair de crabe | C11: ébarbée | E11: Pecten maximus | N11: 40 / 60 / lbs | U11: Russie | V11: Russia | X11: Chair de couleur 13+ sur l'échelle de Roche | AO11: 12 X 500 G | AP11: 500 G | AQ11: 6 KG
A12: Filet de Hoki | E12: Zygochlamys patagonica | N12: 40 / 80 / lbs | U12: USA | V12: USA | X12: caractéristique de la chair de crabe | AO12: 12 X 800 G | AP12: 800 G | AQ12: 9,6 KG
A13: Filet de Saint Pierre du Cap | E13: Salmo Salar | N13: 40 / 50 / lbs | U13: Nouvelle-Zélande | AO13: 12 X 900 GA | AP13: 900 G | AQ13: 10,8 KG
A14: Aile de raie | E14: Lithodes santolla | N14: 60 / 80 / lbs | U14: Afrique du Sud | AO14: 14 X 1 KG | AP14: 1 KG | AQ14: 14 KG
E15: Chlamys Albidus | N15: 80 / 100 / lbs | AO15: 14 X 400 G | AP15: 400 G | AQ15: 5,6 KG
E16: Zeus Capensis | N16: 80 / 120 / lbs | AO16: 14 X 500 G | AP16: 500 G | AQ16: 7 KG
E17: Raja spp | N17: 35 / 45 / lbs | AO17: 14 X 700 G | AP17: 700 G | AQ17: 9,8 KG
N18: 170 + g | AO18: 14 X 750 G | AP18: 750 G | AQ18: 10,5 KG
N19: 50 / 80 / lbs | AO19: 15 X 400 G | AP19: 400 G | AQ19: 6 KG
N20: 10 / 15 / lbs | AO20: 15 X 600 G | AP20: 600 G | AQ20: 9 KG
N21: 900 / 1300 | AO21: 15 X 700 G | AP21: 700 G | AQ21: 10,5 KG
N22: 1300 / 1800 | AO22: 16 X 300 G | AP22: 300 G | AQ22: 4,8 KG
N23: 110 / 175 | AO23: 16 X 500 G | AP23: 500 G | AQ23: 8 KG
N24: 60 / 100 / lbs | AO24: 20 X 250 G | AP24: 250 G | AQ24: 5 KG
N25: 150 + | AO25: 20 X 300 G | AP25: 300 G | AQ25: 6 KG
N26: 60 / 100 | AO26: 20 X 400 G | AP26: 400 G | AQ26: 8 KG
N27: 400 / 800 | AO27: 20 X 500 G | AP27: 500 G | AQ27: 10 KG
AO28: 25 X 400 G | AP28: 400 G | AQ28: 10 KG
AO29: 3 X 3 KG | AP29: 3 KG | AQ29: 6 KG
AO30: 30 X 300 G | AP30: 300 G | AQ30: 9 KG
AO31: 30 X 350 G | AP31: 350 G | AQ31: 10,5 KG
AO32: 32 X 300 G | AP32: 300 G | AQ32: 9,6 KG
AO33: 4 X 125 G | AP33: 125 G | AQ33: 0,5 KG
AO34: 4 X 5 KG | AP34: 5 KG | AQ34: 20 KG
AO35: 5 X 1 KG | AP35: 1 KG | AQ35: 5 KG
AO36: 6 X 1 KG | AP36: 1 KG | AQ36: 6 KG
AO37: 6 X 2 KG | AP37: 2 KG | AQ37: 1,2 KG
AO38: 6 X 500 G | AP38: 500 G | AQ38: 3 KG
AO39: 6 X 800 G | AP39: 800 G | AQ39: 4,8 KG
... AO44: 9 X 1 KG | AP44: 1 KG | AQ44: 9 KG
AO45: VRAC 10 KG | AQ45: 10 KG
AO46: VRAC 12 KG | AQ46: 12 KG
AO47: VRAC 13,62 KG | AQ47: 13,62 KG
AO48: VRAC 15 KG | AQ48: 15 KG
AO49: VRAC 16 KG | AQ49: 16 KG
AO50: VRAC 20 KG | AQ50: 20 KG
AO51: VRAC 4 KG | AQ51: 4 KG
AO52: VRAC 4,5 KG | AQ52: 4,5 KG
AO53: VRAC 5 KG | AP53: - | AQ53: 5 KG
AO54: VRAC 6 KG | AQ54: 6 KG
AO55: VRAC 7 KG | AQ55: 7 KG
AO56: VRAC 8 KG | AQ56: 8 KG
AO57: VRAC 9 KG | AQ57: 9 KG
AO58: VRAC 20,4KG

Sheet BASE DE DONNEES
A1: 1 | B1: 2 | C1: 3 | D1: 4 | E1: 5 | F1: 6 | G1: 7 | H1: 8 | I1: 9 | J1: 10 | K1: 11 | L1: 12 | M1: 13 | N1: 14 | O1: 15 | P1: 16 | Q1: 17 | R1: 18 | S1: 19 | T1: 20 | U1: 21 | V1: 22 | W1: 23 | X1: 24 | Y1: 25 | Z1: 26 | AA1: 27 | AB1: 28 | AC1: 29 | AD1: 30 | AE1: 31 | AF1: 32 | AG1: 33 | AH1: 34 | AI1: 35 | AJ1: 36 | AK1: 37 | AL1: 38 | AM1: 39 | AN1: 40 | AO1: 41 | AP1: 42 | AQ1: 43 | AR1: 44 | AS1: 45 | AT1: 46 | AU1: 47 | AV1: 48 | AW1: 49 | AX1: 50 | AY1: 51 | AZ1: 52 | BA1: 53 | BB1: 54 | BC1: 55 | BD1: 56 | BE1: 57 | BF1: 58 | BG1: 59 | BH1: 60 | BI1: 61 | BJ1: 62 | BK1: 63 | BL1: 64 | BM1: 65 | BN1: =BM1+1 -> 66 | BO1: =BN1+1 -> 67 | BP1: =BO1+1 -> 68 | BQ1: =BP1+1 -> 69 | BR1: =BQ1+1 -> 70 | BS1: =BR1+1 -> 71 | BT1: =BS1+1 -> 72 | BU1: =BT1+1 -> 73 | ... CD1: =CC1+1 -> 82
A2: N°Article | B2: N°EAN | C2: Nom | D2: Elaboration | E2: Calibre | F2: Nom scientifique | G2: Marque | H2: Origine | I2: Sourcing | J2: Lieu de pêche | K2: Méthode de pêche | L2: Conditionnement | M2: Couleur | N2: Texture | O2: Odeur | P2: Goût | Q2: Flore aérobie mésophile totale (ufc/g) | R2: E.Coli (ufc/g) | S2: Staphylocoques à coagulase positive (ufc/g) | T2: Salmonelle spp (dans 25g) | U2: option 1 (unité) | V2: réponse 1 | W2: commentaire 1 | X2: option 2 (unité) | Y2: réponse 2 | Z2: commentaire 2 | AA2: option 3(unité) | AB2: réponse 3 | AC2: Commentaire 3 | AD2: ABVT | AE2: Commentaire | AF2: Rapport H/P | AG2: Commentaire | AH2: Histamine | AI2: Commentaire | AJ2: Additifs | AK2: Commentaire | AL2: OGM | AM2: Commentaire | AN2: "Allergènes autre que ..." | AO2: Allergènes réponse | AP2: option A (unité) | AQ2: réponse A | AR2: Commentaire A | AS2: option B (unité) | AT2: réponse B | AU2: Commentaire B | AV2: option C (unité) | AW2: Réponse C | AX2: Commentaire C | AY2: Dimensions UVC | AZ2: Dimensions carton | BA2: Emplacement | BB2: Photo
A3: 1486
A4: 1488 | C4: Noix de Saint-Jacques | D4: Avec corail | E4: 60 / 80 / lbs | F4: Chlamys opercularis | H4: Royaume-Uni | I4: Pêche | J4: Zone FAO 27 Atlantique Nord-Est | K4: drague | L4: VRAC 10 KG | M4: Noix blanc crème, corail bicolore | N4: Moelleux en bouche avec sensation de fibres pour la chair et tendreté du corail | O4: Caractéristique de la noix de Saint-Jacques | P4: Typique de la noix de Saint-Jacques | Q4: 1000000 | R4: <10 | S4: <100 | T4: Absence | U4: Taux de glaçage (%) | V4: 0.08 | W4: Tolérance +/- 2% | AF4: <5 | AJ4: Absence | AL4: Absence | AN4: Allergènes autre que mollusque | AO4: Absence
A5: 1492
A6: 1509 | B6: 3325096011103 | C6: Noix de Saint-Jacques | D6: Avec corail | E6: 10 / 20 / lbs | F6: Argopecten purpuratus | H6: Pérou | I6: Aquaculture | L6: 10 X 1 KG | M6: Noix blanc crème, corail bicolore | N6: Moelleux en bouche avec sensation de fibres pour la chair | O6: Caractéristique de la noix de Saint-Jacques | P6: Typique de la noix de Saint-Jacques | Q6: 1000000 | R6: <10 | S6: <100 | T6: Absence | U6: Taux de glaçage (%) | V6: 0.1 | W6: Tolérance +/- 2% | AF6: <5,5 | AJ6: Absence | AL6: Absence | AN6: Allergènes autre que mollusque | AO6: Absence
A7: 1510
A8: 1510
A9: 1512
A10: 1512
A11: 1516
A12: 1516
A13: 1518
A14: 1518
A15: 1520
A16: 1520
A17: 1522
A18: 1522
... A120: 4684

Sheet Fiche Technique
G1: Fiche technique | Z1: FOR_FT Date de création : 14/02/2013 Date de révision : Version 1
A4: Description des modifications / version précédente :
A5: Rédigé par | G5: Révisé par | Z5: Validé par
A8: Code produit | D8: 1488 | G8: N°EAN | J8: =IF(VLOOKUP(D$8,'BASE DE DONNEES'!A3:CD496,2,)=""," ",VLOOKUP(D$8,'BASE DE DONNEES'!A3:CD496,2,FALSE))
B11: =F17 -> Noix de Saint-Jacques | AB11: =IF(VLOOKUP(D$8,'BASE DE DONNEES'!A3:CD4996,54,)=""," ",VLOOKUP(D$8,'BASE DE DONNEES'!A3:CD4996,54,FALSE))
B12: =F18 -> Avec corail
B13: =F20 -> Chlamys opercularis
B14: =F19 -> 60 / 80 / lbs
B15: =AF17 -> VRAC 10 KG | O15: =S17 -> Royaume-Uni
A17: Nom | F17: =IF(VLOOKUP(D$8,'BASE DE DONNEES'!A3:CD4996,3,)=""," ",VLOOKUP(D$8,'BASE DE DONNEES'!A3:CD4996,3,FALSE)) -> Noix de Saint-Jacques | N17: Origine | S17: =IF(VLOOKUP(D$8,'BASE DE DONNEES'!A3:CD4996,8,)=""," ",VLOOKUP(D$8,'BASE DE DONNEES'!A3:CD4996,8,FALSE)) -> Royaume-Uni | Z17: ='BASE DE DONNEES'!L2 -> Conditionnement | AF17: =IF(VLOOKUP(D$8,'BASE DE DONNEES'!A3:CD4996,12,)=""," ",VLOOKUP(D$8,'BASE DE DONNEES'!A3:CD4996,12,FALSE)) -> VRAC 10 KG
A18: Elaboration | F18: =IF(VLOOKUP(D$8,'BASE DE DONNEES'!A3:CD4996,4,)=""," ",VLOOKUP(D$8,'BASE DE DONNEES'!A3:CD4996,4,FALSE)) -> Avec corail | N18: Sourcing | S18: =IF(VLOOKUP(D$8,'BASE DE DONNEES'!A3:CD4996,9,)=""," ",VLOOKUP(D$8,'BASE DE DONNEES'!A3:CD4996,9,FALSE)) -> Pêche | Z18: Etat du produit | AF18: *
A19: Calibre | F19: =IF(VLOOKUP(D$8,'BASE DE DONNEES'!A3:CD4996,5,)=""," ",VLOOKUP(D$8,'BASE DE DONNEES'!A3:CD4996,5,FALSE)) -> 60 / 80 / lbs | N19: Lieu pêche | S19: =IF(VLOOKUP(D$8,'BASE DE DONNEES'!A3:CD4996,10,)=""," ",VLOOKUP(D$8,'BASE DE DONNEES'!A3:CD4996,10,FALSE)) -> Zone FAO 27 Atlantique Nord-Est | Z19: DLUO minimale | AF19: 8 mois
A20: Nom scientifique | F20: =IF(VLOOKUP(D$8,'BASE DE DONNEES'!A3:CD4996,6,)=""," ",VLOOKUP(D$8,'BASE DE DONNEES'!A3:CD4996,6,FALSE)) -> Chlamys opercularis | N20: Méthode de pêche | S20: =IF(VLOOKUP(D$8,'BASE DE DONNEES'!A3:CD4996,11,)=""," ",VLOOKUP(D$8,'BASE DE DONNEES'!A3:CD4996,11,FALSE)) -> drague | Z20: T° de conservation | AF20: -18°C
A21: Marque | F21: =IF(VLOOKUP(D$8,'BASE DE DONNEES'!A3:CD496,7,)=""," ",VLOOKUP(D$8,'BASE DE DONNEES'!A3:CD496,7,FALSE))
A23: Données nutritionnelles pour 100g:
A25: =Variables!F1 -> Glucides | E25: =Variables!G1 -> Dont sucre | I25: =Variables!H1 -> Lipides | M25: =Variables!I1 -> Dont AG saturés | Q25: =Variables!J1 -> Protéines | U25: =Variables!K1 -> Valeur énergétique KJ | Z25: =Variables!L1 -> Valeur énergétique Kcal | AE25: =Variables!M1 -> Sel
A26: =IF(VLOOKUP(F20,Variables!E2:M100,2,)=""," ",(VLOOKUP(F20,Variables!E2:M100,2,FALSE))) -> 5.2 | E26: =IF(VLOOKUP(F20,Variables!E2:M100,3,)=""," ",(VLOOKUP(F20,Variables!E2:M100,3,FALSE))) -> 0 | I26: =IF(VLOOKUP(F20,Variables!E2:M100,4,)=""," ",(VLOOKUP(F20,Variables!E2:M100,4,FALSE))) -> 0.7 | M26: =IF(VLOOKUP(F20,Variables!E2:M100,5,)=""," ",(VLOOKUP(F20,Variables!E2:M100,5,FALSE))) -> 0.3 | Q26: =IF(VLOOKUP(F20,Variables!E2:M100,6,)=""," ",(VLOOKUP(F20,Variables!E2:M100,6,FALSE))) -> 16.6 | U26: =IF(VLOOKUP(F20,Variables!E2:M100,7,)=""," ",(VLOOKUP(F20,Variables!E2:M100,7,FALSE))) -> 396 | Z26: =IF(VLOOKUP(F20,Variables!E2:M100,8,)=""," ",(VLOOKUP(F20,Variables!E2:M100,8,FALSE))) -> 93 | AE26: =IF(VLOOKUP(F20,Variables!E2:M100,9,)=""," ",(VLOOKUP(F20,Variables!E2:M100,9,FALSE))) -> 0.23
A28: Caractéristiques physiques :
A30: ='BASE DE DONNEES'!M2 -> Couleur | F30: =IF(VLOOKUP(D$8,'BASE DE DONNEES'!A3:CD4996,13,)=""," ",VLOOKUP(D$8,'BASE DE DONNEES'!A3:CD4996,13,FALSE)) -> Noix blanc crème, corail bicolore | S30: ='BASE DE DONNEES'!O2 -> Odeur | X30: =IF(VLOOKUP(D$8,'BASE DE DONNEES'!A3:CD4996,15,)=""," ",VLOOKUP(D$8,'BASE DE DONNEES'!A3:CD4996,15,FALSE)) -> Caractéristique de la noix de Saint-Jacques
A31: ='BASE DE DONNEES'!N2 -> Texture | F31: =IF(VLOOKUP(D$8,'BASE DE DONNEES'!A3:CD4996,14,)=""," ",VLOOKUP(D$8,'BASE DE DONNEES'!A3:CD4996,14,FALSE)) -> Moelleux en bouche avec sensation de fibres pour la chair et tendreté du corail | S31: ='BASE DE DONNEES'!P2 -> Goût | X31: =IF(VLOOKUP(D$8,'BASE DE DONNEES'!A3:CD4996,16,)=""," ",VLOOKUP(D$8,'BASE DE DONNEES'!A3:CD4996,16,FALSE)) -> Typique de la noix de Saint-Jacques
A33: Caractéristiques microbiologiques | R33: Caractéristiques chimiques
A35: Description | I35: Objectif | M35: Commentaires | S35: Description | AA35: Objectif | AE35: Commentaires
A36: ='BASE DE DONNEES'!Q2 -> Flore aérobie mésophile totale (ufc/g) | I36: =IF(VLOOKUP(D$8,'BASE DE DONNEES'!A3:CD4996,17,)=""," ",VLOOKUP(D$8,'BASE DE DONNEES'!A3:CD4996,17,FALSE)) -> 1000000 | M36: 3 class plan | S36: ='BASE DE DONNEES'!AD2 -> ABVT | AA36: =IF(VLOOKUP(D$8,'BASE DE DONNEES'!A3:CD4996,30,)=""," ",VLOOKUP(D$8,'BASE DE DONNEES'!A3:CD4996,30,FALSE)) | AE36: =IF(VLOOKUP(D$8,'BASE DE DONNEES'!A3:CD496,31,)=""," ",VLOOKUP(D$8,'BASE DE DONNEES'!A3:CD496,31,FALSE))
A37: ='BASE DE DONNEES'!R2 -> E.Coli (ufc/g) | I37: =IF(VLOOKUP(D$8,'BASE DE DONNEES'!A3:CD4996,18,)=""," ",VLOOKUP(D$8,'BASE DE DONNEES'!A3:CD4996,18,FALSE)) -> <10 | M37: 3 class plan | S37: ='BASE DE DONNEES'!AF2 -> Rapport H/P | AA37: =IF(VLOOKUP(D$8,'BASE DE DONNEES'!A3:CD4996,32,)=""," ",VLOOKUP(D$8,'BASE DE DONNEES'!A3:CD4996,32,FALSE)) -> <5 | AE37: =IF(VLOOKUP(D$8,'BASE DE DONNEES'!A3:CD496,33,)=""," ",VLOOKUP(D$8,'BASE DE DONNEES'!A3:CD496,33,FALSE))
A38: ='BASE DE DONNEES'!S2 -> Staphylocoques à coagulase positive (ufc/g) | I38: =IF(VLOOKUP(D$8,'BASE DE DONNEES'!A3:CD4996,19,)=""," ",VLOOKUP(D$8,'BASE DE DONNEES'!A3:CD4996,19,FALSE)) -> <100 | M38: 3 class plan | S38: ='BASE DE DONNEES'!AH2 -> Histamine | AA38: =IF(VLOOKUP(D$8,'BASE DE DONNEES'!A3:CD4996,34,)=""," ",VLOOKUP(D$8,'BASE DE DONNEES'!A3:CD4996,34,FALSE)) | AE38: =IF(VLOOKUP(D$8,'BASE DE DONNEES'!A3:CD496,35,)=""," ",VLOOKUP(D$8,'BASE DE DONNEES'!A3:CD496,35,FALSE))
A39: ='BASE DE DONNEES'!T2 -> Salmonelle spp (dans 25g) | I39: =IF(VLOOKUP(D$8,'BASE DE DONNEES'!A3:CD4996,20,)=""," ",VLOOKUP(D$8,'BASE DE DONNEES'!A3:CD4996,20,FALSE)) -> Absence | M39: 3 class plan | S39: ='BASE DE DONNEES'!AJ2 -> Additifs | AA39: =IF(VLOOKUP(D$8,'BASE DE DONNEES'!A3:CD4996,36,)=""," ",VLOOKUP(D$8,'BASE DE DONNEES'!A3:CD4996,36,FALSE)) -> Absence | AE39: =IF(VLOOKUP(D$8,'BASE DE DONNEES'!A3:CD496,37,)=""," ",VLOOKUP(D$8,'BASE DE DONNEES'!A3:CD496,37,FALSE))
A40: =IF(VLOOKUP(D$8,'BASE DE DONNEES'!A3:CD4996,21,)=""," ",VLOOKUP(D$8,'BASE DE DONNEES'!A3:CD4996,21,FALSE)) -> Taux de glaçage (%) | I40: =IF(VLOOKUP(D$8,'BASE DE DONNEES'!A3:CD4996,22,)=""," ",VLOOKUP(D$8,'BASE DE DONNEES'!A3:CD4996,22,FALSE)) -> 0.08 | M40: =IF(VLOOKUP(D$8,'BASE DE DONNEES'!A3:CD4996,23,)=""," ",VLOOKUP(D$8,'BASE DE DONNEES'!A3:CD4996,23,FALSE)) -> Tolérance +/- 2% | S40: ='BASE DE DONNEES'!AL2 -> OGM | AA40: =IF(VLOOKUP(D$8,'BASE DE DONNEES'!A3:CD4996,38,)=""," ",VLOOKUP(D$8,'BASE DE DONNEES'!A3:CD4996,38,FALSE)) -> Absence | AE40: =IF(VLOOKUP(D$8,'BASE DE DONNEES'!A3:CD496,39,)=""," ",VLOOKUP(D$8,'BASE DE DONNEES'!A3:CD496,39,FALSE))
A41: =IF(VLOOKUP(D$8,'BASE DE DONNEES'!A3:CD496,24,)=""," ",VLOOKUP(D$8,'BASE DE DONNEES'!A3:CD496,24,FALSE)) | I41: =IF(VLOOKUP(D$8,'BASE DE DONNEES'!A3:CD496,25,)=""," ",VLOOKUP(D$8,'BASE DE DONNEES'!A3:CD496,25,FALSE)) | M41: =IF(VLOOKUP(D$8,'BASE DE DONNEES'!A3:CD496,26,)=""," ",VLOOKUP(D$8,'BASE DE DONNEES'!A3:CD496,26,FALSE)) | S41: =IF(VLOOKUP(D$8,'BASE DE DONNEES'!A3:CD4996,40,)=""," ",VLOOKUP(D$8,'BASE DE DONNEES'!A3:CD4996,40,FALSE)) -> Allergènes autre que mollusque | AA41: =IF(VLOOKUP(D$8,'BASE DE DONNEES'!A3:CD4996,41,)=""," ",VLOOKUP(D$8,'BASE DE DONNEES'!A3:CD4996,41,FALSE)) -> Absence | AE41: =IF(VLOOKUP(D$8,'BASE DE DONNEES'!A3:CD496,42,)=""," ",VLOOKUP(D$8,'BASE DE DONNEES'!A3:CD496,42,FALSE))
A42: =IF(VLOOKUP(D$8,'BASE DE DONNEES'!A3:CD496,27,)=""," ",VLOOKUP(D$8,'BASE DE DONNEES'!A3:CD496,27,FALSE)) | I42: =IF(VLOOKUP(D$8,'BASE DE DONNEES'!A3:CD496,28,)=""," ",VLOOKUP(D$8,'BASE DE DONNEES'!A3:CD496,28,FALSE)) | M42: =IF(VLOOKUP(D$8,'BASE DE DONNEES'!A3:CD496,29,)=""," ",VLOOKUP(D$8,'BASE DE DONNEES'!A3:CD496,29,FALSE)) | S42: =IF(VLOOKUP(D$8,'BASE DE DONNEES'!A3:CD4996,43,)=""," ",VLOOKUP(D$8,'BASE DE DONNEES'!A3:CD4996,43,FALSE)) | AA42: =IF(VLOOKUP(D$8,'BASE DE DONNEES'!A3:CD4996,44,)=""," ",VLOOKUP(D$8,'BASE DE DONNEES'!A3:CD4996,44,FALSE)) | AE42: =IF(VLOOKUP(D$8,'BASE DE DONNEES'!A3:CD496,45,)=""," ",VLOOKUP(D$8,'BASE DE DONNEES'!A3:CD496,45,FALSE))
A43: =IF(VLOOKUP(D$8,'BASE DE DONNEES'!A3:CD496,34,)=""," ",VLOOKUP(D$8,'BASE DE DONNEES'!A3:CD496,34,FALSE))
A45: Conditionnement et logistique :
A46: =Variables!AP1 -> Poids net UVC | H46: =IF(VLOOKUP(AF17,Variables!AO2:AQ100,2,)=""," ",(VLOOKUP(AF17,Variables!AO2:AQ100,2,FALSE))) | S46: =Variables!AQ1 -> Poids net carton | Z46: =IF(VLOOKUP(AF17,Variables!AO2:AQ100,3,)=""," ",(VLOOKUP(AF17,Variables!AO2:AQ100,3,FALSE))) -> 10 KG
Z47: =IF(VLOOKUP(D$8,'BASE DE DONNEES'!A3:CD496,37,)=""," ",VLOOKUP(D$8,'BASE DE DONNEES'!A3:CD496,37,FALSE))

Sheet Images
C1: 2
D3: =INDEX($B$101:$I$104,ROW()-2,$C$1) -> 2
D4: =INDEX($B$101:$I$104,ROW()-2,$C$1) -> Dos de saumonette
D5: =INDEX($B$101:$I$104,ROW()-2,$C$1) -> Portions | K5: (
D6: =INDEX($B$101:$I$104,ROW()-2,$C$1) -> Onchorynchus keta
A100: Images
B101: 1 | C101: 2 | D101: 3 | E101: 4 | F101: 5 | G101: 6 | H101: 7 | I101: huit | J101: neuf
A102: Nom | B102: Noix de Saint-Jacques | C102: Dos de saumonette | D102: Noix de Saint-Jacques | E102: Image4 | F102: Image5 | G102: Image6 | H102: Image7 | I102: Image8 | J102: grt
B103: Avec corail | C103: Portions | D103: Sans corail | E103: DonnéeA4 | F103: DonnéeA5 | G103: DonnéeA6 | H103: DonnéeA7 | I103: DonnéeA8 | J103: gvrt
B104: Argopecten purpuratus | C104: Onchorynchus keta | D104: Argopecten purpuratus | E104: DonnéeB4 | F104: DonnéeB5 | G104: DonnéeB6 | H104: DonnéeB7 | I104: DonnéeB8 | J104: vrv
