Workbook

Sheet E4
A1: PCTimeStamp | B1: Mois | C1: Année | D1: Grid Production Power Avg. | E1: Generator Phase1 Temp. Avg | F1: Generator Phase2 Temp. Avg.
A2: 41301 | B2: =MONTH(A2) -> 1 | C2: =YEAR(A2) -> 2013 | D2: 459.5 | E2: 56 | F2: 56
A3: 41301.007 | B3: =MONTH(A3) -> 1 | C3: =YEAR(A3) -> 2013 | D3: 645.5 | E3: 56 | F3: 56
A4: 41301.014 | B4: =MONTH(A4) -> 1 | C4: =YEAR(A4) -> 2013 | D4: 1119.7 | E4: 58 | F4: 58
A5: 41301.021 | B5: =MONTH(A5) -> 1 | C5: =YEAR(A5) -> 2013 | D5: 587.9 | E5: 58 | F5: 59
A6: 41301.028 | B6: =MONTH(A6) -> 1 | C6: =YEAR(A6) -> 2013 | D6: 630.7 | E6: 58 | F6: 58
A7: 41301.035 | B7: =MONTH(A7) -> 1 | C7: =YEAR(A7) -> 2013 | D7: 430.6 | E7: 57 | F7: 58
A8: 41301.042 | B8: =MONTH(A8) -> 1 | C8: =YEAR(A8) -> 2013 | D8: 385 | E8: 57 | F8: 57
A9: 41301.049 | B9: =MONTH(A9) -> 1 | C9: =YEAR(A9) -> 2013 | D9: 322.4 | E9: 56 | F9: 56
A10: 41301.056 | B10: =MONTH(A10) -> 1 | C10: =YEAR(A10) -> 2013 | D10: 281.6 | E10: 55 | F10: 56
A11: 41301.062 | B11: =MONTH(A11) -> 1 | C11: =YEAR(A11) -> 2013 | D11: 353.7 | E11: 55 | F11: 55
A12: 41301.069 | B12: =MONTH(A12) -> 1 | C12: =YEAR(A12) -> 2013 | D12: 324.2 | E12: 55 | F12: 55
A13: 41301.076 | B13: =MONTH(A13) -> 1 | C13: =YEAR(A13) -> 2013 | D13: 447.1 | E13: 54 | F13: 55
... A507: 41310.66 | B507: =MONTH(A507) -> 2 | C507: =YEAR(A507) -> 2013 | D507: 1995.6 | E507: 95 | F507: 96

Sheet E4 moy 
A2: 41275 | B2: Grid Production Power Avg. | C2: Generator Phase1 Temp. Avg | D2: Generator Phase2 Temp. Avg.
B3: 100 | C3: =AVERAGEIFS('E4'!E$2:E$507,'E4'!$B$2:$B$507,1,'E4'!$C$2:$C$507,2013,'E4'!$D$2:$D$507,">0",'E4'!$D$2:$D$507,"<=100") -> #DIV/0! | D3: =AVERAGEIFS('E4'!F$2:F$507,'E4'!$B$2:$B$507,1,'E4'!$C$2:$C$507,2013,'E4'!$D$2:$D$507,">0",'E4'!$D$2:$D$507,"<=100") -> #DIV/0!
B4: =B3+100 -> 200 | C4: =AVERAGEIFS('E4'!E$2:E$507,'E4'!$B$2:$B$507,1,'E4'!$C$2:$C$507,2013,'E4'!$D$2:$D$507,">100",'E4'!$D$2:$D$507,"<=200") -> #DIV/0! | D4: =AVERAGEIFS('E4'!F$2:F$507,'E4'!$B$2:$B$507,1,'E4'!$C$2:$C$507,2013,'E4'!$D$2:$D$507,">100",'E4'!$D$2:$D$507,"<=200") -> #DIV/0!
B5: =B4+100 -> 300 | C5: =AVERAGEIFS('E4'!E$2:E$507,'E4'!$B$2:$B$507,1,'E4'!$C$2:$C$507,2013,'E4'!$D$2:$D$507,">200",'E4'!$D$2:$D$507,"<=300") -> 55 | D5: =AVERAGEIFS('E4'!F$2:F$507,'E4'!$B$2:$B$507,1,'E4'!$C$2:$C$507,2013,'E4'!$D$2:$D$507,">200",'E4'!$D$2:$D$507,"<=300") -> 56
B6: =B5+100 -> 400 | C6: =AVERAGEIFS('E4'!E$2:E$507,'E4'!$B$2:$B$507,1,'E4'!$C$2:$C$507,2013,'E4'!$D$2:$D$507,">300",'E4'!$D$2:$D$507,"<=400") -> 55.75 | D6: =AVERAGEIFS('E4'!F$2:F$507,'E4'!$B$2:$B$507,1,'E4'!$C$2:$C$507,2013,'E4'!$D$2:$D$507,">300",'E4'!$D$2:$D$507,"<=400") -> 55.75
B7: =B6+100 -> 500 | C7: =AVERAGEIFS('E4'!E$2:E$507,'E4'!$B$2:$B$507,1,'E4'!$C$2:$C$507,2013,'E4'!$D$2:$D$507,">400",'E4'!$D$2:$D$507,"<=500") -> 55.666667 | D7: =AVERAGEIFS('E4'!F$2:F$507,'E4'!$B$2:$B$507,1,'E4'!$C$2:$C$507,2013,'E4'!$D$2:$D$507,">400",'E4'!$D$2:$D$507,"<=500") -> 56.333333
B8: =B7+100 -> 600 | C8: =AVERAGEIFS('E4'!E$2:E$507,'E4'!$B$2:$B$507,1,'E4'!$C$2:$C$507,2013,'E4'!$D$2:$D$507,">500",'E4'!$D$2:$D$507,"<=600") -> 59 | D8: =AVERAGEIFS('E4'!F$2:F$507,'E4'!$B$2:$B$507,1,'E4'!$C$2:$C$507,2013,'E4'!$D$2:$D$507,">500",'E4'!$D$2:$D$507,"<=600") -> 59.666667
B9: =B8+100 -> 700 | C9: =AVERAGEIFS('E4'!E$2:E$507,'E4'!$B$2:$B$507,1,'E4'!$C$2:$C$507,2013,'E4'!$D$2:$D$507,">600",'E4'!$D$2:$D$507,"<=700") -> 57 | D9: =AVERAGEIFS('E4'!F$2:F$507,'E4'!$B$2:$B$507,1,'E4'!$C$2:$C$507,2013,'E4'!$D$2:$D$507,">600",'E4'!$D$2:$D$507,"<=700") -> 57
B10: =B9+100 -> 800 | C10: =AVERAGEIFS('E4'!E$2:E$507,'E4'!$B$2:$B$507,1,'E4'!$C$2:$C$507,2013,'E4'!$D$2:$D$507,">700",'E4'!$D$2:$D$507,"<=800") -> #DIV/0! | D10: =AVERAGEIFS('E4'!F$2:F$507,'E4'!$B$2:$B$507,1,'E4'!$C$2:$C$507,2013,'E4'!$D$2:$D$507,">700",'E4'!$D$2:$D$507,"<=800") -> #DIV/0!
B11: =B10+100 -> 900 | C11: =AVERAGEIFS('E4'!E$2:E$507,'E4'!$B$2:$B$507,1,'E4'!$C$2:$C$507,2013,'E4'!$D$2:$D$507,">800",'E4'!$D$2:$D$507,"<=900") -> 62 | D11: =AVERAGEIFS('E4'!F$2:F$507,'E4'!$B$2:$B$507,1,'E4'!$C$2:$C$507,2013,'E4'!$D$2:$D$507,">800",'E4'!$D$2:$D$507,"<=900") -> 62.5
B12: =B11+100 -> 1000 | C12: =AVERAGEIFS('E4'!E$2:E$507,'E4'!$B$2:$B$507,1,'E4'!$C$2:$C$507,2013,'E4'!$D$2:$D$507,">900",'E4'!$D$2:$D$507,"<=1000") -> #DIV/0! | D12: =AVERAGEIFS('E4'!F$2:F$507,'E4'!$B$2:$B$507,1,'E4'!$C$2:$C$507,2013,'E4'!$D$2:$D$507,">900",'E4'!$D$2:$D$507,"<=1000") -> #DIV/0!
B13: =B12+100 -> 1100 | C13: =AVERAGEIFS('E4'!E$2:E$507,'E4'!$B$2:$B$507,1,'E4'!$C$2:$C$507,2013,'E4'!$D$2:$D$507,">1000",'E4'!$D$2:$D$507,"<=1100") -> 85 | D13: =AVERAGEIFS('E4'!F$2:F$507,'E4'!$B$2:$B$507,1,'E4'!$C$2:$C$507,2013,'E4'!$D$2:$D$507,">1000",'E4'!$D$2:$D$507,"<=1100") -> 86
B14: =B13+100 -> 1200 | C14: =AVERAGEIFS('E4'!E$2:E$507,'E4'!$B$2:$B$507,1,'E4'!$C$2:$C$507,2013,'E4'!$D$2:$D$507,">1100",'E4'!$D$2:$D$507,"<=1200") -> 64 | D14: =AVERAGEIFS('E4'!F$2:F$507,'E4'!$B$2:$B$507,1,'E4'!$C$2:$C$507,2013,'E4'!$D$2:$D$507,">1100",'E4'!$D$2:$D$507,"<=1200") -> 65
B15: =B14+100 -> 1300 | C15: =AVERAGEIFS('E4'!E$2:E$507,'E4'!$B$2:$B$507,1,'E4'!$C$2:$C$507,2013,'E4'!$D$2:$D$507,">1200",'E4'!$D$2:$D$507,"<=1300") -> 68.5 | D15: =AVERAGEIFS('E4'!F$2:F$507,'E4'!$B$2:$B$507,1,'E4'!$C$2:$C$507,2013,'E4'!$D$2:$D$507,">1200",'E4'!$D$2:$D$507,"<=1300") -> 69
B16: =B15+100 -> 1400 | C16: =AVERAGEIFS('E4'!E$2:E$507,'E4'!$B$2:$B$507,1,'E4'!$C$2:$C$507,2013,'E4'!$D$2:$D$507,">1300",'E4'!$D$2:$D$507,"<=1400") -> #DIV/0! | D16: =AVERAGEIFS('E4'!F$2:F$507,'E4'!$B$2:$B$507,1,'E4'!$C$2:$C$507,2013,'E4'!$D$2:$D$507,">1300",'E4'!$D$2:$D$507,"<=1400") -> #DIV/0!
B17: =B16+100 -> 1500 | C17: =AVERAGEIFS('E4'!E$2:E$507,'E4'!$B$2:$B$507,1,'E4'!$C$2:$C$507,2013,'E4'!$D$2:$D$507,">1400",'E4'!$D$2:$D$507,"<=1500") -> 77.333333 | D17: =AVERAGEIFS('E4'!F$2:F$507,'E4'!$B$2:$B$507,1,'E4'!$C$2:$C$507,2013,'E4'!$D$2:$D$507,">1400",'E4'!$D$2:$D$507,"<=1500") -> 78
B18: =B17+100 -> 1600 | C18: =AVERAGEIFS('E4'!E$2:E$507,'E4'!$B$2:$B$507,1,'E4'!$C$2:$C$507,2013,'E4'!$D$2:$D$507,">1500",'E4'!$D$2:$D$507,"<=1600") -> 75 | D18: =AVERAGEIFS('E4'!F$2:F$507,'E4'!$B$2:$B$507,1,'E4'!$C$2:$C$507,2013,'E4'!$D$2:$D$507,">1500",'E4'!$D$2:$D$507,"<=1600") -> 76
B19: =B18+100 -> 1700 | C19: =AVERAGEIFS('E4'!E$2:E$507,'E4'!$B$2:$B$507,1,'E4'!$C$2:$C$507,2013,'E4'!$D$2:$D$507,">1600",'E4'!$D$2:$D$507,"<=1700") -> 93.666667 | D19: =AVERAGEIFS('E4'!F$2:F$507,'E4'!$B$2:$B$507,1,'E4'!$C$2:$C$507,2013,'E4'!$D$2:$D$507,">1600",'E4'!$D$2:$D$507,"<=1700") -> 95
B20: =B19+100 -> 1800 | C20: =AVERAGEIFS('E4'!E$2:E$507,'E4'!$B$2:$B$507,1,'E4'!$C$2:$C$507,2013,'E4'!$D$2:$D$507,">1700",'E4'!$D$2:$D$507,"<=1800") -> 93 | D20: =AVERAGEIFS('E4'!F$2:F$507,'E4'!$B$2:$B$507,1,'E4'!$C$2:$C$507,2013,'E4'!$D$2:$D$507,">1700",'E4'!$D$2:$D$507,"<=1800") -> 94
B21: =B20+100 -> 1900 | C21: =AVERAGEIFS('E4'!E$2:E$507,'E4'!$B$2:$B$507,1,'E4'!$C$2:$C$507,2013,'E4'!$D$2:$D$507,">1800",'E4'!$D$2:$D$507,"<=1900") -> 95 | D21: =AVERAGEIFS('E4'!F$2:F$507,'E4'!$B$2:$B$507,1,'E4'!$C$2:$C$507,2013,'E4'!$D$2:$D$507,">1800",'E4'!$D$2:$D$507,"<=1900") -> 96.111111
B22: =B21+100 -> 2000 | C22: =AVERAGEIFS('E4'!E$2:E$507,'E4'!$B$2:$B$507,1,'E4'!$C$2:$C$507,2013,'E4'!$D$2:$D$507,">1900",'E4'!$D$2:$D$507,"<=2000") -> 97.779762 | D22: =AVERAGEIFS('E4'!F$2:F$507,'E4'!$B$2:$B$507,1,'E4'!$C$2:$C$507,2013,'E4'!$D$2:$D$507,">1900",'E4'!$D$2:$D$507,"<=2000") -> 98.910714
B23: =B22+100 -> 2100 | C23: =AVERAGEIFS('E4'!E$2:E$507,'E4'!$B$2:$B$507,1,'E4'!$C$2:$C$507,2013,'E4'!$D$2:$D$507,">2000",'E4'!$D$2:$D$507,"<=2100") -> 99.217391 | D23: =AVERAGEIFS('E4'!F$2:F$507,'E4'!$B$2:$B$507,1,'E4'!$C$2:$C$507,2013,'E4'!$D$2:$D$507,">2000",'E4'!$D$2:$D$507,"<=2100") -> 100.47826
A25: 41306 | B25: Grid Production Power Avg. | C25: Generator Phase1 Temp. Avg | D25: Generator Phase2 Temp. Avg.
B26: 100 | C26: =AVERAGEIFS('E4'!E$2:E$507,'E4'!$B$2:$B$507,2,'E4'!$C$2:$C$507,2013,'E4'!$D$2:$D$507,">0",'E4'!$D$2:$D$507,"<=100") -> #DIV/0! | D26: =AVERAGEIFS('E4'!F$2:F$507,'E4'!$B$2:$B$507,2,'E4'!$C$2:$C$507,2013,'E4'!$D$2:$D$507,">0",'E4'!$D$2:$D$507,"<=100") -> #DIV/0!
B27: =B26+100 -> 200 | C27: =AVERAGEIFS('E4'!E$2:E$507,'E4'!$B$2:$B$507,2,'E4'!$C$2:$C$507,2013,'E4'!$D$2:$D$507,">100",'E4'!$D$2:$D$507,"<=200") -> #DIV/0! | D27: =AVERAGEIFS('E4'!F$2:F$507,'E4'!$B$2:$B$507,2,'E4'!$C$2:$C$507,2013,'E4'!$D$2:$D$507,">100",'E4'!$D$2:$D$507,"<=200") -> #DIV/0!
B28: =B27+100 -> 300 | C28: =AVERAGEIFS('E4'!E$2:E$507,'E4'!$B$2:$B$507,2,'E4'!$C$2:$C$507,2013,'E4'!$D$2:$D$507,">200",'E4'!$D$2:$D$507,"<=300") -> #DIV/0! | D28: =AVERAGEIFS('E4'!F$2:F$507,'E4'!$B$2:$B$507,2,'E4'!$C$2:$C$507,2013,'E4'!$D$2:$D$507,">200",'E4'!$D$2:$D$507,"<=300") -> #DIV/0!
B29: =B28+100 -> 400 | C29: =AVERAGEIFS('E4'!E$2:E$507,'E4'!$B$2:$B$507,2,'E4'!$C$2:$C$507,2013,'E4'!$D$2:$D$507,">300",'E4'!$D$2:$D$507,"<=400") -> #DIV/0! | D29: =AVERAGEIFS('E4'!F$2:F$507,'E4'!$B$2:$B$507,2,'E4'!$C$2:$C$507,2013,'E4'!$D$2:$D$507,">300",'E4'!$D$2:$D$507,"<=400") -> #DIV/0!
B30: =B29+100 -> 500 | C30: =AVERAGEIFS('E4'!E$2:E$507,'E4'!$B$2:$B$507,2,'E4'!$C$2:$C$507,2013,'E4'!$D$2:$D$507,">400",'E4'!$D$2:$D$507,"<=500") -> #DIV/0! | D30: =AVERAGEIFS('E4'!F$2:F$507,'E4'!$B$2:$B$507,2,'E4'!$C$2:$C$507,2013,'E4'!$D$2:$D$507,">400",'E4'!$D$2:$D$507,"<=500") -> #DIV/0!
B31: =B30+100 -> 600 | C31: =AVERAGEIFS('E4'!E$2:E$507,'E4'!$B$2:$B$507,2,'E4'!$C$2:$C$507,2013,'E4'!$D$2:$D$507,">500",'E4'!$D$2:$D$507,"<=600") -> #DIV/0! | D31: =AVERAGEIFS('E4'!F$2:F$507,'E4'!$B$2:$B$507,2,'E4'!$C$2:$C$507,2013,'E4'!$D$2:$D$507,">500",'E4'!$D$2:$D$507,"<=600") -> #DIV/0!
B32: =B31+100 -> 700 | C32: =AVERAGEIFS('E4'!E$2:E$507,'E4'!$B$2:$B$507,2,'E4'!$C$2:$C$507,2013,'E4'!$D$2:$D$507,">600",'E4'!$D$2:$D$507,"<=700") -> 68 | D32: =AVERAGEIFS('E4'!F$2:F$507,'E4'!$B$2:$B$507,2,'E4'!$C$2:$C$507,2013,'E4'!$D$2:$D$507,">600",'E4'!$D$2:$D$507,"<=700") -> 69
B33: =B32+100 -> 800 | C33: =AVERAGEIFS('E4'!E$2:E$507,'E4'!$B$2:$B$507,2,'E4'!$C$2:$C$507,2013,'E4'!$D$2:$D$507,">700",'E4'!$D$2:$D$507,"<=800") -> #DIV/0! | D33: =AVERAGEIFS('E4'!F$2:F$507,'E4'!$B$2:$B$507,2,'E4'!$C$2:$C$507,2013,'E4'!$D$2:$D$507,">700",'E4'!$D$2:$D$507,"<=800") -> #DIV/0!
B34: =B33+100 -> 900 | C34: =AVERAGEIFS('E4'!E$2:E$507,'E4'!$B$2:$B$507,2,'E4'!$C$2:$C$507,2013,'E4'!$D$2:$D$507,">800",'E4'!$D$2:$D$507,"<=900") -> 71 | D34: =AVERAGEIFS('E4'!F$2:F$507,'E4'!$B$2:$B$507,2,'E4'!$C$2:$C$507,2013,'E4'!$D$2:$D$507,">800",'E4'!$D$2:$D$507,"<=900") -> 72
B35: =B34+100 -> 1000 | C35: =AVERAGEIFS('E4'!E$2:E$507,'E4'!$B$2:$B$507,2,'E4'!$C$2:$C$507,2013,'E4'!$D$2:$D$507,">900",'E4'!$D$2:$D$507,"<=1000") -> 77 | D35: =AVERAGEIFS('E4'!F$2:F$507,'E4'!$B$2:$B$507,2,'E4'!$C$2:$C$507,2013,'E4'!$D$2:$D$507,">900",'E4'!$D$2:$D$507,"<=1000") -> 78
B36: =B35+100 -> 1100 | C36: =AVERAGEIFS('E4'!E$2:E$507,'E4'!$B$2:$B$507,2,'E4'!$C$2:$C$507,2013,'E4'!$D$2:$D$507,">1000",'E4'!$D$2:$D$507,"<=1100") -> 72 | D36: =AVERAGEIFS('E4'!F$2:F$507,'E4'!$B$2:$B$507,2,'E4'!$C$2:$C$507,2013,'E4'!$D$2:$D$507,">1000",'E4'!$D$2:$D$507,"<=1100") -> 73
B37: =B36+100 -> 1200 | C37: =AVERAGEIFS('E4'!E$2:E$507,'E4'!$B$2:$B$507,2,'E4'!$C$2:$C$507,2013,'E4'!$D$2:$D$507,">1100",'E4'!$D$2:$D$507,"<=1200") -> 70.25 | D37: =AVERAGEIFS('E4'!F$2:F$507,'E4'!$B$2:$B$507,2,'E4'!$C$2:$C$507,2013,'E4'!$D$2:$D$507,">1100",'E4'!$D$2:$D$507,"<=1200") -> 70.75
B38: =B37+100 -> 1300 | C38: =AVERAGEIFS('E4'!E$2:E$507,'E4'!$B$2:$B$507,2,'E4'!$C$2:$C$507,2013,'E4'!$D$2:$D$507,">1200",'E4'!$D$2:$D$507,"<=1300") -> 75.142857 | D38: =AVERAGEIFS('E4'!F$2:F$507,'E4'!$B$2:$B$507,2,'E4'!$C$2:$C$507,2013,'E4'!$D$2:$D$507,">1200",'E4'!$D$2:$D$507,"<=1300") -> 75.857143
B39: =B38+100 -> 1400 | C39: =AVERAGEIFS('E4'!E$2:E$507,'E4'!$B$2:$B$507,2,'E4'!$C$2:$C$507,2013,'E4'!$D$2:$D$507,">1300",'E4'!$D$2:$D$507,"<=1400") -> 74.666667 | D39: =AVERAGEIFS('E4'!F$2:F$507,'E4'!$B$2:$B$507,2,'E4'!$C$2:$C$507,2013,'E4'!$D$2:$D$507,">1300",'E4'!$D$2:$D$507,"<=1400") -> 75.5
B40: =B39+100 -> 1500 | C40: =AVERAGEIFS('E4'!E$2:E$507,'E4'!$B$2:$B$507,2,'E4'!$C$2:$C$507,2013,'E4'!$D$2:$D$507,">1400",'E4'!$D$2:$D$507,"<=1500") -> 80.166667 | D40: =AVERAGEIFS('E4'!F$2:F$507,'E4'!$B$2:$B$507,2,'E4'!$C$2:$C$507,2013,'E4'!$D$2:$D$507,">1400",'E4'!$D$2:$D$507,"<=1500") -> 81.166667
B41: =B40+100 -> 1600 | C41: =AVERAGEIFS('E4'!E$2:E$507,'E4'!$B$2:$B$507,2,'E4'!$C$2:$C$507,2013,'E4'!$D$2:$D$507,">1500",'E4'!$D$2:$D$507,"<=1600") -> 72 | D41: =AVERAGEIFS('E4'!F$2:F$507,'E4'!$B$2:$B$507,2,'E4'!$C$2:$C$507,2013,'E4'!$D$2:$D$507,">1500",'E4'!$D$2:$D$507,"<=1600") -> 72.571429
B42: =B41+100 -> 1700 | C42: =AVERAGEIFS('E4'!E$2:E$507,'E4'!$B$2:$B$507,2,'E4'!$C$2:$C$507,2013,'E4'!$D$2:$D$507,">1600",'E4'!$D$2:$D$507,"<=1700") -> 82.363636 | D42: =AVERAGEIFS('E4'!F$2:F$507,'E4'!$B$2:$B$507,2,'E4'!$C$2:$C$507,2013,'E4'!$D$2:$D$507,">1600",'E4'!$D$2:$D$507,"<=1700") -> 83.272727
...

Sheet E4 Suivi 2013

Sheet E5
A1: PCTimeStamp | B1: Mois | C1: Année | D1: Grid Production Power Avg. | E1: Generator Phase1 Temp. Avg | F1: Generator Phase2 Temp. Avg.
A2: 41305.104 | B2: =MONTH(A2) -> 1 | C2: =YEAR(A2) -> 2013 | D2: 813.5 | E2: 63 | F2: 64
A3: 41305.111 | B3: =MONTH(A3) -> 1 | C3: =YEAR(A3) -> 2013 | D3: 1263.3 | E3: 63 | F3: 64
A4: 41305.118 | B4: =MONTH(A4) -> 1 | C4: =YEAR(A4) -> 2013 | D4: 1329.3 | E4: 64 | F4: 66
A5: 41305.125 | B5: =MONTH(A5) -> 1 | C5: =YEAR(A5) -> 2013 | D5: 1260 | E5: 65 | F5: 66
A6: 41305.132 | B6: =MONTH(A6) -> 1 | C6: =YEAR(A6) -> 2013 | D6: 994.6 | E6: 64 | F6: 65
A7: 41305.139 | B7: =MONTH(A7) -> 1 | C7: =YEAR(A7) -> 2013 | D7: 1254.2 | E7: 64 | F7: 64
A8: 41305.146 | B8: =MONTH(A8) -> 1 | C8: =YEAR(A8) -> 2013 | D8: 1180.6 | E8: 64 | F8: 66
A9: 41305.153 | B9: =MONTH(A9) -> 1 | C9: =YEAR(A9) -> 2013 | D9: 971.9 | E9: 63 | F9: 64
A10: 41305.16 | B10: =MONTH(A10) -> 1 | C10: =YEAR(A10) -> 2013 | D10: 893.2 | E10: 62 | F10: 63
A11: 41305.167 | B11: =MONTH(A11) -> 1 | C11: =YEAR(A11) -> 2013 | D11: 1064.1 | E11: 62 | F11: 62
A12: 41305.174 | B12: =MONTH(A12) -> 1 | C12: =YEAR(A12) -> 2013 | D12: 729.6 | E12: 60 | F12: 61
A13: 41305.181 | B13: =MONTH(A13) -> 1 | C13: =YEAR(A13) -> 2013 | D13: 595.4 | E13: 58 | F13: 59
... A808: 41310.701 | B808: =MONTH(A808) -> 2 | C808: =YEAR(A808) -> 2013 | D808: 1349.5 | E808: 79 | F808: 80

Sheet E5 moy 
A2: 41275 | B2: Grid Production Power Avg. | C2: Generator Phase1 Temp. Avg | D2: Generator Phase2 Temp. Avg.
B3: 100 | C3: =AVERAGEIFS('E5'!E$2:E$808,'E5'!$B$2:$B$808,1,'E5'!$C$2:$C$808,2013,'E5'!$D$2:$D$808,">0",'E5'!$D$2:$D$808,"<=100") -> #DIV/0! | D3: =AVERAGEIFS('E5'!F$2:F$808,'E5'!$B$2:$B$808,1,'E5'!$C$2:$C$808,2013,'E5'!$D$2:$D$808,">0",'E5'!$D$2:$D$808,"<=100") -> #DIV/0!
B4: =B3+100 -> 200 | C4: =AVERAGEIFS('E5'!E$2:E$808,'E5'!$B$2:$B$808,1,'E5'!$C$2:$C$808,2013,'E5'!$D$2:$D$808,">100",'E5'!$D$2:$D$808,"<=200") -> #DIV/0! | D4: =AVERAGEIFS('E5'!F$2:F$808,'E5'!$B$2:$B$808,1,'E5'!$C$2:$C$808,2013,'E5'!$D$2:$D$808,">100",'E5'!$D$2:$D$808,"<=200") -> #DIV/0!
B5: =B4+100 -> 300 | C5: =AVERAGEIFS('E5'!E$2:E$808,'E5'!$B$2:$B$808,1,'E5'!$C$2:$C$808,2013,'E5'!$D$2:$D$808,">200",'E5'!$D$2:$D$808,"<=300") -> #DIV/0! | D5: =AVERAGEIFS('E5'!F$2:F$808,'E5'!$B$2:$B$808,1,'E5'!$C$2:$C$808,2013,'E5'!$D$2:$D$808,">200",'E5'!$D$2:$D$808,"<=300") -> #DIV/0!
B6: =B5+100 -> 400 | C6: =AVERAGEIFS('E5'!E$2:E$808,'E5'!$B$2:$B$808,1,'E5'!$C$2:$C$808,2013,'E5'!$D$2:$D$808,">300",'E5'!$D$2:$D$808,"<=400") -> #DIV/0! | D6: =AVERAGEIFS('E5'!F$2:F$808,'E5'!$B$2:$B$808,1,'E5'!$C$2:$C$808,2013,'E5'!$D$2:$D$808,">300",'E5'!$D$2:$D$808,"<=400") -> #DIV/0!
B7: =B6+100 -> 500 | C7: =AVERAGEIFS('E5'!E$2:E$808,'E5'!$B$2:$B$808,1,'E5'!$C$2:$C$808,2013,'E5'!$D$2:$D$808,">400",'E5'!$D$2:$D$808,"<=500") -> #DIV/0! | D7: =AVERAGEIFS('E5'!F$2:F$808,'E5'!$B$2:$B$808,1,'E5'!$C$2:$C$808,2013,'E5'!$D$2:$D$808,">400",'E5'!$D$2:$D$808,"<=500") -> #DIV/0!
B8: =B7+100 -> 600 | C8: =AVERAGEIFS('E5'!E$2:E$808,'E5'!$B$2:$B$808,1,'E5'!$C$2:$C$808,2013,'E5'!$D$2:$D$808,">500",'E5'!$D$2:$D$808,"<=600") -> 60 | D8: =AVERAGEIFS('E5'!F$2:F$808,'E5'!$B$2:$B$808,1,'E5'!$C$2:$C$808,2013,'E5'!$D$2:$D$808,">500",'E5'!$D$2:$D$808,"<=600") -> 60.666667
B9: =B8+100 -> 700 | C9: =AVERAGEIFS('E5'!E$2:E$808,'E5'!$B$2:$B$808,1,'E5'!$C$2:$C$808,2013,'E5'!$D$2:$D$808,">600",'E5'!$D$2:$D$808,"<=700") -> 61.333333 | D9: =AVERAGEIFS('E5'!F$2:F$808,'E5'!$B$2:$B$808,1,'E5'!$C$2:$C$808,2013,'E5'!$D$2:$D$808,">600",'E5'!$D$2:$D$808,"<=700") -> 62.333333
B10: =B9+100 -> 800 | C10: =AVERAGEIFS('E5'!E$2:E$808,'E5'!$B$2:$B$808,1,'E5'!$C$2:$C$808,2013,'E5'!$D$2:$D$808,">700",'E5'!$D$2:$D$808,"<=800") -> 61.5 | D10: =AVERAGEIFS('E5'!F$2:F$808,'E5'!$B$2:$B$808,1,'E5'!$C$2:$C$808,2013,'E5'!$D$2:$D$808,">700",'E5'!$D$2:$D$808,"<=800") -> 62.333333
B11: =B10+100 -> 900 | C11: =AVERAGEIFS('E5'!E$2:E$808,'E5'!$B$2:$B$808,1,'E5'!$C$2:$C$808,2013,'E5'!$D$2:$D$808,">800",'E5'!$D$2:$D$808,"<=900") -> 64.75 | D11: =AVERAGEIFS('E5'!F$2:F$808,'E5'!$B$2:$B$808,1,'E5'!$C$2:$C$808,2013,'E5'!$D$2:$D$808,">800",'E5'!$D$2:$D$808,"<=900") -> 65.666667
B12: =B11+100 -> 1000 | C12: =AVERAGEIFS('E5'!E$2:E$808,'E5'!$B$2:$B$808,1,'E5'!$C$2:$C$808,2013,'E5'!$D$2:$D$808,">900",'E5'!$D$2:$D$808,"<=1000") -> 66.375 | D12: =AVERAGEIFS('E5'!F$2:F$808,'E5'!$B$2:$B$808,1,'E5'!$C$2:$C$808,2013,'E5'!$D$2:$D$808,">900",'E5'!$D$2:$D$808,"<=1000") -> 67.25
B13: =B12+100 -> 1100 | C13: =AVERAGEIFS('E5'!E$2:E$808,'E5'!$B$2:$B$808,1,'E5'!$C$2:$C$808,2013,'E5'!$D$2:$D$808,">1000",'E5'!$D$2:$D$808,"<=1100") -> 62.5 | D13: =AVERAGEIFS('E5'!F$2:F$808,'E5'!$B$2:$B$808,1,'E5'!$C$2:$C$808,2013,'E5'!$D$2:$D$808,">1000",'E5'!$D$2:$D$808,"<=1100") -> 63.5
B14: =B13+100 -> 1200 | C14: =AVERAGEIFS('E5'!E$2:E$808,'E5'!$B$2:$B$808,1,'E5'!$C$2:$C$808,2013,'E5'!$D$2:$D$808,">1100",'E5'!$D$2:$D$808,"<=1200") -> 65.166667 | D14: =AVERAGEIFS('E5'!F$2:F$808,'E5'!$B$2:$B$808,1,'E5'!$C$2:$C$808,2013,'E5'!$D$2:$D$808,">1100",'E5'!$D$2:$D$808,"<=1200") -> 66.166667
B15: =B14+100 -> 1300 | C15: =AVERAGEIFS('E5'!E$2:E$808,'E5'!$B$2:$B$808,1,'E5'!$C$2:$C$808,2013,'E5'!$D$2:$D$808,">1200",'E5'!$D$2:$D$808,"<=1300") -> 69.833333 | D15: =AVERAGEIFS('E5'!F$2:F$808,'E5'!$B$2:$B$808,1,'E5'!$C$2:$C$808,2013,'E5'!$D$2:$D$808,">1200",'E5'!$D$2:$D$808,"<=1300") -> 70.833333
B16: =B15+100 -> 1400 | C16: =AVERAGEIFS('E5'!E$2:E$808,'E5'!$B$2:$B$808,1,'E5'!$C$2:$C$808,2013,'E5'!$D$2:$D$808,">1300",'E5'!$D$2:$D$808,"<=1400") -> 64.6 | D16: =AVERAGEIFS('E5'!F$2:F$808,'E5'!$B$2:$B$808,1,'E5'!$C$2:$C$808,2013,'E5'!$D$2:$D$808,">1300",'E5'!$D$2:$D$808,"<=1400") -> 66
B17: =B16+100 -> 1500 | C17: =AVERAGEIFS('E5'!E$2:E$808,'E5'!$B$2:$B$808,1,'E5'!$C$2:$C$808,2013,'E5'!$D$2:$D$808,">1400",'E5'!$D$2:$D$808,"<=1500") -> 71.6 | D17: =AVERAGEIFS('E5'!F$2:F$808,'E5'!$B$2:$B$808,1,'E5'!$C$2:$C$808,2013,'E5'!$D$2:$D$808,">1400",'E5'!$D$2:$D$808,"<=1500") -> 73
B18: =B17+100 -> 1600 | C18: =AVERAGEIFS('E5'!E$2:E$808,'E5'!$B$2:$B$808,1,'E5'!$C$2:$C$808,2013,'E5'!$D$2:$D$808,">1500",'E5'!$D$2:$D$808,"<=1600") -> 72.375 | D18: =AVERAGEIFS('E5'!F$2:F$808,'E5'!$B$2:$B$808,1,'E5'!$C$2:$C$808,2013,'E5'!$D$2:$D$808,">1500",'E5'!$D$2:$D$808,"<=1600") -> 73.875
B19: =B18+100 -> 1700 | C19: =AVERAGEIFS('E5'!E$2:E$808,'E5'!$B$2:$B$808,1,'E5'!$C$2:$C$808,2013,'E5'!$D$2:$D$808,">1600",'E5'!$D$2:$D$808,"<=1700") -> 79.6 | D19: =AVERAGEIFS('E5'!F$2:F$808,'E5'!$B$2:$B$808,1,'E5'!$C$2:$C$808,2013,'E5'!$D$2:$D$808,">1600",'E5'!$D$2:$D$808,"<=1700") -> 81
B20: =B19+100 -> 1800 | C20: =AVERAGEIFS('E5'!E$2:E$808,'E5'!$B$2:$B$808,1,'E5'!$C$2:$C$808,2013,'E5'!$D$2:$D$808,">1700",'E5'!$D$2:$D$808,"<=1800") -> 79.5 | D20: =AVERAGEIFS('E5'!F$2:F$808,'E5'!$B$2:$B$808,1,'E5'!$C$2:$C$808,2013,'E5'!$D$2:$D$808,">1700",'E5'!$D$2:$D$808,"<=1800") -> 81.5
B21: =B20+100 -> 1900 | C21: =AVERAGEIFS('E5'!E$2:E$808,'E5'!$B$2:$B$808,1,'E5'!$C$2:$C$808,2013,'E5'!$D$2:$D$808,">1800",'E5'!$D$2:$D$808,"<=1900") -> 92 | D21: =AVERAGEIFS('E5'!F$2:F$808,'E5'!$B$2:$B$808,1,'E5'!$C$2:$C$808,2013,'E5'!$D$2:$D$808,">1800",'E5'!$D$2:$D$808,"<=1900") -> 93.5
B22: =B21+100 -> 2000 | C22: =AVERAGEIFS('E5'!E$2:E$808,'E5'!$B$2:$B$808,1,'E5'!$C$2:$C$808,2013,'E5'!$D$2:$D$808,">1900",'E5'!$D$2:$D$808,"<=2000") -> 92.8125 | D22: =AVERAGEIFS('E5'!F$2:F$808,'E5'!$B$2:$B$808,1,'E5'!$C$2:$C$808,2013,'E5'!$D$2:$D$808,">1900",'E5'!$D$2:$D$808,"<=2000") -> 94.541667
B23: =B22+100 -> 2100 | C23: =AVERAGEIFS('E5'!E$2:E$808,'E5'!$B$2:$B$808,1,'E5'!$C$2:$C$808,2013,'E5'!$D$2:$D$808,">2000",'E5'!$D$2:$D$808,"<=2100") -> #DIV/0! | D23: =AVERAGEIFS('E5'!F$2:F$808,'E5'!$B$2:$B$808,1,'E5'!$C$2:$C$808,2013,'E5'!$D$2:$D$808,">2000",'E5'!$D$2:$D$808,"<=2100") -> #DIV/0!
A25: 41306 | B25: Grid Production Power Avg. | C25: Generator Phase1 Temp. Avg | D25: Generator Phase2 Temp. Avg.
B26: 100 | C26: =AVERAGEIFS('E5'!E$2:E$808,'E5'!$B$2:$B$808,2,'E5'!$C$2:$C$808,2013,'E5'!$D$2:$D$808,">0",'E5'!$D$2:$D$808,"<=100") -> #DIV/0! | D26: =AVERAGEIFS('E5'!F$2:F$808,'E5'!$B$2:$B$808,2,'E5'!$C$2:$C$808,2013,'E5'!$D$2:$D$808,">0",'E5'!$D$2:$D$808,"<=100") -> #DIV/0!
B27: =B26+100 -> 200 | C27: =AVERAGEIFS('E5'!E$2:E$808,'E5'!$B$2:$B$808,2,'E5'!$C$2:$C$808,2013,'E5'!$D$2:$D$808,">100",'E5'!$D$2:$D$808,"<=200") -> 45.333333 | D27: =AVERAGEIFS('E5'!F$2:F$808,'E5'!$B$2:$B$808,2,'E5'!$C$2:$C$808,2013,'E5'!$D$2:$D$808,">100",'E5'!$D$2:$D$808,"<=200") -> 46
B28: =B27+100 -> 300 | C28: =AVERAGEIFS('E5'!E$2:E$808,'E5'!$B$2:$B$808,2,'E5'!$C$2:$C$808,2013,'E5'!$D$2:$D$808,">200",'E5'!$D$2:$D$808,"<=300") -> 48.9 | D28: =AVERAGEIFS('E5'!F$2:F$808,'E5'!$B$2:$B$808,2,'E5'!$C$2:$C$808,2013,'E5'!$D$2:$D$808,">200",'E5'!$D$2:$D$808,"<=300") -> 49.4
B29: =B28+100 -> 400 | C29: =AVERAGEIFS('E5'!E$2:E$808,'E5'!$B$2:$B$808,2,'E5'!$C$2:$C$808,2013,'E5'!$D$2:$D$808,">300",'E5'!$D$2:$D$808,"<=400") -> 46.333333 | D29: =AVERAGEIFS('E5'!F$2:F$808,'E5'!$B$2:$B$808,2,'E5'!$C$2:$C$808,2013,'E5'!$D$2:$D$808,">300",'E5'!$D$2:$D$808,"<=400") -> 47.083333
B30: =B29+100 -> 500 | C30: =AVERAGEIFS('E5'!E$2:E$808,'E5'!$B$2:$B$808,2,'E5'!$C$2:$C$808,2013,'E5'!$D$2:$D$808,">400",'E5'!$D$2:$D$808,"<=500") -> 53.5 | D30: =AVERAGEIFS('E5'!F$2:F$808,'E5'!$B$2:$B$808,2,'E5'!$C$2:$C$808,2013,'E5'!$D$2:$D$808,">400",'E5'!$D$2:$D$808,"<=500") -> 54.416667
B31: =B30+100 -> 600 | C31: =AVERAGEIFS('E5'!E$2:E$808,'E5'!$B$2:$B$808,2,'E5'!$C$2:$C$808,2013,'E5'!$D$2:$D$808,">500",'E5'!$D$2:$D$808,"<=600") -> 53.307692 | D31: =AVERAGEIFS('E5'!F$2:F$808,'E5'!$B$2:$B$808,2,'E5'!$C$2:$C$808,2013,'E5'!$D$2:$D$808,">500",'E5'!$D$2:$D$808,"<=600") -> 54.153846
B32: =B31+100 -> 700 | C32: =AVERAGEIFS('E5'!E$2:E$808,'E5'!$B$2:$B$808,2,'E5'!$C$2:$C$808,2013,'E5'!$D$2:$D$808,">600",'E5'!$D$2:$D$808,"<=700") -> 58.115385 | D32: =AVERAGEIFS('E5'!F$2:F$808,'E5'!$B$2:$B$808,2,'E5'!$C$2:$C$808,2013,'E5'!$D$2:$D$808,">600",'E5'!$D$2:$D$808,"<=700") -> 58.884615
B33: =B32+100 -> 800 | C33: =AVERAGEIFS('E5'!E$2:E$808,'E5'!$B$2:$B$808,2,'E5'!$C$2:$C$808,2013,'E5'!$D$2:$D$808,">700",'E5'!$D$2:$D$808,"<=800") -> 60.30303 | D33: =AVERAGEIFS('E5'!F$2:F$808,'E5'!$B$2:$B$808,2,'E5'!$C$2:$C$808,2013,'E5'!$D$2:$D$808,">700",'E5'!$D$2:$D$808,"<=800") -> 61.151515
B34: =B33+100 -> 900 | C34: =AVERAGEIFS('E5'!E$2:E$808,'E5'!$B$2:$B$808,2,'E5'!$C$2:$C$808,2013,'E5'!$D$2:$D$808,">800",'E5'!$D$2:$D$808,"<=900") -> 63.807692 | D34: =AVERAGEIFS('E5'!F$2:F$808,'E5'!$B$2:$B$808,2,'E5'!$C$2:$C$808,2013,'E5'!$D$2:$D$808,">800",'E5'!$D$2:$D$808,"<=900") -> 64.730769
B35: =B34+100 -> 1000 | C35: =AVERAGEIFS('E5'!E$2:E$808,'E5'!$B$2:$B$808,2,'E5'!$C$2:$C$808,2013,'E5'!$D$2:$D$808,">900",'E5'!$D$2:$D$808,"<=1000") -> 65.916667 | D35: =AVERAGEIFS('E5'!F$2:F$808,'E5'!$B$2:$B$808,2,'E5'!$C$2:$C$808,2013,'E5'!$D$2:$D$808,">900",'E5'!$D$2:$D$808,"<=1000") -> 66.861111
B36: =B35+100 -> 1100 | C36: =AVERAGEIFS('E5'!E$2:E$808,'E5'!$B$2:$B$808,2,'E5'!$C$2:$C$808,2013,'E5'!$D$2:$D$808,">1000",'E5'!$D$2:$D$808,"<=1100") -> 67.731707 | D36: =AVERAGEIFS('E5'!F$2:F$808,'E5'!$B$2:$B$808,2,'E5'!$C$2:$C$808,2013,'E5'!$D$2:$D$808,">1000",'E5'!$D$2:$D$808,"<=1100") -> 68.853659
B37: =B36+100 -> 1200 | C37: =AVERAGEIFS('E5'!E$2:E$808,'E5'!$B$2:$B$808,2,'E5'!$C$2:$C$808,2013,'E5'!$D$2:$D$808,">1100",'E5'!$D$2:$D$808,"<=1200") -> 66 | D37: =AVERAGEIFS('E5'!F$2:F$808,'E5'!$B$2:$B$808,2,'E5'!$C$2:$C$808,2013,'E5'!$D$2:$D$808,">1100",'E5'!$D$2:$D$808,"<=1200") -> 67.057143
B38: =B37+100 -> 1300 | C38: =AVERAGEIFS('E5'!E$2:E$808,'E5'!$B$2:$B$808,2,'E5'!$C$2:$C$808,2013,'E5'!$D$2:$D$808,">1200",'E5'!$D$2:$D$808,"<=1300") -> 71.518519 | D38: =AVERAGEIFS('E5'!F$2:F$808,'E5'!$B$2:$B$808,2,'E5'!$C$2:$C$808,2013,'E5'!$D$2:$D$808,">1200",'E5'!$D$2:$D$808,"<=1300") -> 72.777778
B39: =B38+100 -> 1400 | C39: =AVERAGEIFS('E5'!E$2:E$808,'E5'!$B$2:$B$808,2,'E5'!$C$2:$C$808,2013,'E5'!$D$2:$D$808,">1300",'E5'!$D$2:$D$808,"<=1400") -> 69.941176 | D39: =AVERAGEIFS('E5'!F$2:F$808,'E5'!$B$2:$B$808,2,'E5'!$C$2:$C$808,2013,'E5'!$D$2:$D$808,">1300",'E5'!$D$2:$D$808,"<=1400") -> 71.117647
B40: =B39+100 -> 1500 | C40: =AVERAGEIFS('E5'!E$2:E$808,'E5'!$B$2:$B$808,2,'E5'!$C$2:$C$808,2013,'E5'!$D$2:$D$808,">1400",'E5'!$D$2:$D$808,"<=1500") -> 75.081081 | D40: =AVERAGEIFS('E5'!F$2:F$808,'E5'!$B$2:$B$808,2,'E5'!$C$2:$C$808,2013,'E5'!$D$2:$D$808,">1400",'E5'!$D$2:$D$808,"<=1500") -> 76.297297
B41: =B40+100 -> 1600 | C41: =AVERAGEIFS('E5'!E$2:E$808,'E5'!$B$2:$B$808,2,'E5'!$C$2:$C$808,2013,'E5'!$D$2:$D$808,">1500",'E5'!$D$2:$D$808,"<=1600") -> 75.709677 | D41: =AVERAGEIFS('E5'!F$2:F$808,'E5'!$B$2:$B$808,2,'E5'!$C$2:$C$808,2013,'E5'!$D$2:$D$808,">1500",'E5'!$D$2:$D$808,"<=1600") -> 76.935484
B42: =B41+100 -> 1700 | C42: =AVERAGEIFS('E5'!E$2:E$808,'E5'!$B$2:$B$808,2,'E5'!$C$2:$C$808,2013,'E5'!$D$2:$D$808,">1600",'E5'!$D$2:$D$808,"<=1700") -> 79.235294 | D42: =AVERAGEIFS('E5'!F$2:F$808,'E5'!$B$2:$B$808,2,'E5'!$C$2:$C$808,2013,'E5'!$D$2:$D$808,">1600",'E5'!$D$2:$D$808,"<=1700") -> 80.735294
...

Sheet E3 Suivi 2013
