Workbook
Name BANK_DE_DONNÉS_Copie: BanqueDeDonnees!$A$1:$P$2472
Name c_ensembliers: #REF!
Name c_intit: BanqueDeDonnees!$A:$A
Name c_prod: #REF!
Name c_ref: BanqueDeDonnees!$B:$B
Name d_ensembliers: #REF!
Name d_intit: BanqueDeDonnees!$A$2
Name d_prod: #REF!
Name d_ref: BanqueDeDonnees!$B$3
Name l_ensembliers: OFFSET(d_ensembliers,0,0,COUNTA(c_ensembliers)-1,1)
Name l_intit: OFFSET(d_intit,0,0,COUNTA(c_intit)-1,1)
Name l_prod: OFFSET(d_prod,0,0,COUNTA(c_prod)-1,1)
Name l_ref: OFFSET(d_ref,0,0,COUNTA(c_ref)-1,1)

Sheet Devis-Facture
A7: D É C O R :
A9: R è f | B9: D é s i g n a t i o n | C9: Q t é | D9: P x . U | E9: P x . T
A11: =IF(ISNA(VLOOKUP(B11,BanqueDeDonnees!$A$1:'BanqueDeDonnees'!$B$9999,2,FALSE)),"",VLOOKUP(B11,BanqueDeDonnees!$A$1:'BanqueDeDonnees'!$B$9999,2,FALSE)) -> LAM 197 | B11: Abat-jour suspendu de billard tissu plissé vert | C11: 1 | D11: =IF(ISNA(VLOOKUP(B11,BanqueDeDonnees!$A$1:'BanqueDeDonnees'!$G$9999,7,FALSE)),"",VLOOKUP(B11,BanqueDeDonnees!$A$1:'BanqueDeDonnees'!$G$9999,7,FALSE)) -> 30 | E11: =IF(D11="","",D11*C11) -> 30 | H11: =CHOOSE(COUNTIF(BanqueDeDonnees!$A$2,"*ure*")*1+COUNTIF(BanqueDeDonnees!$A$2,"*ea*")*2+COUNTIF(BanqueDeDonnees!$A$2,"*au*")*3+1,"","l_intit","l_intit","l_intit") | I11: =COUNTIF(BanqueDeDonnees!$A$2,"*ure*") -> 0
A12: =IF(ISNA(VLOOKUP(B12,BanqueDeDonnees!$A$1:'BanqueDeDonnees'!$B$9999,2,FALSE)),"",VLOOKUP(B12,BanqueDeDonnees!$A$1:'BanqueDeDonnees'!$B$9999,2,FALSE)) -> AGR 011 | B12: Agrafeuse de bureau métal | C12: 1 | D12: =IF(ISNA(VLOOKUP(B12,BanqueDeDonnees!$A$1:'BanqueDeDonnees'!$G$9999,7,FALSE)),"",VLOOKUP(B12,BanqueDeDonnees!$A$1:'BanqueDeDonnees'!$G$9999,7,FALSE)) -> 1.5 | E12: =IF(D12="","",D12*C12) -> 1.5
C13: 1
A14: =IF(ISNA(VLOOKUP(B14,BanqueDeDonnees!$A$1:'BanqueDeDonnees'!$B$9999,2,FALSE)),"",VLOOKUP(B14,BanqueDeDonnees!$A$1:'BanqueDeDonnees'!$B$9999,2,FALSE)) | C14: 1 | D14: =IF(ISNA(VLOOKUP(B14,BanqueDeDonnees!$A$1:'BanqueDeDonnees'!$G$9999,7,FALSE)),"",VLOOKUP(B14,BanqueDeDonnees!$A$1:'BanqueDeDonnees'!$G$9999,7,FALSE)) | E14: =IF(D14="","",D14*C14)
A15: =IF(ISNA(VLOOKUP(B15,BanqueDeDonnees!$A$1:'BanqueDeDonnees'!$B$9999,2,FALSE)),"",VLOOKUP(B15,BanqueDeDonnees!$A$1:'BanqueDeDonnees'!$B$9999,2,FALSE)) | C15: 1 | D15: =IF(ISNA(VLOOKUP(B15,BanqueDeDonnees!$A$1:'BanqueDeDonnees'!$G$9999,7,FALSE)),"",VLOOKUP(B15,BanqueDeDonnees!$A$1:'BanqueDeDonnees'!$G$9999,7,FALSE)) | E15: =IF(D15="","",D15*C15)
A16: =IF(ISNA(VLOOKUP(B16,BanqueDeDonnees!$A$1:'BanqueDeDonnees'!$B$9999,2,FALSE)),"",VLOOKUP(B16,BanqueDeDonnees!$A$1:'BanqueDeDonnees'!$B$9999,2,FALSE)) | C16: 1 | D16: =IF(ISNA(VLOOKUP(B16,BanqueDeDonnees!$A$1:'BanqueDeDonnees'!$G$9999,7,FALSE)),"",VLOOKUP(B16,BanqueDeDonnees!$A$1:'BanqueDeDonnees'!$G$9999,7,FALSE)) | E16: =IF(D16="","",D16*C16)
A17: =IF(ISNA(VLOOKUP(B17,BanqueDeDonnees!$A$1:'BanqueDeDonnees'!$B$9999,2,FALSE)),"",VLOOKUP(B17,BanqueDeDonnees!$A$1:'BanqueDeDonnees'!$B$9999,2,FALSE)) | C17: 1 | D17: =IF(ISNA(VLOOKUP(B17,BanqueDeDonnees!$A$1:'BanqueDeDonnees'!$G$9999,7,FALSE)),"",VLOOKUP(B17,BanqueDeDonnees!$A$1:'BanqueDeDonnees'!$G$9999,7,FALSE)) | E17: =IF(D17="","",D17*C17)
A18: =IF(ISNA(VLOOKUP(B18,BanqueDeDonnees!$A$1:'BanqueDeDonnees'!$B$9999,2,FALSE)),"",VLOOKUP(B18,BanqueDeDonnees!$A$1:'BanqueDeDonnees'!$B$9999,2,FALSE)) | C18: 1 | D18: =IF(ISNA(VLOOKUP(B18,BanqueDeDonnees!$A$1:'BanqueDeDonnees'!$G$9999,7,FALSE)),"",VLOOKUP(B18,BanqueDeDonnees!$A$1:'BanqueDeDonnees'!$G$9999,7,FALSE)) | E18: =IF(D18="","",D18*C18)
A19: =IF(ISNA(VLOOKUP(B19,BanqueDeDonnees!$A$1:'BanqueDeDonnees'!$B$9999,2,FALSE)),"",VLOOKUP(B19,BanqueDeDonnees!$A$1:'BanqueDeDonnees'!$B$9999,2,FALSE)) | C19: 1 | D19: =IF(ISNA(VLOOKUP(B19,BanqueDeDonnees!$A$1:'BanqueDeDonnees'!$G$9999,7,FALSE)),"",VLOOKUP(B19,BanqueDeDonnees!$A$1:'BanqueDeDonnees'!$G$9999,7,FALSE)) | E19: =IF(D19="","",D19*C19)
A20: =IF(ISNA(VLOOKUP(B20,BanqueDeDonnees!$A$1:'BanqueDeDonnees'!$B$9999,2,FALSE)),"",VLOOKUP(B20,BanqueDeDonnees!$A$1:'BanqueDeDonnees'!$B$9999,2,FALSE)) | C20: 1 | D20: =IF(ISNA(VLOOKUP(B20,BanqueDeDonnees!$A$1:'BanqueDeDonnees'!$G$9999,7,FALSE)),"",VLOOKUP(B20,BanqueDeDonnees!$A$1:'BanqueDeDonnees'!$G$9999,7,FALSE)) | E20: =IF(D20="","",D20*C20)
A21: =IF(ISNA(VLOOKUP(B21,BanqueDeDonnees!$A$1:'BanqueDeDonnees'!$B$9999,2,FALSE)),"",VLOOKUP(B21,BanqueDeDonnees!$A$1:'BanqueDeDonnees'!$B$9999,2,FALSE)) | C21: 1 | D21: =IF(ISNA(VLOOKUP(B21,BanqueDeDonnees!$A$1:'BanqueDeDonnees'!$G$9999,7,FALSE)),"",VLOOKUP(B21,BanqueDeDonnees!$A$1:'BanqueDeDonnees'!$G$9999,7,FALSE)) | E21: =IF(D21="","",D21*C21)
A22: =IF(ISNA(VLOOKUP(B22,BanqueDeDonnees!$A$1:'BanqueDeDonnees'!$B$9999,2,FALSE)),"",VLOOKUP(B22,BanqueDeDonnees!$A$1:'BanqueDeDonnees'!$B$9999,2,FALSE)) | C22: 1 | D22: =IF(ISNA(VLOOKUP(B22,BanqueDeDonnees!$A$1:'BanqueDeDonnees'!$G$9999,7,FALSE)),"",VLOOKUP(B22,BanqueDeDonnees!$A$1:'BanqueDeDonnees'!$G$9999,7,FALSE)) | E22: =IF(D22="","",D22*C22)
A23: =IF(ISNA(VLOOKUP(B23,BanqueDeDonnees!$A$1:'BanqueDeDonnees'!$B$9999,2,FALSE)),"",VLOOKUP(B23,BanqueDeDonnees!$A$1:'BanqueDeDonnees'!$B$9999,2,FALSE)) | C23: 1 | D23: =IF(ISNA(VLOOKUP(B23,BanqueDeDonnees!$A$1:'BanqueDeDonnees'!$G$9999,7,FALSE)),"",VLOOKUP(B23,BanqueDeDonnees!$A$1:'BanqueDeDonnees'!$G$9999,7,FALSE)) | E23: =IF(D23="","",D23*C23)
A24: =IF(ISNA(VLOOKUP(B24,BanqueDeDonnees!$A$1:'BanqueDeDonnees'!$B$9999,2,FALSE)),"",VLOOKUP(B24,BanqueDeDonnees!$A$1:'BanqueDeDonnees'!$B$9999,2,FALSE)) | C24: 1 | D24: =IF(ISNA(VLOOKUP(B24,BanqueDeDonnees!$A$1:'BanqueDeDonnees'!$G$9999,7,FALSE)),"",VLOOKUP(B24,BanqueDeDonnees!$A$1:'BanqueDeDonnees'!$G$9999,7,FALSE)) | E24: =IF(D24="","",D24*C24)
A25: =IF(ISNA(VLOOKUP(B25,BanqueDeDonnees!$A$1:'BanqueDeDonnees'!$B$9999,2,FALSE)),"",VLOOKUP(B25,BanqueDeDonnees!$A$1:'BanqueDeDonnees'!$B$9999,2,FALSE)) | C25: 1 | D25: =IF(ISNA(VLOOKUP(B25,BanqueDeDonnees!$A$1:'BanqueDeDonnees'!$G$9999,7,FALSE)),"",VLOOKUP(B25,BanqueDeDonnees!$A$1:'BanqueDeDonnees'!$G$9999,7,FALSE)) | E25: =IF(D25="","",D25*C25)
... A35: =IF(ISNA(VLOOKUP(B35,BanqueDeDonnees!$A$1:'BanqueDeDonnees'!$B$9999,2,FALSE)),"",VLOOKUP(B35,BanqueDeDonnees!$A$1:'BanqueDeDonnees'!$B$9999,2,FALSE)) | C35: 1 | D35: =IF(ISNA(VLOOKUP(B35,BanqueDeDonnees!$A$1:'BanqueDeDonnees'!$G$9999,7,FALSE)),"",VLOOKUP(B35,BanqueDeDonnees!$A$1:'BanqueDeDonnees'!$G$9999,7,FALSE)) | E35: =IF(D35="","",D35*C35)
A37: D É C O R :
A39: Enlèvement: 2011
A40: Retour: 2011
A41: D É C O R :
A43: R è f | B43: D é s i g n a t i o n | C43: Q t é | D43: P x . U | E43: P x . T
A45: =IF(ISNA(VLOOKUP(B45,BanqueDeDonnees!$A$1:'BanqueDeDonnees'!$B$9999,2,FALSE)),"",VLOOKUP(B45,BanqueDeDonnees!$A$1:'BanqueDeDonnees'!$B$9999,2,FALSE)) | C45: 1 | D45: =IF(ISNA(VLOOKUP(B45,BanqueDeDonnees!$A$1:'BanqueDeDonnees'!$G$9999,7,FALSE)),"",VLOOKUP(B45,BanqueDeDonnees!$A$1:'BanqueDeDonnees'!$G$9999,7,FALSE)) | E45: =IF(D45="","",D45*C45)
A46: =IF(ISNA(VLOOKUP(B46,BanqueDeDonnees!$A$1:'BanqueDeDonnees'!$B$9999,2,FALSE)),"",VLOOKUP(B46,BanqueDeDonnees!$A$1:'BanqueDeDonnees'!$B$9999,2,FALSE)) | C46: 1 | D46: =IF(ISNA(VLOOKUP(B46,BanqueDeDonnees!$A$1:'BanqueDeDonnees'!$G$9999,7,FALSE)),"",VLOOKUP(B46,BanqueDeDonnees!$A$1:'BanqueDeDonnees'!$G$9999,7,FALSE)) | E46: =IF(D46="","",D46*C46)
A47: =IF(ISNA(VLOOKUP(B47,BanqueDeDonnees!$A$1:'BanqueDeDonnees'!$B$9999,2,FALSE)),"",VLOOKUP(B47,BanqueDeDonnees!$A$1:'BanqueDeDonnees'!$B$9999,2,FALSE)) | C47: 1 | D47: =IF(ISNA(VLOOKUP(B47,BanqueDeDonnees!$A$1:'BanqueDeDonnees'!$G$9999,7,FALSE)),"",VLOOKUP(B47,BanqueDeDonnees!$A$1:'BanqueDeDonnees'!$G$9999,7,FALSE)) | E47: =IF(D47="","",D47*C47)
A48: =IF(ISNA(VLOOKUP(B48,BanqueDeDonnees!$A$1:'BanqueDeDonnees'!$B$9999,2,FALSE)),"",VLOOKUP(B48,BanqueDeDonnees!$A$1:'BanqueDeDonnees'!$B$9999,2,FALSE)) | C48: 1 | D48: =IF(ISNA(VLOOKUP(B48,BanqueDeDonnees!$A$1:'BanqueDeDonnees'!$G$9999,7,FALSE)),"",VLOOKUP(B48,BanqueDeDonnees!$A$1:'BanqueDeDonnees'!$G$9999,7,FALSE)) | E48: =IF(D48="","",D48*C48)
A49: =IF(ISNA(VLOOKUP(B49,BanqueDeDonnees!$A$1:'BanqueDeDonnees'!$B$9999,2,FALSE)),"",VLOOKUP(B49,BanqueDeDonnees!$A$1:'BanqueDeDonnees'!$B$9999,2,FALSE)) | C49: 1 | D49: =IF(ISNA(VLOOKUP(B49,BanqueDeDonnees!$A$1:'BanqueDeDonnees'!$G$9999,7,FALSE)),"",VLOOKUP(B49,BanqueDeDonnees!$A$1:'BanqueDeDonnees'!$G$9999,7,FALSE)) | E49: =IF(D49="","",D49*C49)
A50: =IF(ISNA(VLOOKUP(B50,BanqueDeDonnees!$A$1:'BanqueDeDonnees'!$B$9999,2,FALSE)),"",VLOOKUP(B50,BanqueDeDonnees!$A$1:'BanqueDeDonnees'!$B$9999,2,FALSE)) | C50: 1 | D50: =IF(ISNA(VLOOKUP(B50,BanqueDeDonnees!$A$1:'BanqueDeDonnees'!$G$9999,7,FALSE)),"",VLOOKUP(B50,BanqueDeDonnees!$A$1:'BanqueDeDonnees'!$G$9999,7,FALSE))
A51: =IF(ISNA(VLOOKUP(B51,BanqueDeDonnees!$A$1:'BanqueDeDonnees'!$B$9999,2,FALSE)),"",VLOOKUP(B51,BanqueDeDonnees!$A$1:'BanqueDeDonnees'!$B$9999,2,FALSE)) | C51: 1 | D51: =IF(ISNA(VLOOKUP(B51,BanqueDeDonnees!$A$1:'BanqueDeDonnees'!$G$9999,7,FALSE)),"",VLOOKUP(B51,BanqueDeDonnees!$A$1:'BanqueDeDonnees'!$G$9999,7,FALSE)) | E51: =IF(D51="","",D51*C51)
A52: =IF(ISNA(VLOOKUP(B52,BanqueDeDonnees!$A$1:'BanqueDeDonnees'!$B$9999,2,FALSE)),"",VLOOKUP(B52,BanqueDeDonnees!$A$1:'BanqueDeDonnees'!$B$9999,2,FALSE)) | C52: 1 | D52: =IF(ISNA(VLOOKUP(B52,BanqueDeDonnees!$A$1:'BanqueDeDonnees'!$G$9999,7,FALSE)),"",VLOOKUP(B52,BanqueDeDonnees!$A$1:'BanqueDeDonnees'!$G$9999,7,FALSE)) | E52: =IF(D52="","",D52*C52)
A53: =IF(ISNA(VLOOKUP(B53,BanqueDeDonnees!$A$1:'BanqueDeDonnees'!$B$9999,2,FALSE)),"",VLOOKUP(B53,BanqueDeDonnees!$A$1:'BanqueDeDonnees'!$B$9999,2,FALSE)) | C53: 1 | D53: =IF(ISNA(VLOOKUP(B53,BanqueDeDonnees!$A$1:'BanqueDeDonnees'!$G$9999,7,FALSE)),"",VLOOKUP(B53,BanqueDeDonnees!$A$1:'BanqueDeDonnees'!$G$9999,7,FALSE)) | E53: =IF(D53="","",D53*C53)
A54: =IF(ISNA(VLOOKUP(B54,BanqueDeDonnees!$A$1:'BanqueDeDonnees'!$B$9999,2,FALSE)),"",VLOOKUP(B54,BanqueDeDonnees!$A$1:'BanqueDeDonnees'!$B$9999,2,FALSE)) | C54: 1 | D54: =IF(ISNA(VLOOKUP(B54,BanqueDeDonnees!$A$1:'BanqueDeDonnees'!$G$9999,7,FALSE)),"",VLOOKUP(B54,BanqueDeDonnees!$A$1:'BanqueDeDonnees'!$G$9999,7,FALSE)) | E54: =IF(D54="","",D54*C54)
A55: =IF(ISNA(VLOOKUP(B55,BanqueDeDonnees!$A$1:'BanqueDeDonnees'!$B$9999,2,FALSE)),"",VLOOKUP(B55,BanqueDeDonnees!$A$1:'BanqueDeDonnees'!$B$9999,2,FALSE)) | C55: 1 | D55: =IF(ISNA(VLOOKUP(B55,BanqueDeDonnees!$A$1:'BanqueDeDonnees'!$G$9999,7,FALSE)),"",VLOOKUP(B55,BanqueDeDonnees!$A$1:'BanqueDeDonnees'!$G$9999,7,FALSE)) | E55: =IF(D55="","",D55*C55)
A56: =IF(ISNA(VLOOKUP(B56,BanqueDeDonnees!$A$1:'BanqueDeDonnees'!$B$9999,2,FALSE)),"",VLOOKUP(B56,BanqueDeDonnees!$A$1:'BanqueDeDonnees'!$B$9999,2,FALSE)) | C56: 1 | D56: =IF(ISNA(VLOOKUP(B56,BanqueDeDonnees!$A$1:'BanqueDeDonnees'!$G$9999,7,FALSE)),"",VLOOKUP(B56,BanqueDeDonnees!$A$1:'BanqueDeDonnees'!$G$9999,7,FALSE)) | E56: =IF(D56="","",D56*C56)
A57: =IF(ISNA(VLOOKUP(B57,BanqueDeDonnees!$A$1:'BanqueDeDonnees'!$B$9999,2,FALSE)),"",VLOOKUP(B57,BanqueDeDonnees!$A$1:'BanqueDeDonnees'!$B$9999,2,FALSE)) | C57: 1 | D57: =IF(ISNA(VLOOKUP(B57,BanqueDeDonnees!$A$1:'BanqueDeDonnees'!$G$9999,7,FALSE)),"",VLOOKUP(B57,BanqueDeDonnees!$A$1:'BanqueDeDonnees'!$G$9999,7,FALSE)) | E57: =IF(D57="","",D57*C57)
A58: =IF(ISNA(VLOOKUP(B58,BanqueDeDonnees!$A$1:'BanqueDeDonnees'!$B$9999,2,FALSE)),"",VLOOKUP(B58,BanqueDeDonnees!$A$1:'BanqueDeDonnees'!$B$9999,2,FALSE)) | C58: 1 | D58: =IF(ISNA(VLOOKUP(B58,BanqueDeDonnees!$A$1:'BanqueDeDonnees'!$G$9999,7,FALSE)),"",VLOOKUP(B58,BanqueDeDonnees!$A$1:'BanqueDeDonnees'!$G$9999,7,FALSE)) | E58: =IF(D58="","",D58*C58)
A59: =IF(ISNA(VLOOKUP(B59,BanqueDeDonnees!$A$1:'BanqueDeDonnees'!$B$9999,2,FALSE)),"",VLOOKUP(B59,BanqueDeDonnees!$A$1:'BanqueDeDonnees'!$B$9999,2,FALSE)) | C59: 1 | D59: =IF(ISNA(VLOOKUP(B59,BanqueDeDonnees!$A$1:'BanqueDeDonnees'!$G$9999,7,FALSE)),"",VLOOKUP(B59,BanqueDeDonnees!$A$1:'BanqueDeDonnees'!$G$9999,7,FALSE)) | E59: =IF(D59="","",D59*C59)
A60: =IF(ISNA(VLOOKUP(B60,BanqueDeDonnees!$A$1:'BanqueDeDonnees'!$B$9999,2,FALSE)),"",VLOOKUP(B60,BanqueDeDonnees!$A$1:'BanqueDeDonnees'!$B$9999,2,FALSE)) | C60: 1 | D60: =IF(ISNA(VLOOKUP(B60,BanqueDeDonnees!$A$1:'BanqueDeDonnees'!$G$9999,7,FALSE)),"",VLOOKUP(B60,BanqueDeDonnees!$A$1:'BanqueDeDonnees'!$G$9999,7,FALSE)) | E60: =IF(D60="","",D60*C60)
A61: =IF(ISNA(VLOOKUP(B61,BanqueDeDonnees!$A$1:'BanqueDeDonnees'!$B$9999,2,FALSE)),"",VLOOKUP(B61,BanqueDeDonnees!$A$1:'BanqueDeDonnees'!$B$9999,2,FALSE)) | C61: 1 | D61: =IF(ISNA(VLOOKUP(B61,BanqueDeDonnees!$A$1:'BanqueDeDonnees'!$G$9999,7,FALSE)),"",VLOOKUP(B61,BanqueDeDonnees!$A$1:'BanqueDeDonnees'!$G$9999,7,FALSE)) | E61: =IF(D61="","",D61*C61)
...

Sheet BanqueDeDonnees
A1: Intitulé | B1: Rèf | C1: Désignation | D1: Description | E1: Qté | F1: Époque | G1: Px loc U. | H1: Style | I1: Auteur | J1: Marque | K1: Couleur | L1: Format | M1: État | N1: Origine | O1: Px vlr U. | P1: Date achat
A2: Abat-jour suspendu de billard tissu plissé vert | B2: LAM 197 | C2: LAMPE SUSPENSION BILLARD | D2: AJ TISSU PLISSÉ | E2: 1 | G2: 30 | K2: VERT | M2: BON | N2: EM | O2: 300 | P2: 2007
A3: Agenda de poche cuir noir | B3: AGE 012 | C3: AGENDA RÉPERTOIRE DE POCHE | D3: CUIR | E3: 1 | F3: 1962 | G3: 4 | H3: BUREAU ADMINISTRATIF | K3: NOIR | M3: MYN | N3: EM | O3: 40 | P3: 2005
A4: Agrafeuse de bureau inox | B4: AGR 010 | C4: AGRAFEUSE DE BUREAU | D4: INOX | E4: 2 | F4: 1940 | G4: 1.5 | H4: BUREAU ADMINISTRATIF | K4: ARGENT CHROME | M4: BON | N4: EM | O4: 15 | P4: 2005
A5: Agrafeuse de bureau métal | B5: AGR 011 | C5: AGRAFEUSE DE BUREAU | D5: INOX | E5: 1 | F5: 1940 | G5: 1.5 | H5: BUREAU ADMINISTRATIF | K5: ARGENT CHROME | M5: BON | N5: EM | O5: 15 | P5: 2005
A6: Applique 1930 métal chromé | B6: LAM 113 | C6: LAMPE APPLIQUE | D6: METAL | E6: 1 | F6: 1930 | G6: 13 | H6: BUREAU ADMINISTRATIF ATELIER 30 | K6: ARGENT CHROME | M6: MYN | N6: 5 | O6: 1300 | P6: 2007
A7: Applique 1970 métal chromé | B7: LAM 156 | C7: LAMPE APPLIQUE | D7: MÉTAL | E7: 2 | F7: 1960 | G7: 16 | H7: 70 | K7: ARGENT CHROMÉ | M7: MYN | N7: EM | O7: 160 | P7: 2006
A8: Applique métal peint | B8: LAM 139 | C8: LAMPE APPLIQUE | D8: METAL PEINT | E8: 1 | F8: 1960 | G8: 4 | K8: MARRON CHROME | M8: MYN | N8: EM | O8: 40 | P8: 2007
A9: Armoire administrative bois chêne Ht. 2,25m | B9: ARM 008 | C9: ARMOIRE | D9: BOIS | E9: 3 | F9: 1920 | G9: 85 | H9: BUREAU ADMINISTRATIF | K9: MARRON CHÊNE MOYEN | L9: 1300MM x 500MM x 2250MM | M9: MYN | N9: EM | O9: 850 | P9: 2005
A10: Armoire administrative bois côtés formica noir | B10: ARM 022 | C10: ARMOIRE | D10: BOIS FORMICA | E10: 1 | F10: 1960 | G10: 83 | H10: BUREAU ADMINISTRATIF | K10: MARRON NOIR | M10: MYN | N10: 80 | O10: 830 | P10: 2005
A11: Armoire administrative métal vert double porte | B11: ARM 027 | C11: ARMOIRE | D11: MÉTAL 2 PORTES | E11: 1 | F11: 1960 | G11: 46 | H11: BUREAU ADMINISTRATIF | K11: VERT | M11: MYN | N11: EM | O11: 460 | P11: 2007
A12: Armoire bois clair miroir oval | B12: ARM 021 | C12: ARMOIRE | D12: BOIS 1 PORTE MIROIR OVALE | E12: 1 | F12: 1920 | G12: 65 | K12: MARRON | M12: MYN | N12: EM | O12: 650 | P12: 2006
A13: Armoire bois peint blanc 1 | B13: ARM 002 | C13: ARMOIRE | D13: BOIS PEINT | E13: 1 | F13: 1900 | G13: 35 | H13: MÉDICAL ATELIER | K13: BLANC | L13: MM x MM x MM | M13: MYN | N13: EM | O13: 350 | P13: 2010
A14: Armoire bois peint blanc 2 | B14: ARM 005 | C14: ARMOIRE | D14: BOIS PEINT | E14: 1 | F14: 1930 | G14: 28 | H14: MÉDICAL | K14: BLANC | L14: MM x MM x MM | M14: MYN | N14: EM | O14: 280 | P14: 2010
A15: Armoire chêne vernis | B15: ARM 025 | C15: ARMOIRE | D15: BOIS VERNIS | E15: 1 | F15: 1880 | G15: 75 | H15: BUREAU ADMINISTRATIF XIX | K15: MARRON/CHENE | M15: MYN | N15: 400 | O15: 750 | P15: 2006
A16: Armoire de toilette métal peint | B16: ARM 003 | C16: ARMOIRE TOILETTE | D16: METAL PEINT VITREE | E16: 1 | F16: 1960 | G16: 7.5 | H16: SALLE DE BAINS | K16: BLANC BLEU | L16: 380MM x 590MM x 190MM | M16: MYN | N16: 15 | O16: 75 | P16: 2005
A17: Armoire de toilette plastique 3 portes miroir | B17: ARM 004 | C17: ARMOIRE TOILETTE | D17: PLASTIQUE MIROIR 3 PORTES | E17: 1 | F17: 1960 | G17: 7.5 | H17: SALLE DE BAINS | K17: VERT | L17: 715MM x 150MM x 545MM | M17: MYN | N17: EM | O17: 75 | P17: 2005
A18: Armoire de toilette vitrée bois peint | B18: ARM 019 | C18: ARMOIRE TOILETTE | D18: VITRÉE BOIS PEINT | E18: 1 | F18: 1940 | G18: 13 | H18: MÉDICAL | K18: BLANC | L18: 400MM x 230MM x 770MM | M18: MYN | N18: EM | O18: 130 | P18: 2005
A19: Armoire Louis XIII chêne pointe de diamant | B19: ARM 007 | C19: ARMOIRE | D19: BOIS POINTE DE DIAMANT | E19: 1 | F19: 1800 | G19: 125 | H19: LOUIS XIII XIX | K19: MARRON CHÊNE FONCÉ | M19: BON | N19: EM | O19: 1250 | P19: 2005
A20: Armoire médicale vitrée | B20: ARM 001 | C20: ARMOIRE | D20: MÉTAL PEINT VERRE | E20: 1 | F20: 1900 | G20: 75 | H20: MÉDICAL | K20: BLANC | L20: MM x MM x MM | M20: MYN | N20: EM | O20: 750 | P20: 2010
A21: Arrosoir plastique publicitaire Shell | B21: ARR 026 | C21: ARROSOIR | D21: PUBLICITAIRE | E21: 1 | F21: 1960 | G21: 5 | H21: GARAGE | K21: BLANC | M21: MYN | N21: EM | O21: 50 | P21: 2008
A22: Arrosoir plastique vert | B22: ARR 026/01 | C22: ARROSOIR | D22: PUBLICITAIRE | E22: 1 | F22: 1960 | G22: 2.5 | H22: GARAGE | K22: VERT | M22: MYN | N22: F | O22: 25 | P22: 2008
A23: Assiètte décorative porcelaine bordeaux | B23: ASS 030 | C23: ASSIETTE DÉCORATIVE | D23: PORCELAINE | E23: 1 | F23: XIX | G23: 4 | H23: XIX | K23: ROUGE BORDEAUX BLANC | L23: DIA MM | M23: BON | N23: EM | O23: 40 | P23: 2004
A24: Assiètte décorative verre gravé | B24: ASS 031 | C24: ASSIETTE DÉCORATIVE | D24: CRISTAL GRAVÉ | E24: 1 | F24: XIX | G24: 6 | H24: XIX | K24: TRANSPARENT DORÉ | L24: DIA 200 MM | M24: BON | N24: EM | O24: 60 | P24: 2004
A25: Attaché-case cuir noir intèrieur daim | B25: ATT 001 | C25: ATTACHÉ-CASE | D25: CUIR INT. DAIM | E25: 1 | F25: 1960 | G25: 9 | H25: BUREAU | K25: NOIR BEIGE | M25: BON | N25: EM | O25: 90 | P25: 2007
A26: Balance de cuisine métal vert | B26: BAL 151 | C26: BALANCE | D26: CUISINE | E26: 1 | F26: 1970 | G26: 4 | H26: CUISINE | J26: STUBE | K26: VERTE | M26: MYN | N26: JB | O26: 40 | P26: 2006
A27: Balance de magasin Lutrana | B27: BAL 136 | C27: BALANCE | E27: 1 | F27: 1950 | G27: 19 | H27: MAGASIN | J27: LUTRANA | M27: BON | N27: EM | O27: 190 | P27: 2006
A28: Balance de magasin Testut | B28: BAL 136/01 | C28: BALANCE | E28: 1 | F28: 1950 | G28: 19 | H28: MAGASIN | J28: TESTUT | M28: BON | N28: JB | O28: 190 | P28: 2006
A29: Balance pèse bébé | B29: BAL 262 | C29: BALANCE PESE BEBE | D29: MÉTAL | E29: 1 | F29: 1930 | G29: 10 | H29: MÉDICAL | J29: CORMIER | K29: BLANC | M29: BON | N29: 30 | O29: 100 | P29: 2009
A30: Balance pèse personne plastique gris | B30: BAL 194 | C30: BALANCE DE SALLE DE BAIN | D30: PESE PERSONNE | E30: 1 | F30: 1960 | G30: 2.5 | H30: SALLE DE BAINS | J30: TÉRAILLON | K30: GRIS | M30: MYN | N30: EM | O30: 25 | P30: 2006
A31: Balance pèse personne sur pied fonte blanche | B31: BAL 250 | C31: BALANCE | D31: MÉTAL | E31: 1 | F31: 1930 | G31: 30 | H31: MÉDICAL | K31: BLANC | M31: BON | N31: 40 | O31: 300 | P31: 2008
A32: Balance pèsz lettre métal | B32: BAL 193 | C32: BALANCE DE BUREAU | D32: PESE LETTRE MÉTAL | E32: 1 | F32: 1950 | G32: 2.5 | H32: BUREAU ADMINISTRATIF | K32: GRIS | M32: MYN | N32: EM | O32: 25 | P32: 2005
A33: balayette chiendent | B33: BAL 067 | C33: BALAYETTE | D33: BOIS CHIENDENT | E33: 1 | F33: 1900 | G33: 1 | H33: CUISINE ENTRETIEN | K33: BOIS | M33: MYN | N33: EM | O33: 10 | P33: 2005
A34: Banc de ferme bois brut | B34: BAN 120 | C34: BANC | D34: BOIS BRUT | E34: 1 | F34: 1880 | G34: 13 | H34: CUISINE XIX | K34: MARRON | M34: MYN | N34: EM | O34: 130 | P34: 2005
A35: Banc de jardin contemporain bois exotique | B35: BAN 122 | C35: BANC | D35: BOIS | E35: 1 | F35: 1990 | G35: 41 | H35: CONTEMPORAIN JARDIN | K35: MARRON BOIS EXOTIQUE | M35: MYN | N35: JB | O35: 410 | P35: 2005
A36: Banc faux béton | B36: BAN 260 | C36: BANQUETTE BETON | D36: BOIS PEINT | E36: 2 | F36: 1970 | G36: 14 | H36: PRISON | K36: GRIS | M36: MYN | N36: EM | O36: 140 | P36: 2006
A37: Banettes fil de fer doré | B37: COR 047 | C37: CORBEILLE À COURRIER | D37: BUREAU | E37: 2 | F37: 1900 | G37: 2.5 | H37: BUREAU ADMINISTRATIF | K37: DORÉ | L37: 280MM x 330MM x 70MM | M37: MYN | N37: EM | O37: 25 | P37: 2005
A38: Bannettes administratives plastique vert | B38: COR 229 | C38: CORBEILLE À COURRIER | D38: BUREAU PLASTIQUE | E38: 3 | F38: 1960 | G38: 2 | H38: BUREAU ADMINISTRATIF | K38: VERT | M38: BON | N38: EM | O38: 20 | P38: 2006
A39: Banquette bois | B39: BAN 121 | C39: BANQUETTE | D39: BOIS | E39: 1 | F39: 1900 | G39: 18 | H39: RUSTIQUE | K39: MARRON | M39: MYN | N39: EM | O39: 180 | P39: 2002
A40: Banquette bois vernis noir tissu velours fleurs orange | B40: BAN 106/03 | C40: CANAPÉ | D40: BOIS VERNIS TISSU | E40: 1 | F40: 1880 | G40: 145 | H40: NAPOLÉON III XIX | K40: NOIR ROUGE | L40: MM x MM x MM | M40: BON | N40: 120 | O40: 1450 | P40: 2010
...

Sheet recherche multicritere
