Workbook
Name annuler: #REF!
Name Cadenasbleu: '[1]Liste Menu déroulant '!$E$8:$E$11
Name Couleurcadenas: '[1]Liste Menu déroulant '!$D$8:$D$15
Name DATA2: #REF!
Name DATARESULTATS: #REF!
Name Statutbox: '[1]Liste Menu déroulant '!$F$8:$F$13
Name Travauxnecessaire: '[1]Liste Menu déroulant '!$H$8:$H$11

Sheet Donnés
B5: Nature du PB | C5: N° Chambre
B6: Pas de clés | C6: 27
B7: Porte abimée et Pas de clés | C7: 1012
B8: Bon état | C8: 2116
B9: Bon état | C9: 2143
B10: Pas de clés et plus de télécommande | C10: 2308
B11: Télé HS | C11: 2629
B12: Bon état | C12: 2638
B13: Pas de clés et plus de télécommande | C13: 3902
B14: Bon état | C14: 1807B
B15: Télé HS | C15: 3102 / 3605
B16: Bon état | C16: 3105 / 3803
B17: Télé HS et Pas de clés | C17: 3108 / 3109

Sheet Récap
C7: Pas de clés | D7: N° de chambre | H7: Télé HS | I7: N° de chambre
B8: Total de Chambre | C8: 5 | D8: =IFERROR(INDEX(Donnés!C$5:C$17,SMALL(IF(ISNUMBER(SEARCH(Récap!C$7,Donnés!B$5:B$17)),ROW(Donnés!C5:C17),""),ROW(A1))),"") | E8: 27 | G8: Total de Chambre | H8: 3 | I8: 2629
A9: =IF(COUNTIF(A1,"*NBR*"),"NBR","") | D9: =IFERROR(INDEX(Donnés!C$5:C$17,SMALL(IF(ISNUMBER(SEARCH(Récap!C$7,Donnés!B$5:B$17)),ROW(Donnés!C6:C18),""),ROW(A2))),"") | E9: 1012 | I9: 3102 / 3605
D10: =IFERROR(INDEX(Donnés!C$5:C$17,SMALL(IF(ISNUMBER(SEARCH(Récap!C$7,Donnés!B$5:B$17)),ROW(Donnés!C7:C19),""),ROW(A3))),"") | E10: 2308 | I10: 3108 / 3109
D11: =IFERROR(INDEX(Donnés!C$5:C$17,SMALL(IF(ISNUMBER(SEARCH(Récap!C$7,Donnés!B$5:B$17)),ROW(Donnés!C8:C20),""),ROW(A4))),"") | E11: 3902
D12: =IFERROR(INDEX(Donnés!C$5:C$17,SMALL(IF(ISNUMBER(SEARCH(Récap!C$7,Donnés!B$5:B$17)),ROW(Donnés!C9:C21),""),ROW(A5))),"") | E12: 3108 / 3109
D13: {=IFERROR(INDEX([1]TCTB!S$8:S$932,SMALL(IF(ISNUMBER(SEARCH(Récap!C$7,[1]TCTB!O13:O937)),ROW([1]TCTB!S13:S937),""),ROW(A6))),"")}
D14: {=IFERROR(INDEX([1]TCTB!S$8:S$932,SMALL(IF(ISNUMBER(SEARCH(Récap!C$7,[1]TCTB!O14:O938)),ROW([1]TCTB!S14:S938),""),ROW(A7))),"")}
D15: {=IFERROR(INDEX([1]TCTB!S$8:S$932,SMALL(IF(ISNUMBER(SEARCH(Récap!C$7,[1]TCTB!O15:O939)),ROW([1]TCTB!S15:S939),""),ROW(A8))),"")}
C16: {=IFERROR(SMALL(IF(ISNUMBER(SEARCH(C$7,[1]TCTB!O$8:O$931)),[1]TCTB!S$8:S$931,""),ROW(A9)),"")} | D16: {=IFERROR(INDEX([1]TCTB!S$8:S$932,SMALL(IF(ISNUMBER(SEARCH(Récap!C$7,[1]TCTB!O16:O940)),ROW([1]TCTB!S16:S940),""),ROW(A9))),"")}
C17: {=IFERROR(SMALL(IF(ISNUMBER(SEARCH(C$7,[1]TCTB!O$8:O$931)),[1]TCTB!S$8:S$931,""),ROW(A10)),"")} | D17: {=IFERROR(INDEX([1]TCTB!S$8:S$932,SMALL(IF(ISNUMBER(SEARCH(Récap!C$7,[1]TCTB!O17:O941)),ROW([1]TCTB!S17:S941),""),ROW(A10))),"")}
C18: {=IFERROR(SMALL(IF(ISNUMBER(SEARCH(C$7,[1]TCTB!O$8:O$931)),[1]TCTB!S$8:S$931,""),ROW(A11)),"")} | D18: {=IFERROR(INDEX([1]TCTB!S$8:S$932,SMALL(IF(ISNUMBER(SEARCH(Récap!C$7,[1]TCTB!O18:O942)),ROW([1]TCTB!S18:S942),""),ROW(A11))),"")}
C19: {=IFERROR(SMALL(IF(ISNUMBER(SEARCH(C$7,[1]TCTB!O$8:O$931)),[1]TCTB!S$8:S$931,""),ROW(A12)),"")} | D19: {=IFERROR(INDEX([1]TCTB!S$8:S$932,SMALL(IF(ISNUMBER(SEARCH(Récap!C$7,[1]TCTB!O19:O943)),ROW([1]TCTB!S19:S943),""),ROW(A12))),"")}
C20: {=IFERROR(SMALL(IF(ISNUMBER(SEARCH(C$7,[1]TCTB!O$8:O$931)),[1]TCTB!S$8:S$931,""),ROW(A13)),"")} | D20: {=IFERROR(INDEX([1]TCTB!S$8:S$932,SMALL(IF(ISNUMBER(SEARCH(Récap!C$7,[1]TCTB!O20:O944)),ROW([1]TCTB!S20:S944),""),ROW(A13))),"")}
C21: {=IFERROR(SMALL(IF(ISNUMBER(SEARCH(C$7,[1]TCTB!O$8:O$931)),[1]TCTB!S$8:S$931,""),ROW(A14)),"")} | D21: {=IFERROR(INDEX([1]TCTB!S$8:S$932,SMALL(IF(ISNUMBER(SEARCH(Récap!C$7,[1]TCTB!O21:O945)),ROW([1]TCTB!S21:S945),""),ROW(A14))),"")}
C22: {=IFERROR(SMALL(IF(ISNUMBER(SEARCH(C$7,[1]TCTB!O$8:O$931)),[1]TCTB!S$8:S$931,""),ROW(A15)),"")} | D22: {=IFERROR(INDEX([1]TCTB!S$8:S$932,SMALL(IF(ISNUMBER(SEARCH(Récap!C$7,[1]TCTB!O22:O946)),ROW([1]TCTB!S22:S946),""),ROW(A15))),"")}
C23: {=IFERROR(SMALL(IF(ISNUMBER(SEARCH(C$7,[1]TCTB!O$8:O$931)),[1]TCTB!S$8:S$931,""),ROW(A16)),"")}
C24: {=IFERROR(SMALL(IF(ISNUMBER(SEARCH(C$7,[1]TCTB!O$8:O$931)),[1]TCTB!S$8:S$931,""),ROW(A17)),"")}
C25: {=IFERROR(SMALL(IF(ISNUMBER(SEARCH(C$7,[1]TCTB!O$8:O$931)),[1]TCTB!S$8:S$931,""),ROW(A18)),"")}
C26: {=IFERROR(SMALL(IF(ISNUMBER(SEARCH(C$7,[1]TCTB!O$8:O$931)),[1]TCTB!S$8:S$931,""),ROW(A19)),"")}
