Workbook

Sheet CSRCINDCLS
A1: Code | B1: Catégorie
A2: C000001 | B2: J
A3: C000002 | B3: K
A4: C000004 | B4: C
A5: C000005 | B5: N
A6: C000006 | B6: K
A7: C000007 | B7: H
A8: C000008 | B8: C
A9: C000009 | B9: S
A10: C000010 | B10: E
A11: C000011 | B11: K
A12: C000012 | B12: C
... A8321: C990018 | B8321: G

Sheet 2010
A1: Code | B1: Données | C1: Catégories
A2: C000001 | B2: 1.0257 | C2: =VLOOKUP(A2,CSRCINDCLS!$A$2:$B$8321,2,FALSE) -> J | E2: Méthode 1 | J2: Vérification manuelle pour la catégorie B
A3: C000002 | B3: 1.1651 | C3: =VLOOKUP(A3,CSRCINDCLS!$A$2:$B$8321,2,FALSE) -> K | F3: Moyenne | G3: Médiane | J3: 25.5244
A4: C000004 | B4: 6.2556 | C4: =VLOOKUP(A4,CSRCINDCLS!$A$2:$B$8321,2,FALSE) -> C | E4: A | F4: {=AVERAGE(IF($C$2:$C$2152=E4,$B$2:$B$2152,""))} -> 4.0443029 | G4: {=MEDIAN(IF($C$2:$C$2152=E4,$B$2:$B$2152,""))} -> 3.8154 | J4: 5.7104 | L4: Deux méthodes avec formules matricielles donnant des résultats faux
A5: C000005 | B5: 3.0581 | C5: =VLOOKUP(A5,CSRCINDCLS!$A$2:$B$8321,2,FALSE) -> N | E5: B | F5: {=AVERAGE(IF(C2:C2152=E5,B2:B2152,""))} -> 15.653164 | G5: {=MEDIAN(IF($C$2:$C$2152=E5,$B$2:$B$2152,""))} -> 3.67105 | J5: 2.3525
A6: C000006 | B6: 1.2511 | C6: =VLOOKUP(A6,CSRCINDCLS!$A$2:$B$8321,2,FALSE) -> K | E6: C | F6: {=AVERAGE(IF($C$2:$C$2152=E6,$B$2:$B$2152,""))} -> 3.7820514 | G6: {=MEDIAN(IF($C$2:$C$2152=E6,$B$2:$B$2152,""))} -> 3.0764 | J6: 7.305
A7: C000007 | B7: 7.3225 | C7: =VLOOKUP(A7,CSRCINDCLS!$A$2:$B$8321,2,FALSE) -> H | E7: D | F7: {=AVERAGE(IF($C$2:$C$2152=E7,$B$2:$B$2152,""))} -> 2.6401733 | G7: {=MEDIAN(IF($C$2:$C$2152=E7,$B$2:$B$2152,""))} -> 1.84045 | J7: 2.583
A8: C000008 | B8: 11.3552 | C8: =VLOOKUP(A8,CSRCINDCLS!$A$2:$B$8321,2,FALSE) -> C | E8: E | F8: {=AVERAGE(IF($C$2:$C$2152=E8,$B$2:$B$2152,""))} -> 6.1240207 | G8: {=MEDIAN(IF($C$2:$C$2152=E8,$B$2:$B$2152,""))} -> 2.0905 | J8: 55.674
A9: C000009 | B9: 2.5189 | C9: =VLOOKUP(A9,CSRCINDCLS!$A$2:$B$8321,2,FALSE) -> S | E9: F | F9: {=AVERAGE(IF($C$2:$C$2152=E9,$B$2:$B$2152,""))} -> 2.9706278 | G9: {=MEDIAN(IF($C$2:$C$2152=E9,$B$2:$B$2152,""))} -> 2.4543 | J9: 1.9111
A10: C000010 | B10: 10.8964 | C10: =VLOOKUP(A10,CSRCINDCLS!$A$2:$B$8321,2,FALSE) -> E | E10: G | F10: {=AVERAGE(IF($C$2:$C$2152=E10,$B$2:$B$2152,""))} -> 22.429315 | G10: {=MEDIAN(IF($C$2:$C$2152=E10,$B$2:$B$2152,""))} -> 1.6492 | J10: 7.0581
A11: C000011 | B11: 2.0409 | C11: =VLOOKUP(A11,CSRCINDCLS!$A$2:$B$8321,2,FALSE) -> K | E11: H | F11: {=AVERAGE(IF($C$2:$C$2152=E11,$B$2:$B$2152,""))} -> 5.6471364 | G11: {=MEDIAN(IF($C$2:$C$2152=E11,$B$2:$B$2152,""))} -> 4.1409 | J11: 643.1692
A12: C000012 | B12: 3.4122 | C12: =VLOOKUP(A12,CSRCINDCLS!$A$2:$B$8321,2,FALSE) -> C | E12: I | F12: {=AVERAGE(IF($C$2:$C$2152=E12,$B$2:$B$2152,""))} -> 28.10149 | G12: {=MEDIAN(IF($C$2:$C$2152=E12,$B$2:$B$2152,""))} -> 3.86925 | J12: 7.0526
A13: C000014 | B13: 1.6868 | C13: =VLOOKUP(A13,CSRCINDCLS!$A$2:$B$8321,2,FALSE) -> K | E13: J | F13: {=AVERAGE(IF($C$2:$C$2152=E13,$B$2:$B$2152,""))} -> 1.748219 | G13: {=MEDIAN(IF($C$2:$C$2152=E13,$B$2:$B$2152,""))} -> 1.2938 | J13: 3.6778
A14: C000016 | B14: 1.0642 | C14: =VLOOKUP(A14,CSRCINDCLS!$A$2:$B$8321,2,FALSE) -> C | E14: K | F14: {=AVERAGE(IF($C$2:$C$2152=E14,$B$2:$B$2152,""))} -> 3.7084129 | G14: {=MEDIAN(IF($C$2:$C$2152=E14,$B$2:$B$2152,""))} -> 1.69095 | J14: 3.0392
A15: C000017 | B15: 34.8842 | C15: =VLOOKUP(A15,CSRCINDCLS!$A$2:$B$8321,2,FALSE) -> C | E15: L | F15: {=AVERAGE(IF($C$2:$C$2152=E15,$B$2:$B$2152,""))} -> 3.3485852 | G15: {=MEDIAN(IF($C$2:$C$2152=E15,$B$2:$B$2152,""))} -> 2.8501 | J15: 9.1468
A16: C000018 | B16: 5.9193 | C16: =VLOOKUP(A16,CSRCINDCLS!$A$2:$B$8321,2,FALSE) -> C | E16: M | F16: {=AVERAGE(IF($C$2:$C$2152=E16,$B$2:$B$2152,""))} -> 6.2589818 | G16: {=MEDIAN(IF($C$2:$C$2152=E16,$B$2:$B$2152,""))} -> 4.8268 | J16: 4.015
A17: C000019 | B17: 4.5248 | C17: =VLOOKUP(A17,CSRCINDCLS!$A$2:$B$8321,2,FALSE) -> C | E17: N | F17: {=AVERAGE(IF($C$2:$C$2152=E17,$B$2:$B$2152,""))} -> 7.1410105 | G17: {=MEDIAN(IF($C$2:$C$2152=E17,$B$2:$B$2152,""))} -> 4.0591 | J17: 8.1115
... A21: C000023 | B21: 1.9062 | C21: =VLOOKUP(A21,CSRCINDCLS!$A$2:$B$8321,2,FALSE) -> C | E21: S | F21: {=AVERAGE(IF($C$2:$C$2152=E21,$B$2:$B$2152,""))} -> 7.6264467 | G21: {=MEDIAN(IF($C$2:$C$2152=E21,$B$2:$B$2152,""))} -> 2.3955 | J21: 3.4211
A22: C000024 | B22: 1.038 | C22: =VLOOKUP(A22,CSRCINDCLS!$A$2:$B$8321,2,FALSE) -> K | J22: 5.5452
A23: C000025 | B23: 3.9064 | C23: =VLOOKUP(A23,CSRCINDCLS!$A$2:$B$8321,2,FALSE) -> F | E23: Méthode 2 | J23: 7.9838
A24: C000026 | B24: 2.4604 | C24: =VLOOKUP(A24,CSRCINDCLS!$A$2:$B$8321,2,FALSE) -> F | F24: Moyenne | G24: Médiane | J24: 3.807
A25: C000027 | B25: 1.2828 | C25: =VLOOKUP(A25,CSRCINDCLS!$A$2:$B$8321,2,FALSE) -> D | E25: A | F25: {=IF(COUNTIF($C$2:$C$2152,$E25)=0,0,AVERAGE(IF($C$2:$C$2152=$E25,$B$2:$B$2152)))} -> 4.0443029 | G25: {=IF(COUNTIF($C$2:$C$2152,$E25)=0,0,MEDIAN(IF($C$2:$C$2152=$E25,$B$2:$B$2152)))} -> 3.8154 | J25: 3.6287
A26: C000028 | B26: 2.3312 | C26: =VLOOKUP(A26,CSRCINDCLS!$A$2:$B$8321,2,FALSE) -> F | E26: B | F26: {=IF(COUNTIF($C$2:$C$2152,$E26)=0,0,AVERAGE(IF($C$2:$C$2152=$E26,$B$2:$B$2152)))} -> 15.653164 | G26: {=IF(COUNTIF($C$2:$C$2152,$E26)=0,0,MEDIAN(IF($C$2:$C$2152=$E26,$B$2:$B$2152)))} -> 3.67105 | J26: 2.0888
A27: C000029 | B27: 1.9717 | C27: =VLOOKUP(A27,CSRCINDCLS!$A$2:$B$8321,2,FALSE) -> K | E27: C | F27: {=IF(COUNTIF($C$2:$C$2152,$E27)=0,0,AVERAGE(IF($C$2:$C$2152=$E27,$B$2:$B$2152)))} -> 3.7820514 | G27: {=IF(COUNTIF($C$2:$C$2152,$E27)=0,0,MEDIAN(IF($C$2:$C$2152=$E27,$B$2:$B$2152)))} -> 3.0764 | J27: 2.8773
A28: C000030 | B28: 61.9892 | C28: =VLOOKUP(A28,CSRCINDCLS!$A$2:$B$8321,2,FALSE) -> C | E28: D | F28: {=IF(COUNTIF($C$2:$C$2152,$E28)=0,0,AVERAGE(IF($C$2:$C$2152=$E28,$B$2:$B$2152)))} -> 2.6401733 | G28: {=IF(COUNTIF($C$2:$C$2152,$E28)=0,0,MEDIAN(IF($C$2:$C$2152=$E28,$B$2:$B$2152)))} -> 1.84045 | J28: 16.4757
A29: C000031 | B29: 1.2398 | C29: =VLOOKUP(A29,CSRCINDCLS!$A$2:$B$8321,2,FALSE) -> K | E29: E | F29: {=IF(COUNTIF($C$2:$C$2152,$E29)=0,0,AVERAGE(IF($C$2:$C$2152=$E29,$B$2:$B$2152)))} -> 6.1240207 | G29: {=IF(COUNTIF($C$2:$C$2152,$E29)=0,0,MEDIAN(IF($C$2:$C$2152=$E29,$B$2:$B$2152)))} -> 2.0905 | J29: 3.9009
A30: C000032 | B30: 2.0232 | C30: =VLOOKUP(A30,CSRCINDCLS!$A$2:$B$8321,2,FALSE) -> F | E30: F | F30: {=IF(COUNTIF($C$2:$C$2152,$E30)=0,0,AVERAGE(IF($C$2:$C$2152=$E30,$B$2:$B$2152)))} -> 2.9706278 | G30: {=IF(COUNTIF($C$2:$C$2152,$E30)=0,0,MEDIAN(IF($C$2:$C$2152=$E30,$B$2:$B$2152)))} -> 2.4543 | J30: 6.7309
A31: C000033 | B31: 3.847 | C31: =VLOOKUP(A31,CSRCINDCLS!$A$2:$B$8321,2,FALSE) -> H | E31: G | F31: {=IF(COUNTIF($C$2:$C$2152,$E31)=0,0,AVERAGE(IF($C$2:$C$2152=$E31,$B$2:$B$2152)))} -> 22.429315 | G31: {=IF(COUNTIF($C$2:$C$2152,$E31)=0,0,MEDIAN(IF($C$2:$C$2152=$E31,$B$2:$B$2152)))} -> 1.6492 | J31: 4.8494
A32: C000034 | B32: 16.741 | C32: =VLOOKUP(A32,CSRCINDCLS!$A$2:$B$8321,2,FALSE) -> S | E32: H | F32: {=IF(COUNTIF($C$2:$C$2152,$E32)=0,0,AVERAGE(IF($C$2:$C$2152=$E32,$B$2:$B$2152)))} -> 5.6471364 | G32: {=IF(COUNTIF($C$2:$C$2152,$E32)=0,0,MEDIAN(IF($C$2:$C$2152=$E32,$B$2:$B$2152)))} -> 4.1409 | J32: 12.311
A33: C000035 | B33: 4.7483 | C33: =VLOOKUP(A33,CSRCINDCLS!$A$2:$B$8321,2,FALSE) -> N | E33: I | F33: {=IF(COUNTIF($C$2:$C$2152,$E33)=0,0,AVERAGE(IF($C$2:$C$2152=$E33,$B$2:$B$2152)))} -> 28.10149 | G33: {=IF(COUNTIF($C$2:$C$2152,$E33)=0,0,MEDIAN(IF($C$2:$C$2152=$E33,$B$2:$B$2152)))} -> 3.86925 | J33: 10.1764
A34: C000036 | B34: 1.5335 | C34: =VLOOKUP(A34,CSRCINDCLS!$A$2:$B$8321,2,FALSE) -> K | E34: J | F34: {=IF(COUNTIF($C$2:$C$2152,$E34)=0,0,AVERAGE(IF($C$2:$C$2152=$E34,$B$2:$B$2152)))} -> 1.748219 | G34: {=IF(COUNTIF($C$2:$C$2152,$E34)=0,0,MEDIAN(IF($C$2:$C$2152=$E34,$B$2:$B$2152)))} -> 1.2938 | J34: 4.4583
A35: C000037 | B35: 1.2428 | C35: =VLOOKUP(A35,CSRCINDCLS!$A$2:$B$8321,2,FALSE) -> D | E35: K | F35: {=IF(COUNTIF($C$2:$C$2152,$E35)=0,0,AVERAGE(IF($C$2:$C$2152=$E35,$B$2:$B$2152)))} -> 3.7084129 | G35: {=IF(COUNTIF($C$2:$C$2152,$E35)=0,0,MEDIAN(IF($C$2:$C$2152=$E35,$B$2:$B$2152)))} -> 1.69095 | J35: 5.2707
A36: C000038 | B36: 2.8797 | C36: =VLOOKUP(A36,CSRCINDCLS!$A$2:$B$8321,2,FALSE) -> K | E36: L | F36: {=IF(COUNTIF($C$2:$C$2152,$E36)=0,0,AVERAGE(IF($C$2:$C$2152=$E36,$B$2:$B$2152)))} -> 3.3485852 | G36: {=IF(COUNTIF($C$2:$C$2152,$E36)=0,0,MEDIAN(IF($C$2:$C$2152=$E36,$B$2:$B$2152)))} -> 2.8501 | J36: 3.1798
... A42: C000046 | B42: 1.5356 | C42: =VLOOKUP(A42,CSRCINDCLS!$A$2:$B$8321,2,FALSE) -> K | E42: S | F42: {=IF(COUNTIF($C$2:$C$2152,$E42)=0,0,AVERAGE(IF($C$2:$C$2152=$E42,$B$2:$B$2152)))} -> 7.6264467 | G42: {=IF(COUNTIF($C$2:$C$2152,$E42)=0,0,MEDIAN(IF($C$2:$C$2152=$E42,$B$2:$B$2152)))} -> 2.3955 | J42: 13.5551
A43: C000048 | B43: 4.6453 | C43: =VLOOKUP(A43,CSRCINDCLS!$A$2:$B$8321,2,FALSE) -> C | J43: 2.4003
A44: C000049 | B44: 4.8906 | C44: =VLOOKUP(A44,CSRCINDCLS!$A$2:$B$8321,2,FALSE) -> C | J44: 5.4072
A45: C000050 | B45: 1.8403 | C45: =VLOOKUP(A45,CSRCINDCLS!$A$2:$B$8321,2,FALSE) -> C | J45: 4.1704
A46: C000055 | B46: 2.6158 | C46: =VLOOKUP(A46,CSRCINDCLS!$A$2:$B$8321,2,FALSE) -> C | J46: 2.3004
A47: C000056 | B47: 2.4775 | C47: =VLOOKUP(A47,CSRCINDCLS!$A$2:$B$8321,2,FALSE) -> K | J47: 4.2072
A48: C000058 | B48: 2.689 | C48: =VLOOKUP(A48,CSRCINDCLS!$A$2:$B$8321,2,FALSE) -> L | J48: 2.1298
...

Sheet Feuil1
B2: Objectif : Afficher la moyenne et la médiane des données par catégorie
C4: Catégories
B5: Données | C5: A | D5: B | E5: C | F5: D | G5: E | H5: F | I5: G | J5: H | K5: I | L5: J | M5: K | N5: L | O5: M | P5: N | Q5: P | R5: Q | S5: R | T5: S | U5: Total général
B6: Moyenne de Données2 | C6: 4.0443029 | D6: 17.88933 | E6: 3.8737005 | F6: 2.7689622 | G6: 6.4580582 | H6: 2.9706278 | I6: 26.446506 | J6: 5.6471364 | K6: 28.10149 | L6: 2.3685548 | M6: 3.7350921 | N6: 3.3485852 | O6: 6.2589818 | P6: 7.1410105 | Q6: 2.1539 | R6: 7.510825 | S6: 99.931544 | T6: 7.8894276 | U6: 7.6198117
B7: Nombre de Médiane | C7: 141.5506 | D7: 1001.8025 | E7: 4795.6412 | F7: 227.0549 | G7: 355.1932 | H7: 395.0935 | I7: 1771.9159 | J7: 62.1185 | K7: 3259.7728 | L7: 73.4252 | M7: 519.1778 | N7: 90.4118 | O7: 68.8488 | P7: 135.6792 | Q7: 2.1539 | R7: 30.0433 | S7: 2698.1517 | T7: 228.7934 | U7: 15856.828
