Workbook

Sheet Index
B3: A11 | D3: =IFERROR(VLOOKUP(B3,App!A1:B61,2,FALSE),"") -> DU631
B4: A22 | D4: =IFERROR(VLOOKUP(B4,App!A2:B62,2,FALSE),"") -> DU620
B5: C25 | D5: =IFERROR(VLOOKUP(B5,App!A3:B63,2,FALSE),"") -> DU638
B6: A14 | D6: =IFERROR(VLOOKUP(B6,App!A4:B64,2,FALSE),"") -> DU630
B7: A11 | D7: =IFERROR(VLOOKUP(B7,App!A5:B65,2,FALSE),"")
B8: A12 | D8: =IFERROR(VLOOKUP(B8,App!A6:B66,2,FALSE),"")
B9: C63 | D9: =IFERROR(VLOOKUP(B9,App!A7:B67,2,FALSE),"") -> FG685
B10: A11 | D10: =IFERROR(VLOOKUP(B10,App!A8:B68,2,FALSE),"")
B11: A11 | D11: =IFERROR(VLOOKUP(B11,App!A9:B69,2,FALSE),"")
B12: A11 | D12: =IFERROR(VLOOKUP(B12,App!A10:B70,2,FALSE),"")
D13: =IFERROR(VLOOKUP(B13,App!A11:B71,2,FALSE),"")
B14: A12 | D14: =IFERROR(VLOOKUP(B14,App!A12:B72,2,FALSE),"")
D15: =IFERROR(VLOOKUP(B15,App!A13:B73,2,FALSE),"")
B16: A11 | D16: =IFERROR(VLOOKUP(B16,App!A14:B74,2,FALSE),"")
D17: =IFERROR(VLOOKUP(B17,App!A15:B75,2,FALSE),"")
D18: =IFERROR(VLOOKUP(B18,App!A16:B76,2,FALSE),"")
D19: =IFERROR(VLOOKUP(B19,App!A17:B77,2,FALSE),"")
B20: A11 | D20: =IFERROR(VLOOKUP(B20,App!A18:B78,2,FALSE),"")
D21: =IFERROR(VLOOKUP(B21,App!A19:B79,2,FALSE),"")
D22: =IFERROR(VLOOKUP(B22,App!A20:B80,2,FALSE),"")
D23: =IFERROR(VLOOKUP(B23,App!A21:B81,2,FALSE),"")
D24: =IFERROR(VLOOKUP(B24,App!A22:B82,2,FALSE),"")
D25: =IFERROR(VLOOKUP(B25,App!A23:B83,2,FALSE),"")
D26: =IFERROR(VLOOKUP(B26,App!A24:B84,2,FALSE),"")
D27: =IFERROR(VLOOKUP(B27,App!A25:B85,2,FALSE),"")
D28: =IFERROR(VLOOKUP(B28,App!A26:B86,2,FALSE),"")
D29: =IFERROR(VLOOKUP(B29,App!A27:B87,2,FALSE),"")
D30: =IFERROR(VLOOKUP(B30,App!A28:B88,2,FALSE),"")

Sheet App
A1: A11 | B1: DU631
A2: A12 | B2: DU632
A3: A13 | B3: DU629
A4: A14 | B4: DU630
A5: A21 | B5: DU621
A6: A22 | B6: DU620
A7: A23 | B7: DU619
A8: A24 | B8: DU628
A9: A25 | B9: DU627
A10: A26 | B10: DU626
A11: A31 | B11: DU615
A12: A32 | B12: DU614
... A60: C84 | B60: GG457
B61: BPS26
