Workbook

Sheet Feuil1
A1: 010j 04:05 | B1: =VALUE(LEFT(A1,3))*24*60+VALUE(MID(A1,6,2))*60+VALUE(RIGHT(A1,2)) -> 14645 | J1: =IF(H1="",0,LEFT(H1,4)*1) -> 0
A2: 024j 00:54 | B2: =VALUE(LEFT(A2,3))*24*60+VALUE(MID(A2,6,2))*60+VALUE(RIGHT(A2,2)) -> 34614 | J2: =IF(H2="",0,LEFT(H2,4)*1) -> 0
A3: 012j 22:39 | B3: =VALUE(LEFT(A3,3))*24*60+VALUE(MID(A3,6,2))*60+VALUE(RIGHT(A3,2)) -> 18639 | J3: =IF(H3="",0,LEFT(H3,4)*1) -> 0
A4: 030j 04:34 | B4: =VALUE(LEFT(A4,3))*24*60+VALUE(MID(A4,6,2))*60+VALUE(RIGHT(A4,2)) -> 43474 | J4: =IF(H4="",0,LEFT(H4,4)*1) -> 0
J5: =IF(H5="",0,LEFT(H5,4)*1) -> 0
B6: =INT(SUM(B1:B4)/(60*24))&" Jours "&INT((SUM(B1:B4)-(INT(SUM(B1:B4)/(60*24))*60*24))/60)&" Heures "&SUM(B1:B4)-(INT(SUM(B1:B4)/(60*24))*60*24)-60*(INT((SUM(B1:B4)-(INT(SUM(B1:B4)/(60*24))*60*24))/60))&" minutes" -> 77 Jours 8 Heures 12 minutes | J6: =IF(H6="",0,LEFT(H6,4)*1) -> 0
J7: =IF(H7="",0,LEFT(H7,4)*1) -> 0
J8: =IF(H8="",0,LEFT(H8,4)*1) -> 0
A9: AAAAA | B9: Model | C9: Maintenance | D9: 587535 | E9: 58753 | F9: 58151 | G9: Adresse | H9: 005j 04: 05 | J9: =IF(H9="",0,LEFT(H9,4)*1) -> 5
A10: BBBBBB | B10: Model | C10: Maintenance | D10: 587631 | E10: 58763 | F10: 58126 | G10: Adresse | H10: 002j 00: 54 | J10: =IF(H10="",0,LEFT(H10,4)*1) -> 2
A11: CCCCCC | B11: Model | C11: Maintenance | D11: 587632 | E11: 58763 | F11: 58163 | G11: Adresse | H11: 012j 22: 39 | J11: =IF(H11="",0,LEFT(H11,4)*1) -> 12
A12: DDDDD | B12: Model | C12: Maintenance | D12: 587632 | E12: 58763 | F12: 58161 | G12: Adresse | H12: 030j 04: 34 | J12: =IF(H12="",0,LEFT(H12,4)*1) -> 30
A13: EEEEEE | B13: Model | C13: Maintenance | D13: 587676 | E13: 58767 | F13: 58123 | G13: Adresse | H13: 055j 23: 18 | J13: =IF(H13="",0,LEFT(H13,4)*1) -> 55
A14: FFFFFF | B14: Model | C14: Maintenance | D14: 587670 | E14: 58767 | F14: 58161 | G14: Adresse | H14: 009j 02: 06 | J14: =IF(H14="",0,LEFT(H14,4)*1) -> 9
A15: GGGGG | B15: Model | C15: Maintenance | D15: 587710 | E15: 58771 | F15: 58172 | G15: Adresse | H15: 009j 04: 47 | J15: =IF(H15="",0,LEFT(H15,4)*1) -> 9
A16: HHHHH | B16: Model | C16: Maintenance | D16: 587710 | E16: 58771 | F16: 58121 | G16: Adresse | H16: 003j 04: 22 | J16: =IF(H16="",0,LEFT(H16,4)*1) -> 3
A17: IIIII | B17: Model | C17: Maintenance | D17: 587773 | E17: 58777 | F17: 58172 | G17: Adresse | H17: 003j 00: 16 | J17: =IF(H17="",0,LEFT(H17,4)*1) -> 3
A18: JJJJJJ | B18: Model | C18: Maintenance | D18: 587770 | E18: 58777 | F18: 58172 | G18: Adresse | H18: 031j 04: 04 | J18: =IF(H18="",0,LEFT(H18,4)*1) -> 31
A19: KKKKKK | B19: Model | C19: Maintenance | D19: 587834 | E19: 58783 | F19: 58181 | G19: Adresse | H19: 001j 18: 41 | J19: =IF(H19="",0,LEFT(H19,4)*1) -> 1
A20: LLLLLL | B20: Model | C20: Maintenance | D20: 587921 | E20: 58792 | F20: 58126 | G20: Adresse | H20: 023j 20: 02 | J20: =IF(H20="",0,LEFT(H20,4)*1) -> 23
... A22: NNNNN | B22: Model | C22: Maintenance | D22: 587963 | E22: 58796 | F22: 58163 | G22: Adresse | H22: 018j 04: 21 | J22: =IF(H22="",0,LEFT(H22,4)*1) -> 18
H25: 007j 00:00 | I25: =VALUE(LEFT(A1,3))*24*60+VALUE(MID(A1,6,2))*60+VALUE(RIGHT(A1,2)) -> 14645

Sheet Feuil2
C2: {=IF(ROW()-1>COUNTIF(Feuil1!K:K,"<7"),"",INDEX(Feuil1!B:B,SMALL(IF(Feuil1!K:K<7,ROW(B:B),""),ROW()-1)))} | D2: {=IF(ROW()-1>COUNTIF(Feuil1!L:L,"<7"),"",INDEX(Feuil1!C:C,SMALL(IF(Feuil1!L:L<7,ROW(C:C),""),ROW()-1)))} | E2: {=IF(ROW()-1>COUNTIF(Feuil1!M:M,"<7"),"",INDEX(Feuil1!D:D,SMALL(IF(Feuil1!M:M<7,ROW(D:D),""),ROW()-1)))} | F2: {=IF(ROW()-1>COUNTIF(Feuil1!N:N,"<7"),"",INDEX(Feuil1!E:E,SMALL(IF(Feuil1!N:N<7,ROW(E:E),""),ROW()-1)))} | G2: {=IF(ROW()-1>COUNTIF(Feuil1!O:O,"<7"),"",INDEX(Feuil1!F:F,SMALL(IF(Feuil1!O:O<7,ROW(F:F),""),ROW()-1)))} | H2: {=IF(ROW()-1>COUNTIF(Feuil1!P:P,"<7"),"",INDEX(Feuil1!G:G,SMALL(IF(Feuil1!P:P<7,ROW(G:G),""),ROW()-1)))} | I2: {=IF(ROW()-1>COUNTIF(Feuil1!Q:Q,"<7"),"",INDEX(Feuil1!H:H,SMALL(IF(Feuil1!Q:Q<7,ROW(H:H),""),ROW()-1)))}
B7: {=IF(ROW()-1>COUNTIF(Feuil1!$J$9:$J$30,"<7"),"",INDEX(Feuil1!$A$9:$A$30,SMALL(IF(Feuil1!$J$9:$J$30<7,ROW($A$9:$A$30),""),ROW()-1)))}
B8: {=IF(ROW()-1>COUNTIF(Feuil1!$J$9:$J$30,"<7"),"",INDEX(Feuil1!$A$9:$A$30,SMALL(IF(Feuil1!$J$9:$J$30<7,ROW($A$9:$A$30),""),ROW()-1)))}
A9: {=IF(ROW()-8>COUNTIF(Feuil1!$J$1:$J$30,">=7"),"",INDEX(Feuil1!A$1:A$30,SMALL(IF(Feuil1!$J$1:$J$30>=7,ROW($A$1:$A$30),""),ROW()-8)))} -> CCCCCC | B9: {=IF(ROW()-8>COUNTIF(Feuil1!$J$1:$J$30,">=7"),"",INDEX(Feuil1!B$1:B$30,SMALL(IF(Feuil1!$J$1:$J$30>=7,ROW($A$1:$A$30),""),ROW()-8)))} -> Model | C9: {=IF(ROW()-8>COUNTIF(Feuil1!$J$1:$J$30,">=7"),"",INDEX(Feuil1!C$1:C$30,SMALL(IF(Feuil1!$J$1:$J$30>=7,ROW($A$1:$A$30),""),ROW()-8)))} -> Maintenance | D9: {=IF(ROW()-8>COUNTIF(Feuil1!$J$1:$J$30,">=7"),"",INDEX(Feuil1!D$1:D$30,SMALL(IF(Feuil1!$J$1:$J$30>=7,ROW($A$1:$A$30),""),ROW()-8)))} -> 587632 | E9: {=IF(ROW()-8>COUNTIF(Feuil1!$J$1:$J$30,">=7"),"",INDEX(Feuil1!E$1:E$30,SMALL(IF(Feuil1!$J$1:$J$30>=7,ROW($A$1:$A$30),""),ROW()-8)))} -> 58763 | F9: {=IF(ROW()-8>COUNTIF(Feuil1!$J$1:$J$30,">=7"),"",INDEX(Feuil1!F$1:F$30,SMALL(IF(Feuil1!$J$1:$J$30>=7,ROW($A$1:$A$30),""),ROW()-8)))} -> 58163 | G9: {=IF(ROW()-8>COUNTIF(Feuil1!$J$1:$J$30,">=7"),"",INDEX(Feuil1!G$1:G$30,SMALL(IF(Feuil1!$J$1:$J$30>=7,ROW($A$1:$A$30),""),ROW()-8)))} -> Adresse | H9: {=IF(ROW()-8>COUNTIF(Feuil1!$J$1:$J$30,">=7"),"",INDEX(Feuil1!H$1:H$30,SMALL(IF(Feuil1!$J$1:$J$30>=7,ROW($A$1:$A$30),""),ROW()-8)))} -> 012j 22: 39
A10: {=IF(ROW()-8>COUNTIF(Feuil1!$J$1:$J$30,">=7"),"",INDEX(Feuil1!A$1:A$30,SMALL(IF(Feuil1!$J$1:$J$30>=7,ROW($A$1:$A$30),""),ROW()-8)))} -> DDDDD | B10: {=IF(ROW()-8>COUNTIF(Feuil1!$J$1:$J$30,">=7"),"",INDEX(Feuil1!B$1:B$30,SMALL(IF(Feuil1!$J$1:$J$30>=7,ROW($A$1:$A$30),""),ROW()-8)))} -> Model | C10: {=IF(ROW()-8>COUNTIF(Feuil1!$J$1:$J$30,">=7"),"",INDEX(Feuil1!C$1:C$30,SMALL(IF(Feuil1!$J$1:$J$30>=7,ROW($A$1:$A$30),""),ROW()-8)))} -> Maintenance | D10: {=IF(ROW()-8>COUNTIF(Feuil1!$J$1:$J$30,">=7"),"",INDEX(Feuil1!D$1:D$30,SMALL(IF(Feuil1!$J$1:$J$30>=7,ROW($A$1:$A$30),""),ROW()-8)))} -> 587632 | E10: {=IF(ROW()-8>COUNTIF(Feuil1!$J$1:$J$30,">=7"),"",INDEX(Feuil1!E$1:E$30,SMALL(IF(Feuil1!$J$1:$J$30>=7,ROW($A$1:$A$30),""),ROW()-8)))} -> 58763 | F10: {=IF(ROW()-8>COUNTIF(Feuil1!$J$1:$J$30,">=7"),"",INDEX(Feuil1!F$1:F$30,SMALL(IF(Feuil1!$J$1:$J$30>=7,ROW($A$1:$A$30),""),ROW()-8)))} -> 58161 | G10: {=IF(ROW()-8>COUNTIF(Feuil1!$J$1:$J$30,">=7"),"",INDEX(Feuil1!G$1:G$30,SMALL(IF(Feuil1!$J$1:$J$30>=7,ROW($A$1:$A$30),""),ROW()-8)))} -> Adresse | H10: {=IF(ROW()-8>COUNTIF(Feuil1!$J$1:$J$30,">=7"),"",INDEX(Feuil1!H$1:H$30,SMALL(IF(Feuil1!$J$1:$J$30>=7,ROW($A$1:$A$30),""),ROW()-8)))} -> 030j 04: 34
A11: {=IF(ROW()-8>COUNTIF(Feuil1!$J$1:$J$30,">=7"),"",INDEX(Feuil1!A$1:A$30,SMALL(IF(Feuil1!$J$1:$J$30>=7,ROW($A$1:$A$30),""),ROW()-8)))} -> EEEEEE | B11: {=IF(ROW()-8>COUNTIF(Feuil1!$J$1:$J$30,">=7"),"",INDEX(Feuil1!B$1:B$30,SMALL(IF(Feuil1!$J$1:$J$30>=7,ROW($A$1:$A$30),""),ROW()-8)))} -> Model | C11: {=IF(ROW()-8>COUNTIF(Feuil1!$J$1:$J$30,">=7"),"",INDEX(Feuil1!C$1:C$30,SMALL(IF(Feuil1!$J$1:$J$30>=7,ROW($A$1:$A$30),""),ROW()-8)))} -> Maintenance | D11: {=IF(ROW()-8>COUNTIF(Feuil1!$J$1:$J$30,">=7"),"",INDEX(Feuil1!D$1:D$30,SMALL(IF(Feuil1!$J$1:$J$30>=7,ROW($A$1:$A$30),""),ROW()-8)))} -> 587676 | E11: {=IF(ROW()-8>COUNTIF(Feuil1!$J$1:$J$30,">=7"),"",INDEX(Feuil1!E$1:E$30,SMALL(IF(Feuil1!$J$1:$J$30>=7,ROW($A$1:$A$30),""),ROW()-8)))} -> 58767 | F11: {=IF(ROW()-8>COUNTIF(Feuil1!$J$1:$J$30,">=7"),"",INDEX(Feuil1!F$1:F$30,SMALL(IF(Feuil1!$J$1:$J$30>=7,ROW($A$1:$A$30),""),ROW()-8)))} -> 58123 | G11: {=IF(ROW()-8>COUNTIF(Feuil1!$J$1:$J$30,">=7"),"",INDEX(Feuil1!G$1:G$30,SMALL(IF(Feuil1!$J$1:$J$30>=7,ROW($A$1:$A$30),""),ROW()-8)))} -> Adresse | H11: {=IF(ROW()-8>COUNTIF(Feuil1!$J$1:$J$30,">=7"),"",INDEX(Feuil1!H$1:H$30,SMALL(IF(Feuil1!$J$1:$J$30>=7,ROW($A$1:$A$30),""),ROW()-8)))} -> 055j 23: 18
A12: {=IF(ROW()-8>COUNTIF(Feuil1!$J$1:$J$30,">=7"),"",INDEX(Feuil1!A$1:A$30,SMALL(IF(Feuil1!$J$1:$J$30>=7,ROW($A$1:$A$30),""),ROW()-8)))} -> FFFFFF | B12: {=IF(ROW()-8>COUNTIF(Feuil1!$J$1:$J$30,">=7"),"",INDEX(Feuil1!B$1:B$30,SMALL(IF(Feuil1!$J$1:$J$30>=7,ROW($A$1:$A$30),""),ROW()-8)))} -> Model | C12: {=IF(ROW()-8>COUNTIF(Feuil1!$J$1:$J$30,">=7"),"",INDEX(Feuil1!C$1:C$30,SMALL(IF(Feuil1!$J$1:$J$30>=7,ROW($A$1:$A$30),""),ROW()-8)))} -> Maintenance | D12: {=IF(ROW()-8>COUNTIF(Feuil1!$J$1:$J$30,">=7"),"",INDEX(Feuil1!D$1:D$30,SMALL(IF(Feuil1!$J$1:$J$30>=7,ROW($A$1:$A$30),""),ROW()-8)))} -> 587670 | E12: {=IF(ROW()-8>COUNTIF(Feuil1!$J$1:$J$30,">=7"),"",INDEX(Feuil1!E$1:E$30,SMALL(IF(Feuil1!$J$1:$J$30>=7,ROW($A$1:$A$30),""),ROW()-8)))} -> 58767 | F12: {=IF(ROW()-8>COUNTIF(Feuil1!$J$1:$J$30,">=7"),"",INDEX(Feuil1!F$1:F$30,SMALL(IF(Feuil1!$J$1:$J$30>=7,ROW($A$1:$A$30),""),ROW()-8)))} -> 58161 | G12: {=IF(ROW()-8>COUNTIF(Feuil1!$J$1:$J$30,">=7"),"",INDEX(Feuil1!G$1:G$30,SMALL(IF(Feuil1!$J$1:$J$30>=7,ROW($A$1:$A$30),""),ROW()-8)))} -> Adresse | H12: {=IF(ROW()-8>COUNTIF(Feuil1!$J$1:$J$30,">=7"),"",INDEX(Feuil1!H$1:H$30,SMALL(IF(Feuil1!$J$1:$J$30>=7,ROW($A$1:$A$30),""),ROW()-8)))} -> 009j 02: 06
A13: {=IF(ROW()-8>COUNTIF(Feuil1!$J$1:$J$30,">=7"),"",INDEX(Feuil1!A$1:A$30,SMALL(IF(Feuil1!$J$1:$J$30>=7,ROW($A$1:$A$30),""),ROW()-8)))} -> GGGGG | B13: {=IF(ROW()-8>COUNTIF(Feuil1!$J$1:$J$30,">=7"),"",INDEX(Feuil1!B$1:B$30,SMALL(IF(Feuil1!$J$1:$J$30>=7,ROW($A$1:$A$30),""),ROW()-8)))} -> Model | C13: {=IF(ROW()-8>COUNTIF(Feuil1!$J$1:$J$30,">=7"),"",INDEX(Feuil1!C$1:C$30,SMALL(IF(Feuil1!$J$1:$J$30>=7,ROW($A$1:$A$30),""),ROW()-8)))} -> Maintenance | D13: {=IF(ROW()-8>COUNTIF(Feuil1!$J$1:$J$30,">=7"),"",INDEX(Feuil1!D$1:D$30,SMALL(IF(Feuil1!$J$1:$J$30>=7,ROW($A$1:$A$30),""),ROW()-8)))} -> 587710 | E13: {=IF(ROW()-8>COUNTIF(Feuil1!$J$1:$J$30,">=7"),"",INDEX(Feuil1!E$1:E$30,SMALL(IF(Feuil1!$J$1:$J$30>=7,ROW($A$1:$A$30),""),ROW()-8)))} -> 58771 | F13: {=IF(ROW()-8>COUNTIF(Feuil1!$J$1:$J$30,">=7"),"",INDEX(Feuil1!F$1:F$30,SMALL(IF(Feuil1!$J$1:$J$30>=7,ROW($A$1:$A$30),""),ROW()-8)))} -> 58172 | G13: {=IF(ROW()-8>COUNTIF(Feuil1!$J$1:$J$30,">=7"),"",INDEX(Feuil1!G$1:G$30,SMALL(IF(Feuil1!$J$1:$J$30>=7,ROW($A$1:$A$30),""),ROW()-8)))} -> Adresse | H13: {=IF(ROW()-8>COUNTIF(Feuil1!$J$1:$J$30,">=7"),"",INDEX(Feuil1!H$1:H$30,SMALL(IF(Feuil1!$J$1:$J$30>=7,ROW($A$1:$A$30),""),ROW()-8)))} -> 009j 04: 47
A14: {=IF(ROW()-8>COUNTIF(Feuil1!$J$1:$J$30,">=7"),"",INDEX(Feuil1!A$1:A$30,SMALL(IF(Feuil1!$J$1:$J$30>=7,ROW($A$1:$A$30),""),ROW()-8)))} -> JJJJJJ | B14: {=IF(ROW()-8>COUNTIF(Feuil1!$J$1:$J$30,">=7"),"",INDEX(Feuil1!B$1:B$30,SMALL(IF(Feuil1!$J$1:$J$30>=7,ROW($A$1:$A$30),""),ROW()-8)))} -> Model | C14: {=IF(ROW()-8>COUNTIF(Feuil1!$J$1:$J$30,">=7"),"",INDEX(Feuil1!C$1:C$30,SMALL(IF(Feuil1!$J$1:$J$30>=7,ROW($A$1:$A$30),""),ROW()-8)))} -> Maintenance | D14: {=IF(ROW()-8>COUNTIF(Feuil1!$J$1:$J$30,">=7"),"",INDEX(Feuil1!D$1:D$30,SMALL(IF(Feuil1!$J$1:$J$30>=7,ROW($A$1:$A$30),""),ROW()-8)))} -> 587770 | E14: {=IF(ROW()-8>COUNTIF(Feuil1!$J$1:$J$30,">=7"),"",INDEX(Feuil1!E$1:E$30,SMALL(IF(Feuil1!$J$1:$J$30>=7,ROW($A$1:$A$30),""),ROW()-8)))} -> 58777 | F14: {=IF(ROW()-8>COUNTIF(Feuil1!$J$1:$J$30,">=7"),"",INDEX(Feuil1!F$1:F$30,SMALL(IF(Feuil1!$J$1:$J$30>=7,ROW($A$1:$A$30),""),ROW()-8)))} -> 58172 | G14: {=IF(ROW()-8>COUNTIF(Feuil1!$J$1:$J$30,">=7"),"",INDEX(Feuil1!G$1:G$30,SMALL(IF(Feuil1!$J$1:$J$30>=7,ROW($A$1:$A$30),""),ROW()-8)))} -> Adresse | H14: {=IF(ROW()-8>COUNTIF(Feuil1!$J$1:$J$30,">=7"),"",INDEX(Feuil1!H$1:H$30,SMALL(IF(Feuil1!$J$1:$J$30>=7,ROW($A$1:$A$30),""),ROW()-8)))} -> 031j 04: 04
A15: {=IF(ROW()-8>COUNTIF(Feuil1!$J$1:$J$30,">=7"),"",INDEX(Feuil1!A$1:A$30,SMALL(IF(Feuil1!$J$1:$J$30>=7,ROW($A$1:$A$30),""),ROW()-8)))} -> LLLLLL | B15: {=IF(ROW()-8>COUNTIF(Feuil1!$J$1:$J$30,">=7"),"",INDEX(Feuil1!B$1:B$30,SMALL(IF(Feuil1!$J$1:$J$30>=7,ROW($A$1:$A$30),""),ROW()-8)))} -> Model | C15: {=IF(ROW()-8>COUNTIF(Feuil1!$J$1:$J$30,">=7"),"",INDEX(Feuil1!C$1:C$30,SMALL(IF(Feuil1!$J$1:$J$30>=7,ROW($A$1:$A$30),""),ROW()-8)))} -> Maintenance | D15: {=IF(ROW()-8>COUNTIF(Feuil1!$J$1:$J$30,">=7"),"",INDEX(Feuil1!D$1:D$30,SMALL(IF(Feuil1!$J$1:$J$30>=7,ROW($A$1:$A$30),""),ROW()-8)))} -> 587921 | E15: {=IF(ROW()-8>COUNTIF(Feuil1!$J$1:$J$30,">=7"),"",INDEX(Feuil1!E$1:E$30,SMALL(IF(Feuil1!$J$1:$J$30>=7,ROW($A$1:$A$30),""),ROW()-8)))} -> 58792 | F15: {=IF(ROW()-8>COUNTIF(Feuil1!$J$1:$J$30,">=7"),"",INDEX(Feuil1!F$1:F$30,SMALL(IF(Feuil1!$J$1:$J$30>=7,ROW($A$1:$A$30),""),ROW()-8)))} -> 58126 | G15: {=IF(ROW()-8>COUNTIF(Feuil1!$J$1:$J$30,">=7"),"",INDEX(Feuil1!G$1:G$30,SMALL(IF(Feuil1!$J$1:$J$30>=7,ROW($A$1:$A$30),""),ROW()-8)))} -> Adresse | H15: {=IF(ROW()-8>COUNTIF(Feuil1!$J$1:$J$30,">=7"),"",INDEX(Feuil1!H$1:H$30,SMALL(IF(Feuil1!$J$1:$J$30>=7,ROW($A$1:$A$30),""),ROW()-8)))} -> 023j 20: 02
A16: {=IF(ROW()-8>COUNTIF(Feuil1!$J$1:$J$30,">=7"),"",INDEX(Feuil1!A$1:A$30,SMALL(IF(Feuil1!$J$1:$J$30>=7,ROW($A$1:$A$30),""),ROW()-8)))} -> MMMMMM | B16: {=IF(ROW()-8>COUNTIF(Feuil1!$J$1:$J$30,">=7"),"",INDEX(Feuil1!B$1:B$30,SMALL(IF(Feuil1!$J$1:$J$30>=7,ROW($A$1:$A$30),""),ROW()-8)))} -> Model | C16: {=IF(ROW()-8>COUNTIF(Feuil1!$J$1:$J$30,">=7"),"",INDEX(Feuil1!C$1:C$30,SMALL(IF(Feuil1!$J$1:$J$30>=7,ROW($A$1:$A$30),""),ROW()-8)))} -> Maintenance | D16: {=IF(ROW()-8>COUNTIF(Feuil1!$J$1:$J$30,">=7"),"",INDEX(Feuil1!D$1:D$30,SMALL(IF(Feuil1!$J$1:$J$30>=7,ROW($A$1:$A$30),""),ROW()-8)))} -> 587963 | E16: {=IF(ROW()-8>COUNTIF(Feuil1!$J$1:$J$30,">=7"),"",INDEX(Feuil1!E$1:E$30,SMALL(IF(Feuil1!$J$1:$J$30>=7,ROW($A$1:$A$30),""),ROW()-8)))} -> 58796 | F16: {=IF(ROW()-8>COUNTIF(Feuil1!$J$1:$J$30,">=7"),"",INDEX(Feuil1!F$1:F$30,SMALL(IF(Feuil1!$J$1:$J$30>=7,ROW($A$1:$A$30),""),ROW()-8)))} -> 58192 | G16: {=IF(ROW()-8>COUNTIF(Feuil1!$J$1:$J$30,">=7"),"",INDEX(Feuil1!G$1:G$30,SMALL(IF(Feuil1!$J$1:$J$30>=7,ROW($A$1:$A$30),""),ROW()-8)))} -> Adresse | H16: {=IF(ROW()-8>COUNTIF(Feuil1!$J$1:$J$30,">=7"),"",INDEX(Feuil1!H$1:H$30,SMALL(IF(Feuil1!$J$1:$J$30>=7,ROW($A$1:$A$30),""),ROW()-8)))} -> 007j 01: 53
A17: {=IF(ROW()-8>COUNTIF(Feuil1!$J$1:$J$30,">=7"),"",INDEX(Feuil1!A$1:A$30,SMALL(IF(Feuil1!$J$1:$J$30>=7,ROW($A$1:$A$30),""),ROW()-8)))} -> NNNNN | B17: {=IF(ROW()-8>COUNTIF(Feuil1!$J$1:$J$30,">=7"),"",INDEX(Feuil1!B$1:B$30,SMALL(IF(Feuil1!$J$1:$J$30>=7,ROW($A$1:$A$30),""),ROW()-8)))} -> Model | C17: {=IF(ROW()-8>COUNTIF(Feuil1!$J$1:$J$30,">=7"),"",INDEX(Feuil1!C$1:C$30,SMALL(IF(Feuil1!$J$1:$J$30>=7,ROW($A$1:$A$30),""),ROW()-8)))} -> Maintenance | D17: {=IF(ROW()-8>COUNTIF(Feuil1!$J$1:$J$30,">=7"),"",INDEX(Feuil1!D$1:D$30,SMALL(IF(Feuil1!$J$1:$J$30>=7,ROW($A$1:$A$30),""),ROW()-8)))} -> 587963 | E17: {=IF(ROW()-8>COUNTIF(Feuil1!$J$1:$J$30,">=7"),"",INDEX(Feuil1!E$1:E$30,SMALL(IF(Feuil1!$J$1:$J$30>=7,ROW($A$1:$A$30),""),ROW()-8)))} -> 58796 | F17: {=IF(ROW()-8>COUNTIF(Feuil1!$J$1:$J$30,">=7"),"",INDEX(Feuil1!F$1:F$30,SMALL(IF(Feuil1!$J$1:$J$30>=7,ROW($A$1:$A$30),""),ROW()-8)))} -> 58163 | G17: {=IF(ROW()-8>COUNTIF(Feuil1!$J$1:$J$30,">=7"),"",INDEX(Feuil1!G$1:G$30,SMALL(IF(Feuil1!$J$1:$J$30>=7,ROW($A$1:$A$30),""),ROW()-8)))} -> Adresse | H17: {=IF(ROW()-8>COUNTIF(Feuil1!$J$1:$J$30,">=7"),"",INDEX(Feuil1!H$1:H$30,SMALL(IF(Feuil1!$J$1:$J$30>=7,ROW($A$1:$A$30),""),ROW()-8)))} -> 018j 04: 21
A18: {=IF(ROW()-8>COUNTIF(Feuil1!$J$1:$J$30,">=7"),"",INDEX(Feuil1!A$1:A$30,SMALL(IF(Feuil1!$J$1:$J$30>=7,ROW($A$1:$A$30),""),ROW()-8)))} | B18: {=IF(ROW()-8>COUNTIF(Feuil1!$J$1:$J$30,">=7"),"",INDEX(Feuil1!B$1:B$30,SMALL(IF(Feuil1!$J$1:$J$30>=7,ROW($A$1:$A$30),""),ROW()-8)))} | C18: {=IF(ROW()-8>COUNTIF(Feuil1!$J$1:$J$30,">=7"),"",INDEX(Feuil1!C$1:C$30,SMALL(IF(Feuil1!$J$1:$J$30>=7,ROW($A$1:$A$30),""),ROW()-8)))} | D18: {=IF(ROW()-8>COUNTIF(Feuil1!$J$1:$J$30,">=7"),"",INDEX(Feuil1!D$1:D$30,SMALL(IF(Feuil1!$J$1:$J$30>=7,ROW($A$1:$A$30),""),ROW()-8)))} | E18: {=IF(ROW()-8>COUNTIF(Feuil1!$J$1:$J$30,">=7"),"",INDEX(Feuil1!E$1:E$30,SMALL(IF(Feuil1!$J$1:$J$30>=7,ROW($A$1:$A$30),""),ROW()-8)))} | F18: {=IF(ROW()-8>COUNTIF(Feuil1!$J$1:$J$30,">=7"),"",INDEX(Feuil1!F$1:F$30,SMALL(IF(Feuil1!$J$1:$J$30>=7,ROW($A$1:$A$30),""),ROW()-8)))} | G18: {=IF(ROW()-8>COUNTIF(Feuil1!$J$1:$J$30,">=7"),"",INDEX(Feuil1!G$1:G$30,SMALL(IF(Feuil1!$J$1:$J$30>=7,ROW($A$1:$A$30),""),ROW()-8)))} | H18: {=IF(ROW()-8>COUNTIF(Feuil1!$J$1:$J$30,">=7"),"",INDEX(Feuil1!H$1:H$30,SMALL(IF(Feuil1!$J$1:$J$30>=7,ROW($A$1:$A$30),""),ROW()-8)))}
A19: {=IF(ROW()-8>COUNTIF(Feuil1!$J$1:$J$30,">=7"),"",INDEX(Feuil1!A$1:A$30,SMALL(IF(Feuil1!$J$1:$J$30>=7,ROW($A$1:$A$30),""),ROW()-8)))} | B19: {=IF(ROW()-8>COUNTIF(Feuil1!$J$1:$J$30,">=7"),"",INDEX(Feuil1!B$1:B$30,SMALL(IF(Feuil1!$J$1:$J$30>=7,ROW($A$1:$A$30),""),ROW()-8)))} | C19: {=IF(ROW()-8>COUNTIF(Feuil1!$J$1:$J$30,">=7"),"",INDEX(Feuil1!C$1:C$30,SMALL(IF(Feuil1!$J$1:$J$30>=7,ROW($A$1:$A$30),""),ROW()-8)))} | D19: {=IF(ROW()-8>COUNTIF(Feuil1!$J$1:$J$30,">=7"),"",INDEX(Feuil1!D$1:D$30,SMALL(IF(Feuil1!$J$1:$J$30>=7,ROW($A$1:$A$30),""),ROW()-8)))} | E19: {=IF(ROW()-8>COUNTIF(Feuil1!$J$1:$J$30,">=7"),"",INDEX(Feuil1!E$1:E$30,SMALL(IF(Feuil1!$J$1:$J$30>=7,ROW($A$1:$A$30),""),ROW()-8)))} | F19: {=IF(ROW()-8>COUNTIF(Feuil1!$J$1:$J$30,">=7"),"",INDEX(Feuil1!F$1:F$30,SMALL(IF(Feuil1!$J$1:$J$30>=7,ROW($A$1:$A$30),""),ROW()-8)))} | G19: {=IF(ROW()-8>COUNTIF(Feuil1!$J$1:$J$30,">=7"),"",INDEX(Feuil1!G$1:G$30,SMALL(IF(Feuil1!$J$1:$J$30>=7,ROW($A$1:$A$30),""),ROW()-8)))} | H19: {=IF(ROW()-8>COUNTIF(Feuil1!$J$1:$J$30,">=7"),"",INDEX(Feuil1!H$1:H$30,SMALL(IF(Feuil1!$J$1:$J$30>=7,ROW($A$1:$A$30),""),ROW()-8)))}
A20: {=IF(ROW()-8>COUNTIF(Feuil1!$J$1:$J$30,">=7"),"",INDEX(Feuil1!A$1:A$30,SMALL(IF(Feuil1!$J$1:$J$30>=7,ROW($A$1:$A$30),""),ROW()-8)))} | B20: {=IF(ROW()-8>COUNTIF(Feuil1!$J$1:$J$30,">=7"),"",INDEX(Feuil1!B$1:B$30,SMALL(IF(Feuil1!$J$1:$J$30>=7,ROW($A$1:$A$30),""),ROW()-8)))} | C20: {=IF(ROW()-8>COUNTIF(Feuil1!$J$1:$J$30,">=7"),"",INDEX(Feuil1!C$1:C$30,SMALL(IF(Feuil1!$J$1:$J$30>=7,ROW($A$1:$A$30),""),ROW()-8)))} | D20: {=IF(ROW()-8>COUNTIF(Feuil1!$J$1:$J$30,">=7"),"",INDEX(Feuil1!D$1:D$30,SMALL(IF(Feuil1!$J$1:$J$30>=7,ROW($A$1:$A$30),""),ROW()-8)))} | E20: {=IF(ROW()-8>COUNTIF(Feuil1!$J$1:$J$30,">=7"),"",INDEX(Feuil1!E$1:E$30,SMALL(IF(Feuil1!$J$1:$J$30>=7,ROW($A$1:$A$30),""),ROW()-8)))} | F20: {=IF(ROW()-8>COUNTIF(Feuil1!$J$1:$J$30,">=7"),"",INDEX(Feuil1!F$1:F$30,SMALL(IF(Feuil1!$J$1:$J$30>=7,ROW($A$1:$A$30),""),ROW()-8)))} | G20: {=IF(ROW()-8>COUNTIF(Feuil1!$J$1:$J$30,">=7"),"",INDEX(Feuil1!G$1:G$30,SMALL(IF(Feuil1!$J$1:$J$30>=7,ROW($A$1:$A$30),""),ROW()-8)))} | H20: {=IF(ROW()-8>COUNTIF(Feuil1!$J$1:$J$30,">=7"),"",INDEX(Feuil1!H$1:H$30,SMALL(IF(Feuil1!$J$1:$J$30>=7,ROW($A$1:$A$30),""),ROW()-8)))}
... A30: {=IF(ROW()-8>COUNTIF(Feuil1!$J$1:$J$30,">=7"),"",INDEX(Feuil1!A$1:A$30,SMALL(IF(Feuil1!$J$1:$J$30>=7,ROW($A$1:$A$30),""),ROW()-8)))} | B30: {=IF(ROW()-8>COUNTIF(Feuil1!$J$1:$J$30,">=7"),"",INDEX(Feuil1!B$1:B$30,SMALL(IF(Feuil1!$J$1:$J$30>=7,ROW($A$1:$A$30),""),ROW()-8)))} | C30: {=IF(ROW()-8>COUNTIF(Feuil1!$J$1:$J$30,">=7"),"",INDEX(Feuil1!C$1:C$30,SMALL(IF(Feuil1!$J$1:$J$30>=7,ROW($A$1:$A$30),""),ROW()-8)))} | D30: {=IF(ROW()-8>COUNTIF(Feuil1!$J$1:$J$30,">=7"),"",INDEX(Feuil1!D$1:D$30,SMALL(IF(Feuil1!$J$1:$J$30>=7,ROW($A$1:$A$30),""),ROW()-8)))} | E30: {=IF(ROW()-8>COUNTIF(Feuil1!$J$1:$J$30,">=7"),"",INDEX(Feuil1!E$1:E$30,SMALL(IF(Feuil1!$J$1:$J$30>=7,ROW($A$1:$A$30),""),ROW()-8)))} | F30: {=IF(ROW()-8>COUNTIF(Feuil1!$J$1:$J$30,">=7"),"",INDEX(Feuil1!F$1:F$30,SMALL(IF(Feuil1!$J$1:$J$30>=7,ROW($A$1:$A$30),""),ROW()-8)))} | G30: {=IF(ROW()-8>COUNTIF(Feuil1!$J$1:$J$30,">=7"),"",INDEX(Feuil1!G$1:G$30,SMALL(IF(Feuil1!$J$1:$J$30>=7,ROW($A$1:$A$30),""),ROW()-8)))} | H30: {=IF(ROW()-8>COUNTIF(Feuil1!$J$1:$J$30,">=7"),"",INDEX(Feuil1!H$1:H$30,SMALL(IF(Feuil1!$J$1:$J$30>=7,ROW($A$1:$A$30),""),ROW()-8)))}
A31: {=IF(ROW()-8>COUNTIF(Feuil1!$J$1:$J$30,"<7"),"",INDEX(Feuil1!$A$1:$A$30,SMALL(IF(Feuil1!$J$1:$J$30<7,ROW($A$1:$A$30),""),ROW()-8)))}
A32: {=IF(ROW()-8>COUNTIF(Feuil1!$J$1:$J$30,"<7"),"",INDEX(Feuil1!$A$1:$A$30,SMALL(IF(Feuil1!$J$1:$J$30<7,ROW($A$1:$A$30),""),ROW()-8)))}
