Workbook

Sheet Nombres-étoiles
B3: Date de naissance | C3: Majeur | D3: Mineur | E3: Tension | F3: Racine
B4: 33491 | C4: =IF(MOD((11-YEAR(B4)),9)=0,9,MOD((11-YEAR(B4)),9)) -> 9 | D4: =INDEX(#REF!,MATCH(TRUE,#REF!,0),CHOOSE(MOD(C4,3)+1,3,1,2)) -> #REF! | E4: =MOD(C4-D4+4,9)+1 -> #REF! | F4: =SUMPRODUCT(1*MID(SUMPRODUCT(1*MID(SUMPRODUCT(1*MID((DAY(B4)+MONTH(B4)+YEAR(B4)),ROW(INDIRECT("1:"&LEN((DAY(B4)+MONTH(B4)+YEAR(B4))))),1)),ROW(INDIRECT("1:"&LEN(SUMPRODUCT(1*MID((DAY(B4)+MONTH(B4)+YEAR(B4)),ROW(INDIRECT("1:"&LEN((DAY(B4)+MONTH(B4)+YEAR(B4))))),1))))),1)),ROW(INDIRECT("1:"&LEN(SUMPRODUCT(1*MID(SUMPRODUCT(1*MID((DAY(B4)+MONTH(B4)+YEAR(B4)),ROW(INDIRECT("1:"&LEN((DAY(B4)+MONTH(B4)+YEAR(B4))))),1)),ROW(INDIRECT("1:"&LEN(SUMPRODUCT(1*MID((DAY(B4)+MONTH(B4)+YEAR(B4)),ROW(INDIRECT("1:"&LEN((DAY(B4)+MONTH(B4)+YEAR(B4))))),1))))),1))))),1)) -> 3
B6: Le nombre-étoile Majeur
B11: =IF(C4=1,#REF!,IF(C4=2,#REF!,IF(C4=3,#REF!,IF(C4=4,#REF!,IF(C4=5,#REF!,IF(C4=6,#REF!,IF(C4=7,#REF!,IF(C4=8,#REF!,IF(C4=9,#REF!,""))))))))) -> #REF!
B42: Le nombre-étoile Mineur
B47: =IF(D4=1,#REF!,IF(D4=2,#REF!,IF(D4=3,#REF!,IF(D4=4,#REF!,IF(D4=5,#REF!,IF(D4=6,#REF!,IF(D4=7,#REF!,IF(D4=8,#REF!,IF(D4=9,#REF!,""))))))))) -> #REF!
B78: Le nombre de Tension
B83: =IF(E4=1,#REF!,IF(E4=2,#REF!,IF(E4=3,#REF!,IF(E4=4,#REF!,IF(E4=5,#REF!,IF(E4=6,#REF!,IF(E4=7,#REF!,IF(E4=8,#REF!,IF(E4=9,#REF!,""))))))))) -> #REF!
B114: Le nombre Racine
B117: =IF(F4=1,#REF!,IF(F4=2,#REF!,IF(F4=3,#REF!,IF(F4=4,#REF!,IF(F4=5,#REF!,IF(F4=6,#REF!,IF(F4=7,#REF!,IF(F4=8,#REF!,IF(F4=9,#REF!,""))))))))) -> #REF!

Sheet Carrés
C2: SEQUENTIEL | H2: SATURNE
B4: =SUBSTITUTE(SUBSTITUTE(SUBSTITUTE(SUBSTITUTE(SUBSTITUTE(SUBSTITUTE(SUBSTITUTE(SUBSTITUTE(SUBSTITUTE(DAY('Nombres-étoiles'!$B4)&MONTH('Nombres-étoiles'!$B4)&YEAR('Nombres-étoiles'!$B4),0,""),2,""),3,""),1,""),5,""),6,""),4,""),8,""),9,"") | C4: =SUBSTITUTE(SUBSTITUTE(SUBSTITUTE(SUBSTITUTE(SUBSTITUTE(SUBSTITUTE(SUBSTITUTE(SUBSTITUTE(SUBSTITUTE(DAY('Nombres-étoiles'!$B4)&MONTH('Nombres-étoiles'!$B4)&YEAR('Nombres-étoiles'!$B4),0,""),2,""),3,""),1,""),5,""),6,""),4,""),7,""),9,"") | D4: =SUBSTITUTE(SUBSTITUTE(SUBSTITUTE(SUBSTITUTE(SUBSTITUTE(SUBSTITUTE(SUBSTITUTE(SUBSTITUTE(SUBSTITUTE(DAY('Nombres-étoiles'!$B4)&MONTH('Nombres-étoiles'!$B4)&YEAR('Nombres-étoiles'!$B4),0,""),2,""),3,""),1,""),5,""),6,""),4,""),7,""),8,"") -> 999 | G4: =SUBSTITUTE(SUBSTITUTE(SUBSTITUTE(SUBSTITUTE(SUBSTITUTE(SUBSTITUTE(SUBSTITUTE(SUBSTITUTE(SUBSTITUTE(DAY('Nombres-étoiles'!$B4)&MONTH('Nombres-étoiles'!$B4)&YEAR('Nombres-étoiles'!$B4),0,""),2,""),3,""),1,""),5,""),6,""),7,""),8,""),9,"") | H4: =SUBSTITUTE(SUBSTITUTE(SUBSTITUTE(SUBSTITUTE(SUBSTITUTE(SUBSTITUTE(SUBSTITUTE(SUBSTITUTE(SUBSTITUTE(DAY('Nombres-étoiles'!$B4)&MONTH('Nombres-étoiles'!$B4)&YEAR('Nombres-étoiles'!$B4),0,""),2,""),3,""),1,""),5,""),6,""),4,""),7,""),8,"") -> 999 | I4: =SUBSTITUTE(SUBSTITUTE(SUBSTITUTE(SUBSTITUTE(SUBSTITUTE(SUBSTITUTE(SUBSTITUTE(SUBSTITUTE(SUBSTITUTE(DAY('Nombres-étoiles'!$B4)&MONTH('Nombres-étoiles'!$B4)&YEAR('Nombres-étoiles'!$B4),0,""),1,""),3,""),4,""),5,""),6,""),7,""),8,""),9,"")
B5: =SUBSTITUTE(SUBSTITUTE(SUBSTITUTE(SUBSTITUTE(SUBSTITUTE(SUBSTITUTE(SUBSTITUTE(SUBSTITUTE(SUBSTITUTE(DAY('Nombres-étoiles'!$B4)&MONTH('Nombres-étoiles'!$B4)&YEAR('Nombres-étoiles'!$B4),0,""),2,""),3,""),1,""),5,""),6,""),7,""),8,""),9,"") | C5: =SUBSTITUTE(SUBSTITUTE(SUBSTITUTE(SUBSTITUTE(SUBSTITUTE(SUBSTITUTE(SUBSTITUTE(SUBSTITUTE(SUBSTITUTE(DAY('Nombres-étoiles'!$B4)&MONTH('Nombres-étoiles'!$B4)&YEAR('Nombres-étoiles'!$B4),0,""),2,""),3,""),1,""),4,""),6,""),7,""),8,""),9,"") | D5: =SUBSTITUTE(SUBSTITUTE(SUBSTITUTE(SUBSTITUTE(SUBSTITUTE(SUBSTITUTE(SUBSTITUTE(SUBSTITUTE(SUBSTITUTE(DAY('Nombres-étoiles'!$B4)&MONTH('Nombres-étoiles'!$B4)&YEAR('Nombres-étoiles'!$B4),0,""),2,""),3,""),1,""),5,""),4,""),7,""),8,""),9,"") | G5: =SUBSTITUTE(SUBSTITUTE(SUBSTITUTE(SUBSTITUTE(SUBSTITUTE(SUBSTITUTE(SUBSTITUTE(SUBSTITUTE(SUBSTITUTE(DAY('Nombres-étoiles'!$B4)&MONTH('Nombres-étoiles'!$B4)&YEAR('Nombres-étoiles'!$B4),0,""),2,""),1,""),4,""),5,""),6,""),7,""),8,""),9,"") | H5: =SUBSTITUTE(SUBSTITUTE(SUBSTITUTE(SUBSTITUTE(SUBSTITUTE(SUBSTITUTE(SUBSTITUTE(SUBSTITUTE(SUBSTITUTE(DAY('Nombres-étoiles'!$B4)&MONTH('Nombres-étoiles'!$B4)&YEAR('Nombres-étoiles'!$B4),0,""),2,""),3,""),1,""),4,""),6,""),7,""),8,""),9,"") | I5: =SUBSTITUTE(SUBSTITUTE(SUBSTITUTE(SUBSTITUTE(SUBSTITUTE(SUBSTITUTE(SUBSTITUTE(SUBSTITUTE(SUBSTITUTE(DAY('Nombres-étoiles'!$B4)&MONTH('Nombres-étoiles'!$B4)&YEAR('Nombres-étoiles'!$B4),0,""),2,""),3,""),1,""),5,""),6,""),4,""),8,""),9,"")
B6: =SUBSTITUTE(SUBSTITUTE(SUBSTITUTE(SUBSTITUTE(SUBSTITUTE(SUBSTITUTE(SUBSTITUTE(SUBSTITUTE(SUBSTITUTE(DAY('Nombres-étoiles'!$B4)&MONTH('Nombres-étoiles'!$B4)&YEAR('Nombres-étoiles'!$B4),0,""),2,""),3,""),4,""),5,""),6,""),7,""),8,""),9,"") -> 111 | C6: =SUBSTITUTE(SUBSTITUTE(SUBSTITUTE(SUBSTITUTE(SUBSTITUTE(SUBSTITUTE(SUBSTITUTE(SUBSTITUTE(SUBSTITUTE(DAY('Nombres-étoiles'!$B4)&MONTH('Nombres-étoiles'!$B4)&YEAR('Nombres-étoiles'!$B4),0,""),1,""),3,""),4,""),5,""),6,""),7,""),8,""),9,"") | D6: =SUBSTITUTE(SUBSTITUTE(SUBSTITUTE(SUBSTITUTE(SUBSTITUTE(SUBSTITUTE(SUBSTITUTE(SUBSTITUTE(SUBSTITUTE(DAY('Nombres-étoiles'!$B4)&MONTH('Nombres-étoiles'!$B4)&YEAR('Nombres-étoiles'!$B4),0,""),2,""),1,""),4,""),5,""),6,""),7,""),8,""),9,"") | G6: =SUBSTITUTE(SUBSTITUTE(SUBSTITUTE(SUBSTITUTE(SUBSTITUTE(SUBSTITUTE(SUBSTITUTE(SUBSTITUTE(SUBSTITUTE(DAY('Nombres-étoiles'!$B4)&MONTH('Nombres-étoiles'!$B4)&YEAR('Nombres-étoiles'!$B4),0,""),2,""),3,""),1,""),5,""),6,""),4,""),7,""),9,"") | H6: =SUBSTITUTE(SUBSTITUTE(SUBSTITUTE(SUBSTITUTE(SUBSTITUTE(SUBSTITUTE(SUBSTITUTE(SUBSTITUTE(SUBSTITUTE(DAY('Nombres-étoiles'!$B4)&MONTH('Nombres-étoiles'!$B4)&YEAR('Nombres-étoiles'!$B4),0,""),2,""),3,""),4,""),5,""),6,""),7,""),8,""),9,"") -> 111 | I6: =SUBSTITUTE(SUBSTITUTE(SUBSTITUTE(SUBSTITUTE(SUBSTITUTE(SUBSTITUTE(SUBSTITUTE(SUBSTITUTE(SUBSTITUTE(DAY('Nombres-étoiles'!$B4)&MONTH('Nombres-étoiles'!$B4)&YEAR('Nombres-étoiles'!$B4),0,""),2,""),3,""),1,""),5,""),4,""),7,""),8,""),9,"")
B8: Nombre 1 :
B10: =IF(B6="1",#REF!,IF(B6="11",#REF!,IF(B6="111",#REF!,IF(B6="1111",#REF!,IF(B6="",#REF!,""))))) -> #REF! | G10: =IF(H6="1",#REF!,IF(H6="11",#REF!,IF(H6="111",#REF!,IF(H6="1111",#REF!,IF(H6="",#REF!,""))))) -> #REF!
B14: Nombre 2 :
B16: =IF(C6="2",#REF!,IF(C6="22",#REF!,IF(C6="222",#REF!,IF(C6="2222",#REF!,IF(C6="",#REF!,""))))) -> #REF! | G16: =IF(I4="2",#REF!,IF(I4="22",#REF!,IF(I4="222",#REF!,IF(I4="2222",#REF!,IF(I4="",#REF!,""))))) -> #REF!
B20: Nombre 3 :
B22: =IF(D6="3",#REF!,IF(D6="33",#REF!,IF(D6="333",#REF!,IF(D6="3333",#REF!,IF(D6="",#REF!,""))))) -> #REF! | G22: =IF(G5="3",#REF!,IF(G5="33",#REF!,IF(G5="333",#REF!,IF(G5="3333",#REF!,IF(G5="",#REF!,""))))) -> #REF!
B26: Nombre 4 :
B28: =IF(B5="4",#REF!,IF(B5="44",#REF!,IF(B5="444",#REF!,IF(B5="4444",#REF!,IF(B5="",#REF!,""))))) -> #REF! | G28: =IF(G4="4",#REF!,IF(G4="44",#REF!,IF(G4="444",#REF!,IF(G4="4444",#REF!,IF(G4="",#REF!,""))))) -> #REF!
B32: Nombre 5 :
B34: =IF(C5="5",#REF!,IF(C5="55",#REF!,IF(C5="555",#REF!,IF(C5="5555",#REF!,IF(C5="",#REF!,""))))) -> #REF! | G34: =IF(H5="5",#REF!,IF(H5="55",#REF!,IF(H5="555",#REF!,IF(H5="5555",#REF!,IF(H5="",#REF!,""))))) -> #REF!
B38: Nombre 6 :
B40: =IF(D5="6",#REF!,IF(D5="66",#REF!,IF(D5="666",#REF!,IF(D5="6666",#REF!,IF(D5="",#REF!,""))))) -> #REF! | G40: =IF(I6="6",#REF!,IF(I6="66",#REF!,IF(I6="666",#REF!,IF(I6="6666",#REF!,IF(I6="",#REF!,""))))) -> #REF!
B46: Nombre 7 :
B48: =IF(B4="7",#REF!,IF(B4="77",#REF!,IF(B4="777",#REF!,IF(B4="7777",#REF!,IF(B4="",#REF!,""))))) -> #REF! | G48: =IF(I5="7",#REF!,IF(I5="77",#REF!,IF(I5="777",#REF!,IF(I5="7777",#REF!,IF(I5="",#REF!,""))))) -> #REF!
B56: Nombre 8 :
B58: =IF(C4="8",#REF!,IF(C4="88",#REF!,IF(C4="888",#REF!,IF(C4="8888",#REF!,IF(C4="",#REF!,""))))) -> #REF! | G58: =IF(G6="8",#REF!,IF(G6="88",#REF!,IF(G6="888",#REF!,IF(G6="8888",#REF!,IF(G6="",#REF!,""))))) -> #REF!
B62: Nombre 9 :
B64: =IF(D4="9",#REF!,IF(D4="99",#REF!,IF(D4="999",#REF!,IF(D4="9999",#REF!,IF(D4="",#REF!,""))))) -> #REF! | G64: =IF(H4="9",#REF!,IF(H4="99",#REF!,IF(H4="999",#REF!,IF(H4="9999",#REF!,IF(H4="",#REF!,""))))) -> #REF!

Sheet Flèches
A1: Flèches Séquentiel | I1: Flèches Saturne | Q1: Petites flèches

Sheet Années personnelles
B1: Naissance | C1: Racine | D1: Année | E1: Nbr Année | F1: Mois | G1: Nbr Mois
B2: ='Nombres-étoiles'!B4 -> 33491 | C2: ='Nombres-étoiles'!F4 -> 3 | D2: 43757 | E2: =SUMPRODUCT(1*MID(SUMPRODUCT(1*MID(SUMPRODUCT(1*MID((DAY(D2)+MONTH(D2)+YEAR(D2)),ROW(INDIRECT("1:"&LEN((DAY(D2)+MONTH(D2)+YEAR(D2))))),1)),ROW(INDIRECT("1:"&LEN(SUMPRODUCT(1*MID((DAY(D2)+MONTH(D2)+YEAR(D2)),ROW(INDIRECT("1:"&LEN((DAY(D2)+MONTH(D2)+YEAR(D2))))),1))))),1)),ROW(INDIRECT("1:"&LEN(SUMPRODUCT(1*MID(SUMPRODUCT(1*MID((DAY(D2)+MONTH(D2)+YEAR(D2)),ROW(INDIRECT("1:"&LEN((DAY(D2)+MONTH(D2)+YEAR(D2))))),1)),ROW(INDIRECT("1:"&LEN(SUMPRODUCT(1*MID((DAY(D2)+MONTH(D2)+YEAR(D2)),ROW(INDIRECT("1:"&LEN((DAY(D2)+MONTH(D2)+YEAR(D2))))),1))))),1))))),1)) -> 5 | F2: 6 | G2: =IF(MOD(E2+F2,9)=0,9,MOD(E2+F2,9)) -> 2
B4: ANNEE PERSONNELLE :
B5: =IF(E2=1,#REF!,IF(E2=2,#REF!,IF(E2=3,#REF!,IF(E2=4,#REF!,IF(E2=5,#REF!,IF(E2=6,#REF!,IF(E2=7,#REF!,IF(E2=8,#REF!,IF(E2=9,#REF!,""))))))))) -> #REF!
B17: MOIS PERSONNEL :
B18: =IF(G2=1,#REF!,IF(G2=2,#REF!,IF(G2=3,#REF!,IF(G2=4,#REF!,IF(G2=5,#REF!,IF(G2=6,#REF!,IF(G2=7,#REF!,IF(G2=8,#REF!,IF(G2=9,#REF!,""))))))))) -> #REF!

Sheet Pyramide
D2: 10 | E2: 09 | F2: 19 | G2: 91
B4: =IF(MOD(E4+D5,9)=0,9,MOD(E4+D5,9)) -> 1 | D4: =IF(MOD(D2,9)=0,9,MOD(D2,9)) -> 1 | E4: =IF(MOD(E2,9)=0,9,MOD(E2,9)) -> 9 | F4: =IF(MOD(F2,9)=0,9,MOD(F2,9)) -> 1 | G4: =IF(MOD(G2,9)=0,9,MOD(G2,9)) -> 1 | I4: =IF(MOD(F4+F5,9)=0,9,MOD(F4+F5,9)) -> 3
D5: =IF(MOD(D4+E4,9)=0,9,MOD(D4+E4,9)) -> 1 | F5: =IF(MOD(F4+G4,9)=0,9,MOD(F4+G4,9)) -> 2
B6: =IF(MOD(D4+D5,9)=0,9,MOD(D4+D5,9)) -> 2 | E6: =IF(MOD(D5+F5,9)=0,9,MOD(D5+F5,9)) -> 3 | I6: =IF(MOD(G4+F5,9)=0,9,MOD(G4+F5,9)) -> 3
B8: =IF(MOD(B4+B6,9)=0,9,MOD(B4+B6,9)) -> 3 | D8: =IF(MOD(F5+E6,9)=0,9,MOD(F5+E6,9)) -> 5 | F8: =IF(MOD(D5+E6,9)=0,9,MOD(D5+E6,9)) -> 4 | I8: =IF(MOD(I4+I6,9)=0,9,MOD(I4+I6,9)) -> 6
E9: =IF(MOD(D8+F8,9)=0,9,MOD(D8+F8,9)) -> 9
B12: MOTS-CLES COUPLES :
B14: IJ | C14: =IF(D4=1,#REF!,IF(D4=2,#REF!,IF(D4=3,#REF!,IF(D4=4,#REF!,IF(D4=5,#REF!,IF(D4=6,#REF!,IF(D4=7,#REF!,IF(D4=8,#REF!,IF(D4=9,#REF!,""))))))))) -> #REF! | G14: - | H14: =IF(E4=1,#REF!,IF(E4=2,#REF!,IF(E4=3,#REF!,IF(E4=4,#REF!,IF(E4=5,#REF!,IF(E4=6,#REF!,IF(E4=7,#REF!,IF(E4=8,#REF!,IF(E4=9,#REF!,""))))))))) -> #REF!
B15: KL | C15: =IF(F4=1,#REF!,IF(F4=2,#REF!,IF(F4=3,#REF!,IF(F4=4,#REF!,IF(F4=5,#REF!,IF(F4=6,#REF!,IF(F4=7,#REF!,IF(F4=8,#REF!,IF(F4=9,#REF!,""))))))))) -> #REF! | G15: - | H15: =IF(G4=1,#REF!,IF(G4=2,#REF!,IF(G4=3,#REF!,IF(G4=4,#REF!,IF(G4=5,#REF!,IF(G4=6,#REF!,IF(G4=7,#REF!,IF(G4=8,#REF!,IF(G4=9,#REF!,""))))))))) -> #REF!
B16: MN | C16: =IF(D5=1,#REF!,IF(D5=2,#REF!,IF(D5=3,#REF!,IF(D5=4,#REF!,IF(D5=5,#REF!,IF(D5=6,#REF!,IF(D5=7,#REF!,IF(D5=8,#REF!,IF(D5=9,#REF!,""))))))))) -> #REF! | G16: - | H16: =IF(F5=1,#REF!,IF(F5=2,#REF!,IF(F5=3,#REF!,IF(F5=4,#REF!,IF(F5=5,#REF!,IF(F5=6,#REF!,IF(F5=7,#REF!,IF(F5=8,#REF!,IF(F5=9,#REF!,""))))))))) -> #REF!
B17: UR | C17: =IF(B8=1,#REF!,IF(B8=2,#REF!,IF(B8=3,#REF!,IF(B8=4,#REF!,IF(B8=5,#REF!,IF(B8=6,#REF!,IF(B8=7,#REF!,IF(B8=8,#REF!,IF(B8=9,#REF!,""))))))))) -> #REF! | G17: - | H17: =IF(E9=1,#REF!,IF(E9=2,#REF!,IF(E9=3,#REF!,IF(E9=4,#REF!,IF(E9=5,#REF!,IF(E9=6,#REF!,IF(E9=7,#REF!,IF(E9=8,#REF!,IF(E9=9,#REF!,""))))))))) -> #REF!
B18: XR | C18: =IF(I8=1,#REF!,IF(I8=2,#REF!,IF(I8=3,#REF!,IF(I8=4,#REF!,IF(I8=5,#REF!,IF(I8=6,#REF!,IF(I8=7,#REF!,IF(I8=8,#REF!,IF(I8=9,#REF!,""))))))))) -> #REF! | G18: - | H18: =IF(E9=1,#REF!,IF(E9=2,#REF!,IF(E9=3,#REF!,IF(E9=4,#REF!,IF(E9=5,#REF!,IF(E9=6,#REF!,IF(E9=7,#REF!,IF(E9=8,#REF!,IF(E9=9,#REF!,""))))))))) -> #REF!
B19: PQ | C19: =IF(D8=1,#REF!,IF(D8=2,#REF!,IF(D8=3,#REF!,IF(D8=4,#REF!,IF(D8=5,#REF!,IF(D8=6,#REF!,IF(D8=7,#REF!,IF(D8=8,#REF!,IF(D8=9,#REF!,""))))))))) -> #REF! | G19: - | H19: =IF(F8=1,#REF!,IF(F8=2,#REF!,IF(F8=3,#REF!,IF(F8=4,#REF!,IF(F8=5,#REF!,IF(F8=6,#REF!,IF(F8=7,#REF!,IF(F8=8,#REF!,IF(F8=9,#REF!,""))))))))) -> #REF!
B20: LN | C20: =IF(G4=1,#REF!,IF(G4=2,#REF!,IF(G4=3,#REF!,IF(G4=4,#REF!,IF(G4=5,#REF!,IF(G4=6,#REF!,IF(G4=7,#REF!,IF(G4=8,#REF!,IF(G4=9,#REF!,""))))))))) -> #REF! | G20: - | H20: =IF(F5=1,#REF!,IF(F5=2,#REF!,IF(F5=3,#REF!,IF(F5=4,#REF!,IF(F5=5,#REF!,IF(F5=6,#REF!,IF(F5=7,#REF!,IF(F5=8,#REF!,IF(F5=9,#REF!,""))))))))) -> #REF!
B21: NO | C21: =IF(F5=1,#REF!,IF(F5=2,#REF!,IF(F5=3,#REF!,IF(F5=4,#REF!,IF(F5=5,#REF!,IF(F5=6,#REF!,IF(F5=7,#REF!,IF(F5=8,#REF!,IF(F5=9,#REF!,""))))))))) -> #REF! | G21: - | H21: =IF(E6=1,#REF!,IF(E6=2,#REF!,IF(E6=3,#REF!,IF(E6=4,#REF!,IF(E6=5,#REF!,IF(E6=6,#REF!,IF(E6=7,#REF!,IF(E6=8,#REF!,IF(E6=9,#REF!,""))))))))) -> #REF!
B22: OP | C22: =IF(E6=1,#REF!,IF(E6=2,#REF!,IF(E6=3,#REF!,IF(E6=4,#REF!,IF(E6=5,#REF!,IF(E6=6,#REF!,IF(E6=7,#REF!,IF(E6=8,#REF!,IF(E6=9,#REF!,""))))))))) -> #REF! | G22: - | H22: =IF(D8=1,#REF!,IF(D8=2,#REF!,IF(D8=3,#REF!,IF(D8=4,#REF!,IF(D8=5,#REF!,IF(D8=6,#REF!,IF(D8=7,#REF!,IF(D8=8,#REF!,IF(D8=9,#REF!,""))))))))) -> #REF!
B25: NOMBRES CACHES :
B27: NC1 | I27: =IF(MOD(E4+F4,9)=0,9,MOD(E4+F4,9)) -> 1 | J27: =IF(I27=1,#REF!,IF(I27=2,#REF!,IF(I27=3,#REF!,IF(I27=4,#REF!,IF(I27=5,#REF!,IF(I27=6,#REF!,IF(I27=7,#REF!,IF(I27=8,#REF!,IF(I27=9,#REF!,""))))))))) -> #REF! | N27: =IF(I27=1,#REF!,IF(I27=2,#REF!,IF(I27=3,#REF!,IF(I27=4,#REF!,IF(I27=5,#REF!,IF(I27=6,#REF!,IF(I27=7,#REF!,IF(I27=8,#REF!,IF(I27=9,#REF!,""))))))))) -> #REF!
B28: NC2 | I28: =IF(MOD(D4+E4+D5,9)=0,9,MOD(D4+E4+D5,9)) -> 2 | J28: =IF(I28=1,#REF!,IF(I28=2,#REF!,IF(I28=3,#REF!,IF(I28=4,#REF!,IF(I28=5,#REF!,IF(I28=6,#REF!,IF(I28=7,#REF!,IF(I28=8,#REF!,IF(I28=9,#REF!,""))))))))) -> #REF! | N28: =IF(I28=1,#REF!,IF(I28=2,#REF!,IF(I28=3,#REF!,IF(I28=4,#REF!,IF(I28=5,#REF!,IF(I28=6,#REF!,IF(I28=7,#REF!,IF(I28=8,#REF!,IF(I28=9,#REF!,""))))))))) -> #REF!
B29: NC3 | I29: =IF(MOD(F4+G4+F5,9)=0,9,MOD(F4+G4+F5,9)) -> 4 | J29: =IF(I29=1,#REF!,IF(I29=2,#REF!,IF(I29=3,#REF!,IF(I29=4,#REF!,IF(I29=5,#REF!,IF(I29=6,#REF!,IF(I29=7,#REF!,IF(I29=8,#REF!,IF(I29=9,#REF!,""))))))))) -> #REF! | N29: =IF(I29=1,#REF!,IF(I29=2,#REF!,IF(I29=3,#REF!,IF(I29=4,#REF!,IF(I29=5,#REF!,IF(I29=6,#REF!,IF(I29=7,#REF!,IF(I29=8,#REF!,IF(I29=9,#REF!,""))))))))) -> #REF!
B30: NC4 | I30: =IF(MOD(D5+F5+E6,9)=0,9,MOD(D5+F5+E6,9)) -> 6 | J30: =IF(I30=1,#REF!,IF(I30=2,#REF!,IF(I30=3,#REF!,IF(I30=4,#REF!,IF(I30=5,#REF!,IF(I30=6,#REF!,IF(I30=7,#REF!,IF(I30=8,#REF!,IF(I30=9,#REF!,""))))))))) -> #REF! | N30: =IF(I30=1,#REF!,IF(I30=2,#REF!,IF(I30=3,#REF!,IF(I30=4,#REF!,IF(I30=5,#REF!,IF(I30=6,#REF!,IF(I30=7,#REF!,IF(I30=8,#REF!,IF(I30=9,#REF!,""))))))))) -> #REF!
B31: NC5 | I31: =IF(MOD(D4+G4+E6,9)=0,9,MOD(D4+G4+E6,9)) -> 5 | J31: =IF(I31=1,#REF!,IF(I31=2,#REF!,IF(I31=3,#REF!,IF(I31=4,#REF!,IF(I31=5,#REF!,IF(I31=6,#REF!,IF(I31=7,#REF!,IF(I31=8,#REF!,IF(I31=9,#REF!,""))))))))) -> #REF! | N31: =IF(I31=1,#REF!,IF(I31=2,#REF!,IF(I31=3,#REF!,IF(I31=4,#REF!,IF(I31=5,#REF!,IF(I31=6,#REF!,IF(I31=7,#REF!,IF(I31=8,#REF!,IF(I31=9,#REF!,""))))))))) -> #REF!

Sheet Santé

Sheet Carrière
D3: 10 | E3: 09 | F3: 19 | G3: 91
L4: SE | M4: SUD | N4: SO | P4: SE | Q4: SUD | R4: SO
B5: =IF(MOD(E5+D6,9)=0,9,MOD(E5+D6,9)) -> 1 | D5: =IF(MOD(D3,9)=0,9,MOD(D3,9)) -> 1 | E5: =IF(MOD(E3,9)=0,9,MOD(E3,9)) -> 9 | F5: =IF(MOD(F3,9)=0,9,MOD(F3,9)) -> 1 | G5: =IF(MOD(G3,9)=0,9,MOD(G3,9)) -> 1 | I5: =IF(MOD(F5+F6,9)=0,9,MOD(F5+F6,9)) -> 3 | L5: =IF(MOD(G5+F6+E7,9)=0,9,MOD(G5+F6+E7,9)) -> 6 | M5: =IF(MOD(D6+F6+E7,9)=0,9,MOD(D6+F6+E7,9)) -> 6 | N5: =IF(MOD(D5+D6+E7,9)=0,9,MOD(D5+D6+E7,9)) -> 5 | P5: =IF(MOD(M7+L5,9)=0,9,MOD(M7+L5,9)) -> 9 | Q5: =IF(MOD(M7+M5,9)=0,9,MOD(M7+M5,9)) -> 9 | R5: =IF(MOD(M7+N5,9)=0,9,MOD(M7+N5,9)) -> 8
D6: =IF(MOD(D5+E5,9)=0,9,MOD(D5+E5,9)) -> 1 | F6: =IF(MOD(F5+G5,9)=0,9,MOD(F5+G5,9)) -> 2 | L6: EST | M6: CENTRE | N6: OUEST | P6: EST | R6: OUEST
B7: =IF(MOD(D5+D6,9)=0,9,MOD(D5+D6,9)) -> 2 | E7: =IF(MOD(D6+F6,9)=0,9,MOD(D6+F6,9)) -> 3 | I7: =IF(MOD(G5+F6,9)=0,9,MOD(G5+F6,9)) -> 3 | L7: =IF(MOD(F5+G5+F6+G5+F6+E7,9)=0,9,MOD(F5+G5+F6+G5+F6+E7,9)) -> 1 | M7: =IF(MOD(E5+F5+G5+D6,9)=0,9,MOD(E5+F5+G5+D6,9)) -> 3 | N7: =IF(MOD(D5+E5+D6+D5+D6+E7,9)=0,9,MOD(D5+E5+D6+D5+D6+E7,9)) -> 7 | P7: =IF(MOD(M7+L7,9)=0,9,MOD(M7+L7,9)) -> 4 | R7: =IF(MOD(M7+N7,9)=0,9,MOD(M7+N7,9)) -> 1
L8: NE | M8: NORD | N8: NO | P8: NE | Q8: NORD | R8: NO
B9: =IF(MOD(B5+B7,9)=0,9,MOD(B5+B7,9)) -> 3 | D9: =IF(MOD(F6+E7,9)=0,9,MOD(F6+E7,9)) -> 5 | F9: =IF(MOD(D6+E7,9)=0,9,MOD(D6+E7,9)) -> 4 | I9: =IF(MOD(I5+I7,9)=0,9,MOD(I5+I7,9)) -> 6 | L9: =IF(MOD(F5+G5+F6,9)=0,9,MOD(F5+G5+F6,9)) -> 4 | M9: =IF(MOD(E5+F5,9)=0,9,MOD(E5+F5,9)) -> 1 | N9: =IF(MOD(D5+E5+D6,9)=0,9,MOD(D5+E5+D6,9)) -> 2 | P9: =IF(MOD(M7+L9,9)=0,9,MOD(M7+L9,9)) -> 7 | Q9: =IF(MOD(M7+M9,9)=0,9,MOD(M7+M9,9)) -> 4 | R9: =IF(MOD(M7+N9,9)=0,9,MOD(M7+N9,9)) -> 5
E10: =IF(MOD(D9+F9,9)=0,9,MOD(D9+F9,9)) -> 9

Sheet Réf Flèches
A1: Famille | B1: ID | C1: Priorité | D1: Ref1 | E1: Ref2 | F1: Ref3 | G1: Val1 | H1: Val2 | I1: Val3 | J1: Type | K1: Caractéristiques | L1: Représentation | O1: Référence
A2: SEQ | B2: SEQDGS | C2: 1 | D2: 1,3 | E2: 2,2 | F2: 3,1 | G2: 9 | H2: 5 | I2: 1 | J2: FORCE | K2: Détermination | L2: 1, 5, 9 | O2: 1,1 | P2: 1,2 | Q2: 1,3
A3: SEQ | B3: SEQDDS | C3: 2 | D3: 1,1 | E3: 2,2 | F3: 3,3 | G3: 7 | H3: 5 | I3: 3 | J3: FORCE | K3: Compassion | L3: 3, 5, 7 | O3: 2,1 | P3: 2,2 | Q3: 2,3
A4: SEQ | B4: SEQH3S | C4: 3 | D4: 3,1 | E4: 3,2 | F4: 3,3 | G4: 1 | H4: 2 | I4: 3 | J4: FORCE | K4: Planificateur | L4: 1, 2, 3 | O4: 3,1 | P4: 3,2 | Q4: 3,3
A5: SEQ | B5: SEQH2S | C5: 4 | D5: 2,1 | E5: 2,2 | F5: 2,3 | G5: 4 | H5: 5 | I5: 6 | J5: FORCE | K5: Volonté | L5: 4, 5, 6
A6: SEQ | B6: SEQH1S | C6: 5 | D6: 1,1 | E6: 1,2 | F6: 1,3 | G6: 7 | H6: 8 | I6: 9 | J6: FORCE | K6: Activité | L6: 7, 8, 9 | O6: 1 | P6: 2 | Q6: 3
A7: SEQ | B7: SEQV1S | C7: 6 | D7: 1,1 | E7: 2,1 | F7: 3,1 | G7: 7 | H7: 4 | I7: 1 | J7: FORCE | K7: Pragmatisme | L7: 1, 4, 7 | O7: 4 | P7: 5 | Q7: 6
A8: SEQ | B8: SEQV2S | C8: 7 | D8: 1,2 | E8: 2,2 | F8: 3,2 | G8: 8 | H8: 5 | I8: 2 | J8: FORCE | K8: Equilibre émotionnel | L8: 2, 5, 8 | O8: 7 | P8: 8 | Q8: 9
A9: SEQ | B9: SEQV3S | C9: 8 | D9: 1,3 | E9: 2,3 | F9: 3,3 | G9: 9 | H9: 6 | I9: 3 | J9: FORCE | K9: Intellect | L9: 3, 6, 9
A10: SEQ | B10: SEQDGW | C10: 1 | D10: 1,3 | E10: 2,2 | F10: 3,1 | J10: FAIBLESSE | K10: Indécision | L10: 1, 5, 9
A11: SEQ | B11: SEQDDW | C11: 2 | D11: 1,1 | E11: 2,2 | F11: 3,3 | J11: FAIBLESSE | K11: Scepticisme | L11: 3, 5, 7
A12: SEQ | B12: SEQH2W | C12: 3 | D12: 2,1 | E12: 2,2 | F12: 2,3 | J12: FAIBLESSE | K12: Frustations | L12: 4, 5, 6
A13: SEQ | B13: SEQH1W | C13: 4 | D13: 1,1 | E13: 1,2 | F13: 1,3 | J13: FAIBLESSE | K13: Hésitation | L13: 7, 8, 9
A14: SEQ | B14: SEQV1W | C14: 5 | D14: 1,1 | E14: 2,1 | F14: 3,1 | J14: FAIBLESSE | K14: Irréalisme | L14: 1, 4, 7
A15: SEQ | B15: SEQV2W | C15: 6 | D15: 1,2 | E15: 2,2 | F15: 3,2 | J15: FAIBLESSE | K15: Sensiblerie | L15: 2, 5, 8
A16: SEQ | B16: SEQV3W | C16: 7 | D16: 1,3 | E16: 2,3 | F16: 3,3 | J16: FAIBLESSE | K16: Mauvaise Mémoire | L16: 3, 6, 9
A17: SAT | B17: SATDDS | C17: 1 | D17: 1,1 | E17: 2,2 | F17: 3,3 | G17: 4 | H17: 5 | I17: 6 | J17: FORCE | K17: Equilibre émotionnel | L17: 4, 5, 6
A18: SAT | B18: SATDGS | C18: 2 | D18: 1,3 | E18: 2,2 | F18: 3,1 | G18: 2 | H18: 5 | I18: 8 | J18: FORCE | K18: Détermination | L18: 2, 5, 8
A19: SAT | B19: SATV2S | C19: 3 | D19: 1,2 | E19: 2,2 | F19: 3,2 | G19: 9 | H19: 5 | I19: 1 | J19: FORCE | K19: Volonté | L19: 1, 5, 9
A20: SAT | B20: SATH3S | C20: 4 | D20: 3,1 | E20: 3,2 | F20: 3,3 | G20: 8 | H20: 1 | I20: 6 | J20: FORCE | K20: Prospérité | L20: 1, 6, 8
A21: SAT | B21: SATH2S | C21: 5 | D21: 2,1 | E21: 2,2 | F21: 2,3 | G21: 3 | H21: 5 | I21: 7 | J21: FORCE | K21: Spiritualité | L21: 3, 5, 7
A22: SAT | B22: SATH1S | C22: 6 | D22: 1,1 | E22: 1,2 | F22: 1,3 | G22: 4 | H22: 9 | I22: 2 | J22: FORCE | K22: Intellect | L22: 2, 4, 9
A23: SAT | B23: SATV1S | C23: 7 | D23: 1,1 | E23: 2,1 | F23: 3,1 | G23: 4 | H23: 3 | I23: 8 | J23: FORCE | K23: Planificateur | L23: 3, 4, 8
A24: SAT | B24: SATV3S | C24: 8 | D24: 1,3 | E24: 2,3 | F24: 3,3 | G24: 2 | H24: 7 | I24: 6 | J24: FORCE | K24: Action | L24: 2, 6, 7
A25: SAT | B25: SATDDW | C25: 1 | D25: 1,1 | E25: 2,2 | F25: 3,3 | J25: FAIBLESSE | K25: Suspicion | L25: 4, 5, 6
A26: SAT | B26: SATDGW | C26: 2 | D26: 1,3 | E26: 2,2 | F26: 3,1 | J26: FAIBLESSE | K26: Frustations | L26: 2, 5, 8
A27: SAT | B27: SATV2W | C27: 3 | D27: 1,2 | E27: 2,2 | F27: 3,2 | J27: FAIBLESSE | K27: Indécision | L27: 1, 5, 9
A28: SAT | B28: SATH3W | C28: 4 | D28: 3,1 | E28: 3,2 | F28: 3,3 | J28: FAIBLESSE | K28: Pertes | L28: 1, 6, 8
A29: SAT | B29: SATH2W | C29: 5 | D29: 2,1 | E29: 2,2 | F29: 2,3 | J29: FAIBLESSE | K29: Solitude | L29: 3, 5, 7
A30: SAT | B30: SATV1W | C30: 6 | D30: 1,1 | E30: 2,1 | F30: 3,1 | J30: FAIBLESSE | K30: Confusion | L30: 3, 4, 8
A31: SAT | B31: SATV3W | C31: 7 | D31: 1,3 | E31: 2,3 | F31: 3,3 | J31: FAIBLESSE | K31: Apathie | L31: 2, 6, 7
A32: SAT | B32: SAT2 | C32: 1 | D32: 2,1 | E32: 3,2 | G32: 3 | H32: 1 | J32: FAIBLESSE | K32: Tromperie | L32: 1, 3
A33: SAT | B33: SAT2 | C33: 2 | D33: 1,2 | E33: 2,1 | G33: 9 | H33: 3 | J33: FAIBLESSE | K33: Litiges | L33: 3, 9
A34: SAT | B34: SAT2 | C34: 3 | D34: 2,3 | E34: 3,2 | G34: 7 | H34: 1 | J34: FORCE | K34: Savoir | L34: 1, 7
A35: SAT | B35: SAT2 | C35: 4 | D35: 1,2 | E35: 2,3 | G35: 9 | H35: 7 | J35: FORCE | K35: Sérénité | L35: 7, 9
