Workbook

Sheet Original
B1: Pat_U_Seq | C1: Num Med | D1: ACT Id | E1: RC Seq | F1: Genre | G1: Age Norm | H1: Cod Sui | I1: Angine | J1: Dat_ang | K1: AINS | L1: Dur AINS | M1: Cort | N1: Dur cort | O1: Année | P1: Atc Reg N4 Cod | Q1: Atc Reg N4 Lib
A2: =A1+IF(D2=D1,0,1) -> 1 | B2: 1 | C2: 4698 | D2: 808237 | E2: 1289929 | F2: H | G2: 98 | H2: N | I2: oui | J2: 35858 | K2: 0 | M2: 0 | O2: 1998
A3: =A2+IF(D3=D2,0,1) -> 2 | B3: 1 | C3: 4698 | D3: 818108 | E3: 1257708 | F3: H | G3: 95 | H3: N | I3: oui | J3: 34739 | K3: 0 | M3: 0 | O3: 1995 | P3: J01CE | Q3: PENICILLINES SENSIBLES AUX BETALACTAMASES
A4: =A3+IF(D4=D3,0,1) -> 3 | B4: 1 | C4: 4698 | D4: 818109 | E4: 1240434 | F4: H | G4: 95 | H4: N | I4: oui | J4: 34767 | K4: 1 | L4: 1 | M4: 0 | O4: 1995 | P4: J01CE | Q4: PENICILLINES SENSIBLES AUX BETALACTAMASES
A5: =A4+IF(D5=D4,0,1) -> 4 | B5: 1 | C5: 4698 | D5: 818110 | E5: 1261473 | F5: H | G5: 96 | H5: N | I5: oui | J5: 35082 | K5: 0 | M5: 0 | O5: 1996 | P5: J01CE | Q5: PENICILLINES SENSIBLES AUX BETALACTAMASES
A6: =A5+IF(D6=D5,0,1) -> 5 | B6: 1 | C6: 4698 | D6: 818111 | E6: 1250994 | F6: H | G6: 96 | H6: N | I6: oui | J6: 35109 | K6: 0 | M6: 0 | O6: 1996 | P6: J01CE | Q6: PENICILLINES SENSIBLES AUX BETALACTAMASES
A7: =A6+IF(D7=D6,0,1) -> 5 | B7: 1 | C7: 4698 | D7: 818111 | E7: 1250994 | F7: H | G7: 96 | H7: N | I7: oui | J7: 35109 | K7: 0 | M7: 0 | O7: 1996 | P7: J01CA | Q7: PENICILLINES A LARGE SPECTRE
A8: =A7+IF(D8=D7,0,1) -> 6 | B8: 2 | C8: 9665 | D8: 5208664 | E8: 7752160 | F8: H | G8: 82 | H8: N | I8: oui | J8: 38525 | K8: 1 | L8: 5 | M8: 0 | O8: 2005 | P8: J01FA | Q8: MACROLIDES
A9: =A8+IF(D9=D8,0,1) -> 7 | B9: 3 | C9: 6776 | D9: 274827 | E9: 1204738 | F9: ND | G9: 64 | H9: N | I9: oui | J9: 35542 | K9: 0 | M9: 0 | O9: 1997
A10: =A9+IF(D10=D9,0,1) -> 8 | B10: 3 | C10: 6776 | D10: 347587 | E10: 330891 | F10: ND | G10: 63 | H10: N | I10: oui | J10: 35286 | K10: 0 | M10: 0 | O10: 1996
A11: =A10+IF(D11=D10,0,1) -> 9 | B11: 3 | C11: 6776 | D11: 2138198 | E11: 3441603 | F11: ND | G11: 68 | H11: N | I11: oui | J11: 36997 | K11: 0 | M11: 0 | O11: 2001
A12: =A11+IF(D12=D11,0,1) -> 10 | B12: 4 | C12: 2353 | D12: 1945437 | E12: 3174590 | F12: F | G12: 64 | H12: N | I12: oui | J12: 35985 | K12: 0 | M12: 0 | O12: 1998
A13: =A12+IF(D13=D12,0,1) -> 11 | B13: 4 | C13: 2353 | D13: 1967196 | E13: 3159148 | F13: F | G13: 61 | H13: N | I13: oui | J13: 34835 | K13: 0 | M13: 0 | O13: 1995
A14: =A13+IF(D14=D13,0,1) -> 12 | B14: 4 | C14: 2353 | D14: 1967207 | E14: 3178099 | F14: F | G14: 63 | H14: N | I14: oui | J14: 35698 | K14: 0 | M14: 0 | O14: 1997
A15: =A14+IF(D15=D14,0,1) -> 13 | B15: 4 | C15: 2353 | D15: 1969794 | E15: 3177334 | F15: F | G15: 64 | H15: N | I15: oui | J15: 36097 | K15: 0 | M15: 0 | O15: 1998
A16: =A15+IF(D16=D15,0,1) -> 14 | B16: 5 | C16: 3629 | D16: 487615 | E16: 1012320 | F16: H | G16: 62 | H16: 9 | I16: oui | J16: 35107 | K16: 0 | M16: 0 | O16: 1996
A17: =A16+IF(D17=D16,0,1) -> 15 | B17: 6 | C17: 3920 | D17: 1925195 | E17: 3120273 | F17: F | G17: 48 | H17: N | I17: oui | J17: 36308 | K17: 0 | M17: 0 | O17: 1999
A18: =A17+IF(D18=D17,0,1) -> 16 | B18: 6 | C18: 3920 | D18: 4284309 | E18: 6385771 | F18: F | G18: 53 | H18: N | I18: oui | J18: 38034 | K18: 0 | M18: 1 | O18: 2004 | P18: J01DA | Q18: CEPHALOSPORINES ET APPARENTES
A19: =A18+IF(D19=D18,0,1) -> 17 | B19: 6 | C19: 3920 | D19: 7228723 | E19: 10023513 | F19: F | G19: 57 | H19: N | I19: oui | J19: 39699 | K19: 0 | M19: 0 | O19: 2008 | P19: J01CA | Q19: PENICILLINES A LARGE SPECTRE
A20: =A19+IF(D20=D19,0,1) -> 18 | B20: 6 | C20: 3920 | D20: 7229630 | E20: 10024783 | F20: F | G20: 57 | H20: N | I20: oui | J20: 39778 | K20: 0 | M20: 0 | O20: 2008
A21: =A20+IF(D21=D20,0,1) -> 19 | B21: 7 | C21: 5338 | D21: 893815 | E21: 1472553 | F21: F | G21: 37 | H21: P | I21: oui | J21: 35858 | K21: 0 | M21: 0 | O21: 1998
A22: =A21+IF(D22=D21,0,1) -> 20 | B22: 7 | C22: 5338 | D22: 899492 | E22: 1480992 | F22: F | G22: 37 | H22: N | I22: oui | J22: 36134 | K22: 0 | M22: 0 | O22: 1998
A23: =A22+IF(D23=D22,0,1) -> 21 | B23: 7 | C23: 5338 | D23: 3008456 | E23: 4698061 | F23: F | G23: 40 | H23: N | I23: oui | J23: 37120 | K23: 0 | M23: 0 | O23: 2001 | P23: J01FA | Q23: MACROLIDES
A24: =A23+IF(D24=D23,0,1) -> 21 | B24: 7 | C24: 5338 | D24: 3008456 | E24: 4698061 | F24: F | G24: 40 | H24: N | I24: oui | J24: 37120 | K24: 0 | M24: 0 | O24: 2001 | P24: J01FA | Q24: MACROLIDES
A25: =A24+IF(D25=D24,0,1) -> 22 | B25: 8 | C25: 2563 | D25: 4588252 | E25: 6812404 | F25: H | G25: 42 | H25: N | I25: oui | J25: 38092 | K25: 0 | M25: 0 | O25: 2004 | P25: J01CA | Q25: PENICILLINES A LARGE SPECTRE
A26: =A25+IF(D26=D25,0,1) -> 23 | B26: 9 | C26: 6912 | D26: 1712728 | E26: 5457101 | F26: F | G26: 32 | H26: N | I26: oui | J26: 35278 | K26: 0 | M26: 0 | O26: 1996 | P26: J01CE | Q26: PENICILLINES SENSIBLES AUX BETALACTAMASES
A27: =A26+IF(D27=D26,0,1) -> 24 | B27: 9 | C27: 6912 | D27: 1712729 | E27: 5457102 | F27: F | G27: 32 | H27: N | I27: oui | J27: 35313 | K27: 0 | M27: 0 | O27: 1996 | P27: J01FA | Q27: MACROLIDES
A28: =A27+IF(D28=D27,0,1) -> 25 | B28: 9 | C28: 6912 | D28: 1712735 | E28: 5457111 | F28: F | G28: 33 | H28: N | I28: oui | J28: 35667 | K28: 0 | M28: 0 | O28: 1997 | P28: J01FA | Q28: MACROLIDES
A29: =A28+IF(D29=D28,0,1) -> 26 | B29: 10 | C29: 9488 | D29: 5062069 | E29: 7516495 | F29: H | G29: 36 | H29: N | I29: oui | J29: 36624 | K29: 1 | M29: 0 | O29: 2000 | P29: J01CA | Q29: PENICILLINES A LARGE SPECTRE
A30: =A29+IF(D30=D29,0,1) -> 27 | B30: 11 | C30: 7439 | D30: 18164 | E30: 38058 | F30: H | G30: 36 | H30: P | I30: oui | J30: 36593 | K30: 0 | M30: 0 | O30: 2000 | P30: J01CA | Q30: PENICILLINES A LARGE SPECTRE
A31: =A30+IF(D31=D30,0,1) -> 28 | B31: 11 | C31: 7439 | D31: 18484 | E31: 37389 | F31: H | G31: 36 | H31: N | I31: oui | J31: 36571 | K31: 0 | M31: 0 | O31: 2000
A32: =A31+IF(D32=D31,0,1) -> 29 | B32: 11 | C32: 7439 | D32: 18644 | E32: 37152 | F32: H | G32: 36 | H32: N | I32: oui | J32: 36564 | K32: 0 | M32: 0 | O32: 2000
A33: =A32+IF(D33=D32,0,1) -> 30 | B33: 11 | C33: 7439 | D33: 1627413 | E33: 2546092 | F33: H | G33: 37 | H33: N | I33: oui | J33: 37008 | K33: 0 | M33: 0 | O33: 2001
A34: =A33+IF(D34=D33,0,1) -> 31 | B34: 12 | C34: 1784 | D34: 7500184 | E34: 10265026 | F34: H | G34: 31 | H34: N | I34: oui | J34: 38091 | K34: 0 | M34: 0 | O34: 2004 | P34: J01DA | Q34: CEPHALOSPORINES ET APPARENTES
A35: =A34+IF(D35=D34,0,1) -> 32 | B35: 13 | C35: 2564 | D35: 1297246 | E35: 2106280 | F35: H | G35: 11 | H35: P | I35: oui | J35: 35544 | K35: 0 | M35: 0 | O35: 1997 | P35: J01AA | Q35: TETRACYCLINES
A36: =A35+IF(D36=D35,0,1) -> 33 | B36: 13 | C36: 2564 | D36: 1302469 | E36: 2086280 | F36: H | G36: 9 | H36: N | I36: oui | J36: 34737 | K36: 0 | M36: 0 | O36: 1995 | P36: J01FA | Q36: MACROLIDES
A37: =A36+IF(D37=D36,0,1) -> 33 | B37: 13 | C37: 2564 | D37: 1302469 | E37: 2086280 | F37: H | G37: 9 | H37: N | I37: oui | J37: 34737 | K37: 0 | M37: 0 | O37: 1995 | P37: J01FA | Q37: MACROLIDES
A38: =A37+IF(D38=D37,0,1) -> 34 | B38: 14 | C38: 5948 | D38: 8872325 | E38: 12037297 | F38: H | G38: 16 | H38: N | I38: oui | J38: 40520 | K38: 0 | M38: 0 | O38: 2010
A39: =A38+IF(D39=D38,0,1) -> 35 | B39: 15 | C39: 2930 | D39: 5308417 | E39: 7956381 | F39: H | G39: 7 | H39: N | I39: oui | J39: 38723 | K39: 0 | M39: 0 | O39: 2006
A40: =A39+IF(D40=D39,0,1) -> 36 | B40: 15 | C40: 2930 | D40: 5515930 | E40: 8143242 | F40: H | G40: 6 | H40: N | I40: oui | J40: 38609 | K40: 1 | M40: 0 | O40: 2005
...

Sheet Sélection
A1: Pat_U_Seq | B1: Num Med | C1: ACT Id | D1: RC Seq | E1: Genre | F1: Age Norm | G1: Cod Sui | H1: Angine | I1: Dat_ang | J1: AINS | K1: Dur AINS | L1: Cort | M1: Dur cort | N1: Année | O1: Atc Reg N4 Cod | P1: Atc Reg N4 Lib
A2: =IF(ISNA(VLOOKUP(ROW()-1,Original!$A$2:$Q$29,COLUMN()+1,FALSE)),"",VLOOKUP(ROW()-1,Original!$A$2:$Q$29,COLUMN()+1,FALSE)) -> 1 | B2: =IF($A2="","",VLOOKUP(ROW()-1,Original!$A$2:$Q$29,COLUMN()+1,FALSE)) -> 4698 | C2: =IF($A2="","",VLOOKUP(ROW()-1,Original!$A$2:$Q$29,COLUMN()+1,FALSE)) -> 808237 | D2: =IF($A2="","",VLOOKUP(ROW()-1,Original!$A$2:$Q$29,COLUMN()+1,FALSE)) -> 1289929 | E2: =IF($A2="","",VLOOKUP(ROW()-1,Original!$A$2:$Q$29,COLUMN()+1,FALSE)) -> H | F2: =IF($A2="","",VLOOKUP(ROW()-1,Original!$A$2:$Q$29,COLUMN()+1,FALSE)) -> 98 | G2: =IF($A2="","",VLOOKUP(ROW()-1,Original!$A$2:$Q$29,COLUMN()+1,FALSE)) -> N | H2: =IF($A2="","",VLOOKUP(ROW()-1,Original!$A$2:$Q$29,COLUMN()+1,FALSE)) -> oui | I2: =IF($A2="","",VLOOKUP(ROW()-1,Original!$A$2:$Q$29,COLUMN()+1,FALSE)) -> 35858 | ... P2: =IF($A2="","",VLOOKUP(ROW()-1,Original!$A$2:$Q$29,COLUMN()+1,FALSE)) -> 0
A3: =IF(ISNA(VLOOKUP(ROW()-1,Original!$A$2:$Q$29,COLUMN()+1,FALSE)),"",VLOOKUP(ROW()-1,Original!$A$2:$Q$29,COLUMN()+1,FALSE)) -> 1 | B3: =IF($A3="","",VLOOKUP(ROW()-1,Original!$A$2:$Q$29,COLUMN()+1,FALSE)) -> 4698 | C3: =IF($A3="","",VLOOKUP(ROW()-1,Original!$A$2:$Q$29,COLUMN()+1,FALSE)) -> 818108 | D3: =IF($A3="","",VLOOKUP(ROW()-1,Original!$A$2:$Q$29,COLUMN()+1,FALSE)) -> 1257708 | E3: =IF($A3="","",VLOOKUP(ROW()-1,Original!$A$2:$Q$29,COLUMN()+1,FALSE)) -> H | F3: =IF($A3="","",VLOOKUP(ROW()-1,Original!$A$2:$Q$29,COLUMN()+1,FALSE)) -> 95 | G3: =IF($A3="","",VLOOKUP(ROW()-1,Original!$A$2:$Q$29,COLUMN()+1,FALSE)) -> N | H3: =IF($A3="","",VLOOKUP(ROW()-1,Original!$A$2:$Q$29,COLUMN()+1,FALSE)) -> oui | I3: =IF($A3="","",VLOOKUP(ROW()-1,Original!$A$2:$Q$29,COLUMN()+1,FALSE)) -> 34739 | ... P3: =IF($A3="","",VLOOKUP(ROW()-1,Original!$A$2:$Q$29,COLUMN()+1,FALSE)) -> PENICILLINES SENSIBLES AUX BETALACTAMASES
A4: =IF(ISNA(VLOOKUP(ROW()-1,Original!$A$2:$Q$29,COLUMN()+1,FALSE)),"",VLOOKUP(ROW()-1,Original!$A$2:$Q$29,COLUMN()+1,FALSE)) -> 1 | B4: =IF($A4="","",VLOOKUP(ROW()-1,Original!$A$2:$Q$29,COLUMN()+1,FALSE)) -> 4698 | C4: =IF($A4="","",VLOOKUP(ROW()-1,Original!$A$2:$Q$29,COLUMN()+1,FALSE)) -> 818109 | D4: =IF($A4="","",VLOOKUP(ROW()-1,Original!$A$2:$Q$29,COLUMN()+1,FALSE)) -> 1240434 | E4: =IF($A4="","",VLOOKUP(ROW()-1,Original!$A$2:$Q$29,COLUMN()+1,FALSE)) -> H | F4: =IF($A4="","",VLOOKUP(ROW()-1,Original!$A$2:$Q$29,COLUMN()+1,FALSE)) -> 95 | G4: =IF($A4="","",VLOOKUP(ROW()-1,Original!$A$2:$Q$29,COLUMN()+1,FALSE)) -> N | H4: =IF($A4="","",VLOOKUP(ROW()-1,Original!$A$2:$Q$29,COLUMN()+1,FALSE)) -> oui | I4: =IF($A4="","",VLOOKUP(ROW()-1,Original!$A$2:$Q$29,COLUMN()+1,FALSE)) -> 34767 | ... P4: =IF($A4="","",VLOOKUP(ROW()-1,Original!$A$2:$Q$29,COLUMN()+1,FALSE)) -> PENICILLINES SENSIBLES AUX BETALACTAMASES
A5: =IF(ISNA(VLOOKUP(ROW()-1,Original!$A$2:$Q$29,COLUMN()+1,FALSE)),"",VLOOKUP(ROW()-1,Original!$A$2:$Q$29,COLUMN()+1,FALSE)) -> 1 | B5: =IF($A5="","",VLOOKUP(ROW()-1,Original!$A$2:$Q$29,COLUMN()+1,FALSE)) -> 4698 | C5: =IF($A5="","",VLOOKUP(ROW()-1,Original!$A$2:$Q$29,COLUMN()+1,FALSE)) -> 818110 | D5: =IF($A5="","",VLOOKUP(ROW()-1,Original!$A$2:$Q$29,COLUMN()+1,FALSE)) -> 1261473 | E5: =IF($A5="","",VLOOKUP(ROW()-1,Original!$A$2:$Q$29,COLUMN()+1,FALSE)) -> H | F5: =IF($A5="","",VLOOKUP(ROW()-1,Original!$A$2:$Q$29,COLUMN()+1,FALSE)) -> 96 | G5: =IF($A5="","",VLOOKUP(ROW()-1,Original!$A$2:$Q$29,COLUMN()+1,FALSE)) -> N | H5: =IF($A5="","",VLOOKUP(ROW()-1,Original!$A$2:$Q$29,COLUMN()+1,FALSE)) -> oui | I5: =IF($A5="","",VLOOKUP(ROW()-1,Original!$A$2:$Q$29,COLUMN()+1,FALSE)) -> 35082 | ... P5: =IF($A5="","",VLOOKUP(ROW()-1,Original!$A$2:$Q$29,COLUMN()+1,FALSE)) -> PENICILLINES SENSIBLES AUX BETALACTAMASES
A6: =IF(ISNA(VLOOKUP(ROW()-1,Original!$A$2:$Q$29,COLUMN()+1,FALSE)),"",VLOOKUP(ROW()-1,Original!$A$2:$Q$29,COLUMN()+1,FALSE)) -> 1 | B6: =IF($A6="","",VLOOKUP(ROW()-1,Original!$A$2:$Q$29,COLUMN()+1,FALSE)) -> 4698 | C6: =IF($A6="","",VLOOKUP(ROW()-1,Original!$A$2:$Q$29,COLUMN()+1,FALSE)) -> 818111 | D6: =IF($A6="","",VLOOKUP(ROW()-1,Original!$A$2:$Q$29,COLUMN()+1,FALSE)) -> 1250994 | E6: =IF($A6="","",VLOOKUP(ROW()-1,Original!$A$2:$Q$29,COLUMN()+1,FALSE)) -> H | F6: =IF($A6="","",VLOOKUP(ROW()-1,Original!$A$2:$Q$29,COLUMN()+1,FALSE)) -> 96 | G6: =IF($A6="","",VLOOKUP(ROW()-1,Original!$A$2:$Q$29,COLUMN()+1,FALSE)) -> N | H6: =IF($A6="","",VLOOKUP(ROW()-1,Original!$A$2:$Q$29,COLUMN()+1,FALSE)) -> oui | I6: =IF($A6="","",VLOOKUP(ROW()-1,Original!$A$2:$Q$29,COLUMN()+1,FALSE)) -> 35109 | ... P6: =IF($A6="","",VLOOKUP(ROW()-1,Original!$A$2:$Q$29,COLUMN()+1,FALSE)) -> PENICILLINES SENSIBLES AUX BETALACTAMASES
A7: =IF(ISNA(VLOOKUP(ROW()-1,Original!$A$2:$Q$29,COLUMN()+1,FALSE)),"",VLOOKUP(ROW()-1,Original!$A$2:$Q$29,COLUMN()+1,FALSE)) -> 2 | B7: =IF($A7="","",VLOOKUP(ROW()-1,Original!$A$2:$Q$29,COLUMN()+1,FALSE)) -> 9665 | C7: =IF($A7="","",VLOOKUP(ROW()-1,Original!$A$2:$Q$29,COLUMN()+1,FALSE)) -> 5208664 | D7: =IF($A7="","",VLOOKUP(ROW()-1,Original!$A$2:$Q$29,COLUMN()+1,FALSE)) -> 7752160 | E7: =IF($A7="","",VLOOKUP(ROW()-1,Original!$A$2:$Q$29,COLUMN()+1,FALSE)) -> H | F7: =IF($A7="","",VLOOKUP(ROW()-1,Original!$A$2:$Q$29,COLUMN()+1,FALSE)) -> 82 | G7: =IF($A7="","",VLOOKUP(ROW()-1,Original!$A$2:$Q$29,COLUMN()+1,FALSE)) -> N | H7: =IF($A7="","",VLOOKUP(ROW()-1,Original!$A$2:$Q$29,COLUMN()+1,FALSE)) -> oui | I7: =IF($A7="","",VLOOKUP(ROW()-1,Original!$A$2:$Q$29,COLUMN()+1,FALSE)) -> 38525 | ... P7: =IF($A7="","",VLOOKUP(ROW()-1,Original!$A$2:$Q$29,COLUMN()+1,FALSE)) -> MACROLIDES
A8: =IF(ISNA(VLOOKUP(ROW()-1,Original!$A$2:$Q$29,COLUMN()+1,FALSE)),"",VLOOKUP(ROW()-1,Original!$A$2:$Q$29,COLUMN()+1,FALSE)) -> 3 | B8: =IF($A8="","",VLOOKUP(ROW()-1,Original!$A$2:$Q$29,COLUMN()+1,FALSE)) -> 6776 | C8: =IF($A8="","",VLOOKUP(ROW()-1,Original!$A$2:$Q$29,COLUMN()+1,FALSE)) -> 274827 | D8: =IF($A8="","",VLOOKUP(ROW()-1,Original!$A$2:$Q$29,COLUMN()+1,FALSE)) -> 1204738 | E8: =IF($A8="","",VLOOKUP(ROW()-1,Original!$A$2:$Q$29,COLUMN()+1,FALSE)) -> ND | F8: =IF($A8="","",VLOOKUP(ROW()-1,Original!$A$2:$Q$29,COLUMN()+1,FALSE)) -> 64 | G8: =IF($A8="","",VLOOKUP(ROW()-1,Original!$A$2:$Q$29,COLUMN()+1,FALSE)) -> N | H8: =IF($A8="","",VLOOKUP(ROW()-1,Original!$A$2:$Q$29,COLUMN()+1,FALSE)) -> oui | I8: =IF($A8="","",VLOOKUP(ROW()-1,Original!$A$2:$Q$29,COLUMN()+1,FALSE)) -> 35542 | ... P8: =IF($A8="","",VLOOKUP(ROW()-1,Original!$A$2:$Q$29,COLUMN()+1,FALSE)) -> 0
A9: =IF(ISNA(VLOOKUP(ROW()-1,Original!$A$2:$Q$29,COLUMN()+1,FALSE)),"",VLOOKUP(ROW()-1,Original!$A$2:$Q$29,COLUMN()+1,FALSE)) -> 3 | B9: =IF($A9="","",VLOOKUP(ROW()-1,Original!$A$2:$Q$29,COLUMN()+1,FALSE)) -> 6776 | C9: =IF($A9="","",VLOOKUP(ROW()-1,Original!$A$2:$Q$29,COLUMN()+1,FALSE)) -> 347587 | D9: =IF($A9="","",VLOOKUP(ROW()-1,Original!$A$2:$Q$29,COLUMN()+1,FALSE)) -> 330891 | E9: =IF($A9="","",VLOOKUP(ROW()-1,Original!$A$2:$Q$29,COLUMN()+1,FALSE)) -> ND | F9: =IF($A9="","",VLOOKUP(ROW()-1,Original!$A$2:$Q$29,COLUMN()+1,FALSE)) -> 63 | G9: =IF($A9="","",VLOOKUP(ROW()-1,Original!$A$2:$Q$29,COLUMN()+1,FALSE)) -> N | H9: =IF($A9="","",VLOOKUP(ROW()-1,Original!$A$2:$Q$29,COLUMN()+1,FALSE)) -> oui | I9: =IF($A9="","",VLOOKUP(ROW()-1,Original!$A$2:$Q$29,COLUMN()+1,FALSE)) -> 35286 | ... P9: =IF($A9="","",VLOOKUP(ROW()-1,Original!$A$2:$Q$29,COLUMN()+1,FALSE)) -> 0
A10: =IF(ISNA(VLOOKUP(ROW()-1,Original!$A$2:$Q$29,COLUMN()+1,FALSE)),"",VLOOKUP(ROW()-1,Original!$A$2:$Q$29,COLUMN()+1,FALSE)) -> 3 | B10: =IF($A10="","",VLOOKUP(ROW()-1,Original!$A$2:$Q$29,COLUMN()+1,FALSE)) -> 6776 | C10: =IF($A10="","",VLOOKUP(ROW()-1,Original!$A$2:$Q$29,COLUMN()+1,FALSE)) -> 2138198 | D10: =IF($A10="","",VLOOKUP(ROW()-1,Original!$A$2:$Q$29,COLUMN()+1,FALSE)) -> 3441603 | E10: =IF($A10="","",VLOOKUP(ROW()-1,Original!$A$2:$Q$29,COLUMN()+1,FALSE)) -> ND | F10: =IF($A10="","",VLOOKUP(ROW()-1,Original!$A$2:$Q$29,COLUMN()+1,FALSE)) -> 68 | G10: =IF($A10="","",VLOOKUP(ROW()-1,Original!$A$2:$Q$29,COLUMN()+1,FALSE)) -> N | H10: =IF($A10="","",VLOOKUP(ROW()-1,Original!$A$2:$Q$29,COLUMN()+1,FALSE)) -> oui | I10: =IF($A10="","",VLOOKUP(ROW()-1,Original!$A$2:$Q$29,COLUMN()+1,FALSE)) -> 36997 | ... P10: =IF($A10="","",VLOOKUP(ROW()-1,Original!$A$2:$Q$29,COLUMN()+1,FALSE)) -> 0
A11: =IF(ISNA(VLOOKUP(ROW()-1,Original!$A$2:$Q$29,COLUMN()+1,FALSE)),"",VLOOKUP(ROW()-1,Original!$A$2:$Q$29,COLUMN()+1,FALSE)) -> 4 | B11: =IF($A11="","",VLOOKUP(ROW()-1,Original!$A$2:$Q$29,COLUMN()+1,FALSE)) -> 2353 | C11: =IF($A11="","",VLOOKUP(ROW()-1,Original!$A$2:$Q$29,COLUMN()+1,FALSE)) -> 1945437 | D11: =IF($A11="","",VLOOKUP(ROW()-1,Original!$A$2:$Q$29,COLUMN()+1,FALSE)) -> 3174590 | E11: =IF($A11="","",VLOOKUP(ROW()-1,Original!$A$2:$Q$29,COLUMN()+1,FALSE)) -> F | F11: =IF($A11="","",VLOOKUP(ROW()-1,Original!$A$2:$Q$29,COLUMN()+1,FALSE)) -> 64 | G11: =IF($A11="","",VLOOKUP(ROW()-1,Original!$A$2:$Q$29,COLUMN()+1,FALSE)) -> N | H11: =IF($A11="","",VLOOKUP(ROW()-1,Original!$A$2:$Q$29,COLUMN()+1,FALSE)) -> oui | I11: =IF($A11="","",VLOOKUP(ROW()-1,Original!$A$2:$Q$29,COLUMN()+1,FALSE)) -> 35985 | ... P11: =IF($A11="","",VLOOKUP(ROW()-1,Original!$A$2:$Q$29,COLUMN()+1,FALSE)) -> 0
A12: =IF(ISNA(VLOOKUP(ROW()-1,Original!$A$2:$Q$29,COLUMN()+1,FALSE)),"",VLOOKUP(ROW()-1,Original!$A$2:$Q$29,COLUMN()+1,FALSE)) -> 4 | B12: =IF($A12="","",VLOOKUP(ROW()-1,Original!$A$2:$Q$29,COLUMN()+1,FALSE)) -> 2353 | C12: =IF($A12="","",VLOOKUP(ROW()-1,Original!$A$2:$Q$29,COLUMN()+1,FALSE)) -> 1967196 | D12: =IF($A12="","",VLOOKUP(ROW()-1,Original!$A$2:$Q$29,COLUMN()+1,FALSE)) -> 3159148 | E12: =IF($A12="","",VLOOKUP(ROW()-1,Original!$A$2:$Q$29,COLUMN()+1,FALSE)) -> F | F12: =IF($A12="","",VLOOKUP(ROW()-1,Original!$A$2:$Q$29,COLUMN()+1,FALSE)) -> 61 | G12: =IF($A12="","",VLOOKUP(ROW()-1,Original!$A$2:$Q$29,COLUMN()+1,FALSE)) -> N | H12: =IF($A12="","",VLOOKUP(ROW()-1,Original!$A$2:$Q$29,COLUMN()+1,FALSE)) -> oui | I12: =IF($A12="","",VLOOKUP(ROW()-1,Original!$A$2:$Q$29,COLUMN()+1,FALSE)) -> 34835 | ... P12: =IF($A12="","",VLOOKUP(ROW()-1,Original!$A$2:$Q$29,COLUMN()+1,FALSE)) -> 0
A13: =IF(ISNA(VLOOKUP(ROW()-1,Original!$A$2:$Q$29,COLUMN()+1,FALSE)),"",VLOOKUP(ROW()-1,Original!$A$2:$Q$29,COLUMN()+1,FALSE)) -> 4 | B13: =IF($A13="","",VLOOKUP(ROW()-1,Original!$A$2:$Q$29,COLUMN()+1,FALSE)) -> 2353 | C13: =IF($A13="","",VLOOKUP(ROW()-1,Original!$A$2:$Q$29,COLUMN()+1,FALSE)) -> 1967207 | D13: =IF($A13="","",VLOOKUP(ROW()-1,Original!$A$2:$Q$29,COLUMN()+1,FALSE)) -> 3178099 | E13: =IF($A13="","",VLOOKUP(ROW()-1,Original!$A$2:$Q$29,COLUMN()+1,FALSE)) -> F | F13: =IF($A13="","",VLOOKUP(ROW()-1,Original!$A$2:$Q$29,COLUMN()+1,FALSE)) -> 63 | G13: =IF($A13="","",VLOOKUP(ROW()-1,Original!$A$2:$Q$29,COLUMN()+1,FALSE)) -> N | H13: =IF($A13="","",VLOOKUP(ROW()-1,Original!$A$2:$Q$29,COLUMN()+1,FALSE)) -> oui | I13: =IF($A13="","",VLOOKUP(ROW()-1,Original!$A$2:$Q$29,COLUMN()+1,FALSE)) -> 35698 | ... P13: =IF($A13="","",VLOOKUP(ROW()-1,Original!$A$2:$Q$29,COLUMN()+1,FALSE)) -> 0
... A201: =IF(ISNA(VLOOKUP(ROW()-1,Original!$A$2:$Q$29,COLUMN()+1,FALSE)),"",VLOOKUP(ROW()-1,Original!$A$2:$Q$29,COLUMN()+1,FALSE)) | B201: =IF($A201="","",VLOOKUP(ROW()-1,Original!$A$2:$Q$29,COLUMN()+1,FALSE)) | C201: =IF($A201="","",VLOOKUP(ROW()-1,Original!$A$2:$Q$29,COLUMN()+1,FALSE)) | D201: =IF($A201="","",VLOOKUP(ROW()-1,Original!$A$2:$Q$29,COLUMN()+1,FALSE)) | E201: =IF($A201="","",VLOOKUP(ROW()-1,Original!$A$2:$Q$29,COLUMN()+1,FALSE)) | F201: =IF($A201="","",VLOOKUP(ROW()-1,Original!$A$2:$Q$29,COLUMN()+1,FALSE)) | G201: =IF($A201="","",VLOOKUP(ROW()-1,Original!$A$2:$Q$29,COLUMN()+1,FALSE)) | H201: =IF($A201="","",VLOOKUP(ROW()-1,Original!$A$2:$Q$29,COLUMN()+1,FALSE)) | I201: =IF($A201="","",VLOOKUP(ROW()-1,Original!$A$2:$Q$29,COLUMN()+1,FALSE)) | ... P201: =IF($A201="","",VLOOKUP(ROW()-1,Original!$A$2:$Q$29,COLUMN()+1,FALSE))
