Workbook

Sheet Original
B1: Pat_U_Seq | C1: Num Med | D1: ACT Id | E1: RC Seq | F1: Genre | G1: Age Norm | H1: Cod Sui | I1: Angine | J1: Dat_ang | K1: AINS | L1: Dur AINS | M1: Cort | N1: Dur cort | O1: Année | P1: Atc Reg N4 Cod | Q1: Atc Reg N4 Lib
A2: =A1+IF(D2=D1,0,1) -> 1 | B2: 1 | C2: 4698 | D2: 808237 | E2: 1289929 | F2: H | G2: 98 | H2: N | I2: oui | J2: 35858 | K2: 0 | M2: 0 | O2: 1998
A3: =A2+IF(D3=D2,0,1) -> 2 | B3: 1 | C3: 4698 | D3: 818108 | E3: 1257708 | F3: H | G3: 95 | H3: N | I3: oui | J3: 34739 | K3: 0 | M3: 0 | O3: 1995 | P3: J01CE | Q3: PENICILLINES SENSIBLES AUX BETALACTAMASES
A4: =A3+IF(D4=D3,0,1) -> 3 | B4: 1 | C4: 4698 | D4: 818109 | E4: 1240434 | F4: H | G4: 95 | H4: N | I4: oui | J4: 34767 | K4: 1 | L4: 1 | M4: 0 | O4: 1995 | P4: J01CE | Q4: PENICILLINES SENSIBLES AUX BETALACTAMASES
A5: =A4+IF(D5=D4,0,1) -> 4 | B5: 1 | C5: 4698 | D5: 818110 | E5: 1261473 | F5: H | G5: 96 | H5: N | I5: oui | J5: 35082 | K5: 0 | M5: 0 | O5: 1996 | P5: J01CE | Q5: PENICILLINES SENSIBLES AUX BETALACTAMASES
A6: =A5+IF(D6=D5,0,1) -> 5 | B6: 1 | C6: 4698 | D6: 818111 | E6: 1250994 | F6: H | G6: 96 | H6: N | I6: oui | J6: 35109 | K6: 0 | M6: 0 | O6: 1996 | P6: J01CE | Q6: PENICILLINES SENSIBLES AUX BETALACTAMASES
A7: =A6+IF(D7=D6,0,1) -> 5 | B7: 1 | C7: 4698 | D7: 818111 | E7: 1250994 | F7: H | G7: 96 | H7: N | I7: oui | J7: 35109 | K7: 0 | M7: 0 | O7: 1996 | P7: J01CA | Q7: PENICILLINES A LARGE SPECTRE
A8: =A7+IF(D8=D7,0,1) -> 6 | B8: 2 | C8: 9665 | D8: 5208664 | E8: 7752160 | F8: H | G8: 82 | H8: N | I8: oui | J8: 38525 | K8: 1 | L8: 5 | M8: 0 | O8: 2005 | P8: J01FA | Q8: MACROLIDES
A9: =A8+IF(D9=D8,0,1) -> 7 | B9: 3 | C9: 6776 | D9: 274827 | E9: 1204738 | F9: ND | G9: 64 | H9: N | I9: oui | J9: 35542 | K9: 0 | M9: 0 | O9: 1997
A10: =A9+IF(D10=D9,0,1) -> 8 | B10: 3 | C10: 6776 | D10: 347587 | E10: 330891 | F10: ND | G10: 63 | H10: N | I10: oui | J10: 35286 | K10: 0 | M10: 0 | O10: 1996
A11: =A10+IF(D11=D10,0,1) -> 9 | B11: 3 | C11: 6776 | D11: 2138198 | E11: 3441603 | F11: ND | G11: 68 | H11: N | I11: oui | J11: 36997 | K11: 0 | M11: 0 | O11: 2001
A12: =A11+IF(D12=D11,0,1) -> 10 | B12: 4 | C12: 2353 | D12: 1945437 | E12: 3174590 | F12: F | G12: 64 | H12: N | I12: oui | J12: 35985 | K12: 0 | M12: 0 | O12: 1998
A13: =A12+IF(D13=D12,0,1) -> 11 | B13: 4 | C13: 2353 | D13: 1967196 | E13: 3159148 | F13: F | G13: 61 | H13: N | I13: oui | J13: 34835 | K13: 0 | M13: 0 | O13: 1995
A14: =A13+IF(D14=D13,0,1) -> 12 | B14: 4 | C14: 2353 | D14: 1967207 | E14: 3178099 | F14: F | G14: 63 | H14: N | I14: oui | J14: 35698 | K14: 0 | M14: 0 | O14: 1997
A15: =A14+IF(D15=D14,0,1) -> 13 | B15: 4 | C15: 2353 | D15: 1969794 | E15: 3177334 | F15: F | G15: 64 | H15: N | I15: oui | J15: 36097 | K15: 0 | M15: 0 | O15: 1998
A16: =A15+IF(D16=D15,0,1) -> 14 | B16: 5 | C16: 3629 | D16: 487615 | E16: 1012320 | F16: H | G16: 62 | H16: 9 | I16: oui | J16: 35107 | K16: 0 | M16: 0 | O16: 1996
A17: =A16+IF(D17=D16,0,1) -> 15 | B17: 6 | C17: 3920 | D17: 1925195 | E17: 3120273 | F17: F | G17: 48 | H17: N | I17: oui | J17: 36308 | K17: 0 | M17: 0 | O17: 1999
A18: =A17+IF(D18=D17,0,1) -> 16 | B18: 6 | C18: 3920 | D18: 4284309 | E18: 6385771 | F18: F | G18: 53 | H18: N | I18: oui | J18: 38034 | K18: 0 | M18: 1 | O18: 2004 | P18: J01DA | Q18: CEPHALOSPORINES ET APPARENTES
A19: =A18+IF(D19=D18,0,1) -> 17 | B19: 6 | C19: 3920 | D19: 7228723 | E19: 10023513 | F19: F | G19: 57 | H19: N | I19: oui | J19: 39699 | K19: 0 | M19: 0 | O19: 2008 | P19: J01CA | Q19: PENICILLINES A LARGE SPECTRE
A20: =A19+IF(D20=D19,0,1) -> 18 | B20: 6 | C20: 3920 | D20: 7229630 | E20: 10024783 | F20: F | G20: 57 | H20: N | I20: oui | J20: 39778 | K20: 0 | M20: 0 | O20: 2008
A21: =A20+IF(D21=D20,0,1) -> 19 | B21: 7 | C21: 5338 | D21: 893815 | E21: 1472553 | F21: F | G21: 37 | H21: P | I21: oui | J21: 35858 | K21: 0 | M21: 0 | O21: 1998
A22: =A21+IF(D22=D21,0,1) -> 20 | B22: 7 | C22: 5338 | D22: 899492 | E22: 1480992 | F22: F | G22: 37 | H22: N | I22: oui | J22: 36134 | K22: 0 | M22: 0 | O22: 1998
A23: =A22+IF(D23=D22,0,1) -> 21 | B23: 7 | C23: 5338 | D23: 3008456 | E23: 4698061 | F23: F | G23: 40 | H23: N | I23: oui | J23: 37120 | K23: 0 | M23: 0 | O23: 2001 | P23: J01FA | Q23: MACROLIDES
A24: =A23+IF(D24=D23,0,1) -> 21 | B24: 7 | C24: 5338 | D24: 3008456 | E24: 4698061 | F24: F | G24: 40 | H24: N | I24: oui | J24: 37120 | K24: 0 | M24: 0 | O24: 2001 | P24: J01FA | Q24: MACROLIDES
A25: =A24+IF(D25=D24,0,1) -> 22 | B25: 8 | C25: 2563 | D25: 4588252 | E25: 6812404 | F25: H | G25: 42 | H25: N | I25: oui | J25: 38092 | K25: 0 | M25: 0 | O25: 2004 | P25: J01CA | Q25: PENICILLINES A LARGE SPECTRE
A26: =A25+IF(D26=D25,0,1) -> 23 | B26: 9 | C26: 6912 | D26: 1712728 | E26: 5457101 | F26: F | G26: 32 | H26: N | I26: oui | J26: 35278 | K26: 0 | M26: 0 | O26: 1996 | P26: J01CE | Q26: PENICILLINES SENSIBLES AUX BETALACTAMASES
A27: =A26+IF(D27=D26,0,1) -> 24 | B27: 9 | C27: 6912 | D27: 1712729 | E27: 5457102 | F27: F | G27: 32 | H27: N | I27: oui | J27: 35313 | K27: 0 | M27: 0 | O27: 1996 | P27: J01FA | Q27: MACROLIDES
A28: =A27+IF(D28=D27,0,1) -> 25 | B28: 9 | C28: 6912 | D28: 1712735 | E28: 5457111 | F28: F | G28: 33 | H28: N | I28: oui | J28: 35667 | K28: 0 | M28: 0 | O28: 1997 | P28: J01FA | Q28: MACROLIDES
A29: =A28+IF(D29=D28,0,1) -> 26 | B29: 10 | C29: 9488 | D29: 5062069 | E29: 7516495 | F29: H | G29: 36 | H29: N | I29: oui | J29: 36624 | K29: 1 | M29: 0 | O29: 2000 | P29: J01CA | Q29: PENICILLINES A LARGE SPECTRE
A30: =A29+IF(D30=D29,0,1) -> 27 | B30: 11 | C30: 7439 | D30: 18164 | E30: 38058 | F30: H | G30: 36 | H30: P | I30: oui | J30: 36593 | K30: 0 | M30: 0 | O30: 2000 | P30: J01CA | Q30: PENICILLINES A LARGE SPECTRE
A31: =A30+IF(D31=D30,0,1) -> 28 | B31: 11 | C31: 7439 | D31: 18484 | E31: 37389 | F31: H | G31: 36 | H31: N | I31: oui | J31: 36571 | K31: 0 | M31: 0 | O31: 2000
A32: =A31+IF(D32=D31,0,1) -> 29 | B32: 11 | C32: 7439 | D32: 18644 | E32: 37152 | F32: H | G32: 36 | H32: N | I32: oui | J32: 36564 | K32: 0 | M32: 0 | O32: 2000
A33: =A32+IF(D33=D32,0,1) -> 30 | B33: 11 | C33: 7439 | D33: 1627413 | E33: 2546092 | F33: H | G33: 37 | H33: N | I33: oui | J33: 37008 | K33: 0 | M33: 0 | O33: 2001
A34: =A33+IF(D34=D33,0,1) -> 31 | B34: 12 | C34: 1784 | D34: 7500184 | E34: 10265026 | F34: H | G34: 31 | H34: N | I34: oui | J34: 38091 | K34: 0 | M34: 0 | O34: 2004 | P34: J01DA | Q34: CEPHALOSPORINES ET APPARENTES
A35: =A34+IF(D35=D34,0,1) -> 32 | B35: 13 | C35: 2564 | D35: 1297246 | E35: 2106280 | F35: H | G35: 11 | H35: P | I35: oui | J35: 35544 | K35: 0 | M35: 0 | O35: 1997 | P35: J01AA | Q35: TETRACYCLINES
A36: =A35+IF(D36=D35,0,1) -> 33 | B36: 13 | C36: 2564 | D36: 1302469 | E36: 2086280 | F36: H | G36: 9 | H36: N | I36: oui | J36: 34737 | K36: 0 | M36: 0 | O36: 1995 | P36: J01FA | Q36: MACROLIDES
A37: =A36+IF(D37=D36,0,1) -> 33 | B37: 13 | C37: 2564 | D37: 1302469 | E37: 2086280 | F37: H | G37: 9 | H37: N | I37: oui | J37: 34737 | K37: 0 | M37: 0 | O37: 1995 | P37: J01FA | Q37: MACROLIDES
A38: =A37+IF(D38=D37,0,1) -> 34 | B38: 14 | C38: 5948 | D38: 8872325 | E38: 12037297 | F38: H | G38: 16 | H38: N | I38: oui | J38: 40520 | K38: 0 | M38: 0 | O38: 2010
A39: =A38+IF(D39=D38,0,1) -> 35 | B39: 15 | C39: 2930 | D39: 5308417 | E39: 7956381 | F39: H | G39: 7 | H39: N | I39: oui | J39: 38723 | K39: 0 | M39: 0 | O39: 2006
A40: =A39+IF(D40=D39,0,1) -> 36 | B40: 15 | C40: 2930 | D40: 5515930 | E40: 8143242 | F40: H | G40: 6 | H40: N | I40: oui | J40: 38609 | K40: 1 | M40: 0 | O40: 2005
A41: =A40+IF(D41=D40,0,1) -> 37 | B41: 15 | C41: 2930 | D41: 6037646 | E41: 8747683 | F41: H | G41: 7 | H41: N | I41: oui | J41: 38880 | K41: 0 | M41: 0 | O41: 2006 | P41: J01CA | Q41: PENICILLINES A LARGE SPECTRE
A42: =A41+IF(D42=D41,0,1) -> 38 | B42: 15 | C42: 2930 | D42: 7024306 | E42: 9814919 | F42: H | G42: 9 | H42: N | I42: oui | J42: 39489 | K42: 1 | M42: 0 | O42: 2008
A43: =A42+IF(D43=D42,0,1) -> 39 | B43: 16 | C43: 3524 | D43: 2911965 | E43: 4573610 | F43: F | G43: 48 | H43: N | I43: oui | J43: 36083 | K43: 0 | M43: 0 | O43: 1998 | P43: J01CA | Q43: PENICILLINES A LARGE SPECTRE
A44: =A43+IF(D44=D43,0,1) -> 39 | B44: 16 | C44: 3524 | D44: 2911965 | E44: 4573610 | F44: F | G44: 48 | H44: N | I44: oui | J44: 36083 | K44: 0 | M44: 0 | O44: 1998 | P44: J01CA | Q44: PENICILLINES A LARGE SPECTRE
A45: =A44+IF(D45=D44,0,1) -> 40 | B45: 17 | C45: 5338 | D45: 3011833 | E45: 4704617 | F45: F | G45: 42 | H45: N | I45: oui | J45: 37263 | K45: 0 | M45: 0 | O45: 2002 | P45: J01FA | Q45: MACROLIDES
A46: =A45+IF(D46=D45,0,1) -> 41 | B46: 18 | C46: 3920 | D46: 1898797 | E46: 3122732 | F46: F | G46: 16 | H46: N | I46: oui | J46: 36078 | K46: 1 | M46: 0 | O46: 1998 | P46: J01CA | Q46: PENICILLINES A LARGE SPECTRE
A47: =A46+IF(D47=D46,0,1) -> 42 | B47: 18 | C47: 3920 | D47: 1913768 | E47: 3118619 | F47: F | G47: 13 | H47: N | I47: oui | J47: 34772 | K47: 0 | M47: 0 | O47: 1995 | P47: J01CA | Q47: PENICILLINES A LARGE SPECTRE
A48: =A47+IF(D48=D47,0,1) -> 43 | B48: 18 | C48: 3920 | D48: 1913769 | E48: 3101867 | F48: F | G48: 13 | H48: N | I48: oui | J48: 34863 | K48: 1 | M48: 0 | O48: 1995 | P48: J01CR | Q48: ASSOCIATIONS DE PENICILLINES, INHIBITEURS DE BETALACTAMASE INCLUS
A49: =A48+IF(D49=D48,0,1) -> 44 | B49: 18 | C49: 3920 | D49: 1913777 | E49: 3099977 | F49: F | G49: 15 | H49: N | I49: oui | J49: 35517 | K49: 0 | M49: 0 | O49: 1997 | P49: J01CA | Q49: PENICILLINES A LARGE SPECTRE
A50: =A49+IF(D50=D49,0,1) -> 45 | B50: 18 | C50: 3920 | D50: 1916017 | E50: 3085938 | F50: F | G50: 14 | H50: N | I50: oui | J50: 35075 | K50: 0 | M50: 0 | O50: 1996 | P50: J01DA | Q50: CEPHALOSPORINES ET APPARENTES
A51: =A50+IF(D51=D50,0,1) -> 46 | B51: 18 | C51: 3920 | D51: 1922548 | E51: 3125000 | F51: F | G51: 18 | H51: N | I51: oui | J51: 36556 | K51: 1 | M51: 0 | O51: 2000 | P51: J01CR | Q51: ASSOCIATIONS DE PENICILLINES, INHIBITEURS DE BETALACTAMASE INCLUS
A52: =A51+IF(D52=D51,0,1) -> 47 | B52: 18 | C52: 3920 | D52: 1923796 | E52: 3117843 | F52: F | G52: 17 | H52: N | I52: oui | J52: 36445 | K52: 0 | M52: 0 | O52: 1999 | P52: J01CA | Q52: PENICILLINES A LARGE SPECTRE
A53: =A52+IF(D53=D52,0,1) -> 48 | B53: 18 | C53: 3920 | D53: 4011373 | E53: 6051645 | F53: F | G53: 21 | H53: N | I53: oui | J53: 37627 | K53: 0 | M53: 0 | O53: 2003 | P53: J01CA | Q53: PENICILLINES A LARGE SPECTRE
A54: =A53+IF(D54=D53,0,1) -> 49 | B54: 18 | C54: 3920 | D54: 4011759 | E54: 6052199 | F54: F | G54: 21 | H54: N | I54: oui | J54: 37658 | K54: 0 | M54: 0 | O54: 2003 | P54: J01CA | Q54: PENICILLINES A LARGE SPECTRE
... A56: =A55+IF(D56=D55,0,1) -> 51 | B56: 19 | C56: 2460 | D56: 713961 | E56: 749925 | F56: F | G56: 11 | H56: N | I56: oui | J56: 35286 | K56: 0 | M56: 0 | O56: 1996 | P56: J01CE | Q56: PENICILLINES SENSIBLES AUX BETALACTAMASES
A57: =A56+IF(D57=D56,0,1) -> 52 | B57: 20 | C57: 9665 | D57: 6054992 | E57: 8780804 | F57: F | G57: 17 | H57: N | I57: oui | J57: 39003 | K57: 0 | M57: 0 | O57: 2006
A58: =A57+IF(D58=D57,0,1) -> 53 | B58: 20 | C58: 9665 | D58: 6250324 | E58: 8996024 | F58: F | G58: 18 | H58: N | I58: oui | J58: 39209 | K58: 0 | M58: 0 | O58: 2007
A59: =A58+IF(D59=D58,0,1) -> 54 | B59: 21 | C59: 7349 | D59: 5824130 | E59: 8652535 | F59: H | G59: 13 | H59: N | I59: oui | J59: 38615 | K59: 1 | L59: 5 | M59: 0 | O59: 2005 | P59: J01FA | Q59: MACROLIDES
A60: =A59+IF(D60=D59,0,1) -> 55 | B60: 22 | C60: 5948 | D60: 220432 | E60: 991696 | F60: H | G60: 1 | H60: N | I60: oui | J60: 34904 | K60: 0 | M60: 0 | O60: 1995 | P60: J01CA | Q60: PENICILLINES A LARGE SPECTRE
A61: =A60+IF(D61=D60,0,1) -> 56 | B61: 22 | C61: 5948 | D61: 220434 | E61: 991701 | F61: H | G61: 1 | H61: N | I61: oui | J61: 34906 | K61: 1 | M61: 0 | O61: 1995 | P61: J01CE | Q61: PENICILLINES SENSIBLES AUX BETALACTAMASES
A62: =A61+IF(D62=D61,0,1) -> 57 | B62: 22 | C62: 5948 | D62: 220435 | E62: 991703 | F62: H | G62: 1 | H62: N | I62: oui | J62: 34909 | K62: 1 | M62: 0 | O62: 1995 | P62: J01FA | Q62: MACROLIDES
A63: =A62+IF(D63=D62,0,1) -> 57 | B63: 22 | C63: 5948 | D63: 220435 | E63: 991703 | F63: H | G63: 1 | H63: N | I63: oui | J63: 34909 | K63: 1 | M63: 0 | O63: 1995 | P63: J01FG | Q63: STREPTOGRAMINES
A64: =A63+IF(D64=D63,0,1) -> 58 | B64: 22 | C64: 5948 | D64: 220483 | E64: 991674 | F64: H | G64: 1 | H64: N | I64: oui | J64: 34823 | K64: 0 | M64: 0 | O64: 1995
A65: =A64+IF(D65=D64,0,1) -> 59 | B65: 23 | C65: 7039 | D65: 3745677 | E65: 5590632 | F65: F | G65: 4 | H65: N | I65: oui | J65: 37152 | K65: 0 | M65: 0 | O65: 2001 | P65: J01CA | Q65: PENICILLINES A LARGE SPECTRE
A66: =A65+IF(D66=D65,0,1) -> 60 | B66: 23 | C66: 7039 | D66: 3749473 | E66: 5605925 | F66: F | G66: 5 | H66: N | I66: oui | J66: 37432 | K66: 0 | M66: 0 | O66: 2002 | P66: J01CE | Q66: PENICILLINES SENSIBLES AUX BETALACTAMASES
A67: =A66+IF(D67=D66,0,1) -> 61 | B67: 24 | C67: 5826 | D67: 1462904 | E67: 2286226 | F67: H | G67: 3 | H67: N | I67: oui | J67: 36614 | K67: 0 | M67: 0 | O67: 2000 | P67: J01FA | Q67: MACROLIDES
A68: =A67+IF(D68=D67,0,1) -> 62 | B68: 24 | C68: 5826 | D68: 3901220 | E68: 5828018 | F68: H | G68: 5 | H68: N | I68: oui | J68: 37286 | K68: 0 | M68: 0 | O68: 2002 | P68: J01FA | Q68: MACROLIDES
A69: =A68+IF(D69=D68,0,1) -> 63 | B69: 24 | C69: 5826 | D69: 3903535 | E69: 5833887 | F69: H | G69: 5 | H69: N | I69: oui | J69: 37466 | K69: 0 | M69: 0 | O69: 2002 | P69: J01CE | Q69: PENICILLINES SENSIBLES AUX BETALACTAMASES
A70: =A69+IF(D70=D69,0,1) -> 64 | B70: 25 | C70: 6743 | D70: 3803194 | E70: 5707714 | F70: F | G70: 50 | H70: N | I70: oui | J70: 37478 | K70: 0 | M70: 0 | O70: 2002
A71: =A70+IF(D71=D70,0,1) -> 65 | B71: 25 | C71: 4842 | D71: 4212232 | E71: 6268630 | F71: F | G71: 51 | H71: N | I71: oui | J71: 37929 | K71: 1 | M71: 0 | O71: 2003 | P71: J01MA | Q71: FLUOROQUINOLONES
A72: =A71+IF(D72=D71,0,1) -> 66 | B72: 25 | C72: 4842 | D72: 5274853 | E72: 7925130 | F72: F | G72: 53 | H72: N | I72: oui | J72: 38468 | K72: 0 | M72: 0 | O72: 2005
A73: =A72+IF(D73=D72,0,1) -> 67 | B73: 25 | C73: 4842 | D73: 5274946 | E73: 7925549 | F73: F | G73: 53 | H73: P | I73: oui | J73: 38475 | K73: 0 | M73: 0 | O73: 2005
A74: =A73+IF(D74=D73,0,1) -> 68 | B74: 26 | C74: 4811 | D74: 5514948 | E74: 8151695 | F74: F | G74: 42 | H74: N | I74: oui | J74: 38887 | K74: 0 | M74: 0 | O74: 2006 | P74: J01CA | Q74: PENICILLINES A LARGE SPECTRE
A75: =A74+IF(D75=D74,0,1) -> 69 | B75: 27 | C75: 2564 | D75: 1302471 | E75: 2102390 | F75: H | G75: 25 | H75: N | I75: oui | J75: 34881 | K75: 0 | M75: 0 | O75: 1995 | P75: J01FA | Q75: MACROLIDES
A76: =A75+IF(D76=D75,0,1) -> 70 | B76: 28 | C76: 7741 | D76: 1480291 | E76: 2320475 | F76: F | G76: 4 | H76: N | I76: oui | J76: 34843 | K76: 0 | M76: 0 | O76: 1995
A77: =A76+IF(D77=D76,0,1) -> 71 | B77: 28 | C77: 7741 | D77: 1480292 | E77: 2371191 | F77: F | G77: 4 | H77: N | I77: oui | J77: 34876 | K77: 0 | M77: 0 | O77: 1995
A78: =A77+IF(D78=D77,0,1) -> 72 | B78: 28 | C78: 7741 | D78: 1480294 | E78: 2357068 | F78: F | G78: 5 | H78: N | I78: oui | J78: 35115 | K78: 0 | M78: 0 | O78: 1996
A79: =A78+IF(D79=D78,0,1) -> 73 | B79: 28 | C79: 7741 | D79: 1480295 | E79: 2344412 | F79: F | G79: 5 | H79: N | I79: oui | J79: 35287 | K79: 0 | M79: 0 | O79: 1996
A80: =A79+IF(D80=D79,0,1) -> 74 | B80: 29 | C80: 2892 | D80: 2983462 | E80: 4671867 | F80: H | G80: 7 | H80: N | I80: oui | J80: 37075 | K80: 0 | M80: 0 | O80: 2001
A81: =A80+IF(D81=D80,0,1) -> 75 | B81: 29 | C81: 3717 | D81: 4889144 | E81: 7237760 | F81: H | G81: 7 | H81: N | I81: oui | J81: 37075 | K81: 0 | M81: 0 | O81: 2001 | P81: J01CA | Q81: PENICILLINES A LARGE SPECTRE
A82: =A81+IF(D82=D81,0,1) -> 76 | B82: 30 | C82: 5948 | D82: 220410 | E82: 991843 | F82: H | G82: 0 | H82: N | I82: oui | J82: 35265 | K82: 0 | M82: 1 | O82: 1996 | P82: J01RA | Q82: ASSOCIATIONS D'ANTIBACTERIENS
A83: =A82+IF(D83=D82,0,1) -> 76 | B83: 30 | C83: 5948 | D83: 220410 | E83: 991843 | F83: H | G83: 0 | H83: N | I83: oui | J83: 35265 | K83: 0 | M83: 1 | O83: 1996 | P83: J01FA | Q83: MACROLIDES
A84: =A83+IF(D84=D83,0,1) -> 76 | B84: 30 | C84: 5948 | D84: 220410 | E84: 991843 | F84: H | G84: 0 | H84: N | I84: oui | J84: 35265 | K84: 0 | M84: 1 | O84: 1996 | P84: J01FA | Q84: MACROLIDES
A85: =A84+IF(D85=D84,0,1) -> 76 | B85: 30 | C85: 5948 | D85: 220410 | E85: 991843 | F85: H | G85: 0 | H85: N | I85: oui | J85: 35265 | K85: 0 | M85: 1 | O85: 1996 | P85: J01CF | Q85: PENICILLINES RESISTANTES AUX BETALACTAMASES
A86: =A85+IF(D86=D85,0,1) -> 76 | B86: 30 | C86: 5948 | D86: 220410 | E86: 991843 | F86: H | G86: 0 | H86: N | I86: oui | J86: 35265 | K86: 0 | M86: 1 | O86: 1996 | P86: J01FA | Q86: MACROLIDES
A87: =A86+IF(D87=D86,0,1) -> 76 | B87: 30 | C87: 5948 | D87: 220410 | E87: 991843 | F87: H | G87: 0 | H87: N | I87: oui | J87: 35265 | K87: 0 | M87: 1 | O87: 1996 | P87: J01FA | Q87: MACROLIDES
A88: =A87+IF(D88=D87,0,1) -> 76 | B88: 30 | C88: 5948 | D88: 220410 | E88: 991843 | F88: H | G88: 0 | H88: N | I88: oui | J88: 35265 | K88: 0 | M88: 1 | O88: 1996 | P88: J01DA | Q88: CEPHALOSPORINES ET APPARENTES
A89: =A88+IF(D89=D88,0,1) -> 76 | B89: 30 | C89: 5948 | D89: 220410 | E89: 991843 | F89: H | G89: 0 | H89: N | I89: oui | J89: 35265 | K89: 0 | M89: 1 | O89: 1996 | P89: J01CF | Q89: PENICILLINES RESISTANTES AUX BETALACTAMASES
A90: =A89+IF(D90=D89,0,1) -> 76 | B90: 30 | C90: 5948 | D90: 220410 | E90: 991843 | F90: H | G90: 0 | H90: N | I90: oui | J90: 35265 | K90: 0 | M90: 1 | O90: 1996 | P90: J01DA | Q90: CEPHALOSPORINES ET APPARENTES
A91: =A90+IF(D91=D90,0,1) -> 76 | B91: 30 | C91: 5948 | D91: 220410 | E91: 991843 | F91: H | G91: 0 | H91: N | I91: oui | J91: 35265 | K91: 0 | M91: 1 | O91: 1996 | P91: J01FA | Q91: MACROLIDES
A92: =A91+IF(D92=D91,0,1) -> 76 | B92: 30 | C92: 5948 | D92: 220410 | E92: 991843 | F92: H | G92: 0 | H92: N | I92: oui | J92: 35265 | K92: 0 | M92: 1 | O92: 1996 | P92: J01DA | Q92: CEPHALOSPORINES ET APPARENTES
... A101: =A100+IF(D101=D100,0,1) -> 79 | B101: 30 | C101: 5948 | D101: 220437 | E101: 991721 | F101: H | G101: 0 | H101: N | I101: oui | J101: 34910 | K101: 0 | M101: 0 | O101: 1995 | P101: J01FA | Q101: MACROLIDES
A102: =A101+IF(D102=D101,0,1) -> 80 | B102: 31 | C102: 5728 | D102: 796129 | E102: 1296684 | F102: H | G102: 85 | H102: N | I102: oui | J102: 36291 | K102: 0 | M102: 0 | O102: 1999
A103: =A102+IF(D103=D102,0,1) -> 81 | B103: 31 | C103: 5728 | D103: 1840357 | E103: 2829104 | F103: H | G103: 82 | H103: N | I103: oui | J103: 35122 | K103: 0 | M103: 0 | O103: 1996
A104: =A103+IF(D104=D103,0,1) -> 82 | B104: 31 | C104: 5728 | D104: 1840368 | E104: 2793282 | F104: H | G104: 83 | H104: N | I104: oui | J104: 35476 | K104: 0 | M104: 0 | O104: 1997
A105: =A104+IF(D105=D104,0,1) -> 83 | B105: 31 | C105: 5728 | D105: 1849700 | E105: 2817226 | F105: H | G105: 85 | H105: N | I105: oui | J105: 36447 | K105: 0 | M105: 0 | O105: 1999 | P105: J01DA | Q105: CEPHALOSPORINES ET APPARENTES
A106: =A105+IF(D106=D105,0,1) -> 84 | B106: 32 | C106: 2067 | D106: 1660677 | E106: 2619727 | F106: H | G106: 77 | H106: N | I106: oui | J106: 35828 | K106: 0 | M106: 0 | O106: 1998 | P106: J01CA | Q106: PENICILLINES A LARGE SPECTRE
A107: =A106+IF(D107=D106,0,1) -> 84 | B107: 32 | C107: 2067 | D107: 1660677 | E107: 2619727 | F107: H | G107: 77 | H107: N | I107: oui | J107: 35828 | K107: 0 | M107: 0 | O107: 1998 | P107: J01CA | Q107: PENICILLINES A LARGE SPECTRE
A108: =A107+IF(D108=D107,0,1) -> 85 | B108: 33 | C108: 6912 | D108: 1709075 | E108: 2669398 | F108: F | G108: 58 | H108: N | I108: oui | J108: 36283 | K108: 1 | M108: 0 | O108: 1999 | P108: J01FA | Q108: MACROLIDES
A109: =A108+IF(D109=D108,0,1) -> 86 | B109: 33 | C109: 6912 | D109: 1712759 | E109: 5457189 | F109: F | G109: 55 | H109: N | I109: oui | J109: 35311 | K109: 0 | M109: 0 | O109: 1996 | P109: J01FA | Q109: MACROLIDES
...

Sheet Sélection
A1: Pat_U_Seq | B1: Num Med | C1: ACT Id | D1: RC Seq | E1: Genre | F1: Age Norm | G1: Cod Sui | H1: Angine | I1: Dat_ang | J1: AINS | K1: Dur AINS | L1: Cort | M1: Dur cort | N1: Année | O1: Atc Reg N4 Cod | P1: Atc Reg N4 Lib
A2: =IF(ISNA(VLOOKUP(ROW()-1,Original!$A$2:$Q$29,COLUMN()+1,FALSE)),"",VLOOKUP(ROW()-1,Original!$A$2:$Q$29,COLUMN()+1,FALSE)) -> 1 | B2: =IF($A2="","",VLOOKUP(ROW()-1,Original!$A$2:$Q$29,COLUMN()+1,FALSE)) -> 4698 | C2: =IF($A2="","",VLOOKUP(ROW()-1,Original!$A$2:$Q$29,COLUMN()+1,FALSE)) -> 808237 | D2: =IF($A2="","",VLOOKUP(ROW()-1,Original!$A$2:$Q$29,COLUMN()+1,FALSE)) -> 1289929 | E2: =IF($A2="","",VLOOKUP(ROW()-1,Original!$A$2:$Q$29,COLUMN()+1,FALSE)) -> H | F2: =IF($A2="","",VLOOKUP(ROW()-1,Original!$A$2:$Q$29,COLUMN()+1,FALSE)) -> 98 | G2: =IF($A2="","",VLOOKUP(ROW()-1,Original!$A$2:$Q$29,COLUMN()+1,FALSE)) -> N | H2: =IF($A2="","",VLOOKUP(ROW()-1,Original!$A$2:$Q$29,COLUMN()+1,FALSE)) -> oui | I2: =IF($A2="","",VLOOKUP(ROW()-1,Original!$A$2:$Q$29,COLUMN()+1,FALSE)) -> 35858 | ... P2: =IF($A2="","",VLOOKUP(ROW()-1,Original!$A$2:$Q$29,COLUMN()+1,FALSE)) -> 0
A3: =IF(ISNA(VLOOKUP(ROW()-1,Original!$A$2:$Q$29,COLUMN()+1,FALSE)),"",VLOOKUP(ROW()-1,Original!$A$2:$Q$29,COLUMN()+1,FALSE)) -> 1 | B3: =IF($A3="","",VLOOKUP(ROW()-1,Original!$A$2:$Q$29,COLUMN()+1,FALSE)) -> 4698 | C3: =IF($A3="","",VLOOKUP(ROW()-1,Original!$A$2:$Q$29,COLUMN()+1,FALSE)) -> 818108 | D3: =IF($A3="","",VLOOKUP(ROW()-1,Original!$A$2:$Q$29,COLUMN()+1,FALSE)) -> 1257708 | E3: =IF($A3="","",VLOOKUP(ROW()-1,Original!$A$2:$Q$29,COLUMN()+1,FALSE)) -> H | F3: =IF($A3="","",VLOOKUP(ROW()-1,Original!$A$2:$Q$29,COLUMN()+1,FALSE)) -> 95 | G3: =IF($A3="","",VLOOKUP(ROW()-1,Original!$A$2:$Q$29,COLUMN()+1,FALSE)) -> N | H3: =IF($A3="","",VLOOKUP(ROW()-1,Original!$A$2:$Q$29,COLUMN()+1,FALSE)) -> oui | I3: =IF($A3="","",VLOOKUP(ROW()-1,Original!$A$2:$Q$29,COLUMN()+1,FALSE)) -> 34739 | ... P3: =IF($A3="","",VLOOKUP(ROW()-1,Original!$A$2:$Q$29,COLUMN()+1,FALSE)) -> PENICILLINES SENSIBLES AUX BETALACTAMASES
A4: =IF(ISNA(VLOOKUP(ROW()-1,Original!$A$2:$Q$29,COLUMN()+1,FALSE)),"",VLOOKUP(ROW()-1,Original!$A$2:$Q$29,COLUMN()+1,FALSE)) -> 1 | B4: =IF($A4="","",VLOOKUP(ROW()-1,Original!$A$2:$Q$29,COLUMN()+1,FALSE)) -> 4698 | C4: =IF($A4="","",VLOOKUP(ROW()-1,Original!$A$2:$Q$29,COLUMN()+1,FALSE)) -> 818109 | D4: =IF($A4="","",VLOOKUP(ROW()-1,Original!$A$2:$Q$29,COLUMN()+1,FALSE)) -> 1240434 | E4: =IF($A4="","",VLOOKUP(ROW()-1,Original!$A$2:$Q$29,COLUMN()+1,FALSE)) -> H | F4: =IF($A4="","",VLOOKUP(ROW()-1,Original!$A$2:$Q$29,COLUMN()+1,FALSE)) -> 95 | G4: =IF($A4="","",VLOOKUP(ROW()-1,Original!$A$2:$Q$29,COLUMN()+1,FALSE)) -> N | H4: =IF($A4="","",VLOOKUP(ROW()-1,Original!$A$2:$Q$29,COLUMN()+1,FALSE)) -> oui | I4: =IF($A4="","",VLOOKUP(ROW()-1,Original!$A$2:$Q$29,COLUMN()+1,FALSE)) -> 34767 | ... P4: =IF($A4="","",VLOOKUP(ROW()-1,Original!$A$2:$Q$29,COLUMN()+1,FALSE)) -> PENICILLINES SENSIBLES AUX BETALACTAMASES
A5: =IF(ISNA(VLOOKUP(ROW()-1,Original!$A$2:$Q$29,COLUMN()+1,FALSE)),"",VLOOKUP(ROW()-1,Original!$A$2:$Q$29,COLUMN()+1,FALSE)) -> 1 | B5: =IF($A5="","",VLOOKUP(ROW()-1,Original!$A$2:$Q$29,COLUMN()+1,FALSE)) -> 4698 | C5: =IF($A5="","",VLOOKUP(ROW()-1,Original!$A$2:$Q$29,COLUMN()+1,FALSE)) -> 818110 | D5: =IF($A5="","",VLOOKUP(ROW()-1,Original!$A$2:$Q$29,COLUMN()+1,FALSE)) -> 1261473 | E5: =IF($A5="","",VLOOKUP(ROW()-1,Original!$A$2:$Q$29,COLUMN()+1,FALSE)) -> H | F5: =IF($A5="","",VLOOKUP(ROW()-1,Original!$A$2:$Q$29,COLUMN()+1,FALSE)) -> 96 | G5: =IF($A5="","",VLOOKUP(ROW()-1,Original!$A$2:$Q$29,COLUMN()+1,FALSE)) -> N | H5: =IF($A5="","",VLOOKUP(ROW()-1,Original!$A$2:$Q$29,COLUMN()+1,FALSE)) -> oui | I5: =IF($A5="","",VLOOKUP(ROW()-1,Original!$A$2:$Q$29,COLUMN()+1,FALSE)) -> 35082 | ... P5: =IF($A5="","",VLOOKUP(ROW()-1,Original!$A$2:$Q$29,COLUMN()+1,FALSE)) -> PENICILLINES SENSIBLES AUX BETALACTAMASES
A6: =IF(ISNA(VLOOKUP(ROW()-1,Original!$A$2:$Q$29,COLUMN()+1,FALSE)),"",VLOOKUP(ROW()-1,Original!$A$2:$Q$29,COLUMN()+1,FALSE)) -> 1 | B6: =IF($A6="","",VLOOKUP(ROW()-1,Original!$A$2:$Q$29,COLUMN()+1,FALSE)) -> 4698 | C6: =IF($A6="","",VLOOKUP(ROW()-1,Original!$A$2:$Q$29,COLUMN()+1,FALSE)) -> 818111 | D6: =IF($A6="","",VLOOKUP(ROW()-1,Original!$A$2:$Q$29,COLUMN()+1,FALSE)) -> 1250994 | E6: =IF($A6="","",VLOOKUP(ROW()-1,Original!$A$2:$Q$29,COLUMN()+1,FALSE)) -> H | F6: =IF($A6="","",VLOOKUP(ROW()-1,Original!$A$2:$Q$29,COLUMN()+1,FALSE)) -> 96 | G6: =IF($A6="","",VLOOKUP(ROW()-1,Original!$A$2:$Q$29,COLUMN()+1,FALSE)) -> N | H6: =IF($A6="","",VLOOKUP(ROW()-1,Original!$A$2:$Q$29,COLUMN()+1,FALSE)) -> oui | I6: =IF($A6="","",VLOOKUP(ROW()-1,Original!$A$2:$Q$29,COLUMN()+1,FALSE)) -> 35109 | ... P6: =IF($A6="","",VLOOKUP(ROW()-1,Original!$A$2:$Q$29,COLUMN()+1,FALSE)) -> PENICILLINES SENSIBLES AUX BETALACTAMASES
A7: =IF(ISNA(VLOOKUP(ROW()-1,Original!$A$2:$Q$29,COLUMN()+1,FALSE)),"",VLOOKUP(ROW()-1,Original!$A$2:$Q$29,COLUMN()+1,FALSE)) -> 2 | B7: =IF($A7="","",VLOOKUP(ROW()-1,Original!$A$2:$Q$29,COLUMN()+1,FALSE)) -> 9665 | C7: =IF($A7="","",VLOOKUP(ROW()-1,Original!$A$2:$Q$29,COLUMN()+1,FALSE)) -> 5208664 | D7: =IF($A7="","",VLOOKUP(ROW()-1,Original!$A$2:$Q$29,COLUMN()+1,FALSE)) -> 7752160 | E7: =IF($A7="","",VLOOKUP(ROW()-1,Original!$A$2:$Q$29,COLUMN()+1,FALSE)) -> H | F7: =IF($A7="","",VLOOKUP(ROW()-1,Original!$A$2:$Q$29,COLUMN()+1,FALSE)) -> 82 | G7: =IF($A7="","",VLOOKUP(ROW()-1,Original!$A$2:$Q$29,COLUMN()+1,FALSE)) -> N | H7: =IF($A7="","",VLOOKUP(ROW()-1,Original!$A$2:$Q$29,COLUMN()+1,FALSE)) -> oui | I7: =IF($A7="","",VLOOKUP(ROW()-1,Original!$A$2:$Q$29,COLUMN()+1,FALSE)) -> 38525 | ... P7: =IF($A7="","",VLOOKUP(ROW()-1,Original!$A$2:$Q$29,COLUMN()+1,FALSE)) -> MACROLIDES
A8: =IF(ISNA(VLOOKUP(ROW()-1,Original!$A$2:$Q$29,COLUMN()+1,FALSE)),"",VLOOKUP(ROW()-1,Original!$A$2:$Q$29,COLUMN()+1,FALSE)) -> 3 | B8: =IF($A8="","",VLOOKUP(ROW()-1,Original!$A$2:$Q$29,COLUMN()+1,FALSE)) -> 6776 | C8: =IF($A8="","",VLOOKUP(ROW()-1,Original!$A$2:$Q$29,COLUMN()+1,FALSE)) -> 274827 | D8: =IF($A8="","",VLOOKUP(ROW()-1,Original!$A$2:$Q$29,COLUMN()+1,FALSE)) -> 1204738 | E8: =IF($A8="","",VLOOKUP(ROW()-1,Original!$A$2:$Q$29,COLUMN()+1,FALSE)) -> ND | F8: =IF($A8="","",VLOOKUP(ROW()-1,Original!$A$2:$Q$29,COLUMN()+1,FALSE)) -> 64 | G8: =IF($A8="","",VLOOKUP(ROW()-1,Original!$A$2:$Q$29,COLUMN()+1,FALSE)) -> N | H8: =IF($A8="","",VLOOKUP(ROW()-1,Original!$A$2:$Q$29,COLUMN()+1,FALSE)) -> oui | I8: =IF($A8="","",VLOOKUP(ROW()-1,Original!$A$2:$Q$29,COLUMN()+1,FALSE)) -> 35542 | ... P8: =IF($A8="","",VLOOKUP(ROW()-1,Original!$A$2:$Q$29,COLUMN()+1,FALSE)) -> 0
A9: =IF(ISNA(VLOOKUP(ROW()-1,Original!$A$2:$Q$29,COLUMN()+1,FALSE)),"",VLOOKUP(ROW()-1,Original!$A$2:$Q$29,COLUMN()+1,FALSE)) -> 3 | B9: =IF($A9="","",VLOOKUP(ROW()-1,Original!$A$2:$Q$29,COLUMN()+1,FALSE)) -> 6776 | C9: =IF($A9="","",VLOOKUP(ROW()-1,Original!$A$2:$Q$29,COLUMN()+1,FALSE)) -> 347587 | D9: =IF($A9="","",VLOOKUP(ROW()-1,Original!$A$2:$Q$29,COLUMN()+1,FALSE)) -> 330891 | E9: =IF($A9="","",VLOOKUP(ROW()-1,Original!$A$2:$Q$29,COLUMN()+1,FALSE)) -> ND | F9: =IF($A9="","",VLOOKUP(ROW()-1,Original!$A$2:$Q$29,COLUMN()+1,FALSE)) -> 63 | G9: =IF($A9="","",VLOOKUP(ROW()-1,Original!$A$2:$Q$29,COLUMN()+1,FALSE)) -> N | H9: =IF($A9="","",VLOOKUP(ROW()-1,Original!$A$2:$Q$29,COLUMN()+1,FALSE)) -> oui | I9: =IF($A9="","",VLOOKUP(ROW()-1,Original!$A$2:$Q$29,COLUMN()+1,FALSE)) -> 35286 | ... P9: =IF($A9="","",VLOOKUP(ROW()-1,Original!$A$2:$Q$29,COLUMN()+1,FALSE)) -> 0
A10: =IF(ISNA(VLOOKUP(ROW()-1,Original!$A$2:$Q$29,COLUMN()+1,FALSE)),"",VLOOKUP(ROW()-1,Original!$A$2:$Q$29,COLUMN()+1,FALSE)) -> 3 | B10: =IF($A10="","",VLOOKUP(ROW()-1,Original!$A$2:$Q$29,COLUMN()+1,FALSE)) -> 6776 | C10: =IF($A10="","",VLOOKUP(ROW()-1,Original!$A$2:$Q$29,COLUMN()+1,FALSE)) -> 2138198 | D10: =IF($A10="","",VLOOKUP(ROW()-1,Original!$A$2:$Q$29,COLUMN()+1,FALSE)) -> 3441603 | E10: =IF($A10="","",VLOOKUP(ROW()-1,Original!$A$2:$Q$29,COLUMN()+1,FALSE)) -> ND | F10: =IF($A10="","",VLOOKUP(ROW()-1,Original!$A$2:$Q$29,COLUMN()+1,FALSE)) -> 68 | G10: =IF($A10="","",VLOOKUP(ROW()-1,Original!$A$2:$Q$29,COLUMN()+1,FALSE)) -> N | H10: =IF($A10="","",VLOOKUP(ROW()-1,Original!$A$2:$Q$29,COLUMN()+1,FALSE)) -> oui | I10: =IF($A10="","",VLOOKUP(ROW()-1,Original!$A$2:$Q$29,COLUMN()+1,FALSE)) -> 36997 | ... P10: =IF($A10="","",VLOOKUP(ROW()-1,Original!$A$2:$Q$29,COLUMN()+1,FALSE)) -> 0
A11: =IF(ISNA(VLOOKUP(ROW()-1,Original!$A$2:$Q$29,COLUMN()+1,FALSE)),"",VLOOKUP(ROW()-1,Original!$A$2:$Q$29,COLUMN()+1,FALSE)) -> 4 | B11: =IF($A11="","",VLOOKUP(ROW()-1,Original!$A$2:$Q$29,COLUMN()+1,FALSE)) -> 2353 | C11: =IF($A11="","",VLOOKUP(ROW()-1,Original!$A$2:$Q$29,COLUMN()+1,FALSE)) -> 1945437 | D11: =IF($A11="","",VLOOKUP(ROW()-1,Original!$A$2:$Q$29,COLUMN()+1,FALSE)) -> 3174590 | E11: =IF($A11="","",VLOOKUP(ROW()-1,Original!$A$2:$Q$29,COLUMN()+1,FALSE)) -> F | F11: =IF($A11="","",VLOOKUP(ROW()-1,Original!$A$2:$Q$29,COLUMN()+1,FALSE)) -> 64 | G11: =IF($A11="","",VLOOKUP(ROW()-1,Original!$A$2:$Q$29,COLUMN()+1,FALSE)) -> N | H11: =IF($A11="","",VLOOKUP(ROW()-1,Original!$A$2:$Q$29,COLUMN()+1,FALSE)) -> oui | I11: =IF($A11="","",VLOOKUP(ROW()-1,Original!$A$2:$Q$29,COLUMN()+1,FALSE)) -> 35985 | ... P11: =IF($A11="","",VLOOKUP(ROW()-1,Original!$A$2:$Q$29,COLUMN()+1,FALSE)) -> 0
A12: =IF(ISNA(VLOOKUP(ROW()-1,Original!$A$2:$Q$29,COLUMN()+1,FALSE)),"",VLOOKUP(ROW()-1,Original!$A$2:$Q$29,COLUMN()+1,FALSE)) -> 4 | B12: =IF($A12="","",VLOOKUP(ROW()-1,Original!$A$2:$Q$29,COLUMN()+1,FALSE)) -> 2353 | C12: =IF($A12="","",VLOOKUP(ROW()-1,Original!$A$2:$Q$29,COLUMN()+1,FALSE)) -> 1967196 | D12: =IF($A12="","",VLOOKUP(ROW()-1,Original!$A$2:$Q$29,COLUMN()+1,FALSE)) -> 3159148 | E12: =IF($A12="","",VLOOKUP(ROW()-1,Original!$A$2:$Q$29,COLUMN()+1,FALSE)) -> F | F12: =IF($A12="","",VLOOKUP(ROW()-1,Original!$A$2:$Q$29,COLUMN()+1,FALSE)) -> 61 | G12: =IF($A12="","",VLOOKUP(ROW()-1,Original!$A$2:$Q$29,COLUMN()+1,FALSE)) -> N | H12: =IF($A12="","",VLOOKUP(ROW()-1,Original!$A$2:$Q$29,COLUMN()+1,FALSE)) -> oui | I12: =IF($A12="","",VLOOKUP(ROW()-1,Original!$A$2:$Q$29,COLUMN()+1,FALSE)) -> 34835 | ... P12: =IF($A12="","",VLOOKUP(ROW()-1,Original!$A$2:$Q$29,COLUMN()+1,FALSE)) -> 0
A13: =IF(ISNA(VLOOKUP(ROW()-1,Original!$A$2:$Q$29,COLUMN()+1,FALSE)),"",VLOOKUP(ROW()-1,Original!$A$2:$Q$29,COLUMN()+1,FALSE)) -> 4 | B13: =IF($A13="","",VLOOKUP(ROW()-1,Original!$A$2:$Q$29,COLUMN()+1,FALSE)) -> 2353 | C13: =IF($A13="","",VLOOKUP(ROW()-1,Original!$A$2:$Q$29,COLUMN()+1,FALSE)) -> 1967207 | D13: =IF($A13="","",VLOOKUP(ROW()-1,Original!$A$2:$Q$29,COLUMN()+1,FALSE)) -> 3178099 | E13: =IF($A13="","",VLOOKUP(ROW()-1,Original!$A$2:$Q$29,COLUMN()+1,FALSE)) -> F | F13: =IF($A13="","",VLOOKUP(ROW()-1,Original!$A$2:$Q$29,COLUMN()+1,FALSE)) -> 63 | G13: =IF($A13="","",VLOOKUP(ROW()-1,Original!$A$2:$Q$29,COLUMN()+1,FALSE)) -> N | H13: =IF($A13="","",VLOOKUP(ROW()-1,Original!$A$2:$Q$29,COLUMN()+1,FALSE)) -> oui | I13: =IF($A13="","",VLOOKUP(ROW()-1,Original!$A$2:$Q$29,COLUMN()+1,FALSE)) -> 35698 | ... P13: =IF($A13="","",VLOOKUP(ROW()-1,Original!$A$2:$Q$29,COLUMN()+1,FALSE)) -> 0
... A201: =IF(ISNA(VLOOKUP(ROW()-1,Original!$A$2:$Q$29,COLUMN()+1,FALSE)),"",VLOOKUP(ROW()-1,Original!$A$2:$Q$29,COLUMN()+1,FALSE)) | B201: =IF($A201="","",VLOOKUP(ROW()-1,Original!$A$2:$Q$29,COLUMN()+1,FALSE)) | C201: =IF($A201="","",VLOOKUP(ROW()-1,Original!$A$2:$Q$29,COLUMN()+1,FALSE)) | D201: =IF($A201="","",VLOOKUP(ROW()-1,Original!$A$2:$Q$29,COLUMN()+1,FALSE)) | E201: =IF($A201="","",VLOOKUP(ROW()-1,Original!$A$2:$Q$29,COLUMN()+1,FALSE)) | F201: =IF($A201="","",VLOOKUP(ROW()-1,Original!$A$2:$Q$29,COLUMN()+1,FALSE)) | G201: =IF($A201="","",VLOOKUP(ROW()-1,Original!$A$2:$Q$29,COLUMN()+1,FALSE)) | H201: =IF($A201="","",VLOOKUP(ROW()-1,Original!$A$2:$Q$29,COLUMN()+1,FALSE)) | I201: =IF($A201="","",VLOOKUP(ROW()-1,Original!$A$2:$Q$29,COLUMN()+1,FALSE)) | ... P201: =IF($A201="","",VLOOKUP(ROW()-1,Original!$A$2:$Q$29,COLUMN()+1,FALSE))
