Workbook

Sheet Tableau kilométrique
A1: Indémnité kilométrique : | B1: 0.2 | G1: Adresse | H1: 6 avenue du général de gaulle | I1: 66 rue sainte genevieve | J1: 12 rue Roger Berin | K1: 4 rue gray | L1: 11 rue du bon prevost | M1: 135 rue de la république | N1: 4 rue du haut de bourgomay | O1: 155 rue claude monet | P1: 557 rue saint blaine | Q1: 37 rue de secours | R1: 5 rue du stade | S1: 170 avenue du général leclerc | T1: 1 rue saint bodon | U1: rue jacques delivré les cygnes | V1: 37 rue de Bitche | W1: 82 quai claude le lorrain | X1: 20 rue Emile Gebhart | Y1: 65 rue jeanne d'arc | Z1: 38 rue de Dieuze | AA1: 50 rue des Jardiniers | AB1: 12 avenue aristide briand | AC1: 10 rue des Aubépines | AD1: 6 Avenue de Bourgogne | AE1: 1 avenue des Joncquilles | AF1: 12 allée des capucines
G2: Ville | H2: DOMBASLE | I2: DOMMARTEMONT | J2: ESSEY LES NANCY | K2: HEILLECOURT | L2: JARVILLE | M2: JARVILLE | N2: JARVILLE | O2: LUDRES | P2: LUDRES | Q2: LUDRES | R2: MALZEVILLE | S2: MALZEVILLE | T2: NANCY | U2: NANCY | V2: NANCY | W2: NANCY | X2: NANCY | Y2: NANCY | Z2: NANCY | AA2: NANCY | AB2: ST NICOLAS | AC2: TOUL | AD2: VANDOEUVRE | AE2: VANDOEUVRE | AF2: VANDOEUVRE
A3: CLIENTS | B3: N° Colonne | C3: N° Ligne | F3: Ville | G3: NOMS | H3: Mr Jeanmasson | I3: Mme Husson | J3: Mme Sebirot | K3: Mr Ledoux | L3: Mme Coinus | M3: Mme Morelle | N3: Mme Henquel | O3: Mme Galantin | P3: Mr Miller | Q3: Mme Rogoza | R3: Mme Claudel | S3: Mr Drouin | T3: Mme Jean | U3: Mme Begeot | V3: Mme Mikaric | W3: Mme Renaud | X3: Mme Verger | Y3: Mme Michel | Z3: Mr Kugler | AA3: Mme Petitnicolas | AB3: Mme Fischer | AC3: Mr Dufrasne | AD3: Mr Vigneron | AE3: Mme Harmant | AF3: Mme Marchand
A4: Mr Jeanmasson | B4: =COLUMN('Tableau kilométrique'!H:H) -> 8 | C4: =ROW(A4) -> 4 | E4: 6 avenue du général de gaulle | F4: DOMBASLE | G4: Mr Jeanmasson | I4: 19 | J4: 19 | K4: 18 | L4: 13 | M4: 13 | N4: 13 | O4: 19 | P4: 19 | Q4: 19 | AC4: 45
A5: Mme Husson | B5: =COLUMN('Tableau kilométrique'!I:I) -> 9 | C5: =ROW(A5) -> 5 | E5: 66 rue sainte genevieve | F5: DOMMARTEMONT | G5: Mme Husson | H5: 19 | AC5: 28
A6: Mme Sebirot | B6: =COLUMN('Tableau kilométrique'!J:J) -> 10 | C6: =ROW(A6) -> 6 | E6: 12 rue Roger Berin | F6: ESSEY LES NANCY | G6: Mme Sebirot | H6: 19 | AC6: 38
A7: Mr Ledoux | B7: =COLUMN('Tableau kilométrique'!K:K) -> 11 | C7: =ROW(A7) -> 7 | E7: 4 rue gray | F7: HEILLECOURT | G7: Mr Ledoux | H7: 18 | AC7: 34
A8: Mme Coinus | B8: =COLUMN('Tableau kilométrique'!L:L) -> 12 | C8: =ROW(A8) -> 8 | E8: 11 rue du bon prevost | F8: JARVILLE | G8: Mme Coinus | H8: 13 | M8: 1.4 | AC8: 35
A9: Mme Morelle | B9: =COLUMN('Tableau kilométrique'!M:M) -> 13 | C9: =ROW(A9) -> 9 | E9: 135 rue de la république | F9: JARVILLE | G9: Mme Morelle | H9: 13 | L9: 1.4 | AC9: 35
A10: Mme Henquel | B10: =COLUMN(N:N) -> 14 | C10: =ROW(A10) -> 10 | E10: 4 rue du haut de bourgomay | F10: JARVILLE | G10: Mme Henquel | H10: 13 | AC10: 35
A11: Mme Galantin | B11: =COLUMN(O:O) -> 15 | C11: =ROW(A11) -> 11 | E11: 155 rue claude monet | F11: LUDRES | G11: Mme Galantin | H11: 19 | AC11: 31
A12: Mr Miller | B12: =COLUMN(P:P) -> 16 | C12: =ROW(A12) -> 12 | E12: 557 rue saint blaine | F12: LUDRES | G12: Mr Miller | H12: 19 | AC12: 32
A13: Mme Rogoza | B13: =COLUMN(Q:Q) -> 17 | C13: =ROW(A13) -> 13 | E13: 37 rue de secours | F13: LUDRES | G13: Mme Rogoza | H13: 19 | AC13: 32
A14: Mme Claudel | B14: 25 | C14: =ROW(A14) -> 14 | E14: 5 rue du stade | F14: MALZEVILLE | G14: Mme Claudel | AC14: 25
A15: Mr Drouin | B15: 26 | C15: =ROW(A15) -> 15 | E15: 170 avenue du général leclerc | F15: MALZEVILLE | G15: Mr Drouin | AC15: 33
A16: Mme Jean | B16: 27 | C16: =ROW(A16) -> 16 | E16: 1 rue saint bodon | F16: NANCY | G16: Mme Jean | AC16: 22
A17: Mme Begeot | B17: 28 | C17: =ROW(A17) -> 17 | E17: rue jacques delivré les cygnes | F17: NANCY | G17: Mme Begeot | AC17: 24
A18: Mme Mikaric | B18: 29 | C18: =ROW(A18) -> 18 | E18: 37 rue de Bitche | F18: NANCY | G18: Mme Mikaric | AC18: 35
A19: Mme Renaud | B19: 30 | C19: =ROW(A19) -> 19 | E19: 82 quai claude le lorrain | F19: NANCY | G19: Mme Renaud | AC19: 23
A20: Mme Verger | B20: 31 | C20: =ROW(A20) -> 20 | E20: 20 rue Emile Gebhart | F20: NANCY | G20: Mme Verger | AC20: 29
A21: Mme Michel | B21: 32 | C21: =ROW(A21) -> 21 | E21: 65 rue jeanne d'arc | F21: NANCY | G21: Mme Michel | AC21: 24
A22: Mr Kugler | B22: 33 | C22: =ROW(A22) -> 22 | E22: 38 rue de Dieuze | F22: NANCY | G22: Mr Kugler | AC22: 25
A23: Mme Petitnicolas | B23: 34 | C23: =ROW(A23) -> 23 | E23: 50 rue des Jardiniers | F23: NANCY | G23: Mme Petitnicolas | AC23: 36
A24: Mme Fischer | B24: 35 | C24: =ROW(A24) -> 24 | E24: 12 avenue aristide briand | F24: ST NICOLAS | G24: Mme Fischer | AC24: 39
A25: Mr Dufrasne | B25: 36 | C25: =ROW(A25) -> 25 | E25: 10 rue des Aubépines | F25: TOUL | G25: Mr Dufrasne | H25: 45 | I25: 28 | J25: 38 | K25: 34 | L25: 35 | M25: 35 | N25: 35 | O25: 31 | P25: 32 | Q25: 32 | R25: 25 | S25: 33 | T25: 24 | U25: 35 | V25: 23 | W25: 29 | X25: 24 | Y25: 22 | Z25: 25 | AA25: 36 | AB25: 39 | AD25: 32 | AE25: 32 | AF25: 25
A26: Mr Vigneron | B26: 37 | C26: =ROW(A26) -> 26 | E26: 6 Avenue de Bourgogne | F26: VANDOEUVRE | G26: Mr Vigneron | AC26: 25
A27: Mme Harmant | B27: 38 | C27: =ROW(A27) -> 27 | E27: 1 avenue des Joncquilles | F27: VANDOEUVRE | G27: Mme Harmant | AC27: 32
A28: Mme Marchand | B28: 39 | C28: =ROW(A28) -> 28 | E28: 12 allée des capucines | F28: VANDOEUVRE | G28: Mme Marchand | AC28: 32

Sheet Tableaux de calcul
A1: Mois de :
A2: Date | B2: DEPART | C2: ARRIVEE | D2: Colonne | E2: Ligne | F2: Calendrier | G2: KM | H2: Montant
B3: Mr Jeanmasson | C3: Mr Ledoux | D3: =VLOOKUP(B3,'Tableau kilométrique'!A:B,2,FALSE) -> 8 | E3: =VLOOKUP(C3,'Tableau kilométrique'!A:C,3,FALSE) -> 7 | G3: =INDEX('Tableau kilométrique'!A:AU,E3,D3) -> 18 | H3: =G3*'Tableau kilométrique'!B$1 -> 3.6
B4: Mr Jeanmasson | C4: Mr Miller | D4: =VLOOKUP(B4,'Tableau kilométrique'!A:B,2,FALSE) -> 8 | E4: =VLOOKUP(C4,'Tableau kilométrique'!A:C,3,FALSE) -> 12 | F4: 42006 | G4: =INDEX('Tableau kilométrique'!A:AU,E4,D4) -> 19 | H4: =G4*'Tableau kilométrique'!B$1 -> 3.8
B5: Mr Jeanmasson | C5: Mme Rogoza | D5: =VLOOKUP(B5,'Tableau kilométrique'!A:B,2,FALSE) -> 8 | E5: =VLOOKUP(C5,'Tableau kilométrique'!A:C,3,FALSE) -> 13 | F5: 42007 | G5: =INDEX('Tableau kilométrique'!A:AU,E5,D5) -> 19 | H5: =G5*'Tableau kilométrique'!B$1 -> 3.8
D6: =VLOOKUP(B6,'Tableau kilométrique'!A:B,2,FALSE) -> #N/A | E6: =VLOOKUP(C6,'Tableau kilométrique'!A:C,3,FALSE) -> #N/A | F6: 42008 | G6: =INDEX('Tableau kilométrique'!A:AU,E6,D6) -> #N/A | H6: =G6*'Tableau kilométrique'!B$1 -> #N/A
D7: =VLOOKUP(B7,'Tableau kilométrique'!A:B,2,FALSE) -> #N/A | E7: =VLOOKUP(C7,'Tableau kilométrique'!A:C,3,FALSE) -> #N/A | F7: 42009 | G7: =INDEX('Tableau kilométrique'!A:AU,E7,D7) -> #N/A | H7: =G7*'Tableau kilométrique'!B$1 -> #N/A
D8: =VLOOKUP(B8,'Tableau kilométrique'!A:B,2,FALSE) -> #N/A | E8: =VLOOKUP(C8,'Tableau kilométrique'!A:C,3,FALSE) -> #N/A | F8: 42010 | G8: =INDEX('Tableau kilométrique'!A:AU,E8,D8) -> #N/A | H8: =G8*'Tableau kilométrique'!B$1 -> #N/A
D9: =VLOOKUP(B9,'Tableau kilométrique'!A:B,2,FALSE) -> #N/A | E9: =VLOOKUP(C9,'Tableau kilométrique'!A:C,3,FALSE) -> #N/A | F9: 42011 | G9: =INDEX('Tableau kilométrique'!A:AU,E9,D9) -> #N/A | H9: =G9*'Tableau kilométrique'!B$1 -> #N/A
D10: =VLOOKUP(B10,'Tableau kilométrique'!A:B,2,FALSE) -> #N/A | E10: =VLOOKUP(C10,'Tableau kilométrique'!A:C,3,FALSE) -> #N/A | F10: 42012 | G10: =INDEX('Tableau kilométrique'!A:AU,E10,D10) -> #N/A | H10: =G10*'Tableau kilométrique'!B$1 -> #N/A
D11: =VLOOKUP(B11,'Tableau kilométrique'!A:B,2,FALSE) -> #N/A | E11: =VLOOKUP(C11,'Tableau kilométrique'!A:C,3,FALSE) -> #N/A | F11: 42013 | G11: =INDEX('Tableau kilométrique'!A:AU,E11,D11) -> #N/A | H11: =G11*'Tableau kilométrique'!B$1 -> #N/A
D12: =VLOOKUP(B12,'Tableau kilométrique'!A:B,2,FALSE) -> #N/A | E12: =VLOOKUP(C12,'Tableau kilométrique'!A:C,3,FALSE) -> #N/A | F12: 42014 | G12: =INDEX('Tableau kilométrique'!A:AU,E12,D12) -> #N/A | H12: =G12*'Tableau kilométrique'!B$1 -> #N/A
D13: =VLOOKUP(B13,'Tableau kilométrique'!A:B,2,FALSE) -> #N/A | E13: =VLOOKUP(C13,'Tableau kilométrique'!A:C,3,FALSE) -> #N/A | F13: 42015 | G13: =INDEX('Tableau kilométrique'!A:AU,E13,D13) -> #N/A | H13: =G13*'Tableau kilométrique'!B$1 -> #N/A
D14: =VLOOKUP(B14,'Tableau kilométrique'!A:B,2,FALSE) -> #N/A | E14: =VLOOKUP(C14,'Tableau kilométrique'!A:C,3,FALSE) -> #N/A | F14: 42016 | G14: =INDEX('Tableau kilométrique'!A:AU,E14,D14) -> #N/A | H14: =G14*'Tableau kilométrique'!B$1 -> #N/A
D15: =VLOOKUP(B15,'Tableau kilométrique'!A:B,2,FALSE) -> #N/A | E15: =VLOOKUP(C15,'Tableau kilométrique'!A:C,3,FALSE) -> #N/A | F15: 42017 | G15: =INDEX('Tableau kilométrique'!A:AU,E15,D15) -> #N/A | H15: =G15*'Tableau kilométrique'!B$1 -> #N/A
D16: =VLOOKUP(B16,'Tableau kilométrique'!A:B,2,FALSE) -> #N/A | E16: =VLOOKUP(C16,'Tableau kilométrique'!A:C,3,FALSE) -> #N/A | F16: 42018 | G16: =INDEX('Tableau kilométrique'!A:AU,E16,D16) -> #N/A | H16: =G16*'Tableau kilométrique'!B$1 -> #N/A
D17: =VLOOKUP(B17,'Tableau kilométrique'!A:B,2,FALSE) -> #N/A | E17: =VLOOKUP(C17,'Tableau kilométrique'!A:C,3,FALSE) -> #N/A | F17: 42019 | G17: =INDEX('Tableau kilométrique'!A:AU,E17,D17) -> #N/A | H17: =G17*'Tableau kilométrique'!B$1 -> #N/A
... D50: =VLOOKUP(B50,'Tableau kilométrique'!A:B,2,FALSE) -> #N/A | E50: =VLOOKUP(C50,'Tableau kilométrique'!A:C,3,FALSE) -> #N/A | F50: 42052 | G50: =INDEX('Tableau kilométrique'!A:AU,E50,D50) -> #N/A | H50: =G50*'Tableau kilométrique'!B$1 -> #N/A
G51: =SUM(G3:G50) -> #N/A | H51: =SUM(H3:H50) -> #N/A
