Workbook
Name nb_rang: START!$D$5
Name note_acces_autres_zones: #REF!
Name toto: #REF!
Name TYPE: #REF!
Name Z_cor: #REF!
Name zone_datas: DATA!$B:$E

Sheet VARIABLES
A1: AR01 | B1: DISTANCE VERTICALE SNAP'ON BAVOLET-SNAP'ON BRANCARD ARRIERE | C1: ACCESSIBILITE ARRIERE
A2: AR02 | B2: ANGLE MAXIMAL D'OUVERTURE DE LA PORTE ARRIERE | C2: ACCESSIBILITE ARRIERE
A3: AR03 | B3: RAYON DE SORTIE ARRIERE (PORTE MAXI OUVERTE) | C3: ACCESSIBILITE ARRIERE
A4: AR04 | B4: DIST, HORIZ, PT HAR, - JOUE ARRIERE (A 800 MM / SOL A VIDE) * | C4: ACCESSIBILITE ARRIERE
A5: AR05 | B5: DISTANCE VERTICALE PT H AR, - SOL A VIDE | C5: ACCESSIBILITE ARRIERE
A6: AR06 | B6: DISTANCE VERTICALE PT H AR,-SNAP'ON DE BRANCARD ARRIERE | C6: ACCESSIBILITE ARRIERE
A7: AR07 | B7: DISTANCE HORIZ, PT H AR,- SNAP'ON DE JOUE INFERIEURE DE PIED AR, * | C7: ACCESSIBILITE ARRIERE
A8: AR08 | B8: DISTANCE VERTICALE PT H AR,- SNAP'ON DE JOUE INFERIEURE DE PIED AR, | C8: ACCESSIBILITE ARRIERE
A9: AR09 | B9: DISTANCE H AR,- MONTANT DE CUSTODE RELEVEE A 14 DEGRES / VERTICALE | C9: ACCESSIBILITE ARRIERE
A10: AR10 | B10: DISTANCE HORIZ, SNAP'ON AR, DU PIED MILIEU - EXTREMITE DE L'ASSISE | C10: ACCESSIBILITE ARRIERE
A11: AR11 | B11: DISTANCE HORIZONTALE SNAP'ON ARRIERE DU PIED MILIEU - BANQUETTE AR, | C11: ACCESSIBILITE ARRIERE
A12: AR12 | B12: 2/3P DIST, HORIZ, SIEGE AV, RABATTU- SNAP'ON PIED MILIEU (A 800MM / SOL) | C12: ACCESSIBILITE ARRIERE
... A149: BP03 | B149: DISTANCE HORIZONTALE SOMMET PENE (P1) / HX * | C149: BOUCLES
A150: BP04 | B150: DISTANCE VERTICALE SOMMET PENE (P1) / ENVIRONNEMENT AU X P1 * | C150: BOUCLES | D150: ok
A151: BP05 | B151: DISTANCE VERTICALE SOMMET PENE (P1) / SOMMET CONSOLE (SI EN AR DE HX) | C151: BOUCLES | D151: ok
A152: BP06 | B152: DISTANCE VERTICALE SIEGE / BOUCLE (P2) | C152: BOUCLES
A153: BP07 | B153: DISTANCE TRANSVERSALE HX / PENE | C153: BOUCLES
A154: BP08 | B154: DISTANCE TRANSVERSALE CONSOLE / PENE (Y1) | C154: BOUCLES
A155: BP09 | B155: ANGLE AXE DE BOUCLE | C155: BOUCLES
A156: BP10 | B156: 0= BOUCLE AR SUR SANGLE (PAS DE MESURE); 1= BOUCLE FIXE EN Y | C156: BOUCLES
A157: BP11 | B157: DISTANCE VERTICALE SOMMET PENE (P1) / HAR2 | C157: BOUCLES
A158: BP12 | B158: DISTANCE HORIZONTALE SOMMET PENE (P1) / HAR2 * | C158: BOUCLES
A159: BP13 | B159: DISTANCE VERTICALE SIEGE / BOUCLE AR2 (P2) | C159: BOUCLES
A160: BP14 | B160: ANGLE AXE DE BOUCLE AR2 | C160: BOUCLES
A161: BP15 | B161: DISTANCE VERTICALE SOMMET PENE (P1) / HAR CENTRAL | C161: BOUCLES
A162: BP16 | B162: DISTANCE HORIZONTALE SOMMET PENE (P1) / HAR CENTRAL * | C162: BOUCLES
A163: BP17 | B163: DISTANCE VERTICALE SIEGE / BOUCLE AR CENTRALE (P2) | C163: BOUCLES
... A687: SA89 | B687: HAUTEUR MAXIMALE MAINTIENT LATERAL DOSSIER | C687: SIEGE AVANT
A688: =MID(B688,1,4) -> SIEG | B688: SIEGE RANG 3 | C688: SIEGE AVANT
A689: SF01 | B689: LARGEUR SIEGE INDIVIDUEL RANG 3 LATERAL | C689: SIEGE DERNIER RANG
A690: SF16 | B690: ANGLE D OUVERTURE TRONC-CUISSES AUX PLACES ARRIERE | C690: SIEGE DERNIER RANG
A691: SF17 | B691: LONGUEUR APPARENTE DE L ASSISE DU SIEGE R3 | C691: SIEGE DERNIER RANG
A692: SF18 | B692: PROFONDEUR DE L'ASSISE (SUIVANT L AXE DE LA CUISSE) | C692: SIEGE DERNIER RANG
A693: SF50 | B693: DISTANCE TRANSVERSALE AXE DE SIEGE LATERAL GAUCHE RANG 3 - AXE DE CAISSE | C693: SIEGE DERNIER RANG
A694: SF51 | B694: DISTANCE TRANSVERSALE AXE DE SIEGE CENTRAL GAUCHE RANG 3 - AXE DE CAISSE | C694: SIEGE DERNIER RANG
A695: SF52 | B695: DISTANCE TRANSVERSALE AXE DE SIEGE CENTRAL DROIT RANG 3 - AXE DE CAISSE | C695: SIEGE DERNIER RANG
A696: SF53 | B696: DISTANCE TRANSVERSALE AXE DE SIEGE LATERAL DROIT RANG 3 - AXE DE CAISSE | C696: SIEGE DERNIER RANG
A697: SF65 | B697: LONGUEUR APPARENTE DE DOSSIER | C697: SIEGE DERNIER RANG
A698: SZ06 | B698: DIST MAXI HORIZ HAR DERNIER RANG - BORD AVANT DE L'ASSISE AU HAR LAT | C698: SIEGE DERNIER RANG
A699: SZ12 | B699: LARGEUR SIEGE INDIVIDUEL DERNIER RANG | C699: SIEGE DERNIER RANG
A700: SZ17 | B700: LONGUEUR APPARENTE DE L'ASSISE DU SIEGE LATERAL DERNIER RANG | C700: SIEGE DERNIER RANG
... A815: VO62 | B815: DIST, VERT, PT CENTRE VOLANT (OW) PT HDC (REHAUSSE BASSE SI REHAUSSE) | C815: VOLANT
A816: DATE | B816: DATE DE MISE A JOUR DES DONNEES PROTO

Sheet START
A1: \\f-horus\home6$\a196136\MyDocs\Données A2MAC1\Mercedes GLA 2014.xls
A2: =SUBSTITUTE(SUBSTITUTE(SUBSTITUTE([1]extraction_27_10_2015__10_14_19!$E$10,"-",""),">",""),"*","") -> MERCEDES GLA H2014
A4: PROFILS | D4: SUV
A5: RANGS | D5: 2
A7: IDENTIFICATION DES CRITERES NON RENSEIGNES DATA + abaque
A10: =RIGHT(CELL("nomfichier",DATA!A1),LEN(CELL("nomfichier",DATA!A1))-FIND("]",CELL("nomfichier",DATA!A1))) -> DATA | B10: =COUNTIF(DATA!D:D,"___") -> 91
A12: TOTAL MANQUANTS | B12: =B10&"/"&COUNTA(DATA!C:C) -> 91/229
E19: =T(C18)
E25: =T(C23)
E26: =T(C24)
E27: =T(C25)
E28: =T(C26)
E29: =T(C27)
E30: =T(C28)
E31: =T(C29)
E32: =T(C30)
E33: =T(C31)
E34: =T(C32)
E35: =T(C33)
E36: =T(C34)
... E70: =T(C68)

Sheet DATA
A1: =IFERROR(VLOOKUP(B1,VARIABLES!$A:$C,3,FALSE),"") -> COTES GENERALES | B1: Genre | C1: =IFERROR(VLOOKUP(B1,VARIABLES!$A:$B,2,FALSE),"") -> Genre | D1: T | J1: Critere véhicule à 3 rangs
A2: =IFERROR(VLOOKUP(B2,VARIABLES!$A:$C,3,FALSE),"") -> COTES GENERALES | B2: Nombre de portes | C2: =IFERROR(VLOOKUP(B2,VARIABLES!$A:$B,2,FALSE),"") -> Nombre de portes | D2: 5 | J2: Critère disponible à terme dans la base ERGO
A3: =IFERROR(VLOOKUP(B3,VARIABLES!$A:$C,3,FALSE),"") -> COTES GENERALES | B3: IC | C3: =IFERROR(VLOOKUP(B3,VARIABLES!$A:$B,2,FALSE),"") -> INDICE DE CATEGORIE DU PRODUIT (1=I1,2=I2,3=M1,4=M2,5=S,6=S+) | D3: 3 | E3: Ergo | J3: Nouveau Critère
A4: =IFERROR(VLOOKUP(B4,VARIABLES!$A:$C,3,FALSE),"") -> COTES GENERALES | B4: XP | C4: =IFERROR(VLOOKUP(B4,VARIABLES!$A:$B,2,FALSE),"") -> DISTANCE HORIZONTALE HX - HORS-TOUT ARRIERE | D4: 1110 | E4: Ergo
A5: =IFERROR(VLOOKUP(B5,VARIABLES!$A:$C,3,FALSE),"") -> COTES GENERALES | B5: W3 | C5: =IFERROR(VLOOKUP(B5,VARIABLES!$A:$B,2,FALSE),"") -> LARGEUR ENTRE LES ACCOUDOIRS AVANT (DANS LE PLAN DE HX) | D5: 1306 | E5: Ergo | J5: CRITERE AUTO ISSU DE LA BASE ERGO
A6: =IFERROR(VLOOKUP(B6,VARIABLES!$A:$C,3,FALSE),"") -> RAPPORTS | B6: CC21 | C6: =IFERROR(VLOOKUP(B6,VARIABLES!$A:$B,2,FALSE),"") -> VOLUME CALCULE HABITABILITE AVANT | D6: 678 | E6: Ergo | J6: NOTE TIRER D'UN ABAQUE OU CONSTAT CAO
A7: =IFERROR(VLOOKUP(B7,VARIABLES!$A:$C,3,FALSE),"") -> RAPPORTS | B7: CC27 | C7: =IFERROR(VLOOKUP(B7,VARIABLES!$A:$B,2,FALSE),"") -> VOLUME CALCULE HABITABLE AU RANG3 | D7: ___
A8: =IFERROR(VLOOKUP(B8,VARIABLES!$A:$C,3,FALSE),"") -> LEVIER DE VITESSES | B8: LV | C8: =IFERROR(VLOOKUP(B8,VARIABLES!$A:$B,2,FALSE),"") -> TYPE D'IMPLANTATION DU LEVIER DE VITESSE | D8: 2 | E8: Ergo
A9: =IFERROR(VLOOKUP(B9,VARIABLES!$A:$C,3,FALSE),"") -> LEVIER DE VITESSES | B9: LV03 | C9: =IFERROR(VLOOKUP(B9,VARIABLES!$A:$B,2,FALSE),"") -> DIST, HORIZ, SOMMET POMMEAU DE VITESSES 1ERE (P EN BVA) - PT HX | D9: ___
A10: =IFERROR(VLOOKUP(B10,VARIABLES!$A:$C,3,FALSE),"") -> LEVIER DE VITESSES | B10: LV04 | C10: =IFERROR(VLOOKUP(B10,VARIABLES!$A:$B,2,FALSE),"") -> DIST, VERT, PT HX - SOMMET POMMEAU DE VITESSES 1ERE (P EN BVA) * | D10: ___
A11: =IFERROR(VLOOKUP(B11,VARIABLES!$A:$C,3,FALSE),"") -> LEVIER DE VITESSES | B11: LV08 | C11: =IFERROR(VLOOKUP(B11,VARIABLES!$A:$B,2,FALSE),"") -> DEBAT, TRANSV,(1-5EME) DU SOMMET DU POMMEAU DE VITESSES | D11: ___
A12: =IFERROR(VLOOKUP(B12,VARIABLES!$A:$C,3,FALSE),"") -> LEVIER DE VITESSES | B12: LV10 | C12: =IFERROR(VLOOKUP(B12,VARIABLES!$A:$B,2,FALSE),"") -> DIST, TRANSV, AXE SIEGE COND, - SOMMET POMMEAU DE VITESSE (PT MORT) | D12: ___
A13: =IFERROR(VLOOKUP(B13,VARIABLES!$A:$C,3,FALSE),"") -> ENVIRONNEMENT DE L'OEIL DU 50% REF | B13: OE10 | C13: =IFERROR(VLOOKUP(B13,VARIABLES!$A:$B,2,FALSE),"") -> DISTANCE NORMALE OEIL 50% REFERENCE EN HX - SOL A VIDE | D13: 1193 | E13: Ergo
A14: =IFERROR(VLOOKUP(B14,VARIABLES!$A:$C,3,FALSE),"") -> VISIBILITE | B14: VI10 | C14: =IFERROR(VLOOKUP(B14,VARIABLES!$A:$B,2,FALSE),"") -> ANGLE DROITE OEIL 50% REFERENCE - TANGENTE CAPOT / HORIZONTALE | D14: 6,3 | E14: Ergo
A15: =IFERROR(VLOOKUP(B15,VARIABLES!$A:$C,3,FALSE),"") -> VISIBILITE | B15: VI14 | C15: =IFERROR(VLOOKUP(B15,VARIABLES!$A:$B,2,FALSE),"") -> ANGLE DE VISION VERS LE HAUT POUR L OEIL 50% REFERENCE | D15: 20,2 | E15: Ergo
A16: =IFERROR(VLOOKUP(B16,VARIABLES!$A:$C,3,FALSE),"") -> VISIBILITE | B16: VI23 | C16: =IFERROR(VLOOKUP(B16,VARIABLES!$A:$B,2,FALSE),"") -> INCLIN,/HORIZ, DROITE OEIL 50% REF - TRAVERSE OU CLAIR DE BAIE SUP AR, | D16: 3,6 | E16: Ergo
A17: =IFERROR(VLOOKUP(B17,VARIABLES!$A:$C,3,FALSE),"") -> VISIBILITE | B17: VI24 | C17: =IFERROR(VLOOKUP(B17,VARIABLES!$A:$B,2,FALSE),"") -> ANGLE VERTICAL DE VISION DE LA LUNETTE AR, OEIL 50% REFERENCE | D17: 7,1 | E17: Ergo
A18: =IFERROR(VLOOKUP(B18,VARIABLES!$A:$C,3,FALSE),"") -> VISIBILITE | B18: VI28 | C18: =IFERROR(VLOOKUP(B18,VARIABLES!$A:$B,2,FALSE),"") -> HAUTEUR NON VUE D'UN OBSTACLE SITUE A 50CM DERRIERE LE HORS-TOUT AR, | D18: 1126 | E18: Ergo
A19: =IFERROR(VLOOKUP(B19,VARIABLES!$A:$C,3,FALSE),"") -> VISIBILITE | B19: VI31 | C19: =IFERROR(VLOOKUP(B19,VARIABLES!$A:$B,2,FALSE),"") -> ECART ANGULAIRE DU MONTANT DE BAIE GAUCHE (OEIL 50% REF) | D19: 22,7 | E19: Ergo
A20: =IFERROR(VLOOKUP(B20,VARIABLES!$A:$C,3,FALSE),"") -> VISIBILITE | B20: VI38 | C20: =IFERROR(VLOOKUP(B20,VARIABLES!$A:$B,2,FALSE),"") -> LONGUEUR DE VEH, NON VUE VERS AR, / OEIL 50% REFERENCE REHAUSSE DE 50 MM | D20: 249 | E20: Ergo
A21: =IFERROR(VLOOKUP(B21,VARIABLES!$A:$C,3,FALSE),"") -> VISIBILITE | B21: VI50 | C21: =IFERROR(VLOOKUP(B21,VARIABLES!$A:$B,2,FALSE),"") -> MASQUE DE VISION 3/4 AVANT GAUCHE CONDUCTEUR 50% REFERENCE | D21: 12 | E21: Ergo
A22: =IFERROR(VLOOKUP(B22,VARIABLES!$A:$C,3,FALSE),"") -> VISIBILITE | B22: VI56 | C22: =IFERROR(VLOOKUP(B22,VARIABLES!$A:$B,2,FALSE),"") -> VISION HORIZONTALE VITRE CUSTODE | D22: ___
A23: =IFERROR(VLOOKUP(B23,VARIABLES!$A:$C,3,FALSE),"") -> VISIBILITE | B23: VI60 | C23: =IFERROR(VLOOKUP(B23,VARIABLES!$A:$B,2,FALSE),"") -> MASQUE DE VISION 3/4 AR, DROIT - CONDUCTEUR 50% REFERENCE | D23: 16,2 | E23: Ergo
A24: =IFERROR(VLOOKUP(B24,VARIABLES!$A:$C,3,FALSE),"") -> VISIBILITE | B24: VI65 | C24: =IFERROR(VLOOKUP(B24,VARIABLES!$A:$B,2,FALSE),"") -> MASQUE ANGULAIRE BASE DU MONTANT 3/4 AR, | D24: 19 | E24: Ergo
A25: =IFERROR(VLOOKUP(B25,VARIABLES!$A:$C,3,FALSE),"") -> VISIBILITE | B25: VI66 | C25: =IFERROR(VLOOKUP(B25,VARIABLES!$A:$B,2,FALSE),"") -> VISION LATERALE BASSE (LIGNES AU SOL) | D25: 5,4 | E25: Ergo
A26: =IFERROR(VLOOKUP(B26,VARIABLES!$A:$C,3,FALSE),"") -> VISIBILITE | B26: VI67 | C26: =IFERROR(VLOOKUP(B26,VARIABLES!$A:$B,2,FALSE),"") -> MASQUE BASE DU MONTANT DE BAIE GAUCHE | D26: ___
A27: =IFERROR(VLOOKUP(B27,VARIABLES!$A:$C,3,FALSE),"") -> VISIBILITE | B27: VI85 | C27: =IFERROR(VLOOKUP(B27,VARIABLES!$A:$B,2,FALSE),"") -> ANGLE DROITE VISION HAUTE OEIL 95% 2015 / HORIZ | D27: 6,4 | E27: Ergo
A28: =IFERROR(VLOOKUP(B28,VARIABLES!$A:$C,3,FALSE),"") -> VISIBILITE | B28: VI94 | C28: =IFERROR(VLOOKUP(B28,VARIABLES!$A:$B,2,FALSE),"") -> VALEUR DE LA CIBLE 3/4 ARRIERE | D28: 0 | E28: Ergo
A29: =IFERROR(VLOOKUP(B29,VARIABLES!$A:$C,3,FALSE),"") -> VISIBILITE | B29: VI941 | C29: =IFERROR(VLOOKUP(B29,VARIABLES!$A:$B,2,FALSE),"") -> VALEUR DE LA CIBLE 3/4 ARRIERE Cases vues entièrement ou partiellement dans la zone 1 | D29: ___
A30: =IFERROR(VLOOKUP(B30,VARIABLES!$A:$C,3,FALSE),"") -> VISIBILITE | B30: VI942 | C30: =IFERROR(VLOOKUP(B30,VARIABLES!$A:$B,2,FALSE),"") -> VALEUR DE LA CIBLE 3/4 ARRIERE Cases vues entièrement ou partiellement dans la zone 2 | D30: ___
A31: =IFERROR(VLOOKUP(B31,VARIABLES!$A:$C,3,FALSE),"") -> VISIBILITE | B31: VI96 | C31: =IFERROR(VLOOKUP(B31,VARIABLES!$A:$B,2,FALSE),"") -> Position du centre de l’afficheur multimédia / œil H50% | D31: 15,95 | E31: Ergo
A32: =IFERROR(VLOOKUP(B32,VARIABLES!$A:$C,3,FALSE),"") | B32: VIxx1 | C32: Atteinte ecran de navigation | D32: ___
A33: =IFERROR(VLOOKUP(B33,VARIABLES!$A:$C,3,FALSE),"") | B33: VIxx4 | C33: Présence d'une vitre de custode | D33: OUI
A34: =IFERROR(VLOOKUP(B34,VARIABLES!$A:$C,3,FALSE),"") | B34: VIxx5 | C34: La vitre de custode est obstruée par un élément autre que l'appui téte latéral ? | D34: NON
A35: =IFERROR(VLOOKUP(B35,VARIABLES!$A:$C,3,FALSE),"") | B35: VIxx2 | C35: Portrait/paysage | D35: Paysage
A36: =IFERROR(VLOOKUP(B36,VARIABLES!$A:$C,3,FALSE),"") | B36: VIxx3 | C36: Tactile | D36: NON
A37: =IFERROR(VLOOKUP(B37,VARIABLES!$A:$C,3,FALSE),"") | B37: VIzz1 | C37: Type encombrement vision AT | D37: Latéraux ballons / Central virgule
A38: =IFERROR(VLOOKUP(B38,VARIABLES!$A:$C,3,FALSE),"") -> RETROVISEUR EXTERIEUR | B38: REX01 | C38: =IFERROR(VLOOKUP(B38,VARIABLES!$A:$B,2,FALSE),"") -> ECARTEMENT ANGULAIRE RETRO EXT / OEIL 50% REFERENCE | D38: 40,2 | E38: Ergo
B39: ASC | C39: RETROVISEUR EXTERIEUR COTE CONDUCTEUR ASPHERIQUE (0 = NON; 1 = OUI) | D39: Non AS
A40: =IFERROR(VLOOKUP(B40,VARIABLES!$A:$C,3,FALSE),"") -> RETROVISEUR EXTERIEUR | B40: ASP | C40: =IFERROR(VLOOKUP(B40,VARIABLES!$A:$B,2,FALSE),"") -> RETROVISEUR EXTERIEUR COTE PASSAGER ASPHERIQUE (0 = NON; 1 = OUI) | D40: Non AS
A41: =IFERROR(VLOOKUP(B41,VARIABLES!$A:$C,3,FALSE),"") -> SIEGE AVANT | B41: SA01 | C41: =IFERROR(VLOOKUP(B41,VARIABLES!$A:$B,2,FALSE),"") -> DISTANCE TRANSVERSALE AXE SIEGE - AXE VEHICULE | D41: 350 | E41: Ergo
A42: =IFERROR(VLOOKUP(B42,VARIABLES!$A:$C,3,FALSE),"") -> SIEGE AVANT | B42: SA02 | C42: =IFERROR(VLOOKUP(B42,VARIABLES!$A:$B,2,FALSE),"") -> DISTANCE TRANSVERSALE AXE SIEGE - BANDEAU AVANT | D42: 341 | E42: Ergo
A43: =IFERROR(VLOOKUP(B43,VARIABLES!$A:$C,3,FALSE),"") -> SIEGE AVANT | B43: SA03 | C43: =IFERROR(VLOOKUP(B43,VARIABLES!$A:$B,2,FALSE),"") -> DISTANCE TRANSVERSALE AXE SIEGE - COUDE AVANT | D43: 369 | E43: Ergo
A44: =IFERROR(VLOOKUP(B44,VARIABLES!$A:$C,3,FALSE),"") -> SIEGE AVANT | B44: SA04 | C44: =IFERROR(VLOOKUP(B44,VARIABLES!$A:$B,2,FALSE),"") -> DISTANCE TRANSVERSALE AXE SIEGE - HANCHE AVANT | D44: 303 | E44: Ergo
A45: =IFERROR(VLOOKUP(B45,VARIABLES!$A:$C,3,FALSE),"") -> SIEGE AVANT | B45: SA05 | C45: =IFERROR(VLOOKUP(B45,VARIABLES!$A:$B,2,FALSE),"") -> ANGLE DE L'ASSISE SOUS CHARGE (MANNEQUIN SANS JAMBES) /HORIZ, | D45: 12,5 | E45: Ergo
A46: =IFERROR(VLOOKUP(B46,VARIABLES!$A:$C,3,FALSE),"") -> SIEGE AVANT | B46: SA11 | C46: =IFERROR(VLOOKUP(B46,VARIABLES!$A:$B,2,FALSE),"") -> AMPLITUDE TOTALE DE REGLAGE EN HAUTEUR DE L'ASSISE | D46: 63 | E46: Ergo
A47: =IFERROR(VLOOKUP(B47,VARIABLES!$A:$C,3,FALSE),"") -> SIEGE AVANT | B47: SA07 | C47: =IFERROR(VLOOKUP(B47,VARIABLES!$A:$B,2,FALSE),"") -> LARGEUR MAXIMALE DE L'ASSISE AVANT | D47: 500 | E47: Ergo
A48: =IFERROR(VLOOKUP(B48,VARIABLES!$A:$C,3,FALSE),"") -> SIEGE AVANT | B48: SA15 | C48: =IFERROR(VLOOKUP(B48,VARIABLES!$A:$B,2,FALSE),"") -> COURSE DE LA GLISSIERE | D48: 262 | E48: Ergo
A49: =IFERROR(VLOOKUP(B49,VARIABLES!$A:$C,3,FALSE),"") -> SIEGE AVANT | B49: SA17 | C49: =IFERROR(VLOOKUP(B49,VARIABLES!$A:$B,2,FALSE),"") -> LONGUEUR APPARENTE DE L ASSISE DU SIEGE CONDUCTEUR | D49: 520 | E49: Ergo
A50: =IFERROR(VLOOKUP(B50,VARIABLES!$A:$C,3,FALSE),"") -> SIEGE AVANT | B50: SA65 | C50: =IFERROR(VLOOKUP(B50,VARIABLES!$A:$B,2,FALSE),"") -> LONGUEUR APPARENTE DE DOSSIER | D50: 625 | E50: Ergo
A51: =IFERROR(VLOOKUP(B51,VARIABLES!$A:$C,3,FALSE),"") -> SIEGE AVANT | B51: SA22 | C51: =IFERROR(VLOOKUP(B51,VARIABLES!$A:$B,2,FALSE),"") -> LARGEUR MAXIMALE DU DOSSIER AVANT | D51: 538 | E51: Ergo
A52: =IFERROR(VLOOKUP(B52,VARIABLES!$A:$C,3,FALSE),"") -> SIEGE AVANT | B52: SA18 | C52: =IFERROR(VLOOKUP(B52,VARIABLES!$A:$B,2,FALSE),"") -> PROFONDEUR DE L'ASSISE (SUIVANT L AXE DE LA CUISSE) | D52: 374 | E52: Ergo
A53: =IFERROR(VLOOKUP(B53,VARIABLES!$A:$C,3,FALSE),"") -> SIEGE AVANT | B53: SA80 | C53: =IFERROR(VLOOKUP(B53,VARIABLES!$A:$B,2,FALSE),"") -> LARGEUR MEDAILLON ASSISE X=XHX | D53: ___
A54: =IFERROR(VLOOKUP(B54,VARIABLES!$A:$C,3,FALSE),"") -> SIEGE AVANT | B54: SA81 | C54: =IFERROR(VLOOKUP(B54,VARIABLES!$A:$B,2,FALSE),"") -> LARGEUR MEDAILLON ASSISE X=XHX-250 | D54: ___
A55: =IFERROR(VLOOKUP(B55,VARIABLES!$A:$C,3,FALSE),"") -> SIEGE AVANT | B55: SA82 | C55: =IFERROR(VLOOKUP(B55,VARIABLES!$A:$B,2,FALSE),"") -> HAUTEUR MAINTIENT LATERAL ASSISE X=XHX-125 | D55: ___
A56: =IFERROR(VLOOKUP(B56,VARIABLES!$A:$C,3,FALSE),"") -> SIEGE AVANT | B56: SA83 | C56: =IFERROR(VLOOKUP(B56,VARIABLES!$A:$B,2,FALSE),"") -> HAUTEUR MAINTIENT LATERAL ASSISE X=XHX-250 | D56: ___
A57: =IFERROR(VLOOKUP(B57,VARIABLES!$A:$C,3,FALSE),"") -> SIEGE AVANT | B57: SA84 | C57: =IFERROR(VLOOKUP(B57,VARIABLES!$A:$B,2,FALSE),"") -> LARGEUR MEDAILLON DOSSIER Z=ZHX+125 | D57: ___
A58: =IFERROR(VLOOKUP(B58,VARIABLES!$A:$C,3,FALSE),"") -> SIEGE AVANT | B58: SA85 | C58: =IFERROR(VLOOKUP(B58,VARIABLES!$A:$B,2,FALSE),"") -> LARGEUR MEDAILLON DOSSIER Z=ZHX+250 | D58: ___
A59: =IFERROR(VLOOKUP(B59,VARIABLES!$A:$C,3,FALSE),"") -> SIEGE AVANT | B59: SA86 | C59: =IFERROR(VLOOKUP(B59,VARIABLES!$A:$B,2,FALSE),"") -> HAUTEUR MAINTIENT LATERAL DOSSIER Z=ZHX-125 | D59: ___
A60: =IFERROR(VLOOKUP(B60,VARIABLES!$A:$C,3,FALSE),"") -> SIEGE AVANT | B60: SA87 | C60: =IFERROR(VLOOKUP(B60,VARIABLES!$A:$B,2,FALSE),"") -> HAUTEUR MAINTIENT LATERAL DOSSIER Z=ZHX-250 | D60: ___
A61: =IFERROR(VLOOKUP(B61,VARIABLES!$A:$C,3,FALSE),"") -> SIEGE AVANT | B61: SA88 | C61: =IFERROR(VLOOKUP(B61,VARIABLES!$A:$B,2,FALSE),"") -> HAUTEUR MAXIMALE MAINTIENT LATERAL ASSISE | D61: ___
A62: =IFERROR(VLOOKUP(B62,VARIABLES!$A:$C,3,FALSE),"") -> SIEGE AVANT | B62: SA89 | C62: =IFERROR(VLOOKUP(B62,VARIABLES!$A:$B,2,FALSE),"") -> HAUTEUR MAXIMALE MAINTIENT LATERAL DOSSIER | D62: ___
A63: =IFERROR(VLOOKUP(B63,VARIABLES!$A:$C,3,FALSE),"") | B63: SAzz1 | C63: Mise en Tablette | D63: NON
A64: =IFERROR(VLOOKUP(B64,VARIABLES!$A:$C,3,FALSE),"") -> SIEGE ARRIERE | B64: SR01 | C64: =IFERROR(VLOOKUP(B64,VARIABLES!$A:$B,2,FALSE),"") -> DISTANCE TRANSVERSALE AXE SIEGE AR,- AXE DE CAISSE (4 PLACES) | D64: 335 | E64: Ergo
A65: =IFERROR(VLOOKUP(B65,VARIABLES!$A:$C,3,FALSE),"") -> SIEGE ARRIERE | B65: SR02 | C65: =IFERROR(VLOOKUP(B65,VARIABLES!$A:$B,2,FALSE),"") -> DISTANCE TRANSVERSALE H AR, - BANDEAU ARRIERE | D65: 335 | E65: Ergo
A66: =IFERROR(VLOOKUP(B66,VARIABLES!$A:$C,3,FALSE),"") -> SIEGE ARRIERE | B66: SR03 | C66: =IFERROR(VLOOKUP(B66,VARIABLES!$A:$B,2,FALSE),"") -> DISTANCE TRANSVERSALE H AR, - COUDE ARRIERE | D66: 365 | E66: Ergo
A67: =IFERROR(VLOOKUP(B67,VARIABLES!$A:$C,3,FALSE),"") -> SIEGE ARRIERE | B67: SR05 | C67: =IFERROR(VLOOKUP(B67,VARIABLES!$A:$B,2,FALSE),"") -> ANGLE DE L'ASSISE AR, SOUS CHARGE (MANNEQUIN SANS JAMBES | D67: 10 | E67: Ergo
A68: =IFERROR(VLOOKUP(B68,VARIABLES!$A:$C,3,FALSE),"") -> SIEGE ARRIERE | B68: SR12 | C68: =IFERROR(VLOOKUP(B68,VARIABLES!$A:$B,2,FALSE),"") -> LARGEUR SIEGE INDIVIDUEL RANG 2 LATERAL | D68: ___
A69: =IFERROR(VLOOKUP(B69,VARIABLES!$A:$C,3,FALSE),"") | B69: SR12(bis) | C69: Aproximation du SR12 quand il n'y a pas de sièges individuels | D69: ___
A70: =IFERROR(VLOOKUP(B70,VARIABLES!$A:$C,3,FALSE),"") -> SIEGE ARRIERE | B70: SR16 | C70: =IFERROR(VLOOKUP(B70,VARIABLES!$A:$B,2,FALSE),"") -> ANGLE D OUVERTURE TRONC-CUISSES AUX PLACES ARRIERE | D70: 92,9 | E70: Ergo
A71: =IFERROR(VLOOKUP(B71,VARIABLES!$A:$C,3,FALSE),"") -> SIEGE ARRIERE | B71: SR20 | C71: =IFERROR(VLOOKUP(B71,VARIABLES!$A:$B,2,FALSE),"") -> INCLINAISON DU BUSTE DU PASSAGER 2EME RANG - ANGLE | D71: 24 | E71: Ergo
A72: =IFERROR(VLOOKUP(B72,VARIABLES!$A:$C,3,FALSE),"") -> SIEGE ARRIERE | B72: SR47 | C72: =IFERROR(VLOOKUP(B72,VARIABLES!$A:$B,2,FALSE),"") -> LONGUEUR APPARENTE DE L ASSISE DU SIEGE R2 | D72: 496 | E72: Ergo
A73: =IFERROR(VLOOKUP(B73,VARIABLES!$A:$C,3,FALSE),"") -> SIEGE ARRIERE | B73: SR48 | C73: =IFERROR(VLOOKUP(B73,VARIABLES!$A:$B,2,FALSE),"") -> PROFONDEUR DE L'ASSISE (SUIVANT L AXE DE LA CUISSE) | D73: 313 | E73: Ergo
A74: =IFERROR(VLOOKUP(B74,VARIABLES!$A:$C,3,FALSE),"") -> SIEGE ARRIERE | B74: SR65 | C74: =IFERROR(VLOOKUP(B74,VARIABLES!$A:$B,2,FALSE),"") -> LONGUEUR APPARENTE DE DOSSIER RG2 | D74: 622 | E74: Ergo
A75: =IFERROR(VLOOKUP(B75,VARIABLES!$A:$C,3,FALSE),"") -> SIEGE ARRIERE | B75: SR61 | C75: =IFERROR(VLOOKUP(B75,VARIABLES!$A:$B,2,FALSE),"") -> LARGEUR DE L'ASSISE DE LA BANQUETTE RANG 2 | D75: ___
A76: =IFERROR(VLOOKUP(B76,VARIABLES!$A:$C,3,FALSE),"") -> SIEGE ARRIERE | B76: SR80 | C76: =IFERROR(VLOOKUP(B76,VARIABLES!$A:$B,2,FALSE),"") -> LARGEUR MEDAILLON ASSISE X=XHAR | D76: ___
A77: =IFERROR(VLOOKUP(B77,VARIABLES!$A:$C,3,FALSE),"") -> SIEGE ARRIERE | B77: SR81 | C77: =IFERROR(VLOOKUP(B77,VARIABLES!$A:$B,2,FALSE),"") -> LARGEUR MEDAILLON ASSISE X=XHAR-250 | D77: ___
A78: =IFERROR(VLOOKUP(B78,VARIABLES!$A:$C,3,FALSE),"") -> SIEGE ARRIERE | B78: SR14 | C78: =IFERROR(VLOOKUP(B78,VARIABLES!$A:$B,2,FALSE),"") -> LARGEUR DOSSIER SIEGE INDIVIDUEL RANG 2 LATERAL | D78: ___
A79: =IFERROR(VLOOKUP(B79,VARIABLES!$A:$C,3,FALSE),"") -> SIEGE ARRIERE | B79: SR82 | C79: =IFERROR(VLOOKUP(B79,VARIABLES!$A:$B,2,FALSE),"") -> LARGEUR MEDAILLON DOSSIER X=XHAR+125 | D79: ___
A80: =IFERROR(VLOOKUP(B80,VARIABLES!$A:$C,3,FALSE),"") -> SIEGE ARRIERE | B80: SR83 | C80: =IFERROR(VLOOKUP(B80,VARIABLES!$A:$B,2,FALSE),"") -> LARGEUR MEDAILLON DOSSIER X=XHAR+250 | D80: ___
A81: =IFERROR(VLOOKUP(B81,VARIABLES!$A:$C,3,FALSE),"") -> SIEGE ARRIERE | B81: SR84 | C81: =IFERROR(VLOOKUP(B81,VARIABLES!$A:$B,2,FALSE),"") -> HAUTEUR MAINTIENT LATERAL ASSISE X=XHAR | D81: ___
A82: =IFERROR(VLOOKUP(B82,VARIABLES!$A:$C,3,FALSE),"") -> SIEGE ARRIERE | B82: SR85 | C82: =IFERROR(VLOOKUP(B82,VARIABLES!$A:$B,2,FALSE),"") -> HAUTEUR MAINTIENT LATERAL ASSISE X=XHAR-125 | D82: ___
A83: =IFERROR(VLOOKUP(B83,VARIABLES!$A:$C,3,FALSE),"") -> SIEGE ARRIERE | B83: SR86 | C83: =IFERROR(VLOOKUP(B83,VARIABLES!$A:$B,2,FALSE),"") -> HAUTEUR MAINTIENT LATERAL ASSISE X=XHAR-250 | D83: ___
A84: =IFERROR(VLOOKUP(B84,VARIABLES!$A:$C,3,FALSE),"") -> SIEGE ARRIERE | B84: SR87 | C84: =IFERROR(VLOOKUP(B84,VARIABLES!$A:$B,2,FALSE),"") -> HAUTEUR MAINTIENT LATERAL DOSSIER Z=ZHAR+125 | D84: ___
A85: =IFERROR(VLOOKUP(B85,VARIABLES!$A:$C,3,FALSE),"") -> SIEGE ARRIERE | B85: SR88 | C85: =IFERROR(VLOOKUP(B85,VARIABLES!$A:$B,2,FALSE),"") -> HAUTEUR MAINTIENT LATERAL DOSSIER Z=ZHAR+250 | D85: ___
A86: =IFERROR(VLOOKUP(B86,VARIABLES!$A:$C,3,FALSE),"") | B86: SRzz1 | C86: Fractionnement dossier (Fixe, 1/1, ½, 1/3 2/3, sièges indépendants…) | D86: 1/3 2/3
A87: =IFERROR(VLOOKUP(B87,VARIABLES!$A:$C,3,FALSE),"") | B87: SRzz2 | C87: Coulissement banquette / distance mini | D87: NON
A88: =IFERROR(VLOOKUP(B88,VARIABLES!$A:$C,3,FALSE),"") | B88: SRzz3 | C88: Dossier inclinable (cargo) | D88: NON
A89: =IFERROR(VLOOKUP(B89,VARIABLES!$A:$C,3,FALSE),"") | B89: SRzz4 | C89: Extraction des sièges | D89: NON
A90: =IFERROR(VLOOKUP(B90,VARIABLES!$A:$C,3,FALSE),"") | B90: SRzz5 | C90: Recentrage sièges | D90: NON
A91: =IFERROR(VLOOKUP(B91,VARIABLES!$A:$C,3,FALSE),"") -> SIEGE DERNIER RANG | B91: SF16 | C91: =IFERROR(VLOOKUP(B91,VARIABLES!$A:$B,2,FALSE),"") -> ANGLE D OUVERTURE TRONC-CUISSES AUX PLACES ARRIERE | D91: ___
A92: =IFERROR(VLOOKUP(B92,VARIABLES!$A:$C,3,FALSE),"") -> ACCESSIBILITE ARRIERE | B92: AR03 | C92: =IFERROR(VLOOKUP(B92,VARIABLES!$A:$B,2,FALSE),"") -> RAYON DE SORTIE ARRIERE (PORTE MAXI OUVERTE) | D92: 330 | E92: Ergo
A93: =IFERROR(VLOOKUP(B93,VARIABLES!$A:$C,3,FALSE),"") -> ACCESSIBILITE ARRIERE | B93: AR04 | C93: =IFERROR(VLOOKUP(B93,VARIABLES!$A:$B,2,FALSE),"") -> DIST, HORIZ, PT HAR, - JOUE ARRIERE (A 800 MM / SOL A VIDE) * | D93: 137 | E93: Ergo
A94: =IFERROR(VLOOKUP(B94,VARIABLES!$A:$C,3,FALSE),"") -> ACCESSIBILITE ARRIERE | B94: AR05 | C94: =IFERROR(VLOOKUP(B94,VARIABLES!$A:$B,2,FALSE),"") -> DISTANCE VERTICALE PT H AR, - SOL A VIDE | D94: 587 | E94: Ergo
A95: =IFERROR(VLOOKUP(B95,VARIABLES!$A:$C,3,FALSE),"") -> ACCESSIBILITE ARRIERE | B95: AR06 | C95: =IFERROR(VLOOKUP(B95,VARIABLES!$A:$B,2,FALSE),"") -> DISTANCE VERTICALE PT H AR,-SNAP'ON DE BRANCARD ARRIERE | D95: 722 | E95: Ergo
A96: =IFERROR(VLOOKUP(B96,VARIABLES!$A:$C,3,FALSE),"") -> ACCESSIBILITE ARRIERE | B96: AR07 | C96: =IFERROR(VLOOKUP(B96,VARIABLES!$A:$B,2,FALSE),"") -> DISTANCE HORIZ, PT H AR,- SNAP'ON DE JOUE INFERIEURE DE PIED AR, * | D96: 1 | E96: Ergo
A97: =IFERROR(VLOOKUP(B97,VARIABLES!$A:$C,3,FALSE),"") -> ACCESSIBILITE ARRIERE | B97: AR09 | C97: =IFERROR(VLOOKUP(B97,VARIABLES!$A:$B,2,FALSE),"") -> DISTANCE H AR,- MONTANT DE CUSTODE RELEVEE A 14 DEGRES / VERTICALE | D97: 717 | E97: Ergo
A98: =IFERROR(VLOOKUP(B98,VARIABLES!$A:$C,3,FALSE),"") -> ACCESSIBILITE ARRIERE | B98: AR19 | C98: =IFERROR(VLOOKUP(B98,VARIABLES!$A:$B,2,FALSE),"") -> DISTANCE VERTICALE PT TALON - SNAP'ON BAVOLET ARRIERE * | D98: ___
A99: =IFERROR(VLOOKUP(B99,VARIABLES!$A:$C,3,FALSE),"") -> ACCESSIBILITE ARRIERE | B99: AR28 | C99: =IFERROR(VLOOKUP(B99,VARIABLES!$A:$B,2,FALSE),"") -> DISTANCE TRANSVERSALE H AR,- EXTREMITE DU BAVOLET (CALCULE) | D99: 525 | E99: Ergo
A100: =IFERROR(VLOOKUP(B100,VARIABLES!$A:$C,3,FALSE),"") -> ACCESSIBILITE ARRIERE | B100: AR29 | C100: =IFERROR(VLOOKUP(B100,VARIABLES!$A:$B,2,FALSE),"") -> ANGLE DE LA CUISSE AU PASSAGE DU BAVOLET AR, (2D) | D100: 60,6 | E100: Ergo
...

Sheet Synthèse
A1: Synthèse | C1: TYPE | F1: =START!D4 -> SUV | I1: RANG | J1: =START!D5 -> 2
V3: Contribution de chaque prestation
B4: Performance Niveau 1 | C4: Performance Niveau 2 | D4: note niveau 2 | F4: Performance Niveau 3 | G4: Note /10 | H4: Pond | I4: Performance Niveau 4 | J4: Note /10 | K4: Pond | L4: Performance Niveau 5 | M4: Note /10 | N4: Pond | O4: INFO + RAC | Q4: cellules de calcul | V4: au niveau 5 | W4: au niveau 4 | X4: au niveau 3 | Y4: au niveau 2 | Z4: note / 1000
A5: Synthèse | B5: VERITE trust | C5: BASES Basics | D5: =IF(nb_rang=2,SUMPRODUCT(G5:G14,H5:H14)/SUM(H5:H14),SUMPRODUCT(G5:G18,H5:H18)/SUM(H5:H18)) -> #REF! | E5: =SUM(H5:H18) -> #REF! | F5: Accessibility to row 1 Accessibilité au rang 1 | G5: =SUMPRODUCT(J5,K5) -> #REF! | H5: =INDEX(#REF!,MATCH(F5,#REF!,0),MATCH($F$1,#REF!,0)) -> #REF! | I5: Accessibilité rang 1 : Commandes (COE / COI, poignee de tirage / benitier), cotes entree / sortie (passage tete, fesses, membres inf.), portes (angles / crans d'ouverture, environnement restreint) | J5: =SUMPRODUCT(M5:M7,N5:N7) -> #REF! | K5: 1 | L5: Acessibilité Entrée de porte Rang 1 | M5: =IF(O5="OK",#REF!,0) -> #REF! | N5: 0.8 | O5: =#REF! -> #REF! | Q5: =IF($O5="OK",10,0) -> #REF! | R5: =IF(nb_rang=3,(N5*Q5*K5*H5*100),N5*Q5*K5*H5*100*(SUM(H5:H18)/SUM(H5:H14))) -> #REF! | S5: =SUM(R5:R7) -> #REF! | T5: =SUM(S5:S18) -> #REF! | V5: =IF(O5="NOK",0,IF(nb_rang=3,(N5*M5*K5*H5*100),N5*M5*K5*H5*100*(SUM(H5:H18)/SUM(H5:H14)))) -> #REF! | W5: =SUM(V5:V7) -> #REF! | X5: =W5 -> #REF! | Y5: =SUM(X5:X18) -> #REF! | Z5: =SUM(Y5:Y62) -> #REF!
L6: COE Rang 1 | M6: =IF(O6="OK",#REF!,0) -> #REF! | N6: 0.1 | O6: =#REF! -> #REF! | Q6: =IF($O6="OK",10,0) -> #REF! | R6: =IF(nb_rang=3,(N6*Q6*K5*H5*100),N6*Q6*K5*H5*100*(SUM(H5:H18)/SUM(H5:H14))) -> #REF! | V6: =IF(O6="NOK",0,IF(nb_rang=3,(N6*M6*K5*H5*100),N6*M6*K5*H5*100*(SUM(H5:H18)/SUM(H5:H14)))) -> #REF!
L7: COI Rang 1 | M7: =IF(O7="OK",#REF!,0) -> #REF! | N7: 0.1 | O7: =#REF! -> #REF! | Q7: =IF($O7="OK",10,0) -> #REF! | R7: =IF(nb_rang=3,(N7*Q7*K5*H5*100),N7*Q7*K5*H5*100*(SUM(H5:H18)/SUM(H5:H14))) -> #REF! | V7: =IF(O7="NOK",0,IF(nb_rang=3,(N7*M7*K5*H5*100),N7*M7*K5*H5*100*(SUM(H5:H18)/SUM(H5:H14)))) -> #REF!
F8: Accessibility to row 2 Accessibilité au rang 2 | G8: =SUMPRODUCT(J8:J11,K8:K11) -> #REF! | H8: =INDEX(#REF!,MATCH(F8,#REF!,0),MATCH($F$1,#REF!,0)) -> #REF! | I8: Accessibilité rang 2 : Commandes (COE / COI, poignee de tirage / benitier), cotes entree / sortie (passage tete, fesses, membres inf.), portes (angles / crans d'ouverture). | J8: =SUMPRODUCT(M8:M10,N8:N10) -> #REF! | K8: 1 | L8: Acessibilité Entrée de porte Rang 2 | M8: =IF(O8="OK",#REF!,0) -> #REF! | N8: 0.8 | O8: =#REF! -> #REF! | Q8: =IF($O8="OK",10,0) -> #REF! | R8: =IF(nb_rang=3,Q8*N8*K8*H8*100,Q8*N8*K8*H8*100*(SUM(H5:H18)/SUM(H5:H14))) -> #REF! | S8: =SUM(R8:R10) -> #REF! | V8: =IF(O8="NOK",0,IF(nb_rang=3,M8*N8*K8*H8*100,M8*N8*K8*H8*100*(SUM(H5:H18)/SUM(H5:H14)))) -> #REF! | W8: =SUM(V8:V10) -> #REF! | X8: =SUM(W8:W11) -> #REF!
L9: COE Rang 2 | M9: =IF(O9="OK",#REF!,0) -> #REF! | N9: 0.1 | O9: =#REF! -> #REF! | Q9: =IF($O9="OK",10,0) -> #REF! | R9: =IF(nb_rang=3,Q9*N9*K8*H8*100,Q9*N9*K8*H8*100*(SUM(H5:H18)/SUM(H5:H14))) -> #REF! | V9: =IF(O9="NOK",0,IF(nb_rang=3,M9*N9*K8*H8*100,M9*N9*K8*H8*100*(SUM(H5:H18)/SUM(H5:H14)))) -> #REF!
L10: COI Rang 2 | M10: =IF(O10="OK",#REF!,0) -> #REF! | N10: 0.1 | O10: =#REF! -> #REF! | Q10: =IF($O10="OK",10,0) -> #REF! | R10: =IF(nb_rang=3,Q10*N10*K8*H8*100,Q10*N10*K8*H8*100*(SUM(H5:H18)/SUM(H5:H14))) -> #REF! | V10: =IF(O10="NOK",0,IF(nb_rang=3,M10*N10*K8*H8*100,M10*N10*K8*H8*100*(SUM(H5:H18)/SUM(H5:H14)))) -> #REF!
I11: Circulation rang 2 (passage pieds / jambes entre console centrale AV et pareclose / sièges rg2) | K11: 0 | Q11: =IF($O11="OK",10,0) -> 0 | R11: =IF(nb_rang=3,K11*Q11*H8*100,K11*Q11*H8*100*(SUM(H5:H18)/SUM(H5:H14))) -> #REF! | S11: =SUM(R11) -> #REF! | W11: =IF(O11="NOK",0,IF(nb_rang=3,K11*J11*H8*100,K11*J11*H8*100*(SUM(H5:H18)/SUM(H5:H14)))) -> #REF!
F12: Accessibility: other zones(areas) Accessibilité: autres zones | G12: =SUMPRODUCT(J12:J14,K12:K14) -> #REF! | H12: =INDEX(#REF!,MATCH(F12,#REF!,0),MATCH($F$1,#REF!,0)) -> #REF! | I12: Accessibilité trappe à carburant | J12: =IF(O12="OK",#REF!,0) -> #REF! | K12: 0.7 | O12: =#REF! -> #REF! | Q12: =IF($O12="OK",10,0) -> #REF! | R12: =IF(nb_rang=3,K12*Q12*H12*100,K12*Q12*H12*100*(SUM(H5:H18)/SUM(H5:H14))) -> #REF! | S12: =SUM(R12:R14) -> #REF! | W12: =IF(O12="NOK",0,IF(nb_rang=3,K12*J12*H12*100,K12*J12*H12*100*(SUM(H5:H18)/SUM(H5:H14)))) -> #REF! | X12: =SUM(W12:W14) -> #REF!
I13: Accessibilité Trappe à énergie (électrique) | K13: =N13 -> 0 | Q13: =IF($O13="OK",10,0) -> 0 | R13: =IF(nb_rang=3,K13*Q13*H12*100,K13*Q13*H12*100*(SUM(H5:H18)/SUM(H5:H14))) -> #REF! | W13: =IF(O13="NOK",0,IF(nb_rang=3,K13*J13*H12*100,K13*J13*H12*100*(SUM(H5:H18)/SUM(H5:H14)))) -> #REF!
I14: Accessibilité ouvrant compartiment moteur (Commandes d'ouverture depuis l'intérieur et l'extérieur, utilisation de la béquille, passage tête) | J14: =IF(O14="OK",#REF!,0) -> #REF! | K14: 0.3 | O14: =#REF! -> #REF! | Q14: =IF($O14="OK",10,0) -> #REF! | R14: =IF(nb_rang=3,K14*Q14*H12*100,K14*Q14*H12*100*(SUM(H5:H18)/SUM(H5:H14))) -> #REF! | W14: =IF(O14="NOK",0,IF(nb_rang=3,K14*J14*H12*100,K14*J14*H12*100*(SUM(H5:H18)/SUM(H5:H14)))) -> #REF!
F15: Accessibility to row 3 Accessibilité au rang 3 | G15: =SUMPRODUCT(J15:J18,K15:K18) -> #REF! | H15: =INDEX(#REF!,MATCH(F15,#REF!,0),MATCH($F$1,#REF!,0)) -> #REF! | I15: Accessibilité rang 3 : Escamotage sieges rg 2: vision, acces, comprehension, prehension, garde commandes, Cotes entree / sortie: passage tete, fesses, membres inf, poignee d'aide (montee / descente) | J15: =SUMPRODUCT(M15:M17,N15:N17) -> #REF! | K15: 1 | L15: Accessibilité entrée de porte vue du rg3 | M15: =IF(O14="OK",#REF!,0) -> #REF! | N15: 1 | O15: =#REF! -> #REF! | Q15: =IF($O15="OK",10,0) -> #REF! | R15: =IF(nb_rang=3,Q15*N15*K15*H15*100,0) -> 0 | S15: =SUM(R15:R17) -> 0 | V15: =IF(O15="NOK",0,IF(nb_rang=3,M15*N15*K15*H15*100,0)) -> #REF! | W15: =SUM(V15:V17) -> #REF! | X15: =SUM(W15:W18) -> #REF!
L16: Poignée d'aide à la sortie | N16: 0 | Q16: =IF($O16="OK",10,0) -> 0 | R16: =IF(nb_rang=3,Q16*N16*K15*H15*100,0) -> 0 | V16: =IF(O16="NOK",0,IF(nb_rang=3,M16*N16*K15*H15*100,0)) -> 0
Q17: =IF($O17="OK",10,0) -> 0 | R17: =IF(nb_rang=3,Q17*N17*K15*H15*100,0) -> 0 | V17: =IF(O17="NOK",0,IF(nb_rang=3,M17*N17*K15*H15*100,0)) -> 0
I18: Circulation rang 3 (passage pieds / jambes entre les 2 rangs de sièges) | J18: 0 | K18: 0 | Q18: =IF($O18="OK",10,0) -> 0 | R18: =IF(nb_rang=3,K18*Q18*H15*100,0) -> 0 | S18: =R18 -> 0 | W18: =IF(O18="NOK",0,IF(nb_rang=3,K18*J18*H15*100,0)) -> 0
B19: ENGAGE LES SENS engages the senses | C19: seats & riding comfort | D19: =IF(nb_rang=2,SUMPRODUCT(G19:G20,H19:H20)/SUM(H19:H20),SUMPRODUCT(G19:G21,H19:H21)/SUM(H19:H21)) -> #REF! | E19: =SUM(H19:H21) -> #REF! | F19: Visually perceived comfort of seats row 1 Confort de siege Visuel Rang 1 | G19: =IF(O19="OK",#REF!,0) -> #REF! | H19: =INDEX(#REF!,MATCH(F19,#REF!,0),MATCH($F$1,#REF!,0)) -> #REF! | O19: =#REF! -> #REF! | Q19: =IF($O19="OK",10,0) -> #REF! | R19: =IF(nb_rang=3,Q19*H19*100,Q19*H19*100*SUM(H19:H21)/SUM(H19:H20)) -> #REF! | S19: =SUM(R19:R21) -> #REF! | T19: =SUM(R19:R21) -> #REF! | X19: =IF(O19="NOK",0,IF(nb_rang=3,G19*H19*100,G19*H19*100*SUM(H19:H21)/SUM(H19:H20))) -> #REF! | Y19: =SUM(X19:X21) -> #REF!
F20: Visually perceived comfort of seats row 2 Confort de siege Visuel Rang 2 | G20: =IF(O20="OK",#REF!,0) -> #REF! | H20: =INDEX(#REF!,MATCH(F20,#REF!,0),MATCH($F$1,#REF!,0)) -> #REF! | O20: =#REF! -> #REF! | Q20: =IF($O20="OK",10,0) -> #REF! | R20: =IF(nb_rang=3,Q20*H20*100,Q20*H20*100*SUM(H19:H21)/SUM(H19:H20)) -> #REF! | X20: =IF(O20="NOK",0,IF(nb_rang=3,G20*H20*100,G20*H20*100*SUM(H19:H21)/SUM(H19:H20))) -> #REF!
F21: Visually perceived comfort of seats row 3 Confort de siege Visuel Rang 3 | G21: =IF(O21="OK",#REF!,0) -> #REF! | H21: =INDEX(#REF!,MATCH(F21,#REF!,0),MATCH($F$1,#REF!,0)) -> #REF! | O21: =#REF! -> #REF! | Q21: =IF($O21="OK",10,0) -> #REF! | R21: =IF(nb_rang=3,Q21*H21*100,0) -> 0 | X21: =IF(nb_rang=3,G21*H21*100,0) -> 0
C22: CONFORT ERGONOMIQUE ergonomic confort | D22: =IF(nb_rang=2,SUMPRODUCT(G22:G39,H22:H39)/SUM(H22:H39),SUMPRODUCT(G22:G43,H22:H43)/SUM(H22:H43)) -> #REF! | E22: =SUM(H22:H43) -> #REF! | F22: Ergonomic & Dimentional Comfort : Cockpit Confort Ergonomique & Dimensionnel : Poste de conduite | G22: =SUMPRODUCT(J22:J32,K22:K32) -> #REF! | H22: =INDEX(#REF!,MATCH(F22,#REF!,0),MATCH($F$1,#REF!,0)) -> #REF! | I22: Pédalier | J22: =IF(O22="NOK",0,#REF!) -> #REF! | K22: 0.05 | O22: =#REF! -> #REF! | Q22: =IF($O22="OK",10,0) -> #REF! | R22: =IF(nb_rang=3,K22*Q22*H22*100,K22*Q22*H22*100*SUM(H22:H43)/SUM(H22:H39)) -> #REF! | S22: =R22 -> #REF! | T22: =SUM(S22:S32) -> #REF! | W22: =IF(O22="NOK",0,IF(nb_rang=3,K22*J22*H22*100,K22*J22*H22*100*SUM(H22:H43)/SUM(H22:H39))) -> #REF! | X22: =SUM(W22:W32) -> #REF! | Y22: =SUM(W22:W43) -> #REF!
I23: Poste de conduite | J23: =SUMPRODUCT(M23:M30,N23:N30) -> #REF! | K23: 0.85 | L23: Volant | M23: =IF(O23="NOK",0,#REF!) -> #REF! | N23: 0.18 | O23: =#REF! -> #REF! | Q23: =IF($O23="OK",10,0) -> #REF! | R23: =IF(nb_rang=3,Q23*N23*K23*H22*100,Q23*N23*K23*H22*100*SUM(H22:H43)/SUM(H22:H39)) -> #REF! | S23: =SUM(R23:R30) -> #REF! | V23: =IF(O23="NOK",0,IF(nb_rang=3,M23*N23*K23*H22*100,M23*N23*K23*H22*100*SUM(H22:H43)/SUM(H22:H39))) -> #REF! | W23: =SUM(V23:V30) -> #REF!
L24: Reglages siège | M24: =IF(O24="NOK",0,#REF!) -> #REF! | N24: 0.18 | O24: =#REF! -> #REF! | Q24: =IF($O24="OK",10,0) -> #REF! | R24: =IF(nb_rang=3,Q24*N24*K23*H22*100,Q24*N24*K23*H22*100*SUM(H22:H43)/SUM(H22:H39)) -> #REF! | V24: =IF(O24="NOK",0,IF(nb_rang=3,M24*N24*K23*H22*100,M24*N24*K23*H22*100*SUM(H22:H43)/SUM(H22:H39))) -> #REF!
L25: Levier de vitesse | M25: =IF(O25="NOK",0,#REF!) -> #REF! | N25: 0.18 | O25: =#REF! -> #REF! | Q25: =IF($O25="OK",10,0) -> #REF! | R25: =IF(nb_rang=3,Q25*N25*K23*H22*100,Q25*N25*K23*H22*100*SUM(H22:H43)/SUM(H22:H39)) -> #REF! | V25: =IF(O25="NOK",0,IF(nb_rang=3,M25*N25*K23*H22*100,M25*N25*K23*H22*100*SUM(H22:H43)/SUM(H22:H39))) -> #REF!
L26: Frein à main | M26: =IF(O26="NOK",0,#REF!) -> #REF! | N26: 0.12 | O26: =#REF! -> #REF! | Q26: =IF($O26="OK",10,0) -> #REF! | R26: =IF(nb_rang=3,Q26*N26*K23*H22*100,Q26*N26*K23*H22*100*SUM(H22:H43)/SUM(H22:H39)) -> #REF! | V26: =IF(O26="NOK",0,IF(nb_rang=3,M26*N26*K23*H22*100,M26*N26*K23*H22*100*SUM(H22:H43)/SUM(H22:H39))) -> #REF!
L27: Accoudoir central | M27: =IF(O27="NOK",0,#REF!) -> #REF! | N27: 0.12 | O27: =#REF! -> #REF! | Q27: =IF($O27="OK",10,0) -> #REF! | R27: =IF(nb_rang=3,Q27*N27*K23*H22*100,Q27*N27*K23*H22*100*SUM(H22:H43)/SUM(H22:H39)) -> #REF! | V27: =IF(O27="NOK",0,IF(nb_rang=3,M27*N27*K23*H22*100,M27*N27*K23*H22*100*SUM(H22:H43)/SUM(H22:H39))) -> #REF!
L28: Accoudoir sur porte | M28: =IF(O28="NOK",0,#REF!) -> #REF! | N28: 0.12 | O28: =#REF! -> #REF! | Q28: =IF($O28="OK",10,0) -> #REF! | R28: =IF(nb_rang=3,Q28*N28*K23*H22*100,Q28*N28*K23*H22*100*SUM(H22:H43)/SUM(H22:H39)) -> #REF! | V28: =IF(O28="NOK",0,IF(nb_rang=3,M28*N28*K23*H22*100,M28*N28*K23*H22*100*SUM(H22:H43)/SUM(H22:H39))) -> #REF!
L29: Macro Zoning | M29: =IF(O29="NOK",0,#REF!) -> #REF! | N29: 0.05 | O29: =#REF! -> #REF! | Q29: =IF($O29="OK",10,0) -> #REF! | R29: =IF(nb_rang=3,Q29*N29*K23*H22*100,Q29*N29*K23*H22*100*SUM(H22:H43)/SUM(H22:H39)) -> #REF! | V29: =IF(O29="NOK",0,IF(nb_rang=3,M29*N29*K23*H22*100,M29*N29*K23*H22*100*SUM(H22:H43)/SUM(H22:H39))) -> #REF!
L30: Ecran de Navigation | M30: =IF(O30="NOK",0,#REF!) -> #REF! | N30: 0.05 | O30: =#REF! -> #REF! | Q30: =IF($O30="OK",10,0) -> #REF! | R30: =IF(nb_rang=3,Q30*N30*K23*H22*100,Q30*N30*K23*H22*100*SUM(H22:H43)/SUM(H22:H39)) -> #REF! | V30: =IF(O30="NOK",0,IF(nb_rang=3,M30*N30*K23*H22*100,M30*N30*K23*H22*100*SUM(H22:H43)/SUM(H22:H39))) -> #REF!
I31: Confort d'utilisation des ceintures | J31: =SUMPRODUCT(M31:M32,N31:N32) -> #REF! | K31: 0.1 | L31: Ceinture Rang 1 | M31: =IF(O31="NOK",0,#REF!) -> #REF! | N31: 0.5 | O31: =#REF! -> #REF! | Q31: =IF($O31="OK",10,0) -> #REF! | R31: =IF(nb_rang=3,Q31*N31*K31*H22*100,Q31*N31*K31*H22*100*SUM(H22:H43)/SUM(H22:H39)) -> #REF! | S31: =SUM(R31:R32) -> #REF! | V31: =IF(O31="NOK",0,IF(nb_rang=3,M31*N31*K31*H22*100,M31*N31*K31*H22*100*SUM(H22:H43)/SUM(H22:H39))) -> #REF! | W31: =SUM(V31:V32) -> #REF!
L32: Confort Dimensionnel des siège Rang 1 | M32: =IF(O32="NOK",0,#REF!) -> #REF! | N32: 0.5 | O32: =#REF! -> #REF! | Q32: =IF($O32="OK",10,0) -> #REF! | R32: =IF(nb_rang=3,Q32*N32*K31*H22*100,Q32*N32*K31*H22*100*SUM(H22:H43)/SUM(H22:H39)) -> #REF! | V32: =IF(O32="NOK",0,IF(nb_rang=3,M32*N32*K31*H22*100,M32*N32*K31*H22*100*SUM(H22:H43)/SUM(H22:H39))) -> #REF!
F33: Ergonomic & Dimentional comfort: row 1 Confort Ergonomique & Dimensionnel : Rang 1 | G33: =SUMPRODUCT(J33:J35,K33:K35) -> #REF! | H33: =INDEX(#REF!,MATCH(F33,#REF!,0),MATCH($F$1,#REF!,0)) -> #REF! | I33: Confort dimensionnel et postural PASSAGER (volumes, dimensions siège; et accoudoirs, poignée de maintien de pavillon) | J33: =M32 -> #REF! | K33: 0.5 | O33: =#REF! -> #REF! | Q33: =IF($O33="OK",10,0) -> #REF! | R33: =IF(nb_rang=3,K33*Q33*H33*100,K33*Q33*H33*100*SUM(H22:H43)/SUM(H22:H39)) -> #REF! | S33: =SUM(R33:R35) -> #REF! | T33: =SUM(R33:R43) -> #REF! | W33: =IF(O33="NOK",0,IF(nb_rang=3,K33*J33*H33*100,K33*J33*H33*100*SUM(H22:H43)/SUM(H22:H39))) -> #REF! | X33: =SUM(W33:W35) -> #REF!
I34: Réglages des sièges et des appuis-tête PASSAGER (Amplitude des réglages / Types et dimensions des commandes /Accès aux commandes / Efforts) | K34: 0 | Q34: =IF($O34="OK",10,0) -> 0 | R34: =IF(nb_rang=3,K34*Q34*H33*100,K34*Q34*H33*100*SUM(H22:H43)/SUM(H22:H39)) -> #REF! | W34: =IF(O34="NOK",0,IF(nb_rang=3,K34*J34*H33*100,K34*J34*H33*100*SUM(H22:H43)/SUM(H22:H39))) -> #REF!
I35: Confort d'utilisation de la ceinture PASSAGER (acces, facilité de bouclage, confort de port) | J35: =M31 -> #REF! | K35: 0.5 | O35: =#REF! -> #REF! | Q35: =IF($O35="OK",10,0) -> #REF! | R35: =IF(nb_rang=3,K35*Q35*H33*100,K35*Q35*H33*100*SUM(H22:H43)/SUM(H22:H39)) -> #REF! | W35: =IF(O35="NOK",0,IF(nb_rang=3,K35*J35*H33*100,K35*J35*H33*100*SUM(H22:H43)/SUM(H22:H39))) -> #REF!
F36: Ergonomic & Dimentional comfort: row 2 Confort Ergonomique & Dimensionnel : Rang 2 | G36: =SUMPRODUCT(J36:J39,K36:K39) -> #REF! | H36: =INDEX(#REF!,MATCH(F36,#REF!,0),MATCH($F$1,#REF!,0)) -> #REF! | I36: Confort dimensionnel (sièges/banquette) et postural (dont accoudoirs, poignées de maintien, angles articulaires) des passagers latéraux rang 2 | J36: =IF(O36="NOK",0,#REF!) -> #REF! | K36: 0.5 | O36: =#REF! -> #REF! | Q36: =IF($O36="OK",10,0) -> #REF! | R36: =IF(nb_rang=3,K36*Q36*H36*100,K36*Q36*H36*100*SUM(H22:H43)/SUM(H22:H39)) -> #REF! | S36: =SUM(R36:R39) -> #REF! | W36: =IF(O36="NOK",0,IF(nb_rang=3,K36*J36*H36*100,K36*J36*H36*100*SUM(H22:H43)/SUM(H22:H39))) -> #REF! | X36: =SUM(W36:W39) -> #REF!
I37: Réglages des sièges et des appuis-tête pour le confort postural (Amplitude des réglages / Types et dimensions des commandes /Accès aux commandes / Efforts) | K37: 0 | Q37: =IF($O37="OK",10,0) -> 0 | R37: =IF(nb_rang=3,K37*Q37*H36*100,K37*Q37*H36*100*SUM(H22:H43)/SUM(H22:H39)) -> #REF! | W37: =IF(O37="NOK",0,IF(nb_rang=3,K37*J37*H36*100,K37*J37*H36*100*SUM(H22:H43)/SUM(H22:H39))) -> #REF!
I38: Confort d'utilisation des ceintures aux places latérales (acces, facilité de bouclage, confort de port) | J38: =IF(O38="NOK",0,#REF!) -> #REF! | K38: 0.5 | O38: =#REF! -> #REF! | Q38: =IF($O38="OK",10,0) -> #REF! | R38: =IF(nb_rang=3,K38*Q38*H36*100,K38*Q38*H36*100*SUM(H22:H43)/SUM(H22:H39)) -> #REF! | W38: =IF(O38="NOK",0,IF(nb_rang=3,K38*J38*H36*100,K38*J38*H36*100*SUM(H22:H43)/SUM(H22:H39))) -> #REF!
I39: Confort global place centrale rang 2 (ceinture et confort dimensionnel et postural) | K39: 0 | Q39: =IF($O39="OK",10,0) -> 0 | R39: =IF(nb_rang=3,K39*Q39*H36*100,K39*Q39*H36*100*SUM(H22:H43)/SUM(H22:H39)) -> #REF! | W39: =IF(O39="NOK",0,IF(nb_rang=3,K39*J39*H36*100,K39*J39*H36*100*SUM(H22:H43)/SUM(H22:H39))) -> #REF!
F40: Ergonomic & Dimentional comfort: row 3 Confort Ergonomique & Dimensionnel : Rang 3 | G40: =SUMPRODUCT(J40:J43,K40:K43) -> #REF! | H40: =INDEX(#REF!,MATCH(F40,#REF!,0),MATCH($F$1,#REF!,0)) -> #REF! | I40: Confort dimensionnel (sièges/banquette) et postural (dont accoudoirs, poignées de maintien, angles articulaires) des passagers latéraux rang 3 | J40: =IF(O40="NOK",0,#REF!) -> #REF! | K40: 0.5 | O40: =#REF! -> #REF! | Q40: =IF($O40="OK",10,0) -> #REF! | R40: =IF(nb_rang=3,Q40*K40*H40*100,0) -> 0 | S40: =SUM(R40:R43) -> 0 | W40: =IF(O40="NOK",0,IF(nb_rang=3,J40*K40*H40*100,0)) -> #REF! | X40: =SUM(W40:W43) -> #REF!
I41: Reglages des sieges et des appuie-tetes pour le confort (assis sur le siege: acces commandes, prehens°, garde...) | K41: 0 | Q41: =IF($O41="OK",10,0) -> 0 | R41: =IF(nb_rang=3,Q41*K41*H40*100,0) -> 0 | W41: =IF(O41="NOK",0,IF(nb_rang=3,J41*K41*H40*100,0)) -> 0
I42: Confort d'utilisation des ceintures aux places latérales (acces, facilité de bouclage, confort de port) | J42: =IF(O42="NOK",0,#REF!) -> #REF! | K42: 0.5 | O42: =#REF! -> #REF! | Q42: =IF($O42="OK",10,0) -> #REF! | R42: =IF(nb_rang=3,Q42*K42*H40*100,0) -> 0 | W42: =IF(O42="NOK",0,IF(nb_rang=3,J42*K42*H40*100,0)) -> #REF!
I43: Confort global place centrale rang 3 (ceinture et confort dimensionnel et postural) | K43: 0 | Q43: =IF($O43="OK",10,0) -> 0 | R43: =IF(nb_rang=3,Q43*K43*H40*100,0) -> 0 | W43: =IF(O43="NOK",0,IF(nb_rang=3,J43*K43*H40*100,0)) -> 0
B44: FACILITE D'UTLISATION easy experience | C44: FACILITE DE CONDUITE | D44: =SUMPRODUCT(G44:G49,H44:H49)/SUM(H44:H49) -> #REF! | E44: =SUM(H44:H49) -> #REF! | F44: Front visibility Driver's Visibilité Conducteur avant | G44: =SUMPRODUCT(J44:J45,K44:K45) -> #REF! | H44: =INDEX(#REF!,MATCH(F44,#REF!,0),MATCH($F$1,#REF!,0)) -> #REF! | I44: Visibilité du conducteur vers l'avant : Verticale (Vision haute / Vision basse) | J44: =IF(O44="OK",#REF!,0) -> #REF! | K44: 1 | O44: =#REF! -> #REF! | Q44: =IF($O44="OK",10,0) -> #REF! | R44: =Q44*K44*H44*100 -> #REF! | S44: =R44 -> #REF! | T44: =SUM(S44:S49) -> #REF! | W44: =IF(O44="NOK",0,J44*K44*H44*100) -> #REF! | X44: =SUM(W44:W45) -> #REF! | Y44: =SUM(X44:X49) -> #REF!
I45: Vision horizontale : Z œil: masque & ecartement montant de baie. En partie basse: masque pied d'elephant, zone retro exter, vision laterale basse | K45: 0 | Q45: =IF($O45="OK",10,0) -> 0 | R45: =Q45*K45*H44*100 -> #REF! | S45: =SUM(R45) -> #REF! | W45: =IF(O45="NOK",0,J45*K45*H44*100) -> #REF!
F46: Rear visibility Driver's Visibilité Conducteur arrière | G46: =SUMPRODUCT(J46:J49,K46:K49) -> #REF! | H46: =INDEX(#REF!,MATCH(F46,#REF!,0),MATCH($F$1,#REF!,0)) -> #REF! | I46: Visibilité du conducteur vers l'arrière : Verticale (Vision haute / Vision basse) | J46: =IF(O46="OK",#REF!,0) -> #REF! | K46: 0.33333333 | O46: =#REF! -> #REF! | Q46: =IF($O46="OK",10,0) -> #REF! | R46: =Q46*K46*$H$46*100 -> #REF! | S46: =SUM(R46:R49) -> #REF! | W46: =IF(O46="NOK",0,J46*K46*$H$46*100) -> #REF! | X46: =SUM(W46:W49) -> #REF!
I47: Vision horizontale : au Z œil: masque et ecartement custode / en partie basse: masque pied de custode, vision laterale basse | K47: 0 | Q47: =IF($O47="OK",10,0) -> 0 | R47: =Q47*K47*$H$46*100 -> #REF! | W47: =IF(O47="NOK",0,J47*K47*$H$46*100) -> #REF!
I48: Retrovision interieure (atteinte et vision indirecte, masque champ visuel avant) | J48: =IF(O48="OK",#REF!,0) -> #REF! | K48: 0.33333333 | O48: =#REF! -> #REF! | Q48: =IF($O48="OK",10,0) -> #REF! | R48: =Q48*K48*$H$46*100 -> #REF! | W48: =IF(O48="NOK",0,J48*K48*$H$46*100) -> #REF!
I49: Rétrovision extérieure (atteinte des commandes et vision) | J49: =IF(O49="OK",#REF!,0) -> #REF! | K49: 0.33333333 | O49: =#REF! -> #REF! | Q49: =IF($O49="OK",10,0) -> #REF! | R49: =Q49*K49*$H$46*100 -> #REF! | W49: =IF(O49="NOK",0,J49*K49*$H$46*100) -> #REF!
C50: HABITABILITE Roominess | D50: =IF(nb_rang=2,SUMPRODUCT(G50:G51,H50:H51)/SUM(H50:H51),SUMPRODUCT(G50:G52,H50:H52)/SUM(H50:H52)) -> #REF! | E50: =SUM(H50:H52) -> #REF! | F50: Interior space row 1 Habitabilité Rang 1 | G50: =IF(O50="OK",#REF!,0) -> #REF! | H50: =INDEX(#REF!,MATCH(F50,#REF!,0),MATCH($F$1,#REF!,0)) -> #REF! | O50: =#REF! -> #REF! | Q50: =IF($O50="OK",10,0) -> #REF! | R50: =IF(nb_rang=3,Q50*H50*100,Q50*H50*100*(H50+H51+H52)/(H50+H51)) -> #REF! | S50: =SUM(R50:R52) -> #REF! | T50: =SUM(R50:R54) -> #REF! | X50: =IF(O50="NOK",0,IF(nb_rang=3,G50*H50*100,G50*H50*100*(H50+H51+H52)/(H50+H51))) -> #REF! | Y50: =SUM(X50:X52) -> #REF!
F51: Interior space row 2 Habitabilité Rang 2 | G51: =IF(O51="OK",#REF!,0) -> #REF! | H51: =INDEX(#REF!,MATCH(F51,#REF!,0),MATCH($F$1,#REF!,0)) -> #REF! | O51: =#REF! -> #REF! | Q51: =IF($O51="OK",10,0) -> #REF! | R51: =IF(nb_rang=3,Q51*H51*100,Q51*H51*100*(H50+H51+H52)/(H50+H51)) -> #REF! | X51: =IF(O51="NOK",0,IF(nb_rang=3,G51*H51*100,G51*H51*100*(H50+H51+H52)/(H50+H51))) -> #REF!
F52: Interior space row 3 Habitabilité Rang 3 | G52: =IF(O52="OK",#REF!,0) -> #REF! | H52: =INDEX(#REF!,MATCH(F52,#REF!,0),MATCH($F$1,#REF!,0)) -> #REF! | O52: =#REF! -> #REF! | Q52: =IF($O52="OK",10,0) -> #REF! | R52: =IF(nb_rang=3,Q52*H52*100,0) -> 0 | X52: =IF(O52="NOK",0,IF(nb_rang=3,G52*H52*100,0)) -> #REF!
C53: Habitabilité perçue Perceived Roominess | D53: =IF(ISNUMBER(SUMPRODUCT(G53,H53)/H53),(SUMPRODUCT(G53,H53)/H53),0) -> 0 | E53: =H53 -> #REF! | F53: Habitabilité perçue | G53: 0 | H53: =INDEX(#REF!,MATCH(F53,#REF!,0),MATCH($F$1,#REF!,0)) -> #REF! | Q53: =IF($O53="OK",10,0) -> 0 | R53: =Q53*H53*100 -> #REF! | S53: =R53 -> #REF! | X53: =IF(O53="NOK",0,G53*H53*100) -> #REF! | Y53: =SUM(X53) -> #REF!
C54: Global Interior Versatility Aménagement Habitacle (Modularité Habitacle) | D54: =SUMPRODUCT(G54,H54)/H54 -> #REF! | E54: =H54 -> #REF! | F54: Aménagement Habitacle | G54: =IF(O54="OK",#REF!,0) -> #REF! | H54: =INDEX(#REF!,MATCH(F54,#REF!,0),MATCH($F$1,#REF!,0)) -> #REF! | O54: =#REF! -> #REF! | Q54: =IF($O54="OK",10,0) -> #REF! | R54: =Q54*H54*100 -> #REF! | S54: =R54 -> #REF! | X54: =IF(O54="NOK",0,G54*H54*100) -> #REF! | Y54: =SUM(X54) -> #REF!
C55: COFFRE trunk | D55: =SUMPRODUCT(G55:G59,H55:H59)/SUM(H55:H59) -> #REF! | E55: =SUM(H55:H59) -> #REF! | F55: Volume de coffre Boot space | G55: =J55 -> 0 | H55: =INDEX(#REF!,MATCH(F55,#REF!,0),MATCH($F$1,#REF!,0)) -> #REF! | I55: Performance en usage coffre (volume perçu, volumes min-max rg2/3, volume annonce, forme, performance cache-bagages) | J55: 0 | K55: 1 | O55: =IF(AND(ISNUMBER(J55),J55>0),"OK","NOK") -> NOK | Q55: =IF($O55="OK",10,0) -> 0 | R55: =K55*Q55*H55*100 -> #REF! | S55: =R55 -> #REF! | T55: =SUM(S55:S59) -> #REF! | W55: =IF(O55="NOK",0,K55*J55*H55*100) -> 0 | X55: =W55 -> 0 | Y55: =SUM(X55:X59) -> #REF!
F56: Aménagements coffre Trunk Versatility | G56: =J56 -> 0 | H56: =INDEX(#REF!,MATCH(F56,#REF!,0),MATCH($F$1,#REF!,0)) -> #REF! | I56: Performance des aménagements coffre : Rangements, compartimentages et maintiens d'objets (filets, crochets, bacs…) | J56: 0 | K56: 1 | O56: =IF(AND(ISNUMBER(J56),J56>0),"OK","NOK") -> NOK | Q56: =IF($O56="OK",10,0) -> 0 | R56: =K56*Q56*H56*100 -> #REF! | S56: =R56 -> #REF! | W56: =IF(O56="NOK",0,K56*J56*H56*100) -> 0 | X56: =W56 -> 0
F57: Accessibility: trunk(box) and space of loading(load) Accessibilité: Coffre et espace de chargement | G57: =J57 -> #REF! | H57: =INDEX(#REF!,MATCH(F57,#REF!,0),MATCH($F$1,#REF!,0)) -> #REF! | I57: Accessibilité coffre (hayon / ridelle): COE, préhension de fermeture, efforts de manipulation, passage tête coffre ouvert, dimensions entrée de coffre | J57: =SUMPRODUCT(M57:M58,N57:N58) -> #REF! | K57: 1 | L57: dimensions entrées de coffre | M57: 0 | N57: 0.5 | O57: =IF(AND(ISNUMBER(M57),M57>0),"OK","NOK") -> NOK | Q57: =IF($O57="OK",10,0) -> 0 | R57: =N57*Q57*K57*H57*100 -> #REF! | S57: =SUM(R57:R58) -> #REF! | V57: =IF(O57="NOK",0,N57*M57*K57*H57*100) -> 0 | W57: =SUM(V57:V58) -> #REF! | X57: =W57 -> #REF!
L58: Accessibilité coffre (hayon / ridelle): COE, préhension de fermeture, efforts de manipulation, passage tête coffre ouvert, dimensions entrée de coffre | M58: =IF(O58="NOK",0,#REF!) -> #REF! | N58: 0.5 | O58: =#REF! -> #REF! | Q58: =IF($O58="OK",10,0) -> #REF! | R58: =N58*Q58*K57*H57*100 -> #REF! | V58: =IF(O58="NOK",0,IF(O58="NOK",0,N58*M58*K57*H57*100)) -> #REF!
F59: Modularité de chargement Loading Modularity | G59: =J59 -> 0 | H59: =INDEX(#REF!,MATCH(Synthèse!F59,#REF!,0),MATCH(#REF!,#REF!,0)) -> #REF! | I59: Performance en usage chargement maxi (volume en chargement maxi, forme, accès, rangement cache-bagages, fonctionnalités de sièges rangs 2&3 vu du chargement, charge longue) | J59: =IF(ISNUMBER(SUMPRODUCT(M59:M59,N59:N59)),SUMPRODUCT(M59:M59,N59:N59),0) -> 0 | K59: 1 | L59: Performance en usage chargement maxi (volume en chargement maxi, forme, accès, rangement cache-bagages, fonctionnalités de sièges rangs 2&3 vu du chargement, charge longue) | M59: 0 | N59: 1 | O59: =IF(AND(ISNUMBER(M59),M59>0),"OK","NOK") -> NOK | Q59: =IF($O59="OK",10,0) -> 0 | R59: =N59*Q59*K59*H59*100 -> #REF! | S59: =SUM(R59:R59) -> #REF! | V59: =IF(O59="NOK",0,N59*M59*K59*H59*100) -> 0 | W59: =SUM(V59:V59) -> 0 | X59: =W59 -> 0
C60: RANGEMENTS storages | D60: =IF(nb_rang=2,SUMPRODUCT(J60:J61,K60:K61)/SUM(K60:K61),SUMPRODUCT(J60:J62,K60:K62)/SUM(K60:K62)) -> #REF! | E60: =SUM(H60) -> #REF! | F60: RANGEMENTS storages | G60: =IF(nb_rang=2,SUMPRODUCT(J60:J61,K60:K61)/SUM(K60:K61),SUMPRODUCT(J60:J62,K60:K62)/SUM(K60:K62)) -> #REF! | H60: =SUM(K60:K62) -> #REF! | I60: Performance des Rangements & Porte-boissons Rg1: Acces, facilite d'utilisation, nombre, volume = satisfaction globale | J60: 0 | K60: =INDEX(#REF!,MATCH(Synthèse!I60,#REF!,0),MATCH(#REF!,#REF!,0)) -> #REF! | O60: =IF(AND(ISNUMBER(J60),J60>0),"OK","NOK") -> NOK | Q60: =IF($O60="OK",10,0) -> 0 | R60: =IF(nb_rang=3,K60*Q60*100,K60*Q60*100*(K60+K61+K62)/(K60+K61)) -> #REF! | S60: =SUM(R60:R62) -> #REF! | T60: =SUM(R60:R62) -> #REF! | W60: =IF(O60="NOK",0,IF(nb_rang=3,K60*J60*$H$60*1000,K60*J60*$H$60*1000*(K60+K61+K62)/(K60+K61))) -> 0 | X60: =SUM(W60:W62) -> 0 | Y60: =X60 -> 0
I61: Performance des Rangements & Porte-boissons Rg2: Acces, facilite d'utilisation, nombre, volume = satisfact° globale | J61: 0 | K61: =INDEX(#REF!,MATCH(Synthèse!I61,#REF!,0),MATCH(#REF!,#REF!,0)) -> #REF! | O61: =IF(AND(ISNUMBER(J61),J61>0),"OK","NOK") -> NOK | Q61: =IF($O61="OK",10,0) -> 0 | R61: =IF(nb_rang=3,K61*Q61*100,K61*Q61*100*(K60+K61+K62)/(K60+K61)) -> #REF! | W61: =IF(O61="NOK",0,IF(nb_rang=3,K61*J61*$H$60*1000,K61*J61*$H$60*1000*(K60+K61+K62)/(K60+K61))) -> 0
I62: Performance des Rangements & Porte-boissons Rg3: Acces, facilite d'utilisation, nombre, volume = satisfaction globale | J62: 0 | K62: =INDEX(#REF!,MATCH(Synthèse!I62,#REF!,0),MATCH(#REF!,#REF!,0)) -> #REF! | O62: =IF(AND(ISNUMBER(J62),J62>0),"OK","NOK") -> NOK | Q62: =IF($O62="OK",10,0) -> 0 | R62: =IF(nb_rang=3,K62*Q62*$H$60*100,0) -> 0 | W62: =IF(O62="NOK",0,IF(nb_rang=3,K62*J62*$H$60*100,0)) -> 0
T64: =SUM(T5:T62) -> #REF! | V64: NOTE | X64: NOTE Rapprochée sur 1000
V65: =Z5 -> #REF! | X65: =(Z5*1000)/T64 -> #REF!
V67: /
V68: =T64 -> #REF!
