Workbook
Name Detailsintercos: 'Base '!$A$1:$N$4

Sheet Base 
A1: hiktsoc | B1: hiktcpt | C1: hikjdmvt | D1: hictcj | E1: hictpie | F1: hicnmt | G1: hictsens | H1: hictlib | I1: hictsa | J1: hicnmdev | K1: hictcdev | L1: hictcrep | M1: ICP | N1: montantsigne | O1: Déclarante | P1: Devise | Q1: Partenaire | R1: Libellé | S1: Classe de compte | T1: Compte interco | U1: Montant | V1: Montant converti | W1: Date de l'opération | X1: Trimestre | Y1: Semestre | Z1: Journal | AA1: Comptes
A2: CL220 | B2: A410000 | C2: 201509 | H2: 1118389 | L2: A410000 | M2: CL210 | N2: 2067.07 | O2: =VLOOKUP(A2,tables!$A$3:$B$19,2,0) -> CNI | P2: =VLOOKUP(Base[[#This Row],[Déclarante]],tables!$B$4:$C$19,2,0) -> USD | Q2: =VLOOKUP(M2,tables!$A$3:$B$19,2,0) -> SAS | R2: =H2 -> 1118389 | S2: =IF(LEFT(L2,1)="R",VLOOKUP(LEFT(L2,2),tables!$E$3:$F$6,2,0),(VLOOKUP(LEFT(L2,1),tables!$E$3:$F$6,2,0))) -> Actif | T2: =B2 -> A410000 | U2: =Base[[#This Row],[montantsigne]] -> 2067.07 | V2: =Base[[#This Row],[Montant]]*VLOOKUP(Base[[#This Row],[Devise]],taux[],2,0) -> 1854.5752 | W2: =VLOOKUP(MID(C2,5,2)&LEFT(C2,4),tables!$H$3:$I$14,2,0) -> Septembre | X2: =VLOOKUP(MID(Base[[#This Row],[hikjdmvt]],5,2)&LEFT(Base[[#This Row],[hikjdmvt]],4),tables!$H$17:$I$28,2,0) -> T3 | Y2: =VLOOKUP(MID(Base[[#This Row],[hikjdmvt]],5,2)&LEFT(Base[[#This Row],[hikjdmvt]],4),tables!$H$30:$I$41,2,0) -> S2 | Z2: =VLOOKUP(Base[[#This Row],[hictcj]],tables!$K$3:$L$7,2,0) -> #N/A | AA2: =MID(Base[[#This Row],[hictcrep]],2,4) -> 4100
A3: CL220 | B3: R701100 | C3: 201501 | H3: 15962 | L3: R701100 | M3: CL210 | N3: 25000 | O3: =VLOOKUP(A3,tables!$A$3:$B$19,2,0) -> CNI | P3: =VLOOKUP(Base[[#This Row],[Déclarante]],tables!$B$4:$C$19,2,0) -> USD | Q3: =VLOOKUP(M3,tables!$A$3:$B$19,2,0) -> SAS | R3: =H3 -> 15962 | S3: =IF(LEFT(L3,1)="R",VLOOKUP(LEFT(L3,2),tables!$E$3:$F$6,2,0),(VLOOKUP(LEFT(L3,1),tables!$E$3:$F$6,2,0))) -> Produits | T3: =B3 -> R701100 | U3: =Base[[#This Row],[montantsigne]] -> 25000 | V3: =Base[[#This Row],[Montant]]*VLOOKUP(Base[[#This Row],[Devise]],taux[],2,0) -> 22430 | W3: =VLOOKUP(MID(C3,5,2)&LEFT(C3,4),tables!$H$3:$I$14,2,0) -> Janvier | X3: =VLOOKUP(MID(Base[[#This Row],[hikjdmvt]],5,2)&LEFT(Base[[#This Row],[hikjdmvt]],4),tables!$H$17:$I$28,2,0) -> T1 | Y3: =VLOOKUP(MID(Base[[#This Row],[hikjdmvt]],5,2)&LEFT(Base[[#This Row],[hikjdmvt]],4),tables!$H$30:$I$41,2,0) -> S1 | Z3: =VLOOKUP(Base[[#This Row],[hictcj]],tables!$K$3:$L$7,2,0) -> #N/A | AA3: =MID(Base[[#This Row],[hictcrep]],2,4) -> 7011
A4: CL220 | B4: R701100 | C4: 201501 | H4: 15971 | L4: R701100 | M4: CL210 | N4: 9683.76 | O4: =VLOOKUP(A4,tables!$A$3:$B$19,2,0) -> CNI | P4: =VLOOKUP(Base[[#This Row],[Déclarante]],tables!$B$4:$C$19,2,0) -> USD | Q4: =VLOOKUP(M4,tables!$A$3:$B$19,2,0) -> SAS | R4: =H4 -> 15971 | S4: =IF(LEFT(L4,1)="R",VLOOKUP(LEFT(L4,2),tables!$E$3:$F$6,2,0),(VLOOKUP(LEFT(L4,1),tables!$E$3:$F$6,2,0))) -> Produits | T4: =B4 -> R701100 | U4: =Base[[#This Row],[montantsigne]] -> 9683.76 | V4: =Base[[#This Row],[Montant]]*VLOOKUP(Base[[#This Row],[Devise]],taux[],2,0) -> 8688.2695 | W4: =VLOOKUP(MID(C4,5,2)&LEFT(C4,4),tables!$H$3:$I$14,2,0) -> Janvier | X4: =VLOOKUP(MID(Base[[#This Row],[hikjdmvt]],5,2)&LEFT(Base[[#This Row],[hikjdmvt]],4),tables!$H$17:$I$28,2,0) -> T1 | Y4: =VLOOKUP(MID(Base[[#This Row],[hikjdmvt]],5,2)&LEFT(Base[[#This Row],[hikjdmvt]],4),tables!$H$30:$I$41,2,0) -> S1 | Z4: =VLOOKUP(Base[[#This Row],[hictcj]],tables!$K$3:$L$7,2,0) -> #N/A | AA4: =MID(Base[[#This Row],[hictcrep]],2,4) -> 7011

Sheet tables
A1: Entités | E1: Classe de compte | H1: Date | K1: Journal
A3: 200 | B3: SCH | C3: EUR | E3: A | F3: Actif | H3: 012015 | I3: Janvier | K3: 00 | L3: A nouveaux
A4: 210 | B4: SAS | C4: EUR | E4: P | F4: Passif | H4: 022015 | I4: Février | K4: 13 | L4: Paies
A5: HO001 | B5: Holding 1 | C5: EUR | E5: R6 | F5: Charges | H5: 032015 | I5: Mars | K5: 60 | L5: Achats
A6: HO002 | B6: Holding 2 | C6: EUR | E6: R7 | F6: Produits | H6: 042015 | I6: Avril | K6: 70 | L6: Ventes
A7: LIP004 | B7: Holding LIP | C7: EUR | H7: 052015 | I7: Mai | K7: 59 | L7: OD
A8: SA001 | B8: SAVOR | C8: EUR | H8: 062015 | I8: Juin
A9: autres à ajouter ici | H9: 072015 | I9: Juillet
A10: CL210 | B10: SAS | C10: EUR | H10: 082015 | I10: Août
A11: CL200 | B11: SCH | C11: EUR | H11: 092015 | I11: Septembre
A12: CL220 | B12: CNI | C12: USD | H12: 102015 | I12: Octcobre
A13: CL230 | B13: BAHIA | C13: BRL | H13: 112015 | I13: Novembre
A14: CL250 | B14: MAL | C14: CLP | H14: 122015 | I14: Décembre
A15: CL251 | B15: ROTR | C15: CLP
A16: CL260 | B16: ALGERIE | C16: DZD
A17: CL270 | B17: DANEMARK | C17: DKK | H17: 012015 | I17: T1
A18: CL272 | B18: KALEDONIE | C18: DKK | H18: 022015 | I18: T1
A19: CL280 | B19: AUSTRALIE | C19: AUD | H19: 032015 | I19: T1
H20: 042015 | I20: T2
H21: 052015 | I21: T2
H22: 062015 | I22: T2
A23: Conversion | B23: Taux | C23: Mois | H23: 072015 | I23: T3
A24: EUR | B24: 1 | C24: Janvier | H24: 082015 | I24: T3
A25: USD | B25: 0.8972 | C25: Janvier | H25: 092015 | I25: T3
A26: BRL | B26: 0.2842 | C26: Janvier | H26: 102015 | I26: T4
A27: CLP | B27: 0.0014 | C27: Janvier | H27: 112015 | I27: T4
A28: DKK | B28: 0.134 | C28: Janvier | H28: 122015 | I28: T4
A29: AUD | B29: 0.684 | C29: Janvier
A30: DZD | B30: 0.0091 | C30: Janvier | H30: 012015 | I30: S1
A31: EUR | B31: 10 | C31: Février | H31: 022015 | I31: S1
A32: USD | B32: 10 | C32: Février | H32: 032015 | I32: S1
A33: BRL | B33: 10 | C33: Février | H33: 042015 | I33: S1
A34: CLP | B34: 10 | C34: Février | H34: 052015 | I34: S1
A35: DKK | B35: 10 | C35: Février | H35: 062015 | I35: S1
A36: AUD | B36: 10 | C36: Février | H36: 072015 | I36: S2
A37: DZD | B37: 10 | C37: Février | H37: 082015 | I37: S2
A38: EUR | B38: 20 | C38: Mars | H38: 092015 | I38: S2
A39: USD | B39: 20 | C39: Mars | H39: 102015 | I39: S2
A40: BRL | B40: 20 | C40: Mars | H40: 112015 | I40: S2
A41: CLP | B41: 20 | C41: Mars | H41: 122015 | I41: S2
...

Sheet TdB
B2: Entité déclarante | C2: Entité partenaire | D2: Classe de compte | E2: Date | F2: Trimestre | G2: Semestre | H2: Montant par mois | I2: Montant par trimestre | J2: Montant par semestre | K2: Montant annuel
B3: KAL | C3: DANEMARK | D3: Charges | E3: Janvier | F3: T1 | G3: S1 | H3: =SUMIFS(Base[Montant converti],Base[Déclarante],TdB!B3,Base[Partenaire],TdB!C3,Base[[Classe de compte ]],TdB!D3,Base[Date de l''opération],TdB!E3) -> 0 | I3: =SUMIFS(Base[Montant converti],Base[Déclarante],TdB!B3,Base[Partenaire],TdB!C3,Base[[Classe de compte ]],TdB!D3,Base[Trimestre],TdB!F3) -> 0 | J3: =SUMIFS(Base[Montant converti],Base[Déclarante],TdB!B3,Base[Partenaire],TdB!C3,Base[[Classe de compte ]],TdB!D3,Base[Semestre],TdB!G3) -> 0 | K3: =SUMIFS(Base[Montant converti],Base[Déclarante],TdB!B3,Base[Partenaire],TdB!C3,Base[[Classe de compte ]],TdB!D3) -> 0
B4: DANEMARK | C4: KAL | D4: Produits | E4: Janvier | F4: T1 | G4: S1 | H4: =SUMIFS(Base[Montant converti],Base[Déclarante],TdB!B4,Base[Partenaire],TdB!C4,Base[[Classe de compte ]],TdB!D4,Base[Date de l''opération],TdB!E4) -> 0 | I4: =SUMIFS(Base[Montant converti],Base[Déclarante],TdB!B4,Base[Partenaire],TdB!C4,Base[[Classe de compte ]],TdB!D4,Base[Trimestre],TdB!F4) -> 0 | J4: =SUMIFS(Base[Montant converti],Base[Déclarante],TdB!B4,Base[Partenaire],TdB!C4,Base[[Classe de compte ]],TdB!D4,Base[Semestre],TdB!G4) -> 0 | K4: =SUMIFS(Base[Montant converti],Base[Déclarante],TdB!B4,Base[Partenaire],TdB!C4,Base[[Classe de compte ]],TdB!D4) -> 0
B5: DANEMARK | C5: KAL | D5: Charges | E5: Janvier | F5: T1 | G5: S1 | H5: =SUMIFS(Base[Montant converti],Base[Déclarante],TdB!B5,Base[Partenaire],TdB!C5,Base[[Classe de compte ]],TdB!D5,Base[Date de l''opération],TdB!E5) -> 0 | I5: =SUMIFS(Base[Montant converti],Base[Déclarante],TdB!B5,Base[Partenaire],TdB!C5,Base[[Classe de compte ]],TdB!D5,Base[Trimestre],TdB!F5) -> 0 | J5: =SUMIFS(Base[Montant converti],Base[Déclarante],TdB!B5,Base[Partenaire],TdB!C5,Base[[Classe de compte ]],TdB!D5,Base[Semestre],TdB!G5) -> 0 | K5: =SUMIFS(Base[Montant converti],Base[Déclarante],TdB!B5,Base[Partenaire],TdB!C5,Base[[Classe de compte ]],TdB!D5) -> 0
B6: KAL | C6: DANEMARK | D6: Produits | E6: Janvier | F6: T1 | G6: S1 | H6: =SUMIFS(Base[Montant converti],Base[Déclarante],TdB!B6,Base[Partenaire],TdB!C6,Base[[Classe de compte ]],TdB!D6,Base[Date de l''opération],TdB!E6) -> 0 | I6: =SUMIFS(Base[Montant converti],Base[Déclarante],TdB!B6,Base[Partenaire],TdB!C6,Base[[Classe de compte ]],TdB!D6,Base[Trimestre],TdB!F6) -> 0 | J6: =SUMIFS(Base[Montant converti],Base[Déclarante],TdB!B6,Base[Partenaire],TdB!C6,Base[[Classe de compte ]],TdB!D6,Base[Semestre],TdB!G6) -> 0 | K6: =SUMIFS(Base[Montant converti],Base[Déclarante],TdB!B6,Base[Partenaire],TdB!C6,Base[[Classe de compte ]],TdB!D6) -> 0
B7: DANEMARK | C7: KAL | D7: Actif | E7: Janvier | F7: T1 | G7: S1 | H7: =SUMIFS(Base[Montant converti],Base[Déclarante],TdB!B7,Base[Partenaire],TdB!C7,Base[[Classe de compte ]],TdB!D7,Base[Date de l''opération],TdB!E7) -> 0 | I7: =SUMIFS(Base[Montant converti],Base[Déclarante],TdB!B7,Base[Partenaire],TdB!C7,Base[[Classe de compte ]],TdB!D7,Base[Trimestre],TdB!F7) -> 0 | J7: =SUMIFS(Base[Montant converti],Base[Déclarante],TdB!B7,Base[Partenaire],TdB!C7,Base[[Classe de compte ]],TdB!D7,Base[Semestre],TdB!G7) -> 0 | K7: =SUMIFS(Base[Montant converti],Base[Déclarante],TdB!B7,Base[Partenaire],TdB!C7,Base[[Classe de compte ]],TdB!D7) -> 0
B8: KAL | C8: DANEMARK | D8: Passif | E8: Janvier | F8: T1 | G8: S1 | H8: =SUMIFS(Base[Montant converti],Base[Déclarante],TdB!B8,Base[Partenaire],TdB!C8,Base[[Classe de compte ]],TdB!D8,Base[Date de l''opération],TdB!E8) -> 0 | I8: =SUMIFS(Base[Montant converti],Base[Déclarante],TdB!B8,Base[Partenaire],TdB!C8,Base[[Classe de compte ]],TdB!D8,Base[Trimestre],TdB!F8) -> 0 | J8: =SUMIFS(Base[Montant converti],Base[Déclarante],TdB!B8,Base[Partenaire],TdB!C8,Base[[Classe de compte ]],TdB!D8,Base[Semestre],TdB!G8) -> 0 | K8: =SUMIFS(Base[Montant converti],Base[Déclarante],TdB!B8,Base[Partenaire],TdB!C8,Base[[Classe de compte ]],TdB!D8) -> 0
B9: DANEMARK | C9: KAL | D9: Passif | E9: Janvier | F9: T1 | G9: S1 | H9: =SUMIFS(Base[Montant converti],Base[Déclarante],TdB!B9,Base[Partenaire],TdB!C9,Base[[Classe de compte ]],TdB!D9,Base[Date de l''opération],TdB!E9) -> 0 | I9: =SUMIFS(Base[Montant converti],Base[Déclarante],TdB!B9,Base[Partenaire],TdB!C9,Base[[Classe de compte ]],TdB!D9,Base[Trimestre],TdB!F9) -> 0 | J9: =SUMIFS(Base[Montant converti],Base[Déclarante],TdB!B9,Base[Partenaire],TdB!C9,Base[[Classe de compte ]],TdB!D9,Base[Semestre],TdB!G9) -> 0 | K9: =SUMIFS(Base[Montant converti],Base[Déclarante],TdB!B9,Base[Partenaire],TdB!C9,Base[[Classe de compte ]],TdB!D9) -> 0
B10: KAL | C10: DANEMARK | D10: Actif | E10: Janvier | F10: T1 | G10: S1 | H10: =SUMIFS(Base[Montant converti],Base[Déclarante],TdB!B10,Base[Partenaire],TdB!C10,Base[[Classe de compte ]],TdB!D10,Base[Date de l''opération],TdB!E10) -> 0 | I10: =SUMIFS(Base[Montant converti],Base[Déclarante],TdB!B10,Base[Partenaire],TdB!C10,Base[[Classe de compte ]],TdB!D10,Base[Trimestre],TdB!F10) -> 0 | J10: =SUMIFS(Base[Montant converti],Base[Déclarante],TdB!B10,Base[Partenaire],TdB!C10,Base[[Classe de compte ]],TdB!D10,Base[Semestre],TdB!G10) -> 0 | K10: =SUMIFS(Base[Montant converti],Base[Déclarante],TdB!B10,Base[Partenaire],TdB!C10,Base[[Classe de compte ]],TdB!D10) -> 0
B11: CHS | C11: SAS | D11: Actif | E11: Août | F11: T1 | G11: S2 | H11: =SUMIFS(Base[Montant converti],Base[Déclarante],TdB!B11,Base[Partenaire],TdB!C11,Base[[Classe de compte ]],TdB!D11,Base[Date de l''opération],TdB!E11) -> 0 | I11: =SUMIFS(Base[Montant converti],Base[Déclarante],TdB!B11,Base[Partenaire],TdB!C11,Base[[Classe de compte ]],TdB!D11,Base[Trimestre],TdB!F11) -> 0 | J11: =SUMIFS(Base[Montant converti],Base[Déclarante],TdB!B11,Base[Partenaire],TdB!C11,Base[[Classe de compte ]],TdB!D11,Base[Semestre],TdB!G11) -> 0 | K11: =SUMIFS(Base[Montant converti],Base[Déclarante],TdB!B11,Base[Partenaire],TdB!C11,Base[[Classe de compte ]],TdB!D11) -> 0
B12: SAS | C12: CHS | D12: Passif | E12: Septembre | F12: T2 | G12: S1 | H12: =SUMIFS(Base[Montant converti],Base[Déclarante],TdB!B12,Base[Partenaire],TdB!C12,Base[[Classe de compte ]],TdB!D12,Base[Date de l''opération],TdB!E12) -> 0 | I12: =SUMIFS(Base[Montant converti],Base[Déclarante],TdB!B12,Base[Partenaire],TdB!C12,Base[[Classe de compte ]],TdB!D12,Base[Trimestre],TdB!F12) -> 0 | J12: =SUMIFS(Base[Montant converti],Base[Déclarante],TdB!B12,Base[Partenaire],TdB!C12,Base[[Classe de compte ]],TdB!D12,Base[Semestre],TdB!G12) -> 0 | K12: =SUMIFS(Base[Montant converti],Base[Déclarante],TdB!B12,Base[Partenaire],TdB!C12,Base[[Classe de compte ]],TdB!D12) -> 0
B13: CHS | C13: SAS | D13: Charges | E13: Novembre | F13: T3 | G13: S1 | H13: =SUMIFS(Base[Montant converti],Base[Déclarante],TdB!B13,Base[Partenaire],TdB!C13,Base[[Classe de compte ]],TdB!D13,Base[Date de l''opération],TdB!E13) -> 0 | I13: =SUMIFS(Base[Montant converti],Base[Déclarante],TdB!B13,Base[Partenaire],TdB!C13,Base[[Classe de compte ]],TdB!D13,Base[Trimestre],TdB!F13) -> 0 | J13: =SUMIFS(Base[Montant converti],Base[Déclarante],TdB!B13,Base[Partenaire],TdB!C13,Base[[Classe de compte ]],TdB!D13,Base[Semestre],TdB!G13) -> 0 | K13: =SUMIFS(Base[Montant converti],Base[Déclarante],TdB!B13,Base[Partenaire],TdB!C13,Base[[Classe de compte ]],TdB!D13) -> 0
B14: CHS | C14: SAS | D14: Charges | E14: Décembre | F14: T4 | G14: S2 | H14: =SUMIFS(Base[Montant converti],Base[Déclarante],TdB!B14,Base[Partenaire],TdB!C14,Base[[Classe de compte ]],TdB!D14,Base[Date de l''opération],TdB!E14) -> 0 | I14: =SUMIFS(Base[Montant converti],Base[Déclarante],TdB!B14,Base[Partenaire],TdB!C14,Base[[Classe de compte ]],TdB!D14,Base[Trimestre],TdB!F14) -> 0 | J14: =SUMIFS(Base[Montant converti],Base[Déclarante],TdB!B14,Base[Partenaire],TdB!C14,Base[[Classe de compte ]],TdB!D14,Base[Semestre],TdB!G14) -> 0 | K14: =SUMIFS(Base[Montant converti],Base[Déclarante],TdB!B14,Base[Partenaire],TdB!C14,Base[[Classe de compte ]],TdB!D14) -> 0
... B26: CHS | C26: SAS | D26: Charges | E26: Décembre | F26: T4 | G26: S14 | H26: =SUMIFS(Base[Montant converti],Base[Déclarante],TdB!B26,Base[Partenaire],TdB!C26,Base[[Classe de compte ]],TdB!D26,Base[Date de l''opération],TdB!E26) -> 0 | I26: =SUMIFS(Base[Montant converti],Base[Déclarante],TdB!B26,Base[Partenaire],TdB!C26,Base[[Classe de compte ]],TdB!D26,Base[Trimestre],TdB!F26) -> 0 | J26: =SUMIFS(Base[Montant converti],Base[Déclarante],TdB!B26,Base[Partenaire],TdB!C26,Base[[Classe de compte ]],TdB!D26,Base[Semestre],TdB!G26) -> 0 | K26: =SUMIFS(Base[Montant converti],Base[Déclarante],TdB!B26,Base[Partenaire],TdB!C26,Base[[Classe de compte ]],TdB!D26) -> 0
