Workbook

Sheet A
K1: 44104
A2: Clé Commune | B2: Description | C2: Montant | D2: D. a | E2: O_S | F2: D. d. d. a | G2: T_L | H2: T_L START_DATE | I2: T_L_END_DATE | J2: L CR Act | K2: MC 3 | L2: ID | M2: MMC | N2: MS | O2: AI | P2: CL | Q2: Cat | R2: Cg | S2: ET | T2: AT | U2: BT | V2: CT | W2: DT | X2: FT | Y2: GT | Z2: HT | AA2: IT | AB2: JT | AC2: PE | AD2: PD | AE2: PR | AF2: DCD | AG2: Dat CD | AH2: EDD | AI2: G | AJ2: A d (Jours) | AK2: D B Per K | AL2: D B per O | AM2: PC | AN2: EHB | AO2: GR | AP2: PHB per K | AQ2: PHB per O | AR2: PC HB | AS2: TP
A3: 100 | B3: Mona | C3: 1000 | D3: =IF(AND(G3>C3,I3>$K$1),"Oui","Non") -> Non | E3: 43797 | F3: =IF(D3="Oui",0,E3) -> 43797 | G3: 2000 | I3: 44012 | J3: 44104 | K3: =IF(J3>$K$1,"Non",IF($K$1-J3>90,"Non","Oui")) -> Oui | L3: 500 | M3: 800 | N3: =IF(K3="Non","Non",IF(AND(L3=0,M3=0),"Non",IF(AND(K3="Oui",M3>L3),"Oui",IF(AND(K3="oui",M3<L3),"Non")))) -> Oui | O3: =IF(D3="Non",$K$1-E3,IF(AND(D3="Oui",F3>0),$K$1-F3,IF(AND(D3="Oui",F3=0),0))) -> 307 | R3: =IF(C3<1000,"Non",IF(OR(P3<>"RL",Q3<>"PP"),"Oui","Non")) -> Oui | S3: =SUMIFS(Source!$C:$C,Source!$A:$A,$A3,Source!$D:$D,S$2) -> 500 | T3: =SUMIFS(Source!$C:$C,Source!$A:$A,$A3,Source!$D:$D,T$2) -> 2000 | U3: =SUMIFS(Source!$C:$C,Source!$A:$A,$A3,Source!$D:$D,U$2) -> 4000 | V3: =SUMIFS(Source!$C:$C,Source!$A:$A,$A3,Source!$D:$D,V$2) -> 12000 | W3: =SUMIFS(Source!$C:$C,Source!$A:$A,$A3,Source!$D:$D,W$2) -> 0 | X3: =SUMIFS(Source!$C:$C,Source!$A:$A,$A3,Source!$D:$D,X$2) -> 400 | Y3: =SUMIFS(Source!$C:$C,Source!$A:$A,$A3,Source!$D:$D,Y$2) -> 800 | Z3: =SUMIFS(Source!$C:$C,Source!$A:$A,$A3,Source!$D:$D,Z$2) -> 2000 | ... AB3: =SUMIFS(Source!$C:$C,Source!$A:$A,$A3,Source!$D:$D,AB$2) -> 8000 | AC3: =IF(IFERROR(INDEX(B!U:U,MATCH(A3,B!A:A,0)),"Non")="Oui","Oui","Non") -> Non | AD3: =IF(X3<>0,"Oui","Non") -> Oui | AE3: =IF(IFERROR(INDEX(D!AA:AA,MATCH(A3,D!A:A,0)),"Non")="Oui","Oui","Non") -> Non | AF3: Oui | AH3: =IF(AF3="non",0,IF(AND(AF3="Oui",R3="oui"),SUM(S3:Z3),IF(AND(AF3="Oui",R3="Non"),C3))) -> 21700 | AI3: =SUM(SUMIFS(Source!C:C,Source!A:A,A3,Source!D:D,{"DA";"HY";"CE"})) -> 26000 | AJ3: =IF(AF3>0,$K$1-AG3,0) -> 44104 | AM3: =IF(AK3>AL3,AK3-AL3,0) -> 0 | AN3: =IF(AF3="Non",0,IF(AND(AF3="Oui",R3="Oui"),SUM(S3:Z3),IF(AND(AF3="Oui",R3="Non"),0))) -> 21700 | AO3: =IF(AI3>AH3,AI3-AH3,0) -> 4300 | AP3: =IF(AO3<=0,AN3,IF(AND(AO3>0,AN3>AO3),AN3-AO3,IF(AND(AO3>0,AN3<AO3),0))) -> 17400 | AR3: =IF(AP3>AQ3,AP3-AQ3,0) -> 17400
A4: 200 | B4: Ramona | C4: 3500 | D4: =IF(AND(G4>C4,I4>$K$1),"Oui","Non") -> Non | E4: 44012 | F4: =IF(D4="Oui",0,E4) -> 44012 | G4: 0 | J4: 43850 | K4: =IF(J4>$K$1,"Non",IF($K$1-J4>90,"Non","Oui")) -> Non | L4: 1500 | M4: 200 | N4: =IF(K4="Non","Non",IF(AND(L4=0,M4=0),"Non",IF(AND(K4="Oui",M4>L4),"Oui",IF(AND(K4="oui",M4<L4),"Non")))) -> Non | O4: =IF(D4="Non",$K$1-E4,IF(AND(D4="Oui",F4>0),$K$1-F4,IF(AND(D4="Oui",F4=0),0))) -> 92 | R4: =IF(C4<1000,"Non",IF(OR(P4<>"RL",Q4<>"PP"),"Oui","Non")) -> Oui | S4: =SUMIFS(Source!$C:$C,Source!$A:$A,$A4,Source!$D:$D,S$2) -> 300 | T4: =SUMIFS(Source!$C:$C,Source!$A:$A,$A4,Source!$D:$D,T$2) -> 2500 | U4: =SUMIFS(Source!$C:$C,Source!$A:$A,$A4,Source!$D:$D,U$2) -> 8000 | V4: =SUMIFS(Source!$C:$C,Source!$A:$A,$A4,Source!$D:$D,V$2) -> 0 | W4: =SUMIFS(Source!$C:$C,Source!$A:$A,$A4,Source!$D:$D,W$2) -> 5000 | X4: =SUMIFS(Source!$C:$C,Source!$A:$A,$A4,Source!$D:$D,X$2) -> 100 | Y4: =SUMIFS(Source!$C:$C,Source!$A:$A,$A4,Source!$D:$D,Y$2) -> 200 | Z4: =SUMIFS(Source!$C:$C,Source!$A:$A,$A4,Source!$D:$D,Z$2) -> 3000 | ... AB4: =SUMIFS(Source!$C:$C,Source!$A:$A,$A4,Source!$D:$D,AB$2) -> 9000 | AC4: =IF(IFERROR(INDEX(B!U:U,MATCH(A4,B!A:A,0)),"Non")="Oui","Oui","Non") -> Oui | AD4: =IF(X4<>0,"Oui","Non") -> Oui | AE4: =IF(IFERROR(INDEX(D!AA:AA,MATCH(A4,D!A:A,0)),"Non")="Oui","Oui","Non") -> Non | AF4: Non | AH4: =IF(AF4="non",0,IF(AND(AF4="Oui",R4="oui"),SUM(S4:Z4),IF(AND(AF4="Oui",R4="Non"),C4))) -> 0 | AI4: =SUM(SUMIFS(Source!C:C,Source!A:A,A4,Source!D:D,{"DA";"HY";"CE"})) -> 28000 | AJ4: =IF(AF4>0,$K$1-AG4,0) -> 44104 | AM4: =IF(AK4>AL4,AK4-AL4,0) -> 0 | AN4: =IF(AF4="Non",0,IF(AND(AF4="Oui",R4="Oui"),SUM(S4:Z4),IF(AND(AF4="Oui",R4="Non"),0))) -> 0 | AO4: =IF(AI4>AH4,AI4-AH4,0) -> 28000 | AP4: =IF(AO4<=0,AN4,IF(AND(AO4>0,AN4>AO4),AN4-AO4,IF(AND(AO4>0,AN4<AO4),0))) -> 0 | AR4: =IF(AP4>AQ4,AP4-AQ4,0) -> 0
A5: 300 | B5: Ramon | C5: 4800 | D5: =IF(AND(G5>C5,I5>$K$1),"Oui","Non") -> Oui | E5: 44097 | F5: =IF(D5="Oui",0,E5) -> 0 | G5: 5000 | I5: 44196 | J5: 43768 | K5: =IF(J5>$K$1,"Non",IF($K$1-J5>90,"Non","Oui")) -> Non | L5: 2500 | M5: 1500 | N5: =IF(K5="Non","Non",IF(AND(L5=0,M5=0),"Non",IF(AND(K5="Oui",M5>L5),"Oui",IF(AND(K5="oui",M5<L5),"Non")))) -> Non | O5: =IF(D5="Non",$K$1-E5,IF(AND(D5="Oui",F5>0),$K$1-F5,IF(AND(D5="Oui",F5=0),0))) -> 0 | R5: =IF(C5<1000,"Non",IF(OR(P5<>"RL",Q5<>"PP"),"Oui","Non")) -> Oui | S5: =SUMIFS(Source!$C:$C,Source!$A:$A,$A5,Source!$D:$D,S$2) -> 800 | T5: =SUMIFS(Source!$C:$C,Source!$A:$A,$A5,Source!$D:$D,T$2) -> 3500 | U5: =SUMIFS(Source!$C:$C,Source!$A:$A,$A5,Source!$D:$D,U$2) -> 12000 | V5: =SUMIFS(Source!$C:$C,Source!$A:$A,$A5,Source!$D:$D,V$2) -> 22000 | W5: =SUMIFS(Source!$C:$C,Source!$A:$A,$A5,Source!$D:$D,W$2) -> 40000 | X5: =SUMIFS(Source!$C:$C,Source!$A:$A,$A5,Source!$D:$D,X$2) -> 0 | Y5: =SUMIFS(Source!$C:$C,Source!$A:$A,$A5,Source!$D:$D,Y$2) -> 600 | Z5: =SUMIFS(Source!$C:$C,Source!$A:$A,$A5,Source!$D:$D,Z$2) -> 4000 | ... AB5: =SUMIFS(Source!$C:$C,Source!$A:$A,$A5,Source!$D:$D,AB$2) -> 10000 | AC5: =IF(IFERROR(INDEX(B!U:U,MATCH(A5,B!A:A,0)),"Non")="Oui","Oui","Non") -> Oui | AD5: =IF(X5<>0,"Oui","Non") -> Non | AE5: =IF(IFERROR(INDEX(D!AA:AA,MATCH(A5,D!A:A,0)),"Non")="Oui","Oui","Non") -> Non | AF5: Oui | AH5: =IF(AF5="non",0,IF(AND(AF5="Oui",R5="oui"),SUM(S5:Z5),IF(AND(AF5="Oui",R5="Non"),C5))) -> 82900 | AI5: =SUM(SUMIFS(Source!C:C,Source!A:A,A5,Source!D:D,{"DA";"HY";"CE"})) -> 30000 | AJ5: =IF(AF5>0,$K$1-AG5,0) -> 44104 | AM5: =IF(AK5>AL5,AK5-AL5,0) -> 0 | AN5: =IF(AF5="Non",0,IF(AND(AF5="Oui",R5="Oui"),SUM(S5:Z5),IF(AND(AF5="Oui",R5="Non"),0))) -> 82900 | AO5: =IF(AI5>AH5,AI5-AH5,0) -> 0 | AP5: =IF(AO5<=0,AN5,IF(AND(AO5>0,AN5>AO5),AN5-AO5,IF(AND(AO5>0,AN5<AO5),0))) -> 82900 | AR5: =IF(AP5>AQ5,AP5-AQ5,0) -> 82900

Sheet B
T1: 44104
A2: Clé Commune | B2: Description | C2: Montant | D2: ET | E2: AT | F2: BT | G2: CT | H2: DT | I2: FT | J2: GT | K2: HT | L2: IT | M2: JT | N2: A | O2: B | P2: C | Q2: D | R2: E | S2: F | T2: G | U2: H | V2: I | W2: J | X2: K | Y2: L | Z2: M | AA2: N | AB2: O | AC2: P | AD2: Q | AE2: R | AF2: S | AG2: T | AH2: U | AI2: V | AJ2: W
A3: 100 | B3: Mona | C3: 1000 | D3: =SUMIFS(Source!$C:$C,Source!$A:$A,$A3,Source!$D:$D,D$2) -> 500 | E3: =SUMIFS(Source!$C:$C,Source!$A:$A,$A3,Source!$D:$D,E$2) -> 2000 | F3: =SUMIFS(Source!$C:$C,Source!$A:$A,$A3,Source!$D:$D,F$2) -> 4000 | G3: =SUMIFS(Source!$C:$C,Source!$A:$A,$A3,Source!$D:$D,G$2) -> 12000 | H3: =SUMIFS(Source!$C:$C,Source!$A:$A,$A3,Source!$D:$D,H$2) -> 0 | I3: =SUMIFS(Source!$C:$C,Source!$A:$A,$A3,Source!$D:$D,I$2) -> 400 | J3: =SUMIFS(Source!$C:$C,Source!$A:$A,$A3,Source!$D:$D,J$2) -> 800 | K3: =SUMIFS(Source!$C:$C,Source!$A:$A,$A3,Source!$D:$D,K$2) -> 2000 | ... M3: =SUMIFS(Source!$C:$C,Source!$A:$A,$A3,Source!$D:$D,M$2) -> 8000 | N3: =IF(C3<1000,"Non",IF(OR(P3<>"RL",Q3<>"PP"),"Oui","Non")) -> Oui | R3: =IF(Q3>0,$T$1-Q3,0) -> 0 | S3: =IF(I3<>0,"Oui","Non") -> Oui | T3: =IFERROR(IF(INDEX(D!AA:AA,MATCH(A3,D!A:A,0))="Oui","Oui","Non"),"Non") -> Non | U3: Non | V3: =IF(AND(U3="Oui",OR(O3="PE",P3="PP")),Q3+18,IF(AND(U3="Oui",O3<>"PE",P3<>"PP"),Q3+9,IF(U3="Non",0))) -> 0 | W3: =IF(AND(V3>0,V3<$T$1),$T$1-V3,0) -> 0 | X3: =IF(U3="Non",0,IF(AND(U3="Oui",N3="Oui"),SUM(D3:K3),IF(AND(U3="Oui",N3="Non"),C3))) -> 0 | Y3: =SUM(SUMIFS(Source!C:C,Source!A:A,A3,Source!D:D,{"DA";"HY";"CE"})) -> 26000 | AB3: =IF(AI3="Oui",0,IF(Z3>AA3,Z3-AA3,0)) -> 0 | AC3: =IF(U3="Non",0,IF(AND(U3="Oui",N3="Oui"),SUM(L3:M3),IF(AND(U3="Oui",N3="Non"),0))) -> 0 | AD3: =IF(Y3>X3,Y3-X3,0) -> 26000 | AE3: =IF(AD3<=0,AC3,IF(AND(AD3>0,AC3>AD3),AC3-AD3,IF(AND(AD3>0,AC3<AD3),0))) -> 0 | AG3: =IF(AE3>AF3,AE3-AF3,0) -> 0 | AI3: =IF(V3=0,"Non",IF(YEAR($T$1)-YEAR(V3)+1>5,"Oui",IF(YEAR($T$1)+1<5,"Non",IF(AND(YEAR($T$1)-YEAR(V3)+1=5,$T$1<DATE(YEAR($T$1),12,31)),"Non",IF(AND(YEAR($T$1)-YEAR(V3)+1=5,$T$1>=DATE(YEAR($T$1),12,31)),"Oui"))))) -> Non | AJ3: =IF(AI3="Oui",X3,0) -> 0
A4: 200 | B4: Ramona | C4: 3500 | D4: =SUMIFS(Source!$C:$C,Source!$A:$A,$A4,Source!$D:$D,D$2) -> 300 | E4: =SUMIFS(Source!$C:$C,Source!$A:$A,$A4,Source!$D:$D,E$2) -> 2500 | F4: =SUMIFS(Source!$C:$C,Source!$A:$A,$A4,Source!$D:$D,F$2) -> 8000 | G4: =SUMIFS(Source!$C:$C,Source!$A:$A,$A4,Source!$D:$D,G$2) -> 0 | H4: =SUMIFS(Source!$C:$C,Source!$A:$A,$A4,Source!$D:$D,H$2) -> 5000 | I4: =SUMIFS(Source!$C:$C,Source!$A:$A,$A4,Source!$D:$D,I$2) -> 100 | J4: =SUMIFS(Source!$C:$C,Source!$A:$A,$A4,Source!$D:$D,J$2) -> 200 | K4: =SUMIFS(Source!$C:$C,Source!$A:$A,$A4,Source!$D:$D,K$2) -> 3000 | ... M4: =SUMIFS(Source!$C:$C,Source!$A:$A,$A4,Source!$D:$D,M$2) -> 9000 | N4: =IF(C4<1000,"Non",IF(OR(P4<>"RL",Q4<>"PP"),"Oui","Non")) -> Oui | R4: =IF(Q4>0,$T$1-Q4,0) -> 0 | S4: =IF(I4<>0,"Oui","Non") -> Oui | T4: =IFERROR(IF(INDEX(D!AA:AA,MATCH(A4,D!A:A,0))="Oui","Oui","Non"),"Non") -> Non | U4: Oui | V4: =IF(AND(U4="Oui",OR(O4="PE",P4="PP")),Q4+18,IF(AND(U4="Oui",O4<>"PE",P4<>"PP"),Q4+9,IF(U4="Non",0))) -> 9 | W4: =IF(AND(V4>0,V4<$T$1),$T$1-V4,0) -> 44095 | X4: =IF(U4="Non",0,IF(AND(U4="Oui",N4="Oui"),SUM(D4:K4),IF(AND(U4="Oui",N4="Non"),C4))) -> 19100 | Y4: =SUM(SUMIFS(Source!C:C,Source!A:A,A4,Source!D:D,{"DA";"HY";"CE"})) -> 28000 | AB4: =IF(AI4="Oui",0,IF(Z4>AA4,Z4-AA4,0)) -> 0 | AC4: =IF(U4="Non",0,IF(AND(U4="Oui",N4="Oui"),SUM(L4:M4),IF(AND(U4="Oui",N4="Non"),0))) -> 15000 | AD4: =IF(Y4>X4,Y4-X4,0) -> 8900 | AE4: =IF(AD4<=0,AC4,IF(AND(AD4>0,AC4>AD4),AC4-AD4,IF(AND(AD4>0,AC4<AD4),0))) -> 6100 | AG4: =IF(AE4>AF4,AE4-AF4,0) -> 6100 | AI4: =IF(V4=0,"Non",IF(YEAR($T$1)-YEAR(V4)+1>5,"Oui",IF(YEAR($T$1)+1<5,"Non",IF(AND(YEAR($T$1)-YEAR(V4)+1=5,$T$1<DATE(YEAR($T$1),12,31)),"Non",IF(AND(YEAR($T$1)-YEAR(V4)+1=5,$T$1>=DATE(YEAR($T$1),12,31)),"Oui"))))) -> Oui | AJ4: =IF(AI4="Oui",X4,0) -> 19100
A5: 300 | B5: Ramon | C5: 4800 | D5: =SUMIFS(Source!$C:$C,Source!$A:$A,$A5,Source!$D:$D,D$2) -> 800 | E5: =SUMIFS(Source!$C:$C,Source!$A:$A,$A5,Source!$D:$D,E$2) -> 3500 | F5: =SUMIFS(Source!$C:$C,Source!$A:$A,$A5,Source!$D:$D,F$2) -> 12000 | G5: =SUMIFS(Source!$C:$C,Source!$A:$A,$A5,Source!$D:$D,G$2) -> 22000 | H5: =SUMIFS(Source!$C:$C,Source!$A:$A,$A5,Source!$D:$D,H$2) -> 40000 | I5: =SUMIFS(Source!$C:$C,Source!$A:$A,$A5,Source!$D:$D,I$2) -> 0 | J5: =SUMIFS(Source!$C:$C,Source!$A:$A,$A5,Source!$D:$D,J$2) -> 600 | K5: =SUMIFS(Source!$C:$C,Source!$A:$A,$A5,Source!$D:$D,K$2) -> 4000 | ... M5: =SUMIFS(Source!$C:$C,Source!$A:$A,$A5,Source!$D:$D,M$2) -> 10000 | N5: =IF(C5<1000,"Non",IF(OR(P5<>"RL",Q5<>"PP"),"Oui","Non")) -> Oui | R5: =IF(Q5>0,$T$1-Q5,0) -> 0 | S5: =IF(I5<>0,"Oui","Non") -> Non | T5: =IFERROR(IF(INDEX(D!AA:AA,MATCH(A5,D!A:A,0))="Oui","Oui","Non"),"Non") -> Non | U5: Oui | V5: =IF(AND(U5="Oui",OR(O5="PE",P5="PP")),Q5+18,IF(AND(U5="Oui",O5<>"PE",P5<>"PP"),Q5+9,IF(U5="Non",0))) -> 9 | W5: =IF(AND(V5>0,V5<$T$1),$T$1-V5,0) -> 44095 | X5: =IF(U5="Non",0,IF(AND(U5="Oui",N5="Oui"),SUM(D5:K5),IF(AND(U5="Oui",N5="Non"),C5))) -> 82900 | Y5: =SUM(SUMIFS(Source!C:C,Source!A:A,A5,Source!D:D,{"DA";"HY";"CE"})) -> 30000 | AB5: =IF(AI5="Oui",0,IF(Z5>AA5,Z5-AA5,0)) -> 0 | AC5: =IF(U5="Non",0,IF(AND(U5="Oui",N5="Oui"),SUM(L5:M5),IF(AND(U5="Oui",N5="Non"),0))) -> 17000 | AD5: =IF(Y5>X5,Y5-X5,0) -> 0 | AE5: =IF(AD5<=0,AC5,IF(AND(AD5>0,AC5>AD5),AC5-AD5,IF(AND(AD5>0,AC5<AD5),0))) -> 17000 | AG5: =IF(AE5>AF5,AE5-AF5,0) -> 17000 | AI5: =IF(V5=0,"Non",IF(YEAR($T$1)-YEAR(V5)+1>5,"Oui",IF(YEAR($T$1)+1<5,"Non",IF(AND(YEAR($T$1)-YEAR(V5)+1=5,$T$1<DATE(YEAR($T$1),12,31)),"Non",IF(AND(YEAR($T$1)-YEAR(V5)+1=5,$T$1>=DATE(YEAR($T$1),12,31)),"Oui"))))) -> Oui | AJ5: =IF(AI5="Oui",X5,0) -> 82900

Sheet C
O1: 44104
A2: Code client | B2: Description | C2: Mtt | D2: Cl | E2: A | F2: b | G2: c | H2: d | I2: e | J2: f | K2: g | L2: h | M2: i | N2: j | O2: k | P2: l | Q2: m | R2: n | S2: o
A3: 100 | B3: Mona | C3: 1000 | G3: =IF(E3="",F3+9,IF(F3="",E3,IF(AND(F3<>"",F3+9<=E3),F3+9,IF(AND(F3<>"",F3+9>E3),E3)))) -> 9 | I3: =IFERROR(H3/J3,0) -> 0 | J3: =SUM(SUMIFS(Source!C:C,Source!A:A,A3,Source!D:D,{"ET";"AT";"BT";"CT";"DT";"FT";"GT";"HT"})) -> 21700 | K3: =IF(J3>C3,J3-C3,0) -> 20700 | L3: =SUM(SUMIFS(Source!C:C,Source!A:A,A3,Source!D:D,{"DA";"HY";"CE"})) -> 26000 | M3: =IF($O$1-G3>0,$O$1-G3,0) -> 44095 | O3: =IFERROR(N3/J3,0) -> 0 | P3: =IF(N3>H3,N3-H3,0) -> 0 | Q3: =IF(S3="Oui",-J3,IF(I3>1,J3-H3,IF(I3<=1,0))) -> 0 | R3: =IF(S3="Oui",J3,0) -> 0
A4: 200 | B4: Ramona | C4: 3500 | G4: =IF(E4="",F4+9,IF(F4="",E4,IF(AND(F4<>"",F4+9<=E4),F4+9,IF(AND(F4<>"",F4+9>E4),E4)))) -> 9 | I4: =IFERROR(H4/J4,0) -> 0 | J4: =SUM(SUMIFS(Source!C:C,Source!A:A,A4,Source!D:D,{"ET";"AT";"BT";"CT";"DT";"FT";"GT";"HT"})) -> 19100 | K4: =IF(J4>C4,J4-C4,0) -> 15600 | L4: =SUM(SUMIFS(Source!C:C,Source!A:A,A4,Source!D:D,{"DA";"HY";"CE"})) -> 28000 | M4: =IF($O$1-G4>0,$O$1-G4,0) -> 44095 | O4: =IFERROR(N4/J4,0) -> 0 | P4: =IF(N4>H4,N4-H4,0) -> 0 | Q4: =IF(S4="Oui",-J4,IF(I4>1,J4-H4,IF(I4<=1,0))) -> 0 | R4: =IF(S4="Oui",J4,0) -> 0
A5: 300 | B5: Ramon | C5: 4800 | G5: =IF(E5="",F5+9,IF(F5="",E5,IF(AND(F5<>"",F5+9<=E5),F5+9,IF(AND(F5<>"",F5+9>E5),E5)))) -> 9 | I5: =IFERROR(H5/J5,0) -> 0 | J5: =SUM(SUMIFS(Source!C:C,Source!A:A,A5,Source!D:D,{"ET";"AT";"BT";"CT";"DT";"FT";"GT";"HT"})) -> 82900 | K5: =IF(J5>C5,J5-C5,0) -> 78100 | L5: =SUM(SUMIFS(Source!C:C,Source!A:A,A5,Source!D:D,{"DA";"HY";"CE"})) -> 30000 | M5: =IF($O$1-G5>0,$O$1-G5,0) -> 44095 | O5: =IFERROR(N5/J5,0) -> 0 | P5: =IF(N5>H5,N5-H5,0) -> 0 | Q5: =IF(S5="Oui",-J5,IF(I5>1,J5-H5,IF(I5<=1,0))) -> 0 | R5: =IF(S5="Oui",J5,0) -> 0

Sheet D
X1: 44104
A2: Code Client | B2: Noms | C2: Montant de l'encours | D2: ET | E2: AT | F2: BT | G2: CT | H2: DT | I2: FT | J2: GT | K2: HT | L2: IT | M2: JT | N2: Cl | O2: Cat | P2: A | Q2: B | R2: C | S2: D | T2: E | U2: F | V2: G | W2: H | X2: I | Y2: J | Z2: K | AA2: L | AB2: M | AC2: N | AD2: O | AE2: P | AF2: Q | AG2: R | AH2: S | AI2: T | AJ2: U | AK2: V | AL2: W | AM2: X | AN2: Y
A3: 100 | B3: Mona | C3: 1000 | D3: =SUMIFS(Source!$C:$C,Source!$A:$A,$A3,Source!$D:$D,D$2) -> 500 | E3: =SUMIFS(Source!$C:$C,Source!$A:$A,$A3,Source!$D:$D,E$2) -> 2000 | F3: =SUMIFS(Source!$C:$C,Source!$A:$A,$A3,Source!$D:$D,F$2) -> 4000 | G3: =SUMIFS(Source!$C:$C,Source!$A:$A,$A3,Source!$D:$D,G$2) -> 12000 | H3: =SUMIFS(Source!$C:$C,Source!$A:$A,$A3,Source!$D:$D,H$2) -> 0 | I3: =SUMIFS(Source!$C:$C,Source!$A:$A,$A3,Source!$D:$D,I$2) -> 400 | J3: =SUMIFS(Source!$C:$C,Source!$A:$A,$A3,Source!$D:$D,J$2) -> 800 | K3: =SUMIFS(Source!$C:$C,Source!$A:$A,$A3,Source!$D:$D,K$2) -> 2000 | ... M3: =SUMIFS(Source!$C:$C,Source!$A:$A,$A3,Source!$D:$D,M$2) -> 8000 | R3: =IF(Q3>$X$1,0,($X$1-Q3)/365) -> 120.83288 | S3: =IF(AND(R3>1,V3=0),"Oui","Non") -> Oui | T3: =IF(S3="oui",DATE(YEAR(Q3)+1,MONTH(Q3),DAY(Q3)),"") -> 366 | U3: =IF(V3>0,"Oui","Non") -> Non | V3: =IFERROR(INDEX(B!Q:Q,MATCH(A3,B!A:A,0)),0) -> 0 | W3: =IF(U3="Non",0,$X$1-V3) -> 0 | X3: =IF(Y3>0,"Oui","Non") -> Non | Z3: =IF(X3="non",0,(P3-Y3)/365) -> 0 | AA3: =IF(OR(AND(U3="Oui",W3>30,R3<=3),AND(X3="Oui",Z3<=3)),"Oui","Non") -> Non | AB3: =IF(AA3="Non",0,IF(AND(AA3="Oui",X3="Non"),V3+30,IF(AND(AA3="oui",X3="Oui"),P3))) -> 0 | AC3: =IF(AB3>0,$X$1-AB3,0) -> 0 | AD3: =IF(AA3="Oui",SUM(D3:K3),0) -> 0 | AE3: =SUM(SUMIFS(Source!C:C,Source!A:A,A3,Source!D:D,{"DA";"HY";"CE"})) -> 26000 | AH3: =IF(AF3>AG3,AF3-AG3,0) -> 0 | AI3: =IF(AA3="Oui",SUM(L3:M3),0) -> 0 | AJ3: =IF(AE3>AD3,AE3-AD3,0) -> 26000 | AK3: =IF(AJ3<=0,AI3,IF(AND(AJ3>0,AI3>AJ3),AI3-AJ3,IF(AND(AJ3>0,AI3<AJ3),0))) -> 0 | AM3: =IF(AK3>AL3,AK3-AL3,0) -> 0
A4: 200 | B4: Ramona | C4: 3500 | D4: =SUMIFS(Source!$C:$C,Source!$A:$A,$A4,Source!$D:$D,D$2) -> 300 | E4: =SUMIFS(Source!$C:$C,Source!$A:$A,$A4,Source!$D:$D,E$2) -> 2500 | F4: =SUMIFS(Source!$C:$C,Source!$A:$A,$A4,Source!$D:$D,F$2) -> 8000 | G4: =SUMIFS(Source!$C:$C,Source!$A:$A,$A4,Source!$D:$D,G$2) -> 0 | H4: =SUMIFS(Source!$C:$C,Source!$A:$A,$A4,Source!$D:$D,H$2) -> 5000 | I4: =SUMIFS(Source!$C:$C,Source!$A:$A,$A4,Source!$D:$D,I$2) -> 100 | J4: =SUMIFS(Source!$C:$C,Source!$A:$A,$A4,Source!$D:$D,J$2) -> 200 | K4: =SUMIFS(Source!$C:$C,Source!$A:$A,$A4,Source!$D:$D,K$2) -> 3000 | ... M4: =SUMIFS(Source!$C:$C,Source!$A:$A,$A4,Source!$D:$D,M$2) -> 9000 | R4: =IF(Q4>$X$1,0,($X$1-Q4)/365) -> 120.83288 | S4: =IF(AND(R4>1,V4=0),"Oui","Non") -> Oui | T4: =IF(S4="oui",DATE(YEAR(Q4)+1,MONTH(Q4),DAY(Q4)),"") -> 366 | U4: =IF(V4>0,"Oui","Non") -> Non | V4: =IFERROR(INDEX(B!Q:Q,MATCH(A4,B!A:A,0)),0) -> 0 | W4: =IF(U4="Non",0,$X$1-V4) -> 0 | X4: =IF(Y4>0,"Oui","Non") -> Non | Z4: =IF(X4="non",0,(P4-Y4)/365) -> 0 | AA4: =IF(OR(AND(U4="Oui",W4>30,R4<=3),AND(X4="Oui",Z4<=3)),"Oui","Non") -> Non | AB4: =IF(AA4="Non",0,IF(AND(AA4="Oui",X4="Non"),V4+30,IF(AND(AA4="oui",X4="Oui"),P4))) -> 0 | AC4: =IF(AB4>0,$X$1-AB4,0) -> 0 | AD4: =IF(AA4="Oui",SUM(D4:K4),0) -> 0 | AE4: =SUM(SUMIFS(Source!C:C,Source!A:A,A4,Source!D:D,{"DA";"HY";"CE"})) -> 28000 | AH4: =IF(AF4>AG4,AF4-AG4,0) -> 0 | AI4: =IF(AA4="Oui",SUM(L4:M4),0) -> 0 | AJ4: =IF(AE4>AD4,AE4-AD4,0) -> 28000 | AK4: =IF(AJ4<=0,AI4,IF(AND(AJ4>0,AI4>AJ4),AI4-AJ4,IF(AND(AJ4>0,AI4<AJ4),0))) -> 0 | AM4: =IF(AK4>AL4,AK4-AL4,0) -> 0
A5: 300 | B5: Ramon | C5: 4800 | D5: =SUMIFS(Source!$C:$C,Source!$A:$A,$A5,Source!$D:$D,D$2) -> 800 | E5: =SUMIFS(Source!$C:$C,Source!$A:$A,$A5,Source!$D:$D,E$2) -> 3500 | F5: =SUMIFS(Source!$C:$C,Source!$A:$A,$A5,Source!$D:$D,F$2) -> 12000 | G5: =SUMIFS(Source!$C:$C,Source!$A:$A,$A5,Source!$D:$D,G$2) -> 22000 | H5: =SUMIFS(Source!$C:$C,Source!$A:$A,$A5,Source!$D:$D,H$2) -> 40000 | I5: =SUMIFS(Source!$C:$C,Source!$A:$A,$A5,Source!$D:$D,I$2) -> 0 | J5: =SUMIFS(Source!$C:$C,Source!$A:$A,$A5,Source!$D:$D,J$2) -> 600 | K5: =SUMIFS(Source!$C:$C,Source!$A:$A,$A5,Source!$D:$D,K$2) -> 4000 | ... M5: =SUMIFS(Source!$C:$C,Source!$A:$A,$A5,Source!$D:$D,M$2) -> 10000 | R5: =IF(Q5>$X$1,0,($X$1-Q5)/365) -> 120.83288 | S5: =IF(AND(R5>1,V5=0),"Oui","Non") -> Oui | T5: =IF(S5="oui",DATE(YEAR(Q5)+1,MONTH(Q5),DAY(Q5)),"") -> 366 | U5: =IF(V5>0,"Oui","Non") -> Non | V5: =IFERROR(INDEX(B!Q:Q,MATCH(A5,B!A:A,0)),0) -> 0 | W5: =IF(U5="Non",0,$X$1-V5) -> 0 | X5: =IF(Y5>0,"Oui","Non") -> Non | Z5: =IF(X5="non",0,(P5-Y5)/365) -> 0 | AA5: =IF(OR(AND(U5="Oui",W5>30,R5<=3),AND(X5="Oui",Z5<=3)),"Oui","Non") -> Non | AB5: =IF(AA5="Non",0,IF(AND(AA5="Oui",X5="Non"),V5+30,IF(AND(AA5="oui",X5="Oui"),P5))) -> 0 | AC5: =IF(AB5>0,$X$1-AB5,0) -> 0 | AD5: =IF(AA5="Oui",SUM(D5:K5),0) -> 0 | AE5: =SUM(SUMIFS(Source!C:C,Source!A:A,A5,Source!D:D,{"DA";"HY";"CE"})) -> 30000 | AH5: =IF(AF5>AG5,AF5-AG5,0) -> 0 | AI5: =IF(AA5="Oui",SUM(L5:M5),0) -> 0 | AJ5: =IF(AE5>AD5,AE5-AD5,0) -> 30000 | AK5: =IF(AJ5<=0,AI5,IF(AND(AJ5>0,AI5>AJ5),AI5-AJ5,IF(AND(AJ5>0,AI5<AJ5),0))) -> 0 | AM5: =IF(AK5>AL5,AK5-AL5,0) -> 0

Sheet Source
A1: Clé Commune | B1: Noms | C1: Montant | D1: Type
A2: 100 | B2: Mona | C2: 500 | D2: ET
A3: 200 | B3: Ramona | C3: 300 | D3: ET
A4: 300 | B4: Ramon | C4: 800 | D4: ET
A5: 100 | B5: Mona | C5: 2000 | D5: AT
A6: 200 | B6: Ramona | C6: 2500 | D6: AT
A7: 300 | B7: Ramon | C7: 3500 | D7: AT
A8: 100 | B8: Mona | C8: 4000 | D8: BT
A9: 200 | B9: Ramona | C9: 8000 | D9: BT
A10: 300 | B10: Ramon | C10: 12000 | D10: BT
A11: 100 | B11: Mona | C11: 12000 | D11: CT
A12: 200 | B12: Ramona | C12: 0 | D12: CT
A13: 300 | B13: Ramon | C13: 22000 | D13: CT
... A40: 300 | B40: Ramon | C40: 1000 | D40: CE
