Workbook

Sheet CUMUL
A1: INSCRIT | C1: ='[1]1'!$E:$E+'[1]2'!$E:$E+'[1]3'!$E:$E+'[1]4'!$E:$E+'[1]5'!$E:$E+'[1]6'!$E:$E+'[1]7'!$E:$E+'[1]8'!$E:$E+'[1]9'!$E:$E+'[1]10'!$E:$E+'[1]11'!$E:$E+'[1]12'!$E:$E+'[1]13'!$E:$E+'[1]14'!$E:$E+'[1]15'!$E:$E+'[1]16'!$E:$E+'[1]17'!$E:$E+'[1]18'!$E:$E+'[1]19'!$E:$E+'[1]20'!$E:$E+'[1]21'!$E:$E+'[1]22'!$E:$E+'[1]23'!$E:$E+'[1]24'!$E:$E+'[1]25'!$E:$E+'[1]26'!$E:$E+'[1]27'!$E:$E+'[1]28'!$E:$E+'[1]29'!$E:$E+'[1]30'!$E:$E+'[1]31'!$E:$E+'[1]32'!$E:$E+'[1]33'!$E:$E+'[1]34'!$E:$E+'[1]35'!$E:$E+'[1]36'!$E:$E+'[1]37'!$E:$E+'[1]38'!$E:$E+'[1]39'!$E:$E+'[1]40'!$E:$E+'[1]41'!$E:$E+'[1]42'!$E:$E+'[1]43'!$E:$E+'[1]44'!$E:$E+'[1]45'!$E:$E+'[1]46'!$E:$E+'[1]47'!$E:$E+'[1]48'!$E:$E+'[1]49'!$E:$E+'[1]50'!$E:$E+'[1]51'!$E:$E+'[1]52'!$E:$E+'[1]53'!$E:$E+'[1]54'!$E:$E -> 0 | D1: CUMUL | E1: =SUM('[1]1:54'!$G$1) -> 0 | F1: SUR | G1: 54 | H1: BUREAUX | K1: PARTICIPATION | N1: =C2/C1 -> #DIV/0!
A2: VOTANT | C2: ='[1]1'!$E:$E+'[1]2'!$E:$E+'[1]3'!$E:$E+'[1]4'!$E:$E+'[1]5'!$E:$E+'[1]6'!$E:$E+'[1]7'!$E:$E+'[1]8'!$E:$E+'[1]9'!$E:$E+'[1]10'!$E:$E+'[1]11'!$E:$E+'[1]12'!$E:$E+'[1]13'!$E:$E+'[1]14'!$E:$E+'[1]15'!$E:$E+'[1]16'!$E:$E+'[1]17'!$E:$E+'[1]18'!$E:$E+'[1]19'!$E:$E+'[1]20'!$E:$E+'[1]21'!$E:$E+'[1]22'!$E:$E+'[1]23'!$E:$E+'[1]24'!$E:$E+'[1]25'!$E:$E+'[1]26'!$E:$E+'[1]27'!$E:$E+'[1]28'!$E:$E+'[1]29'!$E:$E+'[1]30'!$E:$E+'[1]31'!$E:$E+'[1]32'!$E:$E+'[1]33'!$E:$E+'[1]34'!$E:$E+'[1]35'!$E:$E+'[1]36'!$E:$E+'[1]37'!$E:$E+'[1]38'!$E:$E+'[1]39'!$E:$E+'[1]40'!$E:$E+'[1]41'!$E:$E+'[1]42'!$E:$E+'[1]43'!$E:$E+'[1]44'!$E:$E+'[1]45'!$E:$E+'[1]46'!$E:$E+'[1]47'!$E:$E+'[1]48'!$E:$E+'[1]49'!$E:$E+'[1]50'!$E:$E+'[1]51'!$E:$E+'[1]52'!$E:$E+'[1]53'!$E:$E+'[1]54'!$E:$E -> 0
A3: BLANC ET NUL | C3: ='[1]1'!$E:$E+'[1]2'!$E:$E+'[1]3'!$E:$E+'[1]4'!$E:$E+'[1]5'!$E:$E+'[1]6'!$E:$E+'[1]7'!$E:$E+'[1]8'!$E:$E+'[1]9'!$E:$E+'[1]10'!$E:$E+'[1]11'!$E:$E+'[1]12'!$E:$E+'[1]13'!$E:$E+'[1]14'!$E:$E+'[1]15'!$E:$E+'[1]16'!$E:$E+'[1]17'!$E:$E+'[1]18'!$E:$E+'[1]19'!$E:$E+'[1]20'!$E:$E+'[1]21'!$E:$E+'[1]22'!$E:$E+'[1]23'!$E:$E+'[1]24'!$E:$E+'[1]25'!$E:$E+'[1]26'!$E:$E+'[1]27'!$E:$E+'[1]28'!$E:$E+'[1]29'!$E:$E+'[1]30'!$E:$E+'[1]31'!$E:$E+'[1]32'!$E:$E+'[1]33'!$E:$E+'[1]34'!$E:$E+'[1]35'!$E:$E+'[1]36'!$E:$E+'[1]37'!$E:$E+'[1]38'!$E:$E+'[1]39'!$E:$E+'[1]40'!$E:$E+'[1]41'!$E:$E+'[1]42'!$E:$E+'[1]43'!$E:$E+'[1]44'!$E:$E+'[1]45'!$E:$E+'[1]46'!$E:$E+'[1]47'!$E:$E+'[1]48'!$E:$E+'[1]49'!$E:$E+'[1]50'!$E:$E+'[1]51'!$E:$E+'[1]52'!$E:$E+'[1]53'!$E:$E+'[1]54'!$E:$E -> 0 | E3: ELECTION MUNICIPALE 2020
A4: EXPRIMES | C4: ='[1]1'!$E:$E+'[1]2'!$E:$E+'[1]3'!$E:$E+'[1]4'!$E:$E+'[1]5'!$E:$E+'[1]6'!$E:$E+'[1]7'!$E:$E+'[1]8'!$E:$E+'[1]9'!$E:$E+'[1]10'!$E:$E+'[1]11'!$E:$E+'[1]12'!$E:$E+'[1]13'!$E:$E+'[1]14'!$E:$E+'[1]15'!$E:$E+'[1]16'!$E:$E+'[1]17'!$E:$E+'[1]18'!$E:$E+'[1]19'!$E:$E+'[1]20'!$E:$E+'[1]21'!$E:$E+'[1]22'!$E:$E+'[1]23'!$E:$E+'[1]24'!$E:$E+'[1]25'!$E:$E+'[1]26'!$E:$E+'[1]27'!$E:$E+'[1]28'!$E:$E+'[1]29'!$E:$E+'[1]30'!$E:$E+'[1]31'!$E:$E+'[1]32'!$E:$E+'[1]33'!$E:$E+'[1]34'!$E:$E+'[1]35'!$E:$E+'[1]36'!$E:$E+'[1]37'!$E:$E+'[1]38'!$E:$E+'[1]39'!$E:$E+'[1]40'!$E:$E+'[1]41'!$E:$E+'[1]42'!$E:$E+'[1]43'!$E:$E+'[1]44'!$E:$E+'[1]45'!$E:$E+'[1]46'!$E:$E+'[1]47'!$E:$E+'[1]48'!$E:$E+'[1]49'!$E:$E+'[1]50'!$E:$E+'[1]51'!$E:$E+'[1]52'!$E:$E+'[1]53'!$E:$E+'[1]54'!$E:$E -> 0
B6: TETE DE LISTE | C6: VOIX | D6: %
A7: C1 | B7: a | C7: ='[1]1'!$E:$E+'[1]2'!$E:$E+'[1]3'!$E:$E+'[1]4'!$E:$E+'[1]5'!$E:$E+'[1]6'!$E:$E+'[1]7'!$E:$E+'[1]8'!$E:$E+'[1]9'!$E:$E+'[1]10'!$E:$E+'[1]11'!$E:$E+'[1]12'!$E:$E+'[1]13'!$E:$E+'[1]14'!$E:$E+'[1]15'!$E:$E+'[1]16'!$E:$E+'[1]17'!$E:$E+'[1]18'!$E:$E+'[1]19'!$E:$E+'[1]20'!$E:$E+'[1]21'!$E:$E+'[1]22'!$E:$E+'[1]23'!$E:$E+'[1]24'!$E:$E+'[1]25'!$E:$E+'[1]26'!$E:$E+'[1]27'!$E:$E+'[1]28'!$E:$E+'[1]29'!$E:$E+'[1]30'!$E:$E+'[1]31'!$E:$E+'[1]32'!$E:$E+'[1]33'!$E:$E+'[1]34'!$E:$E+'[1]35'!$E:$E+'[1]36'!$E:$E+'[1]37'!$E:$E+'[1]38'!$E:$E+'[1]39'!$E:$E+'[1]40'!$E:$E+'[1]41'!$E:$E+'[1]42'!$E:$E+'[1]43'!$E:$E+'[1]44'!$E:$E+'[1]45'!$E:$E+'[1]46'!$E:$E+'[1]47'!$E:$E+'[1]48'!$E:$E+'[1]49'!$E:$E+'[1]50'!$E:$E+'[1]51'!$E:$E+'[1]52'!$E:$E+'[1]53'!$E:$E+'[1]54'!$E:$E -> 0 | D7: =C7/C4 -> #DIV/0!
A8: C2 | B8: b | C8: ='[1]1'!$E:$E+'[1]2'!$E:$E+'[1]3'!$E:$E+'[1]4'!$E:$E+'[1]5'!$E:$E+'[1]6'!$E:$E+'[1]7'!$E:$E+'[1]8'!$E:$E+'[1]9'!$E:$E+'[1]10'!$E:$E+'[1]11'!$E:$E+'[1]12'!$E:$E+'[1]13'!$E:$E+'[1]14'!$E:$E+'[1]15'!$E:$E+'[1]16'!$E:$E+'[1]17'!$E:$E+'[1]18'!$E:$E+'[1]19'!$E:$E+'[1]20'!$E:$E+'[1]21'!$E:$E+'[1]22'!$E:$E+'[1]23'!$E:$E+'[1]24'!$E:$E+'[1]25'!$E:$E+'[1]26'!$E:$E+'[1]27'!$E:$E+'[1]28'!$E:$E+'[1]29'!$E:$E+'[1]30'!$E:$E+'[1]31'!$E:$E+'[1]32'!$E:$E+'[1]33'!$E:$E+'[1]34'!$E:$E+'[1]35'!$E:$E+'[1]36'!$E:$E+'[1]37'!$E:$E+'[1]38'!$E:$E+'[1]39'!$E:$E+'[1]40'!$E:$E+'[1]41'!$E:$E+'[1]42'!$E:$E+'[1]43'!$E:$E+'[1]44'!$E:$E+'[1]45'!$E:$E+'[1]46'!$E:$E+'[1]47'!$E:$E+'[1]48'!$E:$E+'[1]49'!$E:$E+'[1]50'!$E:$E+'[1]51'!$E:$E+'[1]52'!$E:$E+'[1]53'!$E:$E+'[1]54'!$E:$E -> 0 | D8: =C8/C4 -> #DIV/0!
A9: C3 | B9: c | C9: ='[1]1'!$E:$E+'[1]2'!$E:$E+'[1]3'!$E:$E+'[1]4'!$E:$E+'[1]5'!$E:$E+'[1]6'!$E:$E+'[1]7'!$E:$E+'[1]8'!$E:$E+'[1]9'!$E:$E+'[1]10'!$E:$E+'[1]11'!$E:$E+'[1]12'!$E:$E+'[1]13'!$E:$E+'[1]14'!$E:$E+'[1]15'!$E:$E+'[1]16'!$E:$E+'[1]17'!$E:$E+'[1]18'!$E:$E+'[1]19'!$E:$E+'[1]20'!$E:$E+'[1]21'!$E:$E+'[1]22'!$E:$E+'[1]23'!$E:$E+'[1]24'!$E:$E+'[1]25'!$E:$E+'[1]26'!$E:$E+'[1]27'!$E:$E+'[1]28'!$E:$E+'[1]29'!$E:$E+'[1]30'!$E:$E+'[1]31'!$E:$E+'[1]32'!$E:$E+'[1]33'!$E:$E+'[1]34'!$E:$E+'[1]35'!$E:$E+'[1]36'!$E:$E+'[1]37'!$E:$E+'[1]38'!$E:$E+'[1]39'!$E:$E+'[1]40'!$E:$E+'[1]41'!$E:$E+'[1]42'!$E:$E+'[1]43'!$E:$E+'[1]44'!$E:$E+'[1]45'!$E:$E+'[1]46'!$E:$E+'[1]47'!$E:$E+'[1]48'!$E:$E+'[1]49'!$E:$E+'[1]50'!$E:$E+'[1]51'!$E:$E+'[1]52'!$E:$E+'[1]53'!$E:$E+'[1]54'!$E:$E -> 0 | D9: =C9/C4 -> #DIV/0!
A10: C4 | B10: d | C10: ='[1]1'!$E:$E+'[1]2'!$E:$E+'[1]3'!$E:$E+'[1]4'!$E:$E+'[1]5'!$E:$E+'[1]6'!$E:$E+'[1]7'!$E:$E+'[1]8'!$E:$E+'[1]9'!$E:$E+'[1]10'!$E:$E+'[1]11'!$E:$E+'[1]12'!$E:$E+'[1]13'!$E:$E+'[1]14'!$E:$E+'[1]15'!$E:$E+'[1]16'!$E:$E+'[1]17'!$E:$E+'[1]18'!$E:$E+'[1]19'!$E:$E+'[1]20'!$E:$E+'[1]21'!$E:$E+'[1]22'!$E:$E+'[1]23'!$E:$E+'[1]24'!$E:$E+'[1]25'!$E:$E+'[1]26'!$E:$E+'[1]27'!$E:$E+'[1]28'!$E:$E+'[1]29'!$E:$E+'[1]30'!$E:$E+'[1]31'!$E:$E+'[1]32'!$E:$E+'[1]33'!$E:$E+'[1]34'!$E:$E+'[1]35'!$E:$E+'[1]36'!$E:$E+'[1]37'!$E:$E+'[1]38'!$E:$E+'[1]39'!$E:$E+'[1]40'!$E:$E+'[1]41'!$E:$E+'[1]42'!$E:$E+'[1]43'!$E:$E+'[1]44'!$E:$E+'[1]45'!$E:$E+'[1]46'!$E:$E+'[1]47'!$E:$E+'[1]48'!$E:$E+'[1]49'!$E:$E+'[1]50'!$E:$E+'[1]51'!$E:$E+'[1]52'!$E:$E+'[1]53'!$E:$E+'[1]54'!$E:$E -> 0 | D10: =C10/C4 -> #DIV/0!
A11: C5 | B11: e | C11: ='[1]1'!$E:$E+'[1]2'!$E:$E+'[1]3'!$E:$E+'[1]4'!$E:$E+'[1]5'!$E:$E+'[1]6'!$E:$E+'[1]7'!$E:$E+'[1]8'!$E:$E+'[1]9'!$E:$E+'[1]10'!$E:$E+'[1]11'!$E:$E+'[1]12'!$E:$E+'[1]13'!$E:$E+'[1]14'!$E:$E+'[1]15'!$E:$E+'[1]16'!$E:$E+'[1]17'!$E:$E+'[1]18'!$E:$E+'[1]19'!$E:$E+'[1]20'!$E:$E+'[1]21'!$E:$E+'[1]22'!$E:$E+'[1]23'!$E:$E+'[1]24'!$E:$E+'[1]25'!$E:$E+'[1]26'!$E:$E+'[1]27'!$E:$E+'[1]28'!$E:$E+'[1]29'!$E:$E+'[1]30'!$E:$E+'[1]31'!$E:$E+'[1]32'!$E:$E+'[1]33'!$E:$E+'[1]34'!$E:$E+'[1]35'!$E:$E+'[1]36'!$E:$E+'[1]37'!$E:$E+'[1]38'!$E:$E+'[1]39'!$E:$E+'[1]40'!$E:$E+'[1]41'!$E:$E+'[1]42'!$E:$E+'[1]43'!$E:$E+'[1]44'!$E:$E+'[1]45'!$E:$E+'[1]46'!$E:$E+'[1]47'!$E:$E+'[1]48'!$E:$E+'[1]49'!$E:$E+'[1]50'!$E:$E+'[1]51'!$E:$E+'[1]52'!$E:$E+'[1]53'!$E:$E+'[1]54'!$E:$E -> 0 | D11: =C11/C4 -> #DIV/0!
A12: C6 | B12: f | C12: ='[1]1'!$E:$E+'[1]2'!$E:$E+'[1]3'!$E:$E+'[1]4'!$E:$E+'[1]5'!$E:$E+'[1]6'!$E:$E+'[1]7'!$E:$E+'[1]8'!$E:$E+'[1]9'!$E:$E+'[1]10'!$E:$E+'[1]11'!$E:$E+'[1]12'!$E:$E+'[1]13'!$E:$E+'[1]14'!$E:$E+'[1]15'!$E:$E+'[1]16'!$E:$E+'[1]17'!$E:$E+'[1]18'!$E:$E+'[1]19'!$E:$E+'[1]20'!$E:$E+'[1]21'!$E:$E+'[1]22'!$E:$E+'[1]23'!$E:$E+'[1]24'!$E:$E+'[1]25'!$E:$E+'[1]26'!$E:$E+'[1]27'!$E:$E+'[1]28'!$E:$E+'[1]29'!$E:$E+'[1]30'!$E:$E+'[1]31'!$E:$E+'[1]32'!$E:$E+'[1]33'!$E:$E+'[1]34'!$E:$E+'[1]35'!$E:$E+'[1]36'!$E:$E+'[1]37'!$E:$E+'[1]38'!$E:$E+'[1]39'!$E:$E+'[1]40'!$E:$E+'[1]41'!$E:$E+'[1]42'!$E:$E+'[1]43'!$E:$E+'[1]44'!$E:$E+'[1]45'!$E:$E+'[1]46'!$E:$E+'[1]47'!$E:$E+'[1]48'!$E:$E+'[1]49'!$E:$E+'[1]50'!$E:$E+'[1]51'!$E:$E+'[1]52'!$E:$E+'[1]53'!$E:$E+'[1]54'!$E:$E -> 0 | D12: =C12/C4 -> #DIV/0!
A13: C7 | B13: g | C13: ='[1]1'!$E:$E+'[1]2'!$E:$E+'[1]3'!$E:$E+'[1]4'!$E:$E+'[1]5'!$E:$E+'[1]6'!$E:$E+'[1]7'!$E:$E+'[1]8'!$E:$E+'[1]9'!$E:$E+'[1]10'!$E:$E+'[1]11'!$E:$E+'[1]12'!$E:$E+'[1]13'!$E:$E+'[1]14'!$E:$E+'[1]15'!$E:$E+'[1]16'!$E:$E+'[1]17'!$E:$E+'[1]18'!$E:$E+'[1]19'!$E:$E+'[1]20'!$E:$E+'[1]21'!$E:$E+'[1]22'!$E:$E+'[1]23'!$E:$E+'[1]24'!$E:$E+'[1]25'!$E:$E+'[1]26'!$E:$E+'[1]27'!$E:$E+'[1]28'!$E:$E+'[1]29'!$E:$E+'[1]30'!$E:$E+'[1]31'!$E:$E+'[1]32'!$E:$E+'[1]33'!$E:$E+'[1]34'!$E:$E+'[1]35'!$E:$E+'[1]36'!$E:$E+'[1]37'!$E:$E+'[1]38'!$E:$E+'[1]39'!$E:$E+'[1]40'!$E:$E+'[1]41'!$E:$E+'[1]42'!$E:$E+'[1]43'!$E:$E+'[1]44'!$E:$E+'[1]45'!$E:$E+'[1]46'!$E:$E+'[1]47'!$E:$E+'[1]48'!$E:$E+'[1]49'!$E:$E+'[1]50'!$E:$E+'[1]51'!$E:$E+'[1]52'!$E:$E+'[1]53'!$E:$E+'[1]54'!$E:$E -> 0 | D13: =C13/C4 -> #DIV/0!
A14: C8 | B14: h | C14: ='[1]1'!$E:$E+'[1]2'!$E:$E+'[1]3'!$E:$E+'[1]4'!$E:$E+'[1]5'!$E:$E+'[1]6'!$E:$E+'[1]7'!$E:$E+'[1]8'!$E:$E+'[1]9'!$E:$E+'[1]10'!$E:$E+'[1]11'!$E:$E+'[1]12'!$E:$E+'[1]13'!$E:$E+'[1]14'!$E:$E+'[1]15'!$E:$E+'[1]16'!$E:$E+'[1]17'!$E:$E+'[1]18'!$E:$E+'[1]19'!$E:$E+'[1]20'!$E:$E+'[1]21'!$E:$E+'[1]22'!$E:$E+'[1]23'!$E:$E+'[1]24'!$E:$E+'[1]25'!$E:$E+'[1]26'!$E:$E+'[1]27'!$E:$E+'[1]28'!$E:$E+'[1]29'!$E:$E+'[1]30'!$E:$E+'[1]31'!$E:$E+'[1]32'!$E:$E+'[1]33'!$E:$E+'[1]34'!$E:$E+'[1]35'!$E:$E+'[1]36'!$E:$E+'[1]37'!$E:$E+'[1]38'!$E:$E+'[1]39'!$E:$E+'[1]40'!$E:$E+'[1]41'!$E:$E+'[1]42'!$E:$E+'[1]43'!$E:$E+'[1]44'!$E:$E+'[1]45'!$E:$E+'[1]46'!$E:$E+'[1]47'!$E:$E+'[1]48'!$E:$E+'[1]49'!$E:$E+'[1]50'!$E:$E+'[1]51'!$E:$E+'[1]52'!$E:$E+'[1]53'!$E:$E+'[1]54'!$E:$E -> 0 | D14: =C14/C4 -> #DIV/0!
A15: C9 | B15: i | C15: ='[1]1'!$E:$E+'[1]2'!$E:$E+'[1]3'!$E:$E+'[1]4'!$E:$E+'[1]5'!$E:$E+'[1]6'!$E:$E+'[1]7'!$E:$E+'[1]8'!$E:$E+'[1]9'!$E:$E+'[1]10'!$E:$E+'[1]11'!$E:$E+'[1]12'!$E:$E+'[1]13'!$E:$E+'[1]14'!$E:$E+'[1]15'!$E:$E+'[1]16'!$E:$E+'[1]17'!$E:$E+'[1]18'!$E:$E+'[1]19'!$E:$E+'[1]20'!$E:$E+'[1]21'!$E:$E+'[1]22'!$E:$E+'[1]23'!$E:$E+'[1]24'!$E:$E+'[1]25'!$E:$E+'[1]26'!$E:$E+'[1]27'!$E:$E+'[1]28'!$E:$E+'[1]29'!$E:$E+'[1]30'!$E:$E+'[1]31'!$E:$E+'[1]32'!$E:$E+'[1]33'!$E:$E+'[1]34'!$E:$E+'[1]35'!$E:$E+'[1]36'!$E:$E+'[1]37'!$E:$E+'[1]38'!$E:$E+'[1]39'!$E:$E+'[1]40'!$E:$E+'[1]41'!$E:$E+'[1]42'!$E:$E+'[1]43'!$E:$E+'[1]44'!$E:$E+'[1]45'!$E:$E+'[1]46'!$E:$E+'[1]47'!$E:$E+'[1]48'!$E:$E+'[1]49'!$E:$E+'[1]50'!$E:$E+'[1]51'!$E:$E+'[1]52'!$E:$E+'[1]53'!$E:$E+'[1]54'!$E:$E -> 0 | D15: =C15/C4 -> #DIV/0!
A16: C10 | B16: j | C16: ='[1]1'!$E:$E+'[1]2'!$E:$E+'[1]3'!$E:$E+'[1]4'!$E:$E+'[1]5'!$E:$E+'[1]6'!$E:$E+'[1]7'!$E:$E+'[1]8'!$E:$E+'[1]9'!$E:$E+'[1]10'!$E:$E+'[1]11'!$E:$E+'[1]12'!$E:$E+'[1]13'!$E:$E+'[1]14'!$E:$E+'[1]15'!$E:$E+'[1]16'!$E:$E+'[1]17'!$E:$E+'[1]18'!$E:$E+'[1]19'!$E:$E+'[1]20'!$E:$E+'[1]21'!$E:$E+'[1]22'!$E:$E+'[1]23'!$E:$E+'[1]24'!$E:$E+'[1]25'!$E:$E+'[1]26'!$E:$E+'[1]27'!$E:$E+'[1]28'!$E:$E+'[1]29'!$E:$E+'[1]30'!$E:$E+'[1]31'!$E:$E+'[1]32'!$E:$E+'[1]33'!$E:$E+'[1]34'!$E:$E+'[1]35'!$E:$E+'[1]36'!$E:$E+'[1]37'!$E:$E+'[1]38'!$E:$E+'[1]39'!$E:$E+'[1]40'!$E:$E+'[1]41'!$E:$E+'[1]42'!$E:$E+'[1]43'!$E:$E+'[1]44'!$E:$E+'[1]45'!$E:$E+'[1]46'!$E:$E+'[1]47'!$E:$E+'[1]48'!$E:$E+'[1]49'!$E:$E+'[1]50'!$E:$E+'[1]51'!$E:$E+'[1]52'!$E:$E+'[1]53'!$E:$E+'[1]54'!$E:$E -> 0 | D16: =C16/C4 -> #DIV/0!
A17: C11 | B17: k | C17: ='[1]1'!$E:$E+'[1]2'!$E:$E+'[1]3'!$E:$E+'[1]4'!$E:$E+'[1]5'!$E:$E+'[1]6'!$E:$E+'[1]7'!$E:$E+'[1]8'!$E:$E+'[1]9'!$E:$E+'[1]10'!$E:$E+'[1]11'!$E:$E+'[1]12'!$E:$E+'[1]13'!$E:$E+'[1]14'!$E:$E+'[1]15'!$E:$E+'[1]16'!$E:$E+'[1]17'!$E:$E+'[1]18'!$E:$E+'[1]19'!$E:$E+'[1]20'!$E:$E+'[1]21'!$E:$E+'[1]22'!$E:$E+'[1]23'!$E:$E+'[1]24'!$E:$E+'[1]25'!$E:$E+'[1]26'!$E:$E+'[1]27'!$E:$E+'[1]28'!$E:$E+'[1]29'!$E:$E+'[1]30'!$E:$E+'[1]31'!$E:$E+'[1]32'!$E:$E+'[1]33'!$E:$E+'[1]34'!$E:$E+'[1]35'!$E:$E+'[1]36'!$E:$E+'[1]37'!$E:$E+'[1]38'!$E:$E+'[1]39'!$E:$E+'[1]40'!$E:$E+'[1]41'!$E:$E+'[1]42'!$E:$E+'[1]43'!$E:$E+'[1]44'!$E:$E+'[1]45'!$E:$E+'[1]46'!$E:$E+'[1]47'!$E:$E+'[1]48'!$E:$E+'[1]49'!$E:$E+'[1]50'!$E:$E+'[1]51'!$E:$E+'[1]52'!$E:$E+'[1]53'!$E:$E+'[1]54'!$E:$E -> 0 | D17: =C17/C4 -> #DIV/0!
A18: C12 | B18: l | C18: ='[1]1'!$E:$E+'[1]2'!$E:$E+'[1]3'!$E:$E+'[1]4'!$E:$E+'[1]5'!$E:$E+'[1]6'!$E:$E+'[1]7'!$E:$E+'[1]8'!$E:$E+'[1]9'!$E:$E+'[1]10'!$E:$E+'[1]11'!$E:$E+'[1]12'!$E:$E+'[1]13'!$E:$E+'[1]14'!$E:$E+'[1]15'!$E:$E+'[1]16'!$E:$E+'[1]17'!$E:$E+'[1]18'!$E:$E+'[1]19'!$E:$E+'[1]20'!$E:$E+'[1]21'!$E:$E+'[1]22'!$E:$E+'[1]23'!$E:$E+'[1]24'!$E:$E+'[1]25'!$E:$E+'[1]26'!$E:$E+'[1]27'!$E:$E+'[1]28'!$E:$E+'[1]29'!$E:$E+'[1]30'!$E:$E+'[1]31'!$E:$E+'[1]32'!$E:$E+'[1]33'!$E:$E+'[1]34'!$E:$E+'[1]35'!$E:$E+'[1]36'!$E:$E+'[1]37'!$E:$E+'[1]38'!$E:$E+'[1]39'!$E:$E+'[1]40'!$E:$E+'[1]41'!$E:$E+'[1]42'!$E:$E+'[1]43'!$E:$E+'[1]44'!$E:$E+'[1]45'!$E:$E+'[1]46'!$E:$E+'[1]47'!$E:$E+'[1]48'!$E:$E+'[1]49'!$E:$E+'[1]50'!$E:$E+'[1]51'!$E:$E+'[1]52'!$E:$E+'[1]53'!$E:$E+'[1]54'!$E:$E -> 0 | D18: =C18/C4 -> #DIV/0!
A19: C13 | B19: m | C19: ='[1]1'!$E:$E+'[1]2'!$E:$E+'[1]3'!$E:$E+'[1]4'!$E:$E+'[1]5'!$E:$E+'[1]6'!$E:$E+'[1]7'!$E:$E+'[1]8'!$E:$E+'[1]9'!$E:$E+'[1]10'!$E:$E+'[1]11'!$E:$E+'[1]12'!$E:$E+'[1]13'!$E:$E+'[1]14'!$E:$E+'[1]15'!$E:$E+'[1]16'!$E:$E+'[1]17'!$E:$E+'[1]18'!$E:$E+'[1]19'!$E:$E+'[1]20'!$E:$E+'[1]21'!$E:$E+'[1]22'!$E:$E+'[1]23'!$E:$E+'[1]24'!$E:$E+'[1]25'!$E:$E+'[1]26'!$E:$E+'[1]27'!$E:$E+'[1]28'!$E:$E+'[1]29'!$E:$E+'[1]30'!$E:$E+'[1]31'!$E:$E+'[1]32'!$E:$E+'[1]33'!$E:$E+'[1]34'!$E:$E+'[1]35'!$E:$E+'[1]36'!$E:$E+'[1]37'!$E:$E+'[1]38'!$E:$E+'[1]39'!$E:$E+'[1]40'!$E:$E+'[1]41'!$E:$E+'[1]42'!$E:$E+'[1]43'!$E:$E+'[1]44'!$E:$E+'[1]45'!$E:$E+'[1]46'!$E:$E+'[1]47'!$E:$E+'[1]48'!$E:$E+'[1]49'!$E:$E+'[1]50'!$E:$E+'[1]51'!$E:$E+'[1]52'!$E:$E+'[1]53'!$E:$E+'[1]54'!$E:$E -> 0 | D19: =C19/C4 -> #DIV/0!

Sheet ELUS CM ET CC
B2: Outil de calcul de la répartition des sièges de conseillers municipaux et de conseillers communautaires pour les communes de 1 000 habitants et plus
B3: Conformément à l'article L. 262 du code électoral, seules les listes ayant obtenu plus de 5% des suffrages exprimés sont admises à la répartition des sièges. La liste arrivée en tête obtient une prime majoritaire égale à la moitié des sièges. Les autres sièges sont répartis entre les listes à la représentation proportionnelle suivant la règle de la plus forte moyenne.
B4: La répartition des sièges est opérée dès le premier tour si l'une des listes obtient la majorité absolue des suffrages exprimés.
B6: Population de la commune en nb d'habitants | C6: Nombre de membres du CM | G6: Il convient d'indiquer d'abord le tour de scrutin concerné puis le nombre de sièges à pourvoir ainsi que le nombre de voix obtenues par chaque liste dans les cellules grisées. Maximum 10 listes - la calculette peut disfonctionner si deux listes obtiennent exactement la même moyenne pour l'attribution d'un siège car cette attribution n'est alors plus mathématique mais juridique (dernier alinéa de l'article L. 262). Le message "même moyenne dans la répartition à la plus forte moyenne" apparait alors en JK38 si cela concerne la répartition au conseil municipal ou en QR 38 si cela concerne la répartition au conseil communautaire. Si le message "ERREUR" n'apparait pas en rouge dans la case JK39 ou QR39 alors la calculette a fonctionné malgré la même moyenne. Si le message "ERREUR" apparait, une répartition manuelle est nécessaire. Veuillez vous référer au mode d'emploi de l'onglet "en cas d'erreur de répartition"
B7: de 1 000 à 1 499 | C7: 15
B8: de 1 500 à 2 499 | C8: 19
B9: de 2 500 à 3 499 | C9: 23 | J9: tour de scrutin 1 ou 2 | O9: 2
B10: de 3 500 à 4 999 | C10: 27
B11: de 5 000 à 9 999 | C11: 29 | J11: Répartition conseil municipal
B12: de 10 000 à 19 999 | C12: 33 | J12: Nombre de sièges à pourvoir | O12: sièges attribués au titre de la prime majoritaire | Q12: Nombre de sièges restants à répartir
B13: de 20 000 à 29 999 | C13: 35
B14: de 30 000 à 39 999 | C14: 39 | J14: 49 | L14: =J14/2 -> 24.5 | M14: =ROUNDUP(L14,0) -> 25 | N14: =ROUNDDOWN(L14,0) -> 24 | O14: =IF(J14>4,M14,N14) -> 25 | Q14: =J14-O14 -> 24
B15: de 40 000 à 49 999 | C15: 43
B16: de 50 000 à 59 999 | C16: 45
B17: de 60 000 à 79 999 | C17: 49 | J17: Répartition conseil communautaire
B18: de 80 000 à 99 999 | C18: 53 | J18: Nombre de sièges à pourvoir | O18: sièges attribués au titre de la prime majoritaire | Q18: Nombre de sièges restants à répartir
B19: de 100 000 à 149 999 | C19: 55 | E19: =C34/C37 -> #DIV/0!
B20: de 150 000 à 199 999 | C20: 59 | E20: =C37/100 -> 0 | J20: 25 | L20: =J20/2 -> 12.5 | M20: =ROUNDUP(L20,0) -> 13 | N20: =ROUNDDOWN(L20,0) -> 12 | O20: =IF(J20>4,M20,N20) -> 13 | Q20: =J20-O20 -> 12
B21: de 200 000 à 249 999 | C21: 61 | E21: =E20*5 -> 0
B22: de 250 000 à 299 999 | C22: 65
B23: 300 000 et + | C23: 69
F25: Répartition conseil municipal | O25: Répartition conseil communautaire
B26: listes | C26: VOIX | F26: PRIME MAJ | G26: >5% SE | H26: sièges au quotient | I26: sièges PFM | J26: TOTAL | O26: PRIME MAJ | P26: >5% SE | Q26: TOTAL
B27: liste 1 | C27: =CUMUL!C7 -> 0 | D27: =IF($O$9=2,1,IF(C27>($C$37/2),1,0)) -> 1 | E27: =IF(C27/$C$37>=0.1,"O","N") -> #DIV/0! | F27: =IF($D$37>0,IF(C27=MAX($C$27:$C$36),$O$14,0),"") -> 25 | G27: =IF($D$37>0,IF(C27/$C$37>=0.05,"O","N"),"") -> #DIV/0! | H27: =IF($D$37>0,'[2]répartition CM'!E5,"") -> 18 | I27: =IF($D$37>0,'[2]répartition CM'!F5-'[2]répartition CM'!E5,"") -> 1 | J27: =IF($D$37=0,IF(E27="O","T2","stop"),(F27+'[2]répartition CM'!F5)) -> 44 | O27: =IF(C27=MAX($C$27:$C$36),$O$20,0) -> 13 | P27: =IF(C27/$C$37>=0.05,"O","N") -> #DIV/0! | Q27: =+O27+'[2]REPARTITION CC'!E5 -> 23
B28: liste 2 | C28: =CUMUL!C8 -> 0 | D28: =IF($O$9=2,1,IF(C28>($C$37/2),1,0)) -> 1 | E28: =IF(C28/$C$37>=0.1,"O","N") -> #DIV/0! | F28: =IF($D$37>0,IF(C28=MAX($C$27:$C$36),$O$14,0),"") -> 25 | G28: =IF($D$37>0,IF(C28/$C$37>=0.05,"O","N"),"") -> #DIV/0! | H28: =IF($D$37>0,'[2]répartition CM'!E6,"") -> 4 | I28: =IF($D$37>0,'[2]répartition CM'!F6-'[2]répartition CM'!E6,"") -> 0 | J28: =IF($D$37=0,IF(E28="O","T2","stop"),(F28+'[2]répartition CM'!F6)) -> 29 | O28: =IF(C28=MAX($C$27:$C$36),$O$20,0) -> 13 | P28: =IF(C28/$C$37>=0.05,"O","N") -> #DIV/0! | Q28: =+O28+'[2]REPARTITION CC'!E6 -> 15
B29: liste 3 | C29: =CUMUL!C9 -> 0 | D29: =IF($O$9=2,1,IF(C29>($C$37/2),1,0)) -> 1 | E29: =IF(C29/$C$37>=0.1,"O","N") -> #DIV/0! | F29: =IF($D$37>0,IF(C29=MAX($C$27:$C$36),$O$14,0),"") -> 25 | G29: =IF($D$37>0,IF(C29/$C$37>=0.05,"O","N"),"") -> #DIV/0! | H29: =IF($D$37>0,'[2]répartition CM'!E7,"") -> 1 | I29: =IF($D$37>0,'[2]répartition CM'!F7-'[2]répartition CM'!E7,"") -> 0 | J29: =IF($D$37=0,IF(E29="O","T2","stop"),(F29+'[2]répartition CM'!F7)) -> 26 | O29: =IF(C29=MAX($C$27:$C$36),$O$20,0) -> 13 | P29: =IF(C29/$C$37>=0.05,"O","N") -> #DIV/0! | Q29: =+O29+'[2]REPARTITION CC'!E7 -> 13
B30: liste 4 | C30: =CUMUL!C10 -> 0 | D30: =IF($O$9=2,1,IF(C30>($C$37/2),1,0)) -> 1 | E30: =IF(C30/$C$37>=0.1,"O","N") -> #DIV/0! | F30: =IF($D$37>0,IF(C30=MAX($C$27:$C$36),$O$14,0),"") -> 25 | G30: =IF($D$37>0,IF(C30/$C$37>=0.05,"O","N"),"") -> #DIV/0! | H30: =IF($D$37>0,'[2]répartition CM'!E8,"") -> 0 | I30: =IF($D$37>0,'[2]répartition CM'!F8-'[2]répartition CM'!E8,"") -> 0 | J30: =IF($D$37=0,IF(E30="O","T2","stop"),(F30+'[2]répartition CM'!F8)) -> 25 | O30: =IF(C30=MAX($C$27:$C$36),$O$20,0) -> 13 | P30: =IF(C30/$C$37>=0.05,"O","N") -> #DIV/0! | Q30: =+O30+'[2]REPARTITION CC'!E8 -> 13
B31: liste 5 | C31: =CUMUL!C11 -> 0 | D31: =IF($O$9=2,1,IF(C31>($C$37/2),1,0)) -> 1 | E31: =IF(C31/$C$37>=0.1,"O","N") -> #DIV/0! | F31: =IF($D$37>0,IF(C31=MAX($C$27:$C$36),$O$14,0),"") -> 25 | G31: =IF($D$37>0,IF(C31/$C$37>=0.05,"O","N"),"") -> #DIV/0! | H31: =IF($D$37>0,'[2]répartition CM'!E9,"") -> 0 | I31: =IF($D$37>0,'[2]répartition CM'!F9-'[2]répartition CM'!E9,"") -> 0 | J31: =IF($D$37=0,IF(E31="O","T2","stop"),(F31+'[2]répartition CM'!F9)) -> 25 | O31: =IF(C31=MAX($C$27:$C$36),$O$20,0) -> 13 | P31: =IF(C31/$C$37>=0.05,"O","N") -> #DIV/0! | Q31: =+O31+'[2]REPARTITION CC'!E9 -> 13
B32: liste 6 | C32: =CUMUL!C12 -> 0 | D32: =IF($O$9=2,1,IF(C32>($C$37/2),1,0)) -> 1 | E32: =IF(C32/$C$37>=0.1,"O","N") -> #DIV/0! | F32: =IF($D$37>0,IF(C32=MAX($C$27:$C$36),$O$14,0),"") -> 25 | G32: =IF($D$37>0,IF(C32/$C$37>=0.05,"O","N"),"") -> #DIV/0! | H32: =IF($D$37>0,'[2]répartition CM'!E10,"") -> 0 | I32: =IF($D$37>0,'[2]répartition CM'!F10-'[2]répartition CM'!E10,"") -> 0 | J32: =IF($D$37=0,IF(E32="O","T2","stop"),(F32+'[2]répartition CM'!F10)) -> 25 | O32: =IF(C32=MAX($C$27:$C$36),$O$20,0) -> 13 | P32: =IF(C32/$C$37>=0.05,"O","N") -> #DIV/0! | Q32: =+O32+'[2]REPARTITION CC'!E10 -> 13
B33: liste 7 | C33: =CUMUL!C13 -> 0 | D33: =IF($O$9=2,1,IF(C33>($C$37/2),1,0)) -> 1 | E33: =IF(C33/$C$37>=0.1,"O","N") -> #DIV/0! | F33: =IF($D$37>0,IF(C33=MAX($C$27:$C$36),$O$14,0),"") -> 25 | G33: =IF($D$37>0,IF(C33/$C$37>=0.05,"O","N"),"") -> #DIV/0! | H33: =IF($D$37>0,'[2]répartition CM'!E11,"") -> 0 | I33: =IF($D$37>0,'[2]répartition CM'!F11-'[2]répartition CM'!E11,"") -> 0 | J33: =IF($D$37=0,IF(E33="O","T2","stop"),(F33+'[2]répartition CM'!F11)) -> 25 | O33: =IF(C33=MAX($C$27:$C$36),$O$20,0) -> 13 | P33: =IF(C33/$C$37>=0.05,"O","N") -> #DIV/0! | Q33: =+O33+'[2]REPARTITION CC'!E11 -> 13
B34: liste 8 | C34: =CUMUL!C14 -> 0 | D34: =IF($O$9=2,1,IF(C34>($C$37/2),1,0)) -> 1 | E34: =IF(C34/$C$37>=0.1,"O","N") -> #DIV/0! | F34: =IF($D$37>0,IF(C34=MAX($C$27:$C$36),$O$14,0),"") -> 25 | G34: =IF($D$37>0,IF(C34/$C$37>=0.05,"O","N"),"") -> #DIV/0! | H34: =IF($D$37>0,'[2]répartition CM'!E12,"") -> 0 | I34: =IF($D$37>0,'[2]répartition CM'!F12-'[2]répartition CM'!E12,"") -> 0 | J34: =IF($D$37=0,IF(E34="O","T2","stop"),(F34+'[2]répartition CM'!F12)) -> 25 | O34: =IF(C34=MAX($C$27:$C$36),$O$20,0) -> 13 | P34: =IF(C34/$C$37>=0.05,"O","N") -> #DIV/0! | Q34: =+O34+'[2]REPARTITION CC'!E12 -> 13
B35: liste 9 | C35: =CUMUL!C15 -> 0 | D35: =IF($O$9=2,1,IF(C35>($C$37/2),1,0)) -> 1 | E35: =IF(C35/$C$37>=0.1,"O","N") -> #DIV/0! | F35: =IF($D$37>0,IF(C35=MAX($C$27:$C$36),$O$14,0),"") -> 25 | G35: =IF($D$37>0,IF(C35/$C$37>=0.05,"O","N"),"") -> #DIV/0! | H35: =IF($D$37>0,'[2]répartition CM'!E13,"") -> 0 | I35: =IF($D$37>0,'[2]répartition CM'!F13-'[2]répartition CM'!E13,"") -> 0 | J35: =IF($D$37=0,IF(E35="O","T2","stop"),(F35+'[2]répartition CM'!F13)) -> 25 | O35: =IF(C35=MAX($C$27:$C$36),$O$20,0) -> 13 | P35: =IF(C35/$C$37>=0.05,"O","N") -> #DIV/0! | Q35: =+O35+'[2]REPARTITION CC'!E13 -> 13
B36: liste 10 | C36: =CUMUL!C16 -> 0 | D36: =IF($O$9=2,1,IF(C36>($C$37/2),1,0)) -> 1 | E36: =IF(C36/$C$37>=0.1,"O","N") -> #DIV/0! | F36: =IF($D$37>0,IF(C36=MAX($C$27:$C$36),$O$14,0),"") -> 25 | G36: =IF($D$37>0,IF(C36/$C$37>=0.05,"O","N"),"") -> #DIV/0! | H36: =IF($D$37>0,'[2]répartition CM'!E14,"") -> 0 | I36: =IF($D$37>0,'[2]répartition CM'!F14-'[2]répartition CM'!E14,"") -> 0 | J36: =IF($D$37=0,IF(E36="O","T2","stop"),(F36+'[2]répartition CM'!F14)) -> 25 | O36: =IF(C36=MAX($C$27:$C$36),$O$20,0) -> 13 | P36: =IF(C36/$C$37>=0.05,"O","N") -> #DIV/0! | Q36: =+O36+'[2]REPARTITION CC'!E14 -> 13
B37: TOTAUX | C37: =SUM(C27:C36) -> 0 | D37: =SUM(D27:D36) -> 10 | F37: =SUM(F27:F36) -> 250 | H37: =SUM(H27:H36) -> 23 | I37: =SUM(I27:I36) -> 1 | J37: =IF(D37=0,"T2",SUM(J27:J36)) -> 274 | O37: =SUM(O27:O36) -> 130 | Q37: =SUM(Q27:Q36) -> 142
B38: Nombre de voix pour répartition | C38: =SUMIF(G27:G36,"O",C27:C36) -> 0 | J38: =IF('[2]répartition CM'!E18>0,"meme moyenne dans la répartition PFM","") | Q38: =IF('[2]REPARTITION CC'!C35>0,"meme moyenne dans la répartition PFM","")
J39: =IF(J37="T2","tour 2 nécessaire",IF(J37="#DIV/0!","ERREUR",IF(J37=J14,"vérif OK","ERREUR"))) -> ERREUR | Q39: =IF(Q37=J20,"vérif OK","ERREUR") -> ERREUR
