Workbook

Sheet 1
A1: CLASSEMENT SAMEDI 19 MARS 2016
A5: NOM | B5: PLACE | C5: TIRAGE AU SORT | D5: POIDS | E5: POINTS | F5: CLASSEMENT
A6: 1 | D6: 500 | E6: =IF(D6=0,16,RANK(D6,$D$6:$D$45,0)) -> 4 | F6: =RANK(E6,$E$6:$E$50,1) -> 4
A7: 2 | D7: 20 | E7: =IF(D7=0,16,RANK(D7,$D$6:$D$45,0)) -> 8 | F7: =RANK(E7,$E$6:$E$50,1) -> 8
A8: 3 | D8: 142 | E8: =IF(D8=0,16,RANK(D8,$D$6:$D$45,0)) -> 5 | F8: =RANK(E8,$E$6:$E$50,1) -> 5
A9: 4 | D9: 11558 | E9: =IF(D9=0,16,RANK(D9,$D$6:$D$45,0)) -> 1 | F9: =RANK(E9,$E$6:$E$50,1) -> 1
A10: 5 | D10: 10 | E10: =IF(D10=0,16,RANK(D10,$D$6:$D$45,0)) -> 10 | F10: =RANK(E10,$E$6:$E$50,1) -> 10
A11: 6 | D11: 585 | E11: =IF(D11=0,16,RANK(D11,$D$6:$D$45,0)) -> 3 | F11: =RANK(E11,$E$6:$E$50,1) -> 3
A12: 7 | D12: 1575 | E12: =IF(D12=0,16,RANK(D12,$D$6:$D$45,0)) -> 2 | F12: =RANK(E12,$E$6:$E$50,1) -> 2
A13: 8 | D13: 127 | E13: =IF(D13=0,16,RANK(D13,$D$6:$D$45,0)) -> 6 | F13: =RANK(E13,$E$6:$E$50,1) -> 6
A14: 9 | D14: 0 | E14: =IF(D14=0,16,RANK(D14,$D$6:$D$45,0)) -> 16 | F14: =RANK(E14,$E$6:$E$50,1) -> 11
A15: 10 | D15: 0 | E15: =IF(D15=0,16,RANK(D15,$D$6:$D$45,0)) -> 16 | F15: =RANK(E15,$E$6:$E$50,1) -> 11
A16: 11 | D16: 120 | E16: =IF(D16=0,16,RANK(D16,$D$6:$D$45,0)) -> 7 | F16: =RANK(E16,$E$6:$E$50,1) -> 7
A17: 12 | D17: 0 | E17: =IF(D17=0,16,RANK(D17,$D$6:$D$45,0)) -> 16 | F17: =RANK(E17,$E$6:$E$50,1) -> 11
... A20: 15 | D20: 0 | E20: =IF(D20=0,16,RANK(D20,$D$6:$D$45,0)) -> 16 | F20: =RANK(E20,$E$6:$E$50,1) -> 11

Sheet 2
A1: CLASSEMENT SAMEDI 16 AVRIL 2016
A5: NOM | B5: PLACE | C5: TIRAGE AU SORT | D5: POIDS | E5: POINTS | F5: CLASSEMENT
A6: 1 | E6: =IF(D6=0,16,RANK(D6,$D$6:$D$45,0)) -> 16 | F6: =RANK(E6,$E$6:$E$50,1) -> 1
A7: 2 | E7: =IF(D7=0,16,RANK(D7,$D$6:$D$45,0)) -> 16 | F7: =RANK(E7,$E$6:$E$50,1) -> 1
A8: 3 | E8: =IF(D8=0,16,RANK(D8,$D$6:$D$45,0)) -> 16 | F8: =RANK(E8,$E$6:$E$50,1) -> 1
A9: 4 | E9: =IF(D9=0,16,RANK(D9,$D$6:$D$45,0)) -> 16 | F9: =RANK(E9,$E$6:$E$50,1) -> 1
A10: 5 | E10: =IF(D10=0,16,RANK(D10,$D$6:$D$45,0)) -> 16 | F10: =RANK(E10,$E$6:$E$50,1) -> 1
A11: 6 | E11: =IF(D11=0,16,RANK(D11,$D$6:$D$45,0)) -> 16 | F11: =RANK(E11,$E$6:$E$50,1) -> 1
A12: 7 | E12: =IF(D12=0,16,RANK(D12,$D$6:$D$45,0)) -> 16 | F12: =RANK(E12,$E$6:$E$50,1) -> 1
A13: 8 | E13: =IF(D13=0,16,RANK(D13,$D$6:$D$45,0)) -> 16 | F13: =RANK(E13,$E$6:$E$50,1) -> 1
A14: 9 | E14: =IF(D14=0,16,RANK(D14,$D$6:$D$45,0)) -> 16 | F14: =RANK(E14,$E$6:$E$50,1) -> 1
A15: 10 | E15: =IF(D15=0,16,RANK(D15,$D$6:$D$45,0)) -> 16 | F15: =RANK(E15,$E$6:$E$50,1) -> 1
A16: 11 | E16: =IF(D16=0,16,RANK(D16,$D$6:$D$45,0)) -> 16 | F16: =RANK(E16,$E$6:$E$50,1) -> 1
A17: 12 | E17: =IF(D17=0,16,RANK(D17,$D$6:$D$45,0)) -> 16 | F17: =RANK(E17,$E$6:$E$50,1) -> 1
... A20: 15 | E20: =IF(D20=0,16,RANK(D20,$D$6:$D$45,0)) -> 16 | F20: =RANK(E20,$E$6:$E$50,1) -> 1

Sheet 3
A1: CLASSEMENT SAMEDI 11 JUIN 2015
A5: NOM | B5: PLACE | C5: TIRAGE AU SORT | D5: POIDS | E5: POINTS | F5: CLASSEMENT
A6: 1 | E6: =IF(D6=0,16,RANK(D6,$D$6:$D$45,0)) -> 16 | F6: =RANK(E6,$E$6:$E$50,1) -> 1
A7: 2 | E7: =IF(D7=0,16,RANK(D7,$D$6:$D$45,0)) -> 16 | F7: =RANK(E7,$E$6:$E$50,1) -> 1
A8: 3 | E8: =IF(D8=0,16,RANK(D8,$D$6:$D$45,0)) -> 16 | F8: =RANK(E8,$E$6:$E$50,1) -> 1
A9: 4 | E9: =IF(D9=0,16,RANK(D9,$D$6:$D$45,0)) -> 16 | F9: =RANK(E9,$E$6:$E$50,1) -> 1
A10: 5 | E10: =IF(D10=0,16,RANK(D10,$D$6:$D$45,0)) -> 16 | F10: =RANK(E10,$E$6:$E$50,1) -> 1
A11: 6 | E11: =IF(D11=0,16,RANK(D11,$D$6:$D$45,0)) -> 16 | F11: =RANK(E11,$E$6:$E$50,1) -> 1
A12: 7 | E12: =IF(D12=0,16,RANK(D12,$D$6:$D$45,0)) -> 16 | F12: =RANK(E12,$E$6:$E$50,1) -> 1
A13: 8 | E13: =IF(D13=0,16,RANK(D13,$D$6:$D$45,0)) -> 16 | F13: =RANK(E13,$E$6:$E$50,1) -> 1
A14: 9 | E14: =IF(D14=0,16,RANK(D14,$D$6:$D$45,0)) -> 16 | F14: =RANK(E14,$E$6:$E$50,1) -> 1
A15: 10 | E15: =IF(D15=0,16,RANK(D15,$D$6:$D$45,0)) -> 16 | F15: =RANK(E15,$E$6:$E$50,1) -> 1
A16: 11 | E16: =IF(D16=0,16,RANK(D16,$D$6:$D$45,0)) -> 16 | F16: =RANK(E16,$E$6:$E$50,1) -> 1
A17: 12 | E17: =IF(D17=0,16,RANK(D17,$D$6:$D$45,0)) -> 16 | F17: =RANK(E17,$E$6:$E$50,1) -> 1
... A20: 15 | E20: =IF(D20=0,16,RANK(D20,$D$6:$D$45,0)) -> 16 | F20: =RANK(E20,$E$6:$E$50,1) -> 1

Sheet 4
A1: CLASSEMENT SAMEDI 17 SEPTEMBRE 2016
A5: NOM | B5: PLACE | C5: TIRAGE AU SORT | D5: POIDS | E5: POINTS | F5: CLASSEMENT
A6: 1 | E6: =IF(D6=0,16,RANK(D6,$D$6:$D$45,0)) -> 16 | F6: =RANK(E6,$E$6:$E$50,1) -> 1
A7: 2 | E7: =IF(D7=0,16,RANK(D7,$D$6:$D$45,0)) -> 16 | F7: =RANK(E7,$E$6:$E$50,1) -> 1
A8: 3 | E8: =IF(D8=0,16,RANK(D8,$D$6:$D$45,0)) -> 16 | F8: =RANK(E8,$E$6:$E$50,1) -> 1
A9: 4 | E9: =IF(D9=0,16,RANK(D9,$D$6:$D$45,0)) -> 16 | F9: =RANK(E9,$E$6:$E$50,1) -> 1
A10: 5 | E10: =IF(D10=0,16,RANK(D10,$D$6:$D$45,0)) -> 16 | F10: =RANK(E10,$E$6:$E$50,1) -> 1
A11: 6 | E11: =IF(D11=0,16,RANK(D11,$D$6:$D$45,0)) -> 16 | F11: =RANK(E11,$E$6:$E$50,1) -> 1
A12: 7 | E12: =IF(D12=0,16,RANK(D12,$D$6:$D$45,0)) -> 16 | F12: =RANK(E12,$E$6:$E$50,1) -> 1
A13: 8 | E13: =IF(D13=0,16,RANK(D13,$D$6:$D$45,0)) -> 16 | F13: =RANK(E13,$E$6:$E$50,1) -> 1
A14: 9 | E14: =IF(D14=0,16,RANK(D14,$D$6:$D$45,0)) -> 16 | F14: =RANK(E14,$E$6:$E$50,1) -> 1
A15: 10 | E15: =IF(D15=0,16,RANK(D15,$D$6:$D$45,0)) -> 16 | F15: =RANK(E15,$E$6:$E$50,1) -> 1
A16: 11 | E16: =IF(D16=0,16,RANK(D16,$D$6:$D$45,0)) -> 16 | F16: =RANK(E16,$E$6:$E$50,1) -> 1
A17: 12 | E17: =IF(D17=0,16,RANK(D17,$D$6:$D$45,0)) -> 16 | F17: =RANK(E17,$E$6:$E$50,1) -> 1
... A20: 15 | E20: =IF(D20=0,16,RANK(D20,$D$6:$D$45,0)) -> 16 | F20: =RANK(E20,$E$6:$E$50,1) -> 1

Sheet 5
A1: CLASSEMENT SAMEDI 1 OCTOBRE 2016
A5: NOM | B5: PLACE | C5: TIRAGE AU SORT | D5: POIDS | E5: POINTS | F5: CLASSEMENT
A6: 1 | E6: =IF(D6=0,16,RANK(D6,$D$6:$D$45,0)) -> 16 | F6: =RANK(E6,$E$6:$E$50,1) -> 1
A7: 2 | E7: =IF(D7=0,16,RANK(D7,$D$6:$D$45,0)) -> 16 | F7: =RANK(E7,$E$6:$E$50,1) -> 1
A8: 3 | E8: =IF(D8=0,16,RANK(D8,$D$6:$D$45,0)) -> 16 | F8: =RANK(E8,$E$6:$E$50,1) -> 1
A9: 4 | E9: =IF(D9=0,16,RANK(D9,$D$6:$D$45,0)) -> 16 | F9: =RANK(E9,$E$6:$E$50,1) -> 1
A10: 5 | E10: =IF(D10=0,16,RANK(D10,$D$6:$D$45,0)) -> 16 | F10: =RANK(E10,$E$6:$E$50,1) -> 1
A11: 6 | E11: =IF(D11=0,16,RANK(D11,$D$6:$D$45,0)) -> 16 | F11: =RANK(E11,$E$6:$E$50,1) -> 1
A12: 7 | E12: =IF(D12=0,16,RANK(D12,$D$6:$D$45,0)) -> 16 | F12: =RANK(E12,$E$6:$E$50,1) -> 1
A13: 8 | E13: =IF(D13=0,16,RANK(D13,$D$6:$D$45,0)) -> 16 | F13: =RANK(E13,$E$6:$E$50,1) -> 1
A14: 9 | E14: =IF(D14=0,16,RANK(D14,$D$6:$D$45,0)) -> 16 | F14: =RANK(E14,$E$6:$E$50,1) -> 1
A15: 10 | E15: =IF(D15=0,16,RANK(D15,$D$6:$D$45,0)) -> 16 | F15: =RANK(E15,$E$6:$E$50,1) -> 1
A16: 11 | E16: =IF(D16=0,16,RANK(D16,$D$6:$D$45,0)) -> 16 | F16: =RANK(E16,$E$6:$E$50,1) -> 1
A17: 12 | E17: =IF(D17=0,16,RANK(D17,$D$6:$D$45,0)) -> 16 | F17: =RANK(E17,$E$6:$E$50,1) -> 1
... A20: 15 | E20: =IF(D20=0,16,RANK(D20,$D$6:$D$45,0)) -> 16 | F20: =RANK(E20,$E$6:$E$50,1) -> 1

Sheet 6
A1: CLASSEMENT SAMEDI 12 NOVEMBRE 2016
A5: NOM | B5: PLACE | C5: TIRAGE AU SORT | D5: POIDS | E5: POINTS | F5: CLASSEMENT
A6: 1 | E6: =IF(D6=0,16,RANK(D6,$D$6:$D$45,0)) -> 16 | F6: =RANK(E6,$E$6:$E$50,1) -> 1
A7: 2 | E7: =IF(D7=0,16,RANK(D7,$D$6:$D$45,0)) -> 16 | F7: =RANK(E7,$E$6:$E$50,1) -> 1
A8: 3 | E8: =IF(D8=0,16,RANK(D8,$D$6:$D$45,0)) -> 16 | F8: =RANK(E8,$E$6:$E$50,1) -> 1
A9: 4 | E9: =IF(D9=0,16,RANK(D9,$D$6:$D$45,0)) -> 16 | F9: =RANK(E9,$E$6:$E$50,1) -> 1
A10: 5 | E10: =IF(D10=0,16,RANK(D10,$D$6:$D$45,0)) -> 16 | F10: =RANK(E10,$E$6:$E$50,1) -> 1
A11: 6 | E11: =IF(D11=0,16,RANK(D11,$D$6:$D$45,0)) -> 16 | F11: =RANK(E11,$E$6:$E$50,1) -> 1
A12: 7 | E12: =IF(D12=0,16,RANK(D12,$D$6:$D$45,0)) -> 16 | F12: =RANK(E12,$E$6:$E$50,1) -> 1
A13: 8 | E13: =IF(D13=0,16,RANK(D13,$D$6:$D$45,0)) -> 16 | F13: =RANK(E13,$E$6:$E$50,1) -> 1
A14: 9 | E14: =IF(D14=0,16,RANK(D14,$D$6:$D$45,0)) -> 16 | F14: =RANK(E14,$E$6:$E$50,1) -> 1
A15: 10 | E15: =IF(D15=0,16,RANK(D15,$D$6:$D$45,0)) -> 16 | F15: =RANK(E15,$E$6:$E$50,1) -> 1
A16: 11 | E16: =IF(D16=0,16,RANK(D16,$D$6:$D$45,0)) -> 16 | F16: =RANK(E16,$E$6:$E$50,1) -> 1
A17: 12 | E17: =IF(D17=0,16,RANK(D17,$D$6:$D$45,0)) -> 16 | F17: =RANK(E17,$E$6:$E$50,1) -> 1
... A20: 15 | E20: =IF(D20=0,16,RANK(D20,$D$6:$D$45,0)) -> 16 | F20: =RANK(E20,$E$6:$E$50,1) -> 1

Sheet 7
A1: CLASSEMENT SAMEDI
A5: NOM | B5: PLACE | C5: TIRAGE AU SORT | D5: POIDS | E5: POINTS | F5: CLASSEMENT
A6: 1 | D6: 0 | E6: =IF(D6=0,16,RANK(D6,$D$6:$D$45,0)) -> 16 | F6: =RANK(E6,$E$6:$E$50,1) -> 1
A7: 2 | E7: =IF(D7=0,16,RANK(D7,$D$6:$D$45,0)) -> 16 | F7: =RANK(E7,$E$6:$E$50,1) -> 1
A8: 3 | E8: =IF(D8=0,16,RANK(D8,$D$6:$D$45,0)) -> 16 | F8: =RANK(E8,$E$6:$E$50,1) -> 1
A9: 4 | E9: =IF(D9=0,16,RANK(D9,$D$6:$D$45,0)) -> 16 | F9: =RANK(E9,$E$6:$E$50,1) -> 1
A10: 5 | E10: =IF(D10=0,16,RANK(D10,$D$6:$D$45,0)) -> 16 | F10: =RANK(E10,$E$6:$E$50,1) -> 1
A11: 6 | E11: =IF(D11=0,16,RANK(D11,$D$6:$D$45,0)) -> 16 | F11: =RANK(E11,$E$6:$E$50,1) -> 1
A12: 7 | E12: =IF(D12=0,16,RANK(D12,$D$6:$D$45,0)) -> 16 | F12: =RANK(E12,$E$6:$E$50,1) -> 1
A13: 8 | E13: =IF(D13=0,16,RANK(D13,$D$6:$D$45,0)) -> 16 | F13: =RANK(E13,$E$6:$E$50,1) -> 1
A14: 9 | E14: =IF(D14=0,16,RANK(D14,$D$6:$D$45,0)) -> 16 | F14: =RANK(E14,$E$6:$E$50,1) -> 1
A15: 10 | E15: =IF(D15=0,16,RANK(D15,$D$6:$D$45,0)) -> 16 | F15: =RANK(E15,$E$6:$E$50,1) -> 1
A16: 11 | E16: =IF(D16=0,16,RANK(D16,$D$6:$D$45,0)) -> 16 | F16: =RANK(E16,$E$6:$E$50,1) -> 1
A17: 12 | E17: =IF(D17=0,16,RANK(D17,$D$6:$D$45,0)) -> 16 | F17: =RANK(E17,$E$6:$E$50,1) -> 1
A18: 13 | E18: =IF(D18=0,16,RANK(D18,$D$6:$D$45,0)) -> 16 | F18: =RANK(E18,$E$6:$E$50,1) -> 1
... A20: 15 | E20: =IF(D20=0,16,RANK(D20,$D$6:$D$45,0)) -> 16 | F20: =RANK(E20,$E$6:$E$50,1) -> 1

Sheet CLASSEMENT GENERAL
A1: CLASSEMENT GENERAL
A5: NOM | B5: PLACE | C5: TIRAGE AU SORT | D5: POIDS | E5: POINTS | F5: CLASSEMENT
A6: 1 | E6: =SUM('1'!E6+'2'!E6+'3'!E6+'4'!E6+'5'!E6+'6'!E6+'7'!E6) -> 100 | F6: =RANK(E6,$E$6:$E$50,1) -> 4
A7: 2 | E7: =SUM('1'!E7+'2'!E7+'3'!E7+'4'!E7+'5'!E7+'6'!E7+'7'!E7) -> 104 | F7: =RANK(E7,$E$6:$E$50,1) -> 8
A8: 3 | E8: =SUM('1'!E8+'2'!E8+'3'!E8+'4'!E8+'5'!E8+'6'!E8+'7'!E8) -> 101 | F8: =RANK(E8,$E$6:$E$50,1) -> 5
A9: 4 | E9: =SUM('1'!E9+'2'!E9+'3'!E9+'4'!E9+'5'!E9+'6'!E9+'7'!E9) -> 97 | F9: =RANK(E9,$E$6:$E$50,1) -> 1
A10: 5 | E10: =SUM('1'!E10+'2'!E10+'3'!E10+'4'!E10+'5'!E10+'6'!E10+'7'!E10) -> 106 | F10: =RANK(E10,$E$6:$E$50,1) -> 9
A11: 6 | E11: =SUM('1'!E11+'2'!E11+'3'!E11+'4'!E11+'5'!E11+'6'!E11+'7'!E11) -> 99 | F11: =RANK(E11,$E$6:$E$50,1) -> 3
A12: 7 | E12: =SUM('1'!E12+'2'!E12+'3'!E12+'4'!E12+'5'!E12+'6'!E12+'7'!E12) -> 98 | F12: =RANK(E12,$E$6:$E$50,1) -> 2
A13: 8 | E13: =SUM('1'!E13+'2'!E13+'3'!E13+'4'!E13+'5'!E13+'6'!E13+'7'!E13) -> 102 | F13: =RANK(E13,$E$6:$E$50,1) -> 6
A14: 9 | E14: =SUM('1'!E14+'2'!E14+'3'!E14+'4'!E14+'5'!E14+'6'!E14+'7'!E14) -> 112 | F14: =RANK(E14,$E$6:$E$50,1) -> 10
A15: 10 | E15: =SUM('1'!E15+'2'!E15+'3'!E15+'4'!E15+'5'!E15+'6'!E15+'7'!E15) -> 112 | F15: =RANK(E15,$E$6:$E$50,1) -> 10
A16: 11 | E16: =SUM('1'!E16+'2'!E16+'3'!E16+'4'!E16+'5'!E16+'6'!E16+'7'!E16) -> 103 | F16: =RANK(E16,$E$6:$E$50,1) -> 7
A17: 12 | E17: =SUM('1'!E17+'2'!E17+'3'!E17+'4'!E17+'5'!E17+'6'!E17+'7'!E17) -> 112 | F17: =RANK(E17,$E$6:$E$50,1) -> 10
A18: 13 | E18: =SUM('1'!E18+'2'!E18+'3'!E18+'4'!E18+'5'!E18+'6'!E18+'7'!E18) -> 112 | F18: =RANK(E18,$E$6:$E$50,1) -> 10
