Workbook

Sheet modèle
A2: NOM DU CHANTIER | F2: description des travaux : | H2: .
F6: SOLIER | G6: jours | H6: Heures | J6: MACON | K6: JOURS | L6: HEURES | N6: MENUISIER | O6: JOURS | P6: HEURES | R6: ACHATS | S6: PIECES | T6: MT HT | V6: nbre kilomètre
A7: COÛT | F7: ouvrier 1 | R7: marchandise 1 | V7: nbre repas
A8: solier | B8: =(G15+H15)*G28 -> 0 | F8: ouvrier 2 | R8: marchandise 2
A9: macon | B9: =K15+L15*G29 -> 0 | F9: ouvrier 3 | R9: marchandise 3
A10: menuisier | B10: =O15+P15*G30 -> 0
A11: kilomètre | B11: =W6*G31 -> 0 | F11: ouvrier 4 | R11: marchandise 4
A12: repas | B12: =W7*G32 -> 0 | F12: ouvrier 5 | R12: marchandise 5
A13: matières | B13: =T15 -> 0 | F13: ouvrier 6 | R13: marchandise 6
F14: ouvrier 7 | R14: marchandise 7 | V14: total heures | W14: Total jours
F15: TOTAL HEURES | G15: =SUM(G7:G14) -> 0 | H15: =SUM(H7:H14) -> 0 | J15: TOTAL HEURES | K15: =SUM(J7:J14) -> 0 | L15: =SUM(L7:L14) -> 0 | N15: TOTAL HEURES | O15: =SUM(O7:O14) -> 0 | P15: =SUM(P7:P14) -> 0 | R15: TOTAL ACHATS | T15: =SUM(T7:T14) -> 0 | V15: =H15+L15+P15 -> 0 | W15: =+G15+K15+O15 -> 0
A16: total coût de revient | B16: =((G25+B8+B9+B11+B12)*G33)+(G25+B8+B9+B11+B12) -> 0
A18: marge standard | B18: =B16*G34 -> 0
A20: total HT | B20: =B16+B18 -> 0
A22: seuil de rentabilité journalier
A23: montant facturé à la journée | B23: =IF(H15=0," ",B25/(H15/20))
A25: MONTANT FACTURÉ
A26: MARGE RÉALISÉE | B26: =B25-B16 -> 0
A28: % marge | B28: =IF(B25=0," ",(B25-B16)/B16) | F28: taux horaire SOLIER
F29: taux horaire MACON
F30: taux horaire menuisier
F31: prix kilométrique
F32: prix repas
F33: frais généraux
F34: marge standard

Sheet tourgeville demarrage juillet
A2: NOM DU CHANTIER | B2: TOURGEVILLE | F2: description des travaux : | H2: CONSTRUCTION DE 52 LOGEMENTS - TRAVAUX DE POSE PARQUETS ET POSE REVETEMENTS SOLS SOUPLES
F6: SOLIER | G6: jours | H6: Heures | J6: MACON | K6: JOURS | L6: HEURES | N6: MENUISIER | O6: JOURS | P6: HEURES | R6: ACHATS | S6: PIECES | T6: MT HT | V6: nbre kilomètre
A7: COÛT | F7: GOK | H7: 140 | J7: GALICHET | L7: 189 | N7: MAHEUT | P7: 294 | R7: sto | S7: 7070781594 | T7: 366.36 | V7: nbre repas
A8: solier | B8: =(G15+H15)*G29 -> 5381.6 | F8: OZLU | H8: 203 | N8: EREMBERT | P8: 21 | R8: solmur | S8: 683602 | T8: 385.16
A9: macon | B9: =K15+L15*G30 -> 1816.29 | F9: PALANDOKEN | H9: 133 | N9: MUCAHIT | P9: 49 | R9: solmur | S9: 684519 | T9: 261.78
A10: menuisier | B10: =O15+P15*G31 -> 0 | F10: RAMAZAN | H10: 42 | R10: setin | S10: 1892965 | T10: 336.58
A11: kilomètre | B11: =W6*G32 -> 0 | F11: HAKAN | H11: 42 | R11: solmur | S11: 690907 - 690907 | T11: =105.845+4727.27 -> 4833.115
A12: repas | B12: =W7*G33 -> 0 | F12: ouvrier 5 | R12: solmur | S12: 697195 | T12: 2453.59
A13: matières | B13: =T15 -> 8663.485 | F13: ouvrier 6 | R13: PPG | S13: 1509062360 | T13: 26.9
F14: ouvrier 7 | R14: marchandise 7 | V14: total heures | W14: Total jours
F15: TOTAL HEURES | G15: =SUM(G7:G14) -> 0 | H15: =SUM(H7:H14) -> 560 | J15: TOTAL HEURES | K15: =SUM(J7:J14) -> 0 | L15: =SUM(L7:L14) -> 189 | N15: TOTAL HEURES | O15: =SUM(O7:O14) -> 0 | P15: =SUM(P7:P14) -> 364 | R15: TOTAL ACHATS | T15: =SUM(T7:T14) -> 8663.485 | V15: =H15+L15+P15 -> 1113 | W15: =+G15+K15+O15 -> 0
A16: total coût de revient | B16: =((G25+B8+B9+B11+B12)*G34)+(G25+B8+B9+B11+B12) -> 7197.89
A18: marge standard | B18: =B16*G35 -> 0
A20: total HT | B20: =B16+B18 -> 7197.89
A22: seuil de rentabilité journalier
A23: montant facturé à la journée | B23: =IF(H15=0," ",B25/(H15/20)) -> 835.85714
A25: MONTANT FACTURÉ | B25: 23404
A26: AVENANT | B26: 20443.4
A27: MARGE RÉALISÉE | B27: =(B25+B26)-B16 -> 36649.51
A29: % marge | B29: =IF(B25=0," ",(B25-B16)/B16) -> 2.2515084 | F29: taux horaire SOLIER | G29: 9.61
F30: taux horaire MACON | G30: 9.61
F31: taux horaire menuisier
F32: prix kilométrique
F33: prix repas
F34: frais généraux
F35: marge standard

Sheet notre dame de gravenchon
A2: NOM DU CHANTIER | F2: description des travaux : | H2: .
F6: SOLIER | G6: jours | H6: Heures | J6: MACON | K6: JOURS | L6: HEURES | N6: MENUISIER | O6: JOURS | P6: HEURES | R6: ACHATS | S6: PIECES | T6: MT HT | V6: nbre kilomètre
A7: COÛT | F7: ouvrier 1 | R7: POINT P | S7: 3477418 | T7: 3073.76 | V7: nbre repas
A8: solier | B8: =(G15+H15)*G28 -> 0 | F8: ouvrier 2 | R8: POINT P
A9: macon | B9: =K15+L15*G29 -> 0 | F9: ouvrier 3 | R9: POINT P
A10: menuisier | B10: =O15+P15*G30 -> 0 | R10: simo | S10: 20151031 | T10: 7157.1
A11: kilomètre | B11: =W6*G31 -> 0 | F11: ouvrier 4 | R11: b ig mat | S11: 56818-57280 | T11: =28.69+12.37 -> 41.06
A12: repas | B12: =W7*G32 -> 0 | F12: ouvrier 5 | R12: rosay | S12: 1510022 | T12: 2676.1
A13: matières | B13: =T15 -> 12948.02 | F13: ouvrier 6 | R13: marchandise 6
F14: ouvrier 7 | R14: marchandise 7 | V14: total heures | W14: Total jours
F15: TOTAL HEURES | G15: =SUM(G7:G14) -> 0 | H15: =SUM(H7:H14) -> 0 | J15: TOTAL HEURES | K15: =SUM(J7:J14) -> 0 | L15: =SUM(L7:L14) -> 0 | N15: TOTAL HEURES | O15: =SUM(O7:O14) -> 0 | P15: =SUM(P7:P14) -> 0 | R15: TOTAL ACHATS | T15: =SUM(T7:T14) -> 12948.02 | V15: =H15+L15+P15 -> 0 | W15: =+G15+K15+O15 -> 0
A16: total coût de revient | B16: =((G25+B8+B9+B11+B12)*G33)+(G25+B8+B9+B11+B12) -> 0
A18: marge standard | B18: =B16*G34 -> 0
A20: total HT | B20: =B16+B18 -> 0
A22: seuil de rentabilité journalier
A23: montant facturé à la journée | B23: =IF(H15=0," ",B25/(H15/17))
A25: MONTANT FACTURÉ
A26: MARGE RÉALISÉE | B26: =B25-B16 -> 0
A28: % marge | B28: =IF(B25=0," ",(B25-B16)/B16) | F28: taux horaire SOLIER
F29: taux horaire MACON
F30: taux horaire menuisier
F31: prix kilométrique
F32: prix repas
F33: frais généraux
F34: marge standard

Sheet buchy
A2: NOM DU CHANTIER | F2: description des travaux : | H2: .
F6: SOLIER | G6: jours | H6: Heures | J6: MACON | K6: JOURS | L6: HEURES | N6: MENUISIER | O6: JOURS | P6: HEURES | R6: ACHATS | S6: PIECES | T6: MT HT | V6: nbre kilomètre
A7: COÛT | F7: ouvrier 1 | R7: marchandise 1 | V7: nbre repas
A8: solier | B8: =(G15+H15)*G28 -> 0 | F8: ouvrier 2 | R8: marchandise 2
A9: macon | B9: =K15+L15*G29 -> 0 | F9: ouvrier 3 | R9: marchandise 3
A10: menuisier | B10: =O15+P15*G30 -> 0
A11: kilomètre | B11: =W6*G31 -> 0 | F11: ouvrier 4 | R11: marchandise 4
A12: repas | B12: =W7*G32 -> 0 | F12: ouvrier 5 | R12: marchandise 5
A13: matières | B13: =T15 -> 0 | F13: ouvrier 6 | R13: marchandise 6
F14: ouvrier 7 | R14: marchandise 7 | V14: total heures | W14: Total jours
F15: TOTAL HEURES | G15: =SUM(G7:G14) -> 0 | H15: =SUM(H7:H14) -> 0 | J15: TOTAL HEURES | K15: =SUM(J7:J14) -> 0 | L15: =SUM(L7:L14) -> 0 | N15: TOTAL HEURES | O15: =SUM(O7:O14) -> 0 | P15: =SUM(P7:P14) -> 0 | R15: TOTAL ACHATS | T15: =SUM(T7:T14) -> 0 | V15: =H15+L15+P15 -> 0 | W15: =+G15+K15+O15 -> 0
A16: total coût de revient | B16: =((G25+B8+B9+B11+B12)*G33)+(G25+B8+B9+B11+B12) -> 0
A18: marge standard | B18: =B16*G34 -> 0
A20: total HT | B20: =B16+B18 -> 0
A22: seuil de rentabilité journalier
A23: montant facturé à la journée | B23: =IF(H15=0," ",B25/(H15/17))
A25: MONTANT FACTURÉ
A26: MARGE RÉALISÉE | B26: =B25-B16 -> 0
A28: % marge | B28: =IF(B25=0," ",(B25-B16)/B16) | F28: taux horaire SOLIER
F29: taux horaire MACON
F30: taux horaire menuisier
F31: prix kilométrique
F32: prix repas
F33: frais généraux
F34: marge standard

Sheet harmonie mutuelle 
A2: NOM DU CHANTIER | F2: description des travaux : | H2: .
F6: SOLIER | G6: jours | H6: Heures | J6: MACON | K6: JOURS | L6: HEURES | N6: MENUISIER | O6: JOURS | P6: HEURES | R6: ACHATS | S6: PIECES | T6: MT HT | V6: nbre kilomètre
A7: COÛT | F7: ouvrier 1 | R7: sprs | S7: 8 | T7: 300 | V7: nbre repas
A8: solier | B8: =(G15+H15)*G28 -> 0 | F8: ouvrier 2 | R8: amtico | S8: 131243 | T8: 9022
A9: macon | B9: =K15+L15*G29 -> 0 | F9: ouvrier 3 | R9: HM | S9: 120832942 | T9: 29.82
A10: menuisier | B10: =O15+P15*G30 -> 0
A11: kilomètre | B11: =W6*G31 -> 0 | F11: ouvrier 4 | R11: marchandise 4
A12: repas | B12: =W7*G32 -> 0 | F12: ouvrier 5 | R12: marchandise 5
A13: matières | B13: =T15 -> 9351.82 | F13: ouvrier 6 | R13: marchandise 6
F14: ouvrier 7 | R14: marchandise 7 | V14: total heures | W14: Total jours
F15: TOTAL HEURES | G15: =SUM(G7:G14) -> 0 | H15: =SUM(H7:H14) -> 0 | J15: TOTAL HEURES | K15: =SUM(J7:J14) -> 0 | L15: =SUM(L7:L14) -> 0 | N15: TOTAL HEURES | O15: =SUM(O7:O14) -> 0 | P15: =SUM(P7:P14) -> 0 | R15: TOTAL ACHATS | T15: =SUM(T7:T14) -> 9351.82 | V15: =H15+L15+P15 -> 0 | W15: =+G15+K15+O15 -> 0
A16: total coût de revient | B16: =((G25+B8+B9+B11+B12)*G33)+(G25+B8+B9+B11+B12) -> 0
A18: marge standard | B18: =B16*G34 -> 0
A20: total HT | B20: =B16+B18 -> 0
A22: seuil de rentabilité journalier
A23: montant facturé à la journée | B23: =IF(H15=0," ",B25/(H15/17))
A25: MONTANT FACTURÉ
A26: MARGE RÉALISÉE | B26: =B25-B16 -> 0
A28: % marge | B28: =IF(B25=0," ",(B25-B16)/B16) | F28: taux horaire SOLIER
F29: taux horaire MACON
F30: taux horaire menuisier
F31: prix kilométrique
F32: prix repas
F33: frais généraux
F34: marge standard

Sheet MSA RENAULT
A2: NOM DU CHANTIER | F2: description des travaux : | H2: .
F6: SOLIER | G6: jours | H6: Heures | J6: MACON | K6: JOURS | L6: HEURES | N6: MENUISIER | O6: JOURS | P6: HEURES | R6: ACHATS | S6: PIECES | T6: MT HT | V6: nbre kilomètre
A7: COÛT | F7: ouvrier 1 | R7: POINT P | S7: 3463384 BON 566462 | T7: 170.93 | V7: nbre repas
A8: solier | B8: =(G20+H20)*G33 -> 0 | F8: ouvrier 2 | R8: POINT P | S8: 3449049 - 3449943 | T8: =83.8+54 -> 137.8
A9: macon | B9: =K20+L20*G34 -> 0 | F9: ouvrier 3 | R9: ets dewilde | S9: 39248 | T9: 2000
A10: menuisier | B10: =O20+P20*G35 -> 0 | R10: wurth | S10: 1204314 | T10: 283.5
A11: kilomètre | B11: =W6*G36 -> 0 | F11: ouvrier 4 | R11: dfm | S11: 1341312 | T11: 738
A12: repas | B12: =W7*G37 -> 0 | F12: ouvrier 5 | R12: big mat | S12: 56818-57276-57748 | T12: =558.42+65.63 -> 624.05
A13: matières | B13: =T20 -> 19825.79 | F13: ouvrier 6 | R13: simo | S13: 244 | T13: 1120
F14: ouvrier 7 | R14: big mat | S14: 57278-57279-577747-57746 | T14: =2329.94+144.13+648.04+4177.82+971.24 -> 8271.17 | V14: total heures | W14: Total jours
R15: solmur | S15: 690907 | T15: 938.46
R16: ppg | S16: 1508059392 -1509026106-15090115186-1509012530 -1509033240-1509033237 | T16: =3336.12-23.2-225.47-171.75+1016.04-1278.94 -> 2652.8
R17: setin | S17: 1904902 | T17: 35.66
R18: FRAZZI | S18: 803892 | T18: 2815.92
R19: PORCELANOSA | S19: 15104479 | T19: 37.5
F20: TOTAL HEURES | G20: =SUM(G7:G14) -> 0 | H20: =SUM(H7:H14) -> 0 | J20: TOTAL HEURES | K20: =SUM(J7:J14) -> 0 | L20: =SUM(L7:L14) -> 0 | N20: TOTAL HEURES | O20: =SUM(O7:O14) -> 0 | P20: =SUM(P7:P14) -> 0 | R20: TOTAL ACHATS | T20: =SUM(T7:T19) -> 19825.79 | V20: =H20+L20+P20 -> 0 | W20: =+G20+K20+O20 -> 0
A21: total coût de revient | B21: =((G30+B8+B9+B11+B12)*G38)+(G30+B8+B9+B11+B12) -> 0
A23: marge standard | B23: =B21*G39 -> 0
A25: total HT | B25: =B21+B23 -> 0
A27: seuil de rentabilité journalier
A28: montant facturé à la journée | B28: =IF(H20=0," ",B30/(H20/20))
A30: MONTANT FACTURÉ
A31: MARGE RÉALISÉE | B31: =B30-B21 -> 0
A33: % marge | B33: =IF(B30=0," ",(B30-B21)/B21) | F33: taux horaire SOLIER
F34: taux horaire MACON
F35: taux horaire menuisier
F36: prix kilométrique
F37: prix repas
F38: frais généraux
F39: marge standard

Sheet bmw
A2: NOM DU CHANTIER | B2: bmw | F2: description des travaux : | H2: .
F6: SOLIER | G6: jours | H6: Heures | J6: MACON | K6: JOURS | L6: HEURES | N6: MENUISIER | O6: JOURS | P6: HEURES | R6: ACHATS | S6: PIECES | T6: MT HT | V6: nbre kilomètre
A7: COÛT | F7: ouvrier 1 | R7: maillot | S7: 40015774 | T7: 553.48 | V7: nbre repas
A8: solier | B8: =(G15+H15)*G28 -> 0 | F8: ouvrier 2 | R8: logitra | S8: 55090045 | T8: 673.73
A9: macon | B9: =K15+L15*G29 -> 0 | F9: ouvrier 3 | R9: marchandise 3
A10: menuisier | B10: =O15+P15*G30 -> 0
A11: kilomètre | B11: =W6*G31 -> 0 | F11: ouvrier 4 | R11: marchandise 4
A12: repas | B12: =W7*G32 -> 0 | F12: ouvrier 5 | R12: marchandise 5
A13: matières | B13: =T15 -> 1227.21 | F13: ouvrier 6 | R13: marchandise 6
F14: ouvrier 7 | R14: marchandise 7 | V14: total heures | W14: Total jours
F15: TOTAL HEURES | G15: =SUM(G7:G14) -> 0 | H15: =SUM(H7:H14) -> 0 | J15: TOTAL HEURES | K15: =SUM(J7:J14) -> 0 | L15: =SUM(L7:L14) -> 0 | N15: TOTAL HEURES | O15: =SUM(O7:O14) -> 0 | P15: =SUM(P7:P14) -> 0 | R15: TOTAL ACHATS | T15: =SUM(T7:T14) -> 1227.21 | V15: =H15+L15+P15 -> 0 | W15: =+G15+K15+O15 -> 0
A16: total coût de revient | B16: =((G25+B8+B9+B11+B12)*G33)+(G25+B8+B9+B11+B12) -> 0
A18: marge standard | B18: =B16*G34 -> 0
A20: total HT | B20: =B16+B18 -> 0
A22: seuil de rentabilité journalier
A23: montant facturé à la journée | B23: =IF(H15=0," ",B25/(H15/20))
A25: MONTANT FACTURÉ
A26: MARGE RÉALISÉE | B26: =B25-B16 -> 0
A28: % marge | B28: =IF(B25=0," ",(B25-B16)/B16) | F28: taux horaire SOLIER
F29: taux horaire MACON
F30: taux horaire menuisier
F31: prix kilométrique
F32: prix repas
F33: frais généraux
F34: marge standard

Sheet CUMUL
A2: NOM DU CHANTIER | B2: CUMUL DU MOIS | F2: description des travaux : | H2: CUMUL DU MOIS
A4: NUMÉRO D'AFFAIRE
G6: JOURS | H6: HEURES | I6: métré | J6: débit | K6: laquage | M6: nbre kilomètre | N6: =SUM('modèle:MSA RENAULT'!N6) -> 0
A7: COÛT | G7: =SUM('modèle:MSA RENAULT'!G7) -> 0 | H7: =SUM('modèle:MSA RENAULT'!H7) -> 140 | I7: =SUM('modèle:MSA RENAULT'!I7) -> 0 | J7: =SUM('modèle:MSA RENAULT'!J7) -> 0 | K7: =SUM('modèle:MSA RENAULT'!K7) -> 0 | M7: nbre repas | N7: =SUM('modèle:MSA RENAULT'!N7) -> 0
A8: solier | B8: =(G14+K14)*G27 -> 0 | G8: =SUM('modèle:MSA RENAULT'!G8) -> 0 | H8: =SUM('modèle:MSA RENAULT'!H8) -> 203 | I8: =SUM('modèle:MSA RENAULT'!I8) -> 0 | J8: =SUM('modèle:MSA RENAULT'!J8) -> 0 | K8: =SUM('modèle:MSA RENAULT'!K8) -> 0
A9: macon | B9: =H14*G28 -> 11816 | G9: =SUM('modèle:MSA RENAULT'!G9) -> 0 | H9: =SUM('modèle:MSA RENAULT'!H9) -> 133 | I9: =SUM('modèle:MSA RENAULT'!I9) -> 0 | J9: =SUM('modèle:MSA RENAULT'!J9) -> 0 | K9: =SUM('modèle:MSA RENAULT'!K9) -> 0
A10: kilomètre | B10: =N6*G29 -> 0 | G10: =SUM('modèle:MSA RENAULT'!G10) -> 0 | H10: =SUM('modèle:MSA RENAULT'!H10) -> 42 | I10: =SUM(I7:I9) -> 0 | J10: =SUM(J7:J9) -> 0 | K10: =SUM('modèle:MSA RENAULT'!K10) -> 0
A11: repas | B11: =N7*G30 -> 0 | G11: =SUM('modèle:MSA RENAULT'!G11) -> 0 | H11: =SUM('modèle:MSA RENAULT'!H11) -> 42 | K11: =SUM('modèle:MSA RENAULT'!K11) -> 0
A12: matières | B12: =G24 -> 0 | G12: =SUM('modèle:MSA RENAULT'!G12) -> 0 | H12: =SUM('modèle:MSA RENAULT'!H12) -> 0 | K12: =SUM('modèle:MSA RENAULT'!K12) -> 0
G13: =SUM('modèle:MSA RENAULT'!G13) -> 0 | H13: =SUM('modèle:MSA RENAULT'!H13) -> 0 | K13: =SUM('modèle:MSA RENAULT'!K13) -> 0 | M13: total heures
F14: TOTAL HEURES | G14: =SUM(G7:G13) -> 0 | H14: =SUM(H7:H13) -> 560 | K14: =SUM(K7:K13) -> 0 | M14: =G14+H14+I10+J10+K14 -> 560
A15: total coût de revient | B15: =((G24+B8+B9+B10+B11)*G31)+(G24+B8+B9+B10+B11) -> 17889.424
F16: ACHAT
A17: marge standard | B17: =B15*G32 -> 2683.4136 | F17: marchandise 1 | G17: =SUM('modèle:MSA RENAULT'!G17) -> 0
F18: marchandise 2 | G18: =SUM('modèle:MSA RENAULT'!G18) -> 0
A19: total HT | B19: =B15+B17 -> 20572.838 | F19: marchandise 3 | G19: =SUM('modèle:MSA RENAULT'!G19) -> 0
F20: marchandise 4 | G20: =SUM('modèle:MSA RENAULT'!G20) -> 0
A21: seuil de rentabilité journalier | B21: 2450.81 | F21: marchandise 5 | G21: =SUM('modèle:MSA RENAULT'!G21) -> 0
A22: montant facturé à la journée | B22: =IF(H14=0," ",B24/(H14/17)) -> 0 | F22: marchandise 6 | G22: =SUM('modèle:MSA RENAULT'!G22) -> 0
F23: marchandise 7 | G23: =SUM('modèle:MSA RENAULT'!G23) -> 0
A24: MONTANT FACTURÉ | B24: =SUM('modèle:MSA RENAULT'!B24) -> 0 | F24: TOTAL ACHATS | G24: =SUM(G17:G23) -> 0
A25: MARGE RÉALISÉE | B25: =B24-B15 -> -17889.424 | J25: estim fab | K25: estim pose
J26: =SUM('modèle:MSA RENAULT'!J26) -> 0 | K26: =SUM('modèle:MSA RENAULT'!K26) -> 0
A27: % marge | B27: =IF(B24=0," ",(B24-B15)/B15) | F27: taux horaire fab | G27: 36.8 | I27: différence | J27: =IF(G14=0," ",J26-(G14+K14)) | K27: =IF(H14=0," ",K26-H14) -> -560
F28: taux horaire pose | G28: 21.1
F29: prix kilométrique | G29: 0.41
F30: prix repas | G30: 16.8
F31: frais généraux | G31: 0.514
F32: marge standard | G32: 0.15
