Workbook
Name MOIS: 'LISTEs DEROULANTES'!$A$1:$A$12

Sheet S1
A2: 10 | B2: 1 | C2: LUNDI | G2: MARDI | K2: MERCREDI | O2: JEUDI | Q2: =DATE(B2+2014,A2,1) -> 42278 | S2: VENDREDI | U2: =Q2+1 -> 42279 | W2: SAMEDI | Y2: =U2+1 -> 42280 | AA2: DIMANCHE | AC2: =Y2+1 -> 42281 | AE2: TOTAL
A3: MENAGE
A4: EVENEMENTS
A5: Nom1 | AE5: =+F6+J6+N6+R6+V6+Z6+AD6 -> 0
F6: =(D6-C6)+(D5-C5)-E6-E5 -> 0 | J6: =(H5-G5)+(H6-G6)-I6-I5 -> 0 | N6: =(L6-K6)+(L5-K5)-M5-M6 -> 0 | R6: =(P6-O6)+(P5-O5)-Q6-Q5 -> 0 | V6: =(T5-S5)+(T6-S6)-U6-U5 -> 0 | Z6: =(X5-W5)+(X6-W6)-Y6-Y5 -> 0 | AD6: =(AB5-AA5)+(AB6-AA6)-AC6-AC5 -> 0
A8: nom 2 | AE8: =SUM(AD9+Z9+V9+R9+N9+J9+F9) -> 0
F9: =(D9-C9)+(D8-C8)-E9-E8 -> 0 | J9: =(H8-G8)+(H9-G9)-I9-I8 -> 0 | N9: =(L9-K9)+(L8-K8)-M8-M9 -> 0 | R9: =(P9-O9)+(P8-O8)-Q9-Q8 -> 0 | V9: =(T8-S8)+(T9-S9)-U9-U8 -> 0 | Z9: =(X8-W8)+(X9-W9)-Y9-Y8 -> 0 | AD9: =(AB8-AA8)+(AB9-AA9)-AC9-AC8 -> 0
A11: nom 3 | AE11: =SUM(AD12+Z12+V12+R12+N12+J12+F12) -> 0
F12: =(D12-C12)+(D11-C11)-E12-E11 -> 0 | J12: =(H11-G11)+(H12-G12)-I12-I11 -> 0 | N12: =(L12-K12)+(L11-K11)-M11-M12 -> 0 | R12: =(P12-O12)+(P11-O11)-Q12-Q11 -> 0 | V12: =(T11-S11)+(T12-S12)-U12-U11 -> 0 | Z12: =(X11-W11)+(X12-W12)-Y12-Y11 -> 0 | AD12: =(AB11-AA11)+(AB12-AA12)-AC12-AC11 -> 0
A14: nom 4 | AE14: =SUM(AD15+Z15+V15+R15+N15+J15+F15) -> 0
F15: =(D15-C15)+(D14-C14)-E15-E14 -> 0 | J15: =(H14-G14)+(H15-G15)-I15-I14 -> 0 | N15: =(L15-K15)+(L14-K14)-M14-M15 -> 0 | R15: =(P15-O15)+(P14-O14)-Q15-Q14 -> 0 | V15: =(T14-S14)+(T15-S15)-U15-U14 -> 0 | Z15: =(X14-W14)+(X15-W15)-Y15-Y14 -> 0 | AD15: =(AB14-AA14)+(AB15-AA15)-AC15-AC14 -> 0
A17: nom5 | AE17: =SUM(AD18+Z18+V18+R18+N18+J18+F18) -> 0
F18: =(D18-C18)+(D17-C17)-E18-E17 -> 0 | J18: =(H17-G17)+(H18-G18)-I18-I17 -> 0 | N18: =(L18-K18)+(L17-K17)-M17-M18 -> 0 | R18: =(P18-O18)+(P17-O17)-Q18-Q17 -> 0 | V18: =(T17-S17)+(T18-S18)-U18-U17 -> 0 | Z18: =(X17-W17)+(X18-W18)-Y18-Y17 -> 0 | AD18: =(AB17-AA17)+(AB18-AA18)-AC18-AC17 -> 0
A20: nom6 | AE20: =SUM(AD21+Z21+V21+R21+N21+J21+F21) -> 0
F21: =(D21-C21)+(D20-C20)-E21-E20 -> 0 | J21: =(H20-G20)+(H21-G21)-I21-I20 -> 0 | N21: =(L21-K21)+(L20-K20)-M20-M21 -> 0 | R21: =(P21-O21)+(P20-O20)-Q21-Q20 -> 0 | V21: =(T20-S20)+(T21-S21)-U21-U20 -> 0 | Z21: =(X20-W20)+(X21-W21)-Y21-Y20 -> 0 | AD21: =(AB20-AA20)+(AB21-AA21)-AC21-AC20 -> 0
A23: nom7 | AE23: =SUM(AD24+Z24+V24+R24+N24+J24+F24) -> 0
F24: =(D24-C24)+(D23-C23)-E24-E23 -> 0 | J24: =(H23-G23)+(H24-G24)-I24-I23 -> 0 | N24: =(L24-K24)+(L23-K23)-M23-M24 -> 0 | R24: =(P24-O24)+(P23-O23)-Q24-Q23 -> 0 | V24: =(T23-S23)+(T24-S24)-U24-U23 -> 0 | Z24: =(X23-W23)+(X24-W24)-Y24-Y23 -> 0 | AD24: =(AB23-AA23)+(AB24-AA24)-AC24-AC23 -> 0
A26: nom 8 | AE26: =SUM(AD27+Z27+V27+R27+N27+J27+F27) -> 0
F27: =(D27-C27)+(D26-C26)-E27-E26 -> 0 | J27: =(H26-G26)+(H27-G27)-I27-I26 -> 0 | N27: =(L27-K27)+(L26-K26)-M26-M27 -> 0 | R27: =(P27-O27)+(P26-O26)-Q27-Q26 -> 0 | V27: =(T26-S26)+(T27-S27)-U27-U26 -> 0 | Z27: =(X26-W26)+(X27-W27)-Y27-Y26 -> 0 | AD27: =(AB26-AA26)+(AB27-AA27)-AC27-AC26 -> 0
A29: nom 9 | AE29: =SUM(AD30+Z30+V30+R30+N30+J30+F30) -> 0
F30: =(D30-C30)+(D29-C29)-E30-E29 -> 0 | J30: =(H29-G29)+(H30-G30)-I30-I29 -> 0 | N30: =(L30-K30)+(L29-K29)-M29-M30 -> 0 | R30: =(P30-O30)+(P29-O29)-Q30-Q29 -> 0 | Z30: =(X29-W29)+(X30-W30)-Y30-Y29 -> 0 | AD30: =(AB29-AA29)+(AB30-AA30)-AC30-AC29 -> 0
A32: nom 10 | AE32: =SUM(AD33+Z33+V33+R33+N33+J33+F33) -> 0
F33: =(D33-C33)+(D32-C32)-E33-E32 -> 0 | J33: =(H32-G32)+(H33-G33)-I33-I32 -> 0 | N33: =(L33-K33)+(L32-K32)-M32-M33 -> 0 | R33: =(P33-O33)+(P32-O32)-Q33-Q32 -> 0 | V33: =(T32-S32)+(T33-S33)-U33-U32 -> 0 | Z33: =(X32-W32)+(X33-W33)-Y33-Y32 -> 0 | AD33: =(AB32-AA32)+(AB33-AA33)-AC33-AC32 -> 0
A35: nom 11 | AE35: =SUM(AD36+Z36+V36+R36+N36+J36+F36) -> 0
F36: =(D36-C36)+(D35-C35)-E36-E35 -> 0 | J36: =(H35-G35)+(H36-G36)-I36-I35 -> 0 | N36: =(L36-K36)+(L35-K35)-M35-M36 -> 0 | R36: =(P36-O36)+(P35-O35)-Q36-Q35 -> 0 | V36: =(T35-S35)+(T36-S36)-U36-U35 -> 0 | Z36: =(X35-W35)+(X36-W36)-Y36-Y35 -> 0 | AD36: =(AB35-AA35)+(AB36-AA36)-AC36-AC35 -> 0
A38: nom 12 | AE38: =SUM(AD39+Z39+V39+R39+N39+J39+F39) -> 0
F39: =(D39-C39)+(D38-C38)-E39-E38 -> 0 | J39: =(H38-G38)+(H39-G39)-I39-I38 -> 0 | N39: =(L39-K39)+(L38-K38)-M38-M39 -> 0 | R39: =(P39-O39)+(P38-O38)-Q39-Q38 -> 0 | V39: =(T38-S38)+(T39-S39)-U39-U38 -> 0 | Z39: =(X38-W38)+(X39-W39)-Y39-Y38 -> 0 | AD39: =(AB38-AA38)+(AB39-AA39)-AC39-AC38 -> 0
A41: nom 13 | AE41: =SUM(AD42+Z42+V42+R42+N42+J42+F42) -> 0
F42: =(D42-C42)+(D41-C41)-E42-E41 -> 0 | J42: =(H41-G41)+(H42-G42)-I42-I41 -> 0 | N42: =(L42-K42)+(L41-K41)-M41-M42 -> 0 | R42: =(P42-O42)+(P41-O41)-Q42-Q41 -> 0 | V42: =(T41-S41)+(T42-S42)-U42-U41 -> 0 | Z42: =(X41-W41)+(X42-W42)-Y42-Y41 -> 0 | AD42: =(AB41-AA41)+(AB42-AA42)-AC42-AC41 -> 0
A44: nom 14 | AE44: =SUM(AD45+Z45+V45+R45+N45+J45+F45) -> 0
F45: =(D45-C45)+(D44-C44)-E45-E44 -> 0 | J45: =(H44-G44)+(H45-G45)-I45-I44 -> 0 | N45: =(L45-K45)+(L44-K44)-M44-M45 -> 0 | R45: =(P45-O45)+(P44-O44)-Q45-Q44 -> 0 | V45: =(T44-S44)+(T45-S45)-U45-U44 -> 0 | Z45: =(X44-W44)+(X45-W45)-Y45-Y44 -> 0 | AD45: =(AB44-AA44)+(AB45-AA45)-AC45-AC44 -> 0
A48: Lors de l'ouverture du modèle choix du mois et de l'année qui entraine la datation automatique des cellules
AB50: Légende
B51: Si possibilité de faire un envoi de mail individuel au salarié afin de lui communiquer son planning
D54: merci !

Sheet S2
A2: 10 | B2: 1 | C2: LUNDI | E2: ='S1'!AC2+1 -> 42282 | G2: MARDI | I2: =E2+1 -> 42283 | K2: MERCREDI | M2: =I2+1 -> 42284 | O2: JEUDI | Q2: =M2+1 -> 42285 | S2: VENDREDI | U2: =Q2+1 -> 42286 | W2: SAMEDI | Y2: =U2+1 -> 42287 | AA2: DIMANCHE | AC2: =Y2+1 -> 42288 | AE2: TOTAL
A3: MENAGE
A4: EVENEMENTS
A5: ='S1'!A5:B6 -> Nom1 | AE5: =+F6+J6+N6+R6+V6+Z6+AD6 -> 0
F6: =(D6-C6)+(D5-C5)-E6-E5 -> 0 | J6: =(H5-G5)+(H6-G6)-I6-I5 -> 0 | N6: =(L6-K6)+(L5-K5)-M5-M6 -> 0 | R6: =(P6-O6)+(P5-O5)-Q6-Q5 -> 0 | V6: =(T5-S5)+(T6-S6)-U6-U5 -> 0 | Z6: =(X5-W5)+(X6-W6)-Y6-Y5 -> 0 | AD6: =(AB5-AA5)+(AB6-AA6)-AC6-AC5 -> 0
A8: ='S1'!A8:B9 -> nom 2 | AE8: =SUM(AD9+Z9+V9+R9+N9+J9+F9) -> 0
F9: =(D9-C9)+(D8-C8)-E9-E8 -> 0 | J9: =(H8-G8)+(H9-G9)-I9-I8 -> 0 | N9: =(L9-K9)+(L8-K8)-M8-M9 -> 0 | R9: =(P9-O9)+(P8-O8)-Q9-Q8 -> 0 | V9: =(T8-S8)+(T9-S9)-U9-U8 -> 0 | Z9: =(X8-W8)+(X9-W9)-Y9-Y8 -> 0 | AD9: =(AB8-AA8)+(AB9-AA9)-AC9-AC8 -> 0
A11: ='S1'!A11:B12 -> nom 3 | AE11: =SUM(AD12+Z12+V12+R12+N12+J12+F12) -> 0
F12: =(D12-C12)+(D11-C11)-E12-E11 -> 0 | J12: =(H11-G11)+(H12-G12)-I12-I11 -> 0 | N12: =(L12-K12)+(L11-K11)-M11-M12 -> 0 | R12: =(P12-O12)+(P11-O11)-Q12-Q11 -> 0 | V12: =(T11-S11)+(T12-S12)-U12-U11 -> 0 | Z12: =(X11-W11)+(X12-W12)-Y12-Y11 -> 0 | AD12: =(AB11-AA11)+(AB12-AA12)-AC12-AC11 -> 0
A14: ='S1'!A14:B15 -> nom 4 | AE14: =SUM(AD15+Z15+V15+R15+N15+J15+F15) -> 0
F15: =(D15-C15)+(D14-C14)-E15-E14 -> 0 | J15: =(H14-G14)+(H15-G15)-I15-I14 -> 0 | N15: =(L15-K15)+(L14-K14)-M14-M15 -> 0 | R15: =(P15-O15)+(P14-O14)-Q15-Q14 -> 0 | V15: =(T14-S14)+(T15-S15)-U15-U14 -> 0 | Z15: =(X14-W14)+(X15-W15)-Y15-Y14 -> 0 | AD15: =(AB14-AA14)+(AB15-AA15)-AC15-AC14 -> 0
A17: ='S1'!A17:B18 -> nom5 | AE17: =SUM(AD18+Z18+V18+R18+N18+J18+F18) -> 0
F18: =(D18-C18)+(D17-C17)-E18-E17 -> 0 | J18: =(H17-G17)+(H18-G18)-I18-I17 -> 0 | N18: =(L18-K18)+(L17-K17)-M17-M18 -> 0 | R18: =(P18-O18)+(P17-O17)-Q18-Q17 -> 0 | V18: =(T17-S17)+(T18-S18)-U18-U17 -> 0 | Z18: =(X17-W17)+(X18-W18)-Y18-Y17 -> 0 | AD18: =(AB17-AA17)+(AB18-AA18)-AC18-AC17 -> 0
A20: ='S1'!A20:B21 -> nom6 | AE20: =SUM(AD21+Z21+V21+R21+N21+J21+F21) -> 0
F21: =(D21-C21)+(D20-C20)-E21-E20 -> 0 | J21: =(H20-G20)+(H21-G21)-I21-I20 -> 0 | N21: =(L21-K21)+(L20-K20)-M20-M21 -> 0 | R21: =(P21-O21)+(P20-O20)-Q21-Q20 -> 0 | V21: =(T20-S20)+(T21-S21)-U21-U20 -> 0 | Z21: =(X20-W20)+(X21-W21)-Y21-Y20 -> 0 | AD21: =(AB20-AA20)+(AB21-AA21)-AC21-AC20 -> 0
A23: ='S1'!A23:B24 -> nom7 | AE23: =SUM(AD24+Z24+V24+R24+N24+J24+F24) -> 0
F24: =(D24-C24)+(D23-C23)-E24-E23 -> 0 | J24: =(H23-G23)+(H24-G24)-I24-I23 -> 0 | N24: =(L24-K24)+(L23-K23)-M23-M24 -> 0 | R24: =(P24-O24)+(P23-O23)-Q24-Q23 -> 0 | V24: =(T23-S23)+(T24-S24)-U24-U23 -> 0 | Z24: =(X23-W23)+(X24-W24)-Y24-Y23 -> 0 | AD24: =(AB23-AA23)+(AB24-AA24)-AC24-AC23 -> 0
A26: ='S1'!A26:B27 -> nom 8 | AE26: =SUM(AD27+Z27+V27+R27+N27+J27+F27) -> 0
F27: =(D27-C27)+(D26-C26)-E27-E26 -> 0 | J27: =(H26-G26)+(H27-G27)-I27-I26 -> 0 | N27: =(L27-K27)+(L26-K26)-M26-M27 -> 0 | R27: =(P27-O27)+(P26-O26)-Q27-Q26 -> 0 | V27: =(T26-S26)+(T27-S27)-U27-U26 -> 0 | Z27: =(X26-W26)+(X27-W27)-Y27-Y26 -> 0 | AD27: =(AB26-AA26)+(AB27-AA27)-AC27-AC26 -> 0
A29: ='S1'!A29:B30 -> nom 9 | AE29: =SUM(AD30+Z30+V30+R30+N30+J30+F30) -> 0
F30: =(D30-C30)+(D29-C29)-E30-E29 -> 0 | J30: =(H29-G29)+(H30-G30)-I30-I29 -> 0 | N30: =(L30-K30)+(L29-K29)-M29-M30 -> 0 | R30: =(P30-O30)+(P29-O29)-Q30-Q29 -> 0 | Z30: =(X29-W29)+(X30-W30)-Y30-Y29 -> 0 | AD30: =(AB29-AA29)+(AB30-AA30)-AC30-AC29 -> 0
A32: ='S1'!A32:B33 -> nom 10 | AE32: =SUM(AD33+Z33+V33+R33+N33+J33+F33) -> 0
F33: =(D33-C33)+(D32-C32)-E33-E32 -> 0 | J33: =(H32-G32)+(H33-G33)-I33-I32 -> 0 | N33: =(L33-K33)+(L32-K32)-M32-M33 -> 0 | R33: =(P33-O33)+(P32-O32)-Q33-Q32 -> 0 | V33: =(T32-S32)+(T33-S33)-U33-U32 -> 0 | Z33: =(X32-W32)+(X33-W33)-Y33-Y32 -> 0 | AD33: =(AB32-AA32)+(AB33-AA33)-AC33-AC32 -> 0
A35: ='S1'!A35:B36 -> nom 11 | AE35: =SUM(AD36+Z36+V36+R36+N36+J36+F36) -> 0
F36: =(D36-C36)+(D35-C35)-E36-E35 -> 0 | J36: =(H35-G35)+(H36-G36)-I36-I35 -> 0 | N36: =(L36-K36)+(L35-K35)-M35-M36 -> 0 | R36: =(P36-O36)+(P35-O35)-Q36-Q35 -> 0 | V36: =(T35-S35)+(T36-S36)-U36-U35 -> 0 | Z36: =(X35-W35)+(X36-W36)-Y36-Y35 -> 0 | AD36: =(AB35-AA35)+(AB36-AA36)-AC36-AC35 -> 0
A38: ='S1'!A38:B39 -> nom 12 | AE38: =SUM(AD39+Z39+V39+R39+N39+J39+F39) -> 0
F39: =(D39-C39)+(D38-C38)-E39-E38 -> 0 | J39: =(H38-G38)+(H39-G39)-I39-I38 -> 0 | N39: =(L39-K39)+(L38-K38)-M38-M39 -> 0 | R39: =(P39-O39)+(P38-O38)-Q39-Q38 -> 0 | V39: =(T38-S38)+(T39-S39)-U39-U38 -> 0 | Z39: =(X38-W38)+(X39-W39)-Y39-Y38 -> 0 | AD39: =(AB38-AA38)+(AB39-AA39)-AC39-AC38 -> 0
A41: ='S1'!A41:B42 -> nom 13 | AE41: =SUM(AD42+Z42+V42+R42+N42+J42+F42) -> 0
F42: =(D42-C42)+(D41-C41)-E42-E41 -> 0 | J42: =(H41-G41)+(H42-G42)-I42-I41 -> 0 | N42: =(L42-K42)+(L41-K41)-M41-M42 -> 0 | R42: =(P42-O42)+(P41-O41)-Q42-Q41 -> 0 | V42: =(T41-S41)+(T42-S42)-U42-U41 -> 0 | Z42: =(X41-W41)+(X42-W42)-Y42-Y41 -> 0 | AD42: =(AB41-AA41)+(AB42-AA42)-AC42-AC41 -> 0
A44: ='S1'!A44:B45 -> nom 14 | AE44: =SUM(AD45+Z45+V45+R45+N45+J45+F45) -> 0
F45: =(D45-C45)+(D44-C44)-E45-E44 -> 0 | J45: =(H44-G44)+(H45-G45)-I45-I44 -> 0 | N45: =(L45-K45)+(L44-K44)-M44-M45 -> 0 | R45: =(P45-O45)+(P44-O44)-Q45-Q44 -> 0 | V45: =(T44-S44)+(T45-S45)-U45-U44 -> 0 | Z45: =(X44-W44)+(X45-W45)-Y45-Y44 -> 0 | AD45: =(AB44-AA44)+(AB45-AA45)-AC45-AC44 -> 0
AB50: Légende

Sheet S3
A2: 10 | B2: 1 | C2: LUNDI | E2: ='S2'!AC2+1 -> 42289 | G2: MARDI | I2: =E2+1 -> 42290 | K2: MERCREDI | M2: =I2+1 -> 42291 | O2: JEUDI | Q2: =M2+1 -> 42292 | S2: VENDREDI | U2: =Q2+1 -> 42293 | W2: SAMEDI | Y2: =U2+1 -> 42294 | AA2: DIMANCHE | AC2: =Y2+1 -> 42295 | AE2: TOTAL
A3: MENAGE
A4: EVENEMENTS
A5: ='S1'!A5:B6 -> Nom1 | AE5: =+F6+J6+N6+R6+V6+Z6+AD6 -> 0
F6: =(D6-C6)+(D5-C5)-E6-E5 -> 0 | J6: =(H5-G5)+(H6-G6)-I6-I5 -> 0 | N6: =(L6-K6)+(L5-K5)-M5-M6 -> 0 | R6: =(P6-O6)+(P5-O5)-Q6-Q5 -> 0 | V6: =(T5-S5)+(T6-S6)-U6-U5 -> 0 | Z6: =(X5-W5)+(X6-W6)-Y6-Y5 -> 0 | AD6: =(AB5-AA5)+(AB6-AA6)-AC6-AC5 -> 0
A8: ='S1'!A8:B9 -> nom 2 | AE8: =SUM(AD9+Z9+V9+R9+N9+J9+F9) -> 0
F9: =(D9-C9)+(D8-C8)-E9-E8 -> 0 | J9: =(H8-G8)+(H9-G9)-I9-I8 -> 0 | N9: =(L9-K9)+(L8-K8)-M8-M9 -> 0 | R9: =(P9-O9)+(P8-O8)-Q9-Q8 -> 0 | V9: =(T8-S8)+(T9-S9)-U9-U8 -> 0 | Z9: =(X8-W8)+(X9-W9)-Y9-Y8 -> 0 | AD9: =(AB8-AA8)+(AB9-AA9)-AC9-AC8 -> 0
A11: ='S1'!A11:B12 -> nom 3 | AE11: =SUM(AD12+Z12+V12+R12+N12+J12+F12) -> 0
F12: =(D12-C12)+(D11-C11)-E12-E11 -> 0 | J12: =(H11-G11)+(H12-G12)-I12-I11 -> 0 | N12: =(L12-K12)+(L11-K11)-M11-M12 -> 0 | R12: =(P12-O12)+(P11-O11)-Q12-Q11 -> 0 | V12: =(T11-S11)+(T12-S12)-U12-U11 -> 0 | Z12: =(X11-W11)+(X12-W12)-Y12-Y11 -> 0 | AD12: =(AB11-AA11)+(AB12-AA12)-AC12-AC11 -> 0
A14: ='S1'!A14:B15 -> nom 4 | AE14: =SUM(AD15+Z15+V15+R15+N15+J15+F15) -> 0
F15: =(D15-C15)+(D14-C14)-E15-E14 -> 0 | J15: =(H14-G14)+(H15-G15)-I15-I14 -> 0 | N15: =(L15-K15)+(L14-K14)-M14-M15 -> 0 | R15: =(P15-O15)+(P14-O14)-Q15-Q14 -> 0 | V15: =(T14-S14)+(T15-S15)-U15-U14 -> 0 | Z15: =(X14-W14)+(X15-W15)-Y15-Y14 -> 0 | AD15: =(AB14-AA14)+(AB15-AA15)-AC15-AC14 -> 0
A17: ='S1'!A17:B18 -> nom5 | AE17: =SUM(AD18+Z18+V18+R18+N18+J18+F18) -> 0
F18: =(D18-C18)+(D17-C17)-E18-E17 -> 0 | J18: =(H17-G17)+(H18-G18)-I18-I17 -> 0 | N18: =(L18-K18)+(L17-K17)-M17-M18 -> 0 | R18: =(P18-O18)+(P17-O17)-Q18-Q17 -> 0 | V18: =(T17-S17)+(T18-S18)-U18-U17 -> 0 | Z18: =(X17-W17)+(X18-W18)-Y18-Y17 -> 0 | AD18: =(AB17-AA17)+(AB18-AA18)-AC18-AC17 -> 0
A20: ='S1'!A20:B21 -> nom6 | AE20: =SUM(AD21+Z21+V21+R21+N21+J21+F21) -> 0
F21: =(D21-C21)+(D20-C20)-E21-E20 -> 0 | J21: =(H20-G20)+(H21-G21)-I21-I20 -> 0 | N21: =(L21-K21)+(L20-K20)-M20-M21 -> 0 | R21: =(P21-O21)+(P20-O20)-Q21-Q20 -> 0 | V21: =(T20-S20)+(T21-S21)-U21-U20 -> 0 | Z21: =(X20-W20)+(X21-W21)-Y21-Y20 -> 0 | AD21: =(AB20-AA20)+(AB21-AA21)-AC21-AC20 -> 0
A23: ='S1'!A23:B24 -> nom7 | AE23: =SUM(AD24+Z24+V24+R24+N24+J24+F24) -> 0
F24: =(D24-C24)+(D23-C23)-E24-E23 -> 0 | J24: =(H23-G23)+(H24-G24)-I24-I23 -> 0 | N24: =(L24-K24)+(L23-K23)-M23-M24 -> 0 | R24: =(P24-O24)+(P23-O23)-Q24-Q23 -> 0 | V24: =(T23-S23)+(T24-S24)-U24-U23 -> 0 | Z24: =(X23-W23)+(X24-W24)-Y24-Y23 -> 0 | AD24: =(AB23-AA23)+(AB24-AA24)-AC24-AC23 -> 0
A26: ='S1'!A26:B27 -> nom 8 | AE26: =SUM(AD27+Z27+V27+R27+N27+J27+F27) -> 0
F27: =(D27-C27)+(D26-C26)-E27-E26 -> 0 | J27: =(H26-G26)+(H27-G27)-I27-I26 -> 0 | N27: =(L27-K27)+(L26-K26)-M26-M27 -> 0 | R27: =(P27-O27)+(P26-O26)-Q27-Q26 -> 0 | V27: =(T26-S26)+(T27-S27)-U27-U26 -> 0 | Z27: =(X26-W26)+(X27-W27)-Y27-Y26 -> 0 | AD27: =(AB26-AA26)+(AB27-AA27)-AC27-AC26 -> 0
A29: ='S1'!A29:B30 -> nom 9 | AE29: =SUM(AD30+Z30+V30+R30+N30+J30+F30) -> 0
F30: =(D30-C30)+(D29-C29)-E30-E29 -> 0 | J30: =(H29-G29)+(H30-G30)-I30-I29 -> 0 | N30: =(L30-K30)+(L29-K29)-M29-M30 -> 0 | R30: =(P30-O30)+(P29-O29)-Q30-Q29 -> 0 | Z30: =(X29-W29)+(X30-W30)-Y30-Y29 -> 0 | AD30: =(AB29-AA29)+(AB30-AA30)-AC30-AC29 -> 0
A32: ='S1'!A32:B33 -> nom 10 | AE32: =SUM(AD33+Z33+V33+R33+N33+J33+F33) -> 0
F33: =(D33-C33)+(D32-C32)-E33-E32 -> 0 | J33: =(H32-G32)+(H33-G33)-I33-I32 -> 0 | N33: =(L33-K33)+(L32-K32)-M32-M33 -> 0 | R33: =(P33-O33)+(P32-O32)-Q33-Q32 -> 0 | V33: =(T32-S32)+(T33-S33)-U33-U32 -> 0 | Z33: =(X32-W32)+(X33-W33)-Y33-Y32 -> 0 | AD33: =(AB32-AA32)+(AB33-AA33)-AC33-AC32 -> 0
A35: ='S1'!A35:B36 -> nom 11 | AE35: =SUM(AD36+Z36+V36+R36+N36+J36+F36) -> 0
F36: =(D36-C36)+(D35-C35)-E36-E35 -> 0 | J36: =(H35-G35)+(H36-G36)-I36-I35 -> 0 | N36: =(L36-K36)+(L35-K35)-M35-M36 -> 0 | R36: =(P36-O36)+(P35-O35)-Q36-Q35 -> 0 | V36: =(T35-S35)+(T36-S36)-U36-U35 -> 0 | Z36: =(X35-W35)+(X36-W36)-Y36-Y35 -> 0 | AD36: =(AB35-AA35)+(AB36-AA36)-AC36-AC35 -> 0
A38: ='S1'!A38:B39 -> nom 12 | AE38: =SUM(AD39+Z39+V39+R39+N39+J39+F39) -> 0
F39: =(D39-C39)+(D38-C38)-E39-E38 -> 0 | J39: =(H38-G38)+(H39-G39)-I39-I38 -> 0 | N39: =(L39-K39)+(L38-K38)-M38-M39 -> 0 | R39: =(P39-O39)+(P38-O38)-Q39-Q38 -> 0 | V39: =(T38-S38)+(T39-S39)-U39-U38 -> 0 | Z39: =(X38-W38)+(X39-W39)-Y39-Y38 -> 0 | AD39: =(AB38-AA38)+(AB39-AA39)-AC39-AC38 -> 0
A41: ='S1'!A41:B42 -> nom 13 | AE41: =SUM(AD42+Z42+V42+R42+N42+J42+F42) -> 0
F42: =(D42-C42)+(D41-C41)-E42-E41 -> 0 | J42: =(H41-G41)+(H42-G42)-I42-I41 -> 0 | N42: =(L42-K42)+(L41-K41)-M41-M42 -> 0 | R42: =(P42-O42)+(P41-O41)-Q42-Q41 -> 0 | V42: =(T41-S41)+(T42-S42)-U42-U41 -> 0 | Z42: =(X41-W41)+(X42-W42)-Y42-Y41 -> 0 | AD42: =(AB41-AA41)+(AB42-AA42)-AC42-AC41 -> 0
A44: ='S1'!A44:B45 -> nom 14 | AE44: =SUM(AD45+Z45+V45+R45+N45+J45+F45) -> 0
F45: =(D45-C45)+(D44-C44)-E45-E44 -> 0 | J45: =(H44-G44)+(H45-G45)-I45-I44 -> 0 | N45: =(L45-K45)+(L44-K44)-M44-M45 -> 0 | R45: =(P45-O45)+(P44-O44)-Q45-Q44 -> 0 | V45: =(T44-S44)+(T45-S45)-U45-U44 -> 0 | Z45: =(X44-W44)+(X45-W45)-Y45-Y44 -> 0 | AD45: =(AB44-AA44)+(AB45-AA45)-AC45-AC44 -> 0
AB50: Légende

Sheet S4
A2: 10 | B2: 1 | C2: LUNDI | E2: ='S3'!AC2+1 -> 42296 | G2: MARDI | I2: =E2+1 -> 42297 | K2: MERCREDI | M2: =I2+1 -> 42298 | O2: JEUDI | Q2: =M2+1 -> 42299 | S2: VENDREDI | U2: =Q2+1 -> 42300 | W2: SAMEDI | Y2: =U2+1 -> 42301 | AA2: DIMANCHE | AC2: =Y2+1 -> 42302 | AE2: TOTAL
A3: MENAGE
A4: EVENEMENTS
A5: ='S1'!A5:B6 -> Nom1 | AE5: =+F6+J6+N6+R6+V6+Z6+AD6 -> 0
F6: =(D6-C6)+(D5-C5)-E6-E5 -> 0 | J6: =(H5-G5)+(H6-G6)-I6-I5 -> 0 | N6: =(L6-K6)+(L5-K5)-M5-M6 -> 0 | R6: =(P6-O6)+(P5-O5)-Q6-Q5 -> 0 | V6: =(T5-S5)+(T6-S6)-U6-U5 -> 0 | Z6: =(X5-W5)+(X6-W6)-Y6-Y5 -> 0 | AD6: =(AB5-AA5)+(AB6-AA6)-AC6-AC5 -> 0
A8: ='S1'!A8:B9 -> nom 2 | AE8: =SUM(AD9+Z9+V9+R9+N9+J9+F9) -> 0
F9: =(D9-C9)+(D8-C8)-E9-E8 -> 0 | J9: =(H8-G8)+(H9-G9)-I9-I8 -> 0 | N9: =(L9-K9)+(L8-K8)-M8-M9 -> 0 | R9: =(P9-O9)+(P8-O8)-Q9-Q8 -> 0 | V9: =(T8-S8)+(T9-S9)-U9-U8 -> 0 | Z9: =(X8-W8)+(X9-W9)-Y9-Y8 -> 0 | AD9: =(AB8-AA8)+(AB9-AA9)-AC9-AC8 -> 0
A11: ='S1'!A11:B12 -> nom 3 | AE11: =SUM(AD12+Z12+V12+R12+N12+J12+F12) -> 0
F12: =(D12-C12)+(D11-C11)-E12-E11 -> 0 | J12: =(H11-G11)+(H12-G12)-I12-I11 -> 0 | N12: =(L12-K12)+(L11-K11)-M11-M12 -> 0 | R12: =(P12-O12)+(P11-O11)-Q12-Q11 -> 0 | V12: =(T11-S11)+(T12-S12)-U12-U11 -> 0 | Z12: =(X11-W11)+(X12-W12)-Y12-Y11 -> 0 | AD12: =(AB11-AA11)+(AB12-AA12)-AC12-AC11 -> 0
A14: ='S1'!A14:B15 -> nom 4 | AE14: =SUM(AD15+Z15+V15+R15+N15+J15+F15) -> 0
F15: =(D15-C15)+(D14-C14)-E15-E14 -> 0 | J15: =(H14-G14)+(H15-G15)-I15-I14 -> 0 | N15: =(L15-K15)+(L14-K14)-M14-M15 -> 0 | R15: =(P15-O15)+(P14-O14)-Q15-Q14 -> 0 | V15: =(T14-S14)+(T15-S15)-U15-U14 -> 0 | Z15: =(X14-W14)+(X15-W15)-Y15-Y14 -> 0 | AD15: =(AB14-AA14)+(AB15-AA15)-AC15-AC14 -> 0
A17: ='S1'!A17:B18 -> nom5 | AE17: =SUM(AD18+Z18+V18+R18+N18+J18+F18) -> 0
F18: =(D18-C18)+(D17-C17)-E18-E17 -> 0 | J18: =(H17-G17)+(H18-G18)-I18-I17 -> 0 | N18: =(L18-K18)+(L17-K17)-M17-M18 -> 0 | R18: =(P18-O18)+(P17-O17)-Q18-Q17 -> 0 | V18: =(T17-S17)+(T18-S18)-U18-U17 -> 0 | Z18: =(X17-W17)+(X18-W18)-Y18-Y17 -> 0 | AD18: =(AB17-AA17)+(AB18-AA18)-AC18-AC17 -> 0
A20: ='S1'!A20:B21 -> nom6 | AE20: =SUM(AD21+Z21+V21+R21+N21+J21+F21) -> 0
F21: =(D21-C21)+(D20-C20)-E21-E20 -> 0 | J21: =(H20-G20)+(H21-G21)-I21-I20 -> 0 | N21: =(L21-K21)+(L20-K20)-M20-M21 -> 0 | R21: =(P21-O21)+(P20-O20)-Q21-Q20 -> 0 | V21: =(T20-S20)+(T21-S21)-U21-U20 -> 0 | Z21: =(X20-W20)+(X21-W21)-Y21-Y20 -> 0 | AD21: =(AB20-AA20)+(AB21-AA21)-AC21-AC20 -> 0
A23: ='S1'!A23:B24 -> nom7 | AE23: =SUM(AD24+Z24+V24+R24+N24+J24+F24) -> 0
F24: =(D24-C24)+(D23-C23)-E24-E23 -> 0 | J24: =(H23-G23)+(H24-G24)-I24-I23 -> 0 | N24: =(L24-K24)+(L23-K23)-M23-M24 -> 0 | R24: =(P24-O24)+(P23-O23)-Q24-Q23 -> 0 | V24: =(T23-S23)+(T24-S24)-U24-U23 -> 0 | Z24: =(X23-W23)+(X24-W24)-Y24-Y23 -> 0 | AD24: =(AB23-AA23)+(AB24-AA24)-AC24-AC23 -> 0
A26: ='S1'!A26:B27 -> nom 8 | AE26: =SUM(AD27+Z27+V27+R27+N27+J27+F27) -> 0
F27: =(D27-C27)+(D26-C26)-E27-E26 -> 0 | J27: =(H26-G26)+(H27-G27)-I27-I26 -> 0 | N27: =(L27-K27)+(L26-K26)-M26-M27 -> 0 | R27: =(P27-O27)+(P26-O26)-Q27-Q26 -> 0 | V27: =(T26-S26)+(T27-S27)-U27-U26 -> 0 | Z27: =(X26-W26)+(X27-W27)-Y27-Y26 -> 0 | AD27: =(AB26-AA26)+(AB27-AA27)-AC27-AC26 -> 0
A29: ='S1'!A29:B30 -> nom 9 | AE29: =SUM(AD30+Z30+V30+R30+N30+J30+F30) -> 0
F30: =(D30-C30)+(D29-C29)-E30-E29 -> 0 | J30: =(H29-G29)+(H30-G30)-I30-I29 -> 0 | N30: =(L30-K30)+(L29-K29)-M29-M30 -> 0 | R30: =(P30-O30)+(P29-O29)-Q30-Q29 -> 0 | Z30: =(X29-W29)+(X30-W30)-Y30-Y29 -> 0 | AD30: =(AB29-AA29)+(AB30-AA30)-AC30-AC29 -> 0
A32: ='S1'!A32:B33 -> nom 10 | AE32: =SUM(AD33+Z33+V33+R33+N33+J33+F33) -> 0
F33: =(D33-C33)+(D32-C32)-E33-E32 -> 0 | J33: =(H32-G32)+(H33-G33)-I33-I32 -> 0 | N33: =(L33-K33)+(L32-K32)-M32-M33 -> 0 | R33: =(P33-O33)+(P32-O32)-Q33-Q32 -> 0 | V33: =(T32-S32)+(T33-S33)-U33-U32 -> 0 | Z33: =(X32-W32)+(X33-W33)-Y33-Y32 -> 0 | AD33: =(AB32-AA32)+(AB33-AA33)-AC33-AC32 -> 0
A35: ='S1'!A35:B36 -> nom 11 | AE35: =SUM(AD36+Z36+V36+R36+N36+J36+F36) -> 0
F36: =(D36-C36)+(D35-C35)-E36-E35 -> 0 | J36: =(H35-G35)+(H36-G36)-I36-I35 -> 0 | N36: =(L36-K36)+(L35-K35)-M35-M36 -> 0 | R36: =(P36-O36)+(P35-O35)-Q36-Q35 -> 0 | V36: =(T35-S35)+(T36-S36)-U36-U35 -> 0 | Z36: =(X35-W35)+(X36-W36)-Y36-Y35 -> 0 | AD36: =(AB35-AA35)+(AB36-AA36)-AC36-AC35 -> 0
A38: ='S1'!A38:B39 -> nom 12 | AE38: =SUM(AD39+Z39+V39+R39+N39+J39+F39) -> 0
F39: =(D39-C39)+(D38-C38)-E39-E38 -> 0 | J39: =(H38-G38)+(H39-G39)-I39-I38 -> 0 | N39: =(L39-K39)+(L38-K38)-M38-M39 -> 0 | R39: =(P39-O39)+(P38-O38)-Q39-Q38 -> 0 | V39: =(T38-S38)+(T39-S39)-U39-U38 -> 0 | Z39: =(X38-W38)+(X39-W39)-Y39-Y38 -> 0 | AD39: =(AB38-AA38)+(AB39-AA39)-AC39-AC38 -> 0
A41: ='S1'!A41:B42 -> nom 13 | AE41: =SUM(AD42+Z42+V42+R42+N42+J42+F42) -> 0
F42: =(D42-C42)+(D41-C41)-E42-E41 -> 0 | J42: =(H41-G41)+(H42-G42)-I42-I41 -> 0 | N42: =(L42-K42)+(L41-K41)-M41-M42 -> 0 | R42: =(P42-O42)+(P41-O41)-Q42-Q41 -> 0 | V42: =(T41-S41)+(T42-S42)-U42-U41 -> 0 | Z42: =(X41-W41)+(X42-W42)-Y42-Y41 -> 0 | AD42: =(AB41-AA41)+(AB42-AA42)-AC42-AC41 -> 0
A44: ='S1'!A44:B45 -> nom 14 | AE44: =SUM(AD45+Z45+V45+R45+N45+J45+F45) -> 0
F45: =(D45-C45)+(D44-C44)-E45-E44 -> 0 | J45: =(H44-G44)+(H45-G45)-I45-I44 -> 0 | N45: =(L45-K45)+(L44-K44)-M44-M45 -> 0 | R45: =(P45-O45)+(P44-O44)-Q45-Q44 -> 0 | V45: =(T44-S44)+(T45-S45)-U45-U44 -> 0 | Z45: =(X44-W44)+(X45-W45)-Y45-Y44 -> 0 | AD45: =(AB44-AA44)+(AB45-AA45)-AC45-AC44 -> 0
AB50: Légende

Sheet S5
A2: 10 | B2: 1 | C2: LUNDI | E2: ='S4'!AC2+1 -> 42303 | G2: MARDI | I2: =E2+1 -> 42304 | K2: MERCREDI | M2: =I2+1 -> 42305 | O2: JEUDI | Q2: =M2+1 -> 42306 | S2: VENDREDI | U2: =Q2+1 -> 42307 | W2: SAMEDI | Y2: =U2+1 -> 42308 | AA2: DIMANCHE | AC2: =Y2+1 -> 42309 | AE2: TOTAL
A3: MENAGE
A4: EVENEMENTS
A5: ='S1'!A5:B6 -> Nom1 | AE5: =+F6+J6+N6+R6+V6+Z6+AD6 -> 0
F6: =(D6-C6)+(D5-C5)-E6-E5 -> 0 | J6: =(H5-G5)+(H6-G6)-I6-I5 -> 0 | N6: =(L6-K6)+(L5-K5)-M5-M6 -> 0 | R6: =(P6-O6)+(P5-O5)-Q6-Q5 -> 0 | V6: =(T5-S5)+(T6-S6)-U6-U5 -> 0 | Z6: =(X5-W5)+(X6-W6)-Y6-Y5 -> 0 | AD6: =(AB5-AA5)+(AB6-AA6)-AC6-AC5 -> 0
A8: ='S1'!A8:B9 -> nom 2 | AE8: =SUM(AD9+Z9+V9+R9+N9+J9+F9) -> 0
F9: =(D9-C9)+(D8-C8)-E9-E8 -> 0 | J9: =(H8-G8)+(H9-G9)-I9-I8 -> 0 | N9: =(L9-K9)+(L8-K8)-M8-M9 -> 0 | R9: =(P9-O9)+(P8-O8)-Q9-Q8 -> 0 | V9: =(T8-S8)+(T9-S9)-U9-U8 -> 0 | Z9: =(X8-W8)+(X9-W9)-Y9-Y8 -> 0 | AD9: =(AB8-AA8)+(AB9-AA9)-AC9-AC8 -> 0
A11: ='S1'!A11:B12 -> nom 3 | AE11: =SUM(AD12+Z12+V12+R12+N12+J12+F12) -> 0
F12: =(D12-C12)+(D11-C11)-E12-E11 -> 0 | J12: =(H11-G11)+(H12-G12)-I12-I11 -> 0 | N12: =(L12-K12)+(L11-K11)-M11-M12 -> 0 | R12: =(P12-O12)+(P11-O11)-Q12-Q11 -> 0 | V12: =(T11-S11)+(T12-S12)-U12-U11 -> 0 | Z12: =(X11-W11)+(X12-W12)-Y12-Y11 -> 0 | AD12: =(AB11-AA11)+(AB12-AA12)-AC12-AC11 -> 0
A14: ='S1'!A14:B15 -> nom 4 | AE14: =SUM(AD15+Z15+V15+R15+N15+J15+F15) -> 0
F15: =(D15-C15)+(D14-C14)-E15-E14 -> 0 | J15: =(H14-G14)+(H15-G15)-I15-I14 -> 0 | N15: =(L15-K15)+(L14-K14)-M14-M15 -> 0 | R15: =(P15-O15)+(P14-O14)-Q15-Q14 -> 0 | V15: =(T14-S14)+(T15-S15)-U15-U14 -> 0 | Z15: =(X14-W14)+(X15-W15)-Y15-Y14 -> 0 | AD15: =(AB14-AA14)+(AB15-AA15)-AC15-AC14 -> 0
A17: ='S1'!A17:B18 -> nom5 | AE17: =SUM(AD18+Z18+V18+R18+N18+J18+F18) -> 0
F18: =(D18-C18)+(D17-C17)-E18-E17 -> 0 | J18: =(H17-G17)+(H18-G18)-I18-I17 -> 0 | N18: =(L18-K18)+(L17-K17)-M17-M18 -> 0 | R18: =(P18-O18)+(P17-O17)-Q18-Q17 -> 0 | V18: =(T17-S17)+(T18-S18)-U18-U17 -> 0 | Z18: =(X17-W17)+(X18-W18)-Y18-Y17 -> 0 | AD18: =(AB17-AA17)+(AB18-AA18)-AC18-AC17 -> 0
A20: ='S1'!A20:B21 -> nom6 | AE20: =SUM(AD21+Z21+V21+R21+N21+J21+F21) -> 0
F21: =(D21-C21)+(D20-C20)-E21-E20 -> 0 | J21: =(H20-G20)+(H21-G21)-I21-I20 -> 0 | N21: =(L21-K21)+(L20-K20)-M20-M21 -> 0 | R21: =(P21-O21)+(P20-O20)-Q21-Q20 -> 0 | V21: =(T20-S20)+(T21-S21)-U21-U20 -> 0 | Z21: =(X20-W20)+(X21-W21)-Y21-Y20 -> 0 | AD21: =(AB20-AA20)+(AB21-AA21)-AC21-AC20 -> 0
A23: ='S1'!A23:B24 -> nom7 | AE23: =SUM(AD24+Z24+V24+R24+N24+J24+F24) -> 0
F24: =(D24-C24)+(D23-C23)-E24-E23 -> 0 | J24: =(H23-G23)+(H24-G24)-I24-I23 -> 0 | N24: =(L24-K24)+(L23-K23)-M23-M24 -> 0 | R24: =(P24-O24)+(P23-O23)-Q24-Q23 -> 0 | V24: =(T23-S23)+(T24-S24)-U24-U23 -> 0 | Z24: =(X23-W23)+(X24-W24)-Y24-Y23 -> 0 | AD24: =(AB23-AA23)+(AB24-AA24)-AC24-AC23 -> 0
A26: ='S1'!A26:B27 -> nom 8 | AE26: =SUM(AD27+Z27+V27+R27+N27+J27+F27) -> 0
F27: =(D27-C27)+(D26-C26)-E27-E26 -> 0 | J27: =(H26-G26)+(H27-G27)-I27-I26 -> 0 | N27: =(L27-K27)+(L26-K26)-M26-M27 -> 0 | R27: =(P27-O27)+(P26-O26)-Q27-Q26 -> 0 | V27: =(T26-S26)+(T27-S27)-U27-U26 -> 0 | Z27: =(X26-W26)+(X27-W27)-Y27-Y26 -> 0 | AD27: =(AB26-AA26)+(AB27-AA27)-AC27-AC26 -> 0
A29: ='S1'!A29:B30 -> nom 9 | AE29: =SUM(AD30+Z30+V30+R30+N30+J30+F30) -> 0
F30: =(D30-C30)+(D29-C29)-E30-E29 -> 0 | J30: =(H29-G29)+(H30-G30)-I30-I29 -> 0 | N30: =(L30-K30)+(L29-K29)-M29-M30 -> 0 | R30: =(P30-O30)+(P29-O29)-Q30-Q29 -> 0 | Z30: =(X29-W29)+(X30-W30)-Y30-Y29 -> 0 | AD30: =(AB29-AA29)+(AB30-AA30)-AC30-AC29 -> 0
A32: ='S1'!A32:B33 -> nom 10 | AE32: =SUM(AD33+Z33+V33+R33+N33+J33+F33) -> 0
F33: =(D33-C33)+(D32-C32)-E33-E32 -> 0 | J33: =(H32-G32)+(H33-G33)-I33-I32 -> 0 | N33: =(L33-K33)+(L32-K32)-M32-M33 -> 0 | R33: =(P33-O33)+(P32-O32)-Q33-Q32 -> 0 | V33: =(T32-S32)+(T33-S33)-U33-U32 -> 0 | Z33: =(X32-W32)+(X33-W33)-Y33-Y32 -> 0 | AD33: =(AB32-AA32)+(AB33-AA33)-AC33-AC32 -> 0
A35: ='S1'!A35:B36 -> nom 11 | AE35: =SUM(AD36+Z36+V36+R36+N36+J36+F36) -> 0
F36: =(D36-C36)+(D35-C35)-E36-E35 -> 0 | J36: =(H35-G35)+(H36-G36)-I36-I35 -> 0 | N36: =(L36-K36)+(L35-K35)-M35-M36 -> 0 | R36: =(P36-O36)+(P35-O35)-Q36-Q35 -> 0 | V36: =(T35-S35)+(T36-S36)-U36-U35 -> 0 | Z36: =(X35-W35)+(X36-W36)-Y36-Y35 -> 0 | AD36: =(AB35-AA35)+(AB36-AA36)-AC36-AC35 -> 0
A38: ='S1'!A38:B39 -> nom 12 | AE38: =SUM(AD39+Z39+V39+R39+N39+J39+F39) -> 0
F39: =(D39-C39)+(D38-C38)-E39-E38 -> 0 | J39: =(H38-G38)+(H39-G39)-I39-I38 -> 0 | N39: =(L39-K39)+(L38-K38)-M38-M39 -> 0 | R39: =(P39-O39)+(P38-O38)-Q39-Q38 -> 0 | V39: =(T38-S38)+(T39-S39)-U39-U38 -> 0 | Z39: =(X38-W38)+(X39-W39)-Y39-Y38 -> 0 | AD39: =(AB38-AA38)+(AB39-AA39)-AC39-AC38 -> 0
A41: ='S1'!A41:B42 -> nom 13 | AE41: =SUM(AD42+Z42+V42+R42+N42+J42+F42) -> 0
F42: =(D42-C42)+(D41-C41)-E42-E41 -> 0 | J42: =(H41-G41)+(H42-G42)-I42-I41 -> 0 | N42: =(L42-K42)+(L41-K41)-M41-M42 -> 0 | R42: =(P42-O42)+(P41-O41)-Q42-Q41 -> 0 | V42: =(T41-S41)+(T42-S42)-U42-U41 -> 0 | Z42: =(X41-W41)+(X42-W42)-Y42-Y41 -> 0 | AD42: =(AB41-AA41)+(AB42-AA42)-AC42-AC41 -> 0
A44: ='S1'!A44:B45 -> nom 14 | AE44: =SUM(AD45+Z45+V45+R45+N45+J45+F45) -> 0
F45: =(D45-C45)+(D44-C44)-E45-E44 -> 0 | J45: =(H44-G44)+(H45-G45)-I45-I44 -> 0 | N45: =(L45-K45)+(L44-K44)-M44-M45 -> 0 | R45: =(P45-O45)+(P44-O44)-Q45-Q44 -> 0 | V45: =(T44-S44)+(T45-S45)-U45-U44 -> 0 | Z45: =(X44-W44)+(X45-W45)-Y45-Y44 -> 0 | AD45: =(AB44-AA44)+(AB45-AA45)-AC45-AC44 -> 0
AB50: Légende

Sheet S6
A2: 10 | B2: 1 | C2: LUNDI | E2: ='S4'!AC2+1 -> 42303 | G2: MARDI | I2: =E2+1 -> 42304 | K2: MERCREDI | M2: =I2+1 -> 42305 | O2: JEUDI | Q2: =M2+1 -> 42306 | S2: VENDREDI | U2: =Q2+1 -> 42307 | W2: SAMEDI | Y2: =U2+1 -> 42308 | AA2: DIMANCHE | AC2: =Y2+1 -> 42309 | AE2: TOTAL
A3: MENAGE
A4: EVENEMENTS
A5: ='S1'!A5:B6 -> Nom1 | AE5: =+F6+J6+N6+R6+V6+Z6+AD6 -> 0
F6: =(D6-C6)+(D5-C5)-E6-E5 -> 0 | J6: =(H5-G5)+(H6-G6)-I6-I5 -> 0 | N6: =(L6-K6)+(L5-K5)-M5-M6 -> 0 | R6: =(P6-O6)+(P5-O5)-Q6-Q5 -> 0 | V6: =(T5-S5)+(T6-S6)-U6-U5 -> 0 | Z6: =(X5-W5)+(X6-W6)-Y6-Y5 -> 0 | AD6: =(AB5-AA5)+(AB6-AA6)-AC6-AC5 -> 0
A8: ='S1'!A8:B9 -> nom 2 | AE8: =SUM(AD9+Z9+V9+R9+N9+J9+F9) -> 0
F9: =(D9-C9)+(D8-C8)-E9-E8 -> 0 | J9: =(H8-G8)+(H9-G9)-I9-I8 -> 0 | N9: =(L9-K9)+(L8-K8)-M8-M9 -> 0 | R9: =(P9-O9)+(P8-O8)-Q9-Q8 -> 0 | V9: =(T8-S8)+(T9-S9)-U9-U8 -> 0 | Z9: =(X8-W8)+(X9-W9)-Y9-Y8 -> 0 | AD9: =(AB8-AA8)+(AB9-AA9)-AC9-AC8 -> 0
A11: ='S1'!A11:B12 -> nom 3 | AE11: =SUM(AD12+Z12+V12+R12+N12+J12+F12) -> 0
F12: =(D12-C12)+(D11-C11)-E12-E11 -> 0 | J12: =(H11-G11)+(H12-G12)-I12-I11 -> 0 | N12: =(L12-K12)+(L11-K11)-M11-M12 -> 0 | R12: =(P12-O12)+(P11-O11)-Q12-Q11 -> 0 | V12: =(T11-S11)+(T12-S12)-U12-U11 -> 0 | Z12: =(X11-W11)+(X12-W12)-Y12-Y11 -> 0 | AD12: =(AB11-AA11)+(AB12-AA12)-AC12-AC11 -> 0
A14: ='S1'!A14:B15 -> nom 4 | AE14: =SUM(AD15+Z15+V15+R15+N15+J15+F15) -> 0
F15: =(D15-C15)+(D14-C14)-E15-E14 -> 0 | J15: =(H14-G14)+(H15-G15)-I15-I14 -> 0 | N15: =(L15-K15)+(L14-K14)-M14-M15 -> 0 | R15: =(P15-O15)+(P14-O14)-Q15-Q14 -> 0 | V15: =(T14-S14)+(T15-S15)-U15-U14 -> 0 | Z15: =(X14-W14)+(X15-W15)-Y15-Y14 -> 0 | AD15: =(AB14-AA14)+(AB15-AA15)-AC15-AC14 -> 0
A17: ='S1'!A17:B18 -> nom5 | AE17: =SUM(AD18+Z18+V18+R18+N18+J18+F18) -> 0
F18: =(D18-C18)+(D17-C17)-E18-E17 -> 0 | J18: =(H17-G17)+(H18-G18)-I18-I17 -> 0 | N18: =(L18-K18)+(L17-K17)-M17-M18 -> 0 | R18: =(P18-O18)+(P17-O17)-Q18-Q17 -> 0 | V18: =(T17-S17)+(T18-S18)-U18-U17 -> 0 | Z18: =(X17-W17)+(X18-W18)-Y18-Y17 -> 0 | AD18: =(AB17-AA17)+(AB18-AA18)-AC18-AC17 -> 0
A20: ='S1'!A20:B21 -> nom6 | AE20: =SUM(AD21+Z21+V21+R21+N21+J21+F21) -> 0
F21: =(D21-C21)+(D20-C20)-E21-E20 -> 0 | J21: =(H20-G20)+(H21-G21)-I21-I20 -> 0 | N21: =(L21-K21)+(L20-K20)-M20-M21 -> 0 | R21: =(P21-O21)+(P20-O20)-Q21-Q20 -> 0 | V21: =(T20-S20)+(T21-S21)-U21-U20 -> 0 | Z21: =(X20-W20)+(X21-W21)-Y21-Y20 -> 0 | AD21: =(AB20-AA20)+(AB21-AA21)-AC21-AC20 -> 0
A23: ='S1'!A23:B24 -> nom7 | AE23: =SUM(AD24+Z24+V24+R24+N24+J24+F24) -> 0
F24: =(D24-C24)+(D23-C23)-E24-E23 -> 0 | J24: =(H23-G23)+(H24-G24)-I24-I23 -> 0 | N24: =(L24-K24)+(L23-K23)-M23-M24 -> 0 | R24: =(P24-O24)+(P23-O23)-Q24-Q23 -> 0 | V24: =(T23-S23)+(T24-S24)-U24-U23 -> 0 | Z24: =(X23-W23)+(X24-W24)-Y24-Y23 -> 0 | AD24: =(AB23-AA23)+(AB24-AA24)-AC24-AC23 -> 0
A26: ='S1'!A26:B27 -> nom 8 | AE26: =SUM(AD27+Z27+V27+R27+N27+J27+F27) -> 0
F27: =(D27-C27)+(D26-C26)-E27-E26 -> 0 | J27: =(H26-G26)+(H27-G27)-I27-I26 -> 0 | N27: =(L27-K27)+(L26-K26)-M26-M27 -> 0 | R27: =(P27-O27)+(P26-O26)-Q27-Q26 -> 0 | V27: =(T26-S26)+(T27-S27)-U27-U26 -> 0 | Z27: =(X26-W26)+(X27-W27)-Y27-Y26 -> 0 | AD27: =(AB26-AA26)+(AB27-AA27)-AC27-AC26 -> 0
A29: ='S1'!A29:B30 -> nom 9 | AE29: =SUM(AD30+Z30+V30+R30+N30+J30+F30) -> 0
F30: =(D30-C30)+(D29-C29)-E30-E29 -> 0 | J30: =(H29-G29)+(H30-G30)-I30-I29 -> 0 | N30: =(L30-K30)+(L29-K29)-M29-M30 -> 0 | R30: =(P30-O30)+(P29-O29)-Q30-Q29 -> 0 | Z30: =(X29-W29)+(X30-W30)-Y30-Y29 -> 0 | AD30: =(AB29-AA29)+(AB30-AA30)-AC30-AC29 -> 0
A32: ='S1'!A32:B33 -> nom 10 | AE32: =SUM(AD33+Z33+V33+R33+N33+J33+F33) -> 0
F33: =(D33-C33)+(D32-C32)-E33-E32 -> 0 | J33: =(H32-G32)+(H33-G33)-I33-I32 -> 0 | N33: =(L33-K33)+(L32-K32)-M32-M33 -> 0 | R33: =(P33-O33)+(P32-O32)-Q33-Q32 -> 0 | V33: =(T32-S32)+(T33-S33)-U33-U32 -> 0 | Z33: =(X32-W32)+(X33-W33)-Y33-Y32 -> 0 | AD33: =(AB32-AA32)+(AB33-AA33)-AC33-AC32 -> 0
A35: ='S1'!A35:B36 -> nom 11 | AE35: =SUM(AD36+Z36+V36+R36+N36+J36+F36) -> 0
F36: =(D36-C36)+(D35-C35)-E36-E35 -> 0 | J36: =(H35-G35)+(H36-G36)-I36-I35 -> 0 | N36: =(L36-K36)+(L35-K35)-M35-M36 -> 0 | R36: =(P36-O36)+(P35-O35)-Q36-Q35 -> 0 | V36: =(T35-S35)+(T36-S36)-U36-U35 -> 0 | Z36: =(X35-W35)+(X36-W36)-Y36-Y35 -> 0 | AD36: =(AB35-AA35)+(AB36-AA36)-AC36-AC35 -> 0
A38: ='S1'!A38:B39 -> nom 12 | AE38: =SUM(AD39+Z39+V39+R39+N39+J39+F39) -> 0
F39: =(D39-C39)+(D38-C38)-E39-E38 -> 0 | J39: =(H38-G38)+(H39-G39)-I39-I38 -> 0 | N39: =(L39-K39)+(L38-K38)-M38-M39 -> 0 | R39: =(P39-O39)+(P38-O38)-Q39-Q38 -> 0 | V39: =(T38-S38)+(T39-S39)-U39-U38 -> 0 | Z39: =(X38-W38)+(X39-W39)-Y39-Y38 -> 0 | AD39: =(AB38-AA38)+(AB39-AA39)-AC39-AC38 -> 0
A41: ='S1'!A41:B42 -> nom 13 | AE41: =SUM(AD42+Z42+V42+R42+N42+J42+F42) -> 0
F42: =(D42-C42)+(D41-C41)-E42-E41 -> 0 | J42: =(H41-G41)+(H42-G42)-I42-I41 -> 0 | N42: =(L42-K42)+(L41-K41)-M41-M42 -> 0 | R42: =(P42-O42)+(P41-O41)-Q42-Q41 -> 0 | V42: =(T41-S41)+(T42-S42)-U42-U41 -> 0 | Z42: =(X41-W41)+(X42-W42)-Y42-Y41 -> 0 | AD42: =(AB41-AA41)+(AB42-AA42)-AC42-AC41 -> 0
A44: ='S1'!A44:B45 -> nom 14 | AE44: =SUM(AD45+Z45+V45+R45+N45+J45+F45) -> 0
F45: =(D45-C45)+(D44-C44)-E45-E44 -> 0 | J45: =(H44-G44)+(H45-G45)-I45-I44 -> 0 | N45: =(L45-K45)+(L44-K44)-M44-M45 -> 0 | R45: =(P45-O45)+(P44-O44)-Q45-Q44 -> 0 | V45: =(T44-S44)+(T45-S45)-U45-U44 -> 0 | Z45: =(X44-W44)+(X45-W45)-Y45-Y44 -> 0 | AD45: =(AB44-AA44)+(AB45-AA45)-AC45-AC44 -> 0
AB50: Légende

Sheet CUMUL HORAIRE
A2: NBHC | B2: Nom | C2: S1 | D2: S2 | E2: S3 | F2: S4 | H2: TOTAL
A3: 151.6 | C3: ='S1'!AE5 -> 0 | D3: ='S2'!AE5 -> 0 | E3: ='S3'!AE5 -> 0 | F3: ='S4'!AE5 -> 0 | H3: =SUM(C3:F3) -> 0
A4: 78 | C4: ='S1'!AE8 -> 0 | D4: ='S2'!AE8 -> 0 | E4: ='S3'!AE8 -> 0 | F4: ='S4'!AE8 -> 0 | H4: =SUM(C4:F4) -> 0 | I4: formule si différence
A5: 151.6 | C5: ='S1'!AE11 -> 0 | D5: ='S2'!AE11 -> 0 | E5: ='S3'!AE11 -> 0 | F5: ='S4'!AE11 -> 0 | H5: =SUM(C5:F5) -> 0
A6: 78 | C6: ='S1'!AE14 -> 0 | D6: ='S2'!AE14 -> 0 | E6: ='S3'!AE14 -> 0 | F6: ='S4'!AE14 -> 0 | H6: =SUM(C6:F6) -> 0
A7: 55 | C7: ='S1'!AE17 -> 0 | D7: ='S2'!AE17 -> 0 | E7: ='S3'!AE17 -> 0 | F7: ='S4'!AE17 -> 0 | H7: =SUM(C7:F7) -> 0
A8: 52 | C8: ='S1'!AE20 -> 0 | D8: ='S2'!AE20 -> 0 | E8: ='S3'!AE20 -> 0 | F8: ='S4'!AE20 -> 0 | H8: =SUM(C8:F8) -> 0
A9: 74 | C9: ='S1'!AE23 -> 0 | D9: ='S2'!AE23 -> 0 | E9: ='S3'!AE23 -> 0 | F9: ='S4'!AE23 -> 0 | H9: =SUM(C9:F9) -> 0
A10: 65 | C10: ='S1'!AE26 -> 0 | D10: ='S2'!AE26 -> 0 | E10: ='S3'!AE26 -> 0 | F10: ='S4'!AE26 -> 0 | H10: =SUM(C10:F10) -> 0
A11: 52 | C11: ='S1'!AE29 -> 0 | D11: ='S2'!AE29 -> 0 | E11: ='S3'!AE29 -> 0 | F11: ='S4'!AE29 -> 0 | H11: =SUM(C11:F11) -> 0
A12: 52 | C12: ='S1'!AE32 -> 0 | D12: ='S2'!AE32 -> 0 | E12: ='S3'!AE32 -> 0 | F12: ='S4'!AE32 -> 0 | H12: =SUM(C12:F12) -> 0
A13: 52 | C13: ='S1'!AE35 -> 0 | D13: ='S2'!AE35 -> 0 | E13: ='S3'!AE35 -> 0 | F13: ='S4'!AE35 -> 0 | H13: =SUM(C13:F13) -> 0
A14: 52 | C14: ='S1'!AE38 -> 0 | D14: ='S2'!AE38 -> 0 | E14: ='S3'!AE38 -> 0 | F14: ='S4'!AE38 -> 0 | H14: =SUM(C14:F14) -> 0
A15: 52 | C15: ='S1'!AE41 -> 0 | D15: ='S2'!AE41 -> 0 | E15: ='S3'!AE41 -> 0 | F15: ='S4'!AE41 -> 0 | H15: =SUM(C15:F15) -> 0
A16: 40 | C16: ='S1'!AE44 -> 0 | D16: ='S2'!AE44 -> 0 | E16: ='S3'!AE44 -> 0 | F16: ='S4'!AE44 -> 0 | H16: =SUM(C16:F16) -> 0
A17: 78 | H17: =SUM(C17:F17) -> 0
A18: 169 | H18: =SUM(C18:F18) -> 0
A19: 169 | H19: =SUM(C19:F19) -> 0
H20: =SUM(C20:F20) -> 0
H21: =SUM(C21:F21) -> 0

Sheet LISTEs DEROULANTES
A1: JANVIER | B1: 2015
A2: FEVRIER | B2: 2016
A3: MARS | B3: 2017
A4: AVRIL | B4: 2018
A5: MAI | B5: 2019
A6: JUIN | B6: 2020
A7: JUILLET | B7: 2021
A8: AOUT | B8: 2022
A9: SEPTEMBRE | B9: 2023
A10: OCTOBRE | B10: 2024
A11: NOVEMBRE | B11: 2025
A12: DECEMBRE | B12: 2026
