Workbook
Name A: #REF!

Sheet Feuil2
C3: POLICES | E3: DATE EFFET | G3: GARANTIES | I3: TYPE DE PRETS | K3: PEC RUPC
C5: 4880 | E5: =VLOOKUP(C5,Feuil1!B2:B23:'Feuil1'!C23,2,FALSE) -> 35796 | G5: =VLOOKUP(C5,Feuil1!D2:D23:'Feuil1'!E23,2,FALSE) -> DC PTIA IT | I5: =VLOOKUP(C5,Feuil1!F2:F23:'Feuil1'!G23,2,FALSE) -> Prêts senior | K5: =VLOOKUP(C5,Feuil1!H2:H23:'Feuil1'!I23,2,FALSE) -> 0
B7: =HYPERLINK(VLOOKUP(C5,'Feuil1 (2)'!B2:B17:'Feuil1 (2)'!C17,2,FALSE)) -> Police_4880

Sheet Feuil1
B1: N° DE POLICE | C1: DATE D'EFFET | D1: N° DE POLICE | E1: GARANTIES | F1: N° DE POLICE | G1: PRETS | H1: N° DE POLICE | I1: PRISE EN CHARGE RUPTURE CONVENTIONNELLE
B2: 8177 | C2: 38743 | D2: 8177 | E2: PE | F2: 8177 | G2: Prêts immobiliers | H2: 8177 | I2: OUI
B3: 8861 | D3: 8861 | E3: PE | F3: 8861 | G3: Prêts immobiliers | H3: 8861 | I3: OUI
B4: 8860 | D4: 8860 | E4: PE | F4: 8860 | G4: Prêts immobiliers | H4: 8860 | I4: OUI
B5: 8115 | C5: 37257 | D5: 8115 | E5: PE | F5: 8115 | G5: Prêts immobiliers | H5: 8115 | I5: OUI
B6: 8113 | D6: 8113 | E6: PE | F6: 8113 | H6: 8113 | I6: OUI
B7: 8060 | D7: 8060 | E7: PE | F7: 8060 | G7: Prêts immobiliers | H7: 8060
B8: 8030 | D8: 8030 | E8: PE | F8: 8030 | G8: Prêts immobiliers | H8: 8030
B9: 7522 | D9: 7522 | E9: PE | F9: 7522 | G9: Prêts immobiliers | H9: 7522
B10: 7422 | C10: 32874 | D10: 7422 | E10: PE | F10: 7422 | G10: Prêts immobiliers | H10: 7422
B11: 7222 | C11: 32874 | D11: 7222 | E11: PE | F11: 7222 | G11: Prêts immobiliers | H11: 7222
B12: 4978 | C12: 38743 | D12: 4978 | E12: DC PTIA IT | F12: 4978 | G12: Prêts immobiliers | H12: 4978
B13: 4977 | C13: 38743 | D13: 4977 | E13: DC PTIA IT | F13: 4977 | G13: Investisseurs locatifs Prêts in fine | H13: 4977
B14: 4973 | C14: 36892 | D14: 4973 | E14: DC PTIA IT | F14: 4973 | G14: Prêts consommation | H14: 4973
B15: 4971 | C15: 36892 | D15: 4971 | E15: DC PTIA IT | F15: 4971 | G15: Prêts immobiliers | H15: 4971
B16: 4970 | C16: 36161 | D16: 4970 | E16: DC PTIA IT | F16: 4970 | G16: Prêts immobiliers | H16: 4970
B17: 4880 | C17: 35796 | D17: 4880 | E17: DC PTIA IT | F17: 4880 | G17: Prêts senior | H17: 4880
B18: 4875 | C18: 35796 | D18: 4875 | E18: DC PTIA | F18: 4875 | G18: Gros capitaux | H18: 4875
B19: 4870 | C19: 35796 | D19: 4870 | E19: DC PTIA IT | F19: 4870 | G19: Prêts immobiliers | H19: 4870
B20: 4425 | C20: 38743 | D20: 4425 | E20: DC PTIA IT | F20: 4425 | G20: Prêts Vivrelec | H20: 4425
B21: 3713 | C21: 32690 | D21: 3713 | E21: DC PTIA IT | F21: 3713 | G21: Prêts immobiliers | H21: 3713
... B23: 3659 | C23: 32509 | D23: 3659 | E23: DC PTIA IT | F23: 3659 | G23: Prêts immobiliers | H23: 3659

Sheet Feuil1 (2)
B1: N° DE POLICE | C1: lien hypertexte | D1: Emplacement
B2: 3659 | C2: =HYPERLINK((D2),"Police_3659") -> Police_3659 | D2: \\srvfich\Prevoyance_I\Documentation liee aux processus metiers\SINISTRE\Anne Claire\CIEL\maquette-CF-parametres.xlsx#Q
B3: 3660 | C3: =HYPERLINK((D3),"Police_3660") -> Police_3660 | D3: \\srvfich\Prevoyance_I\Documentation liee aux processus metiers\SINISTRE\Anne Claire\CIEL\maquette-CF-parametres.xlsx#P
B4: 3713 | C4: =HYPERLINK((D4),"Police_3713") -> Police_3713 | D4: \\srvfich\Prevoyance_I\Documentation liee aux processus metiers\SINISTRE\Anne Claire\CIEL\maquette-CF-parametres.xlsx#O
B5: 4875 | C5: =HYPERLINK((D5),"Police_4875") -> Police_4875 | D5: \\srvfich\Prevoyance_I\Documentation liee aux processus metiers\SINISTRE\Anne Claire\CIEL\maquette-CF-parametres.xlsx#G
B6: 4880 | C6: =HYPERLINK((D6),"Police_4880") -> Police_4880 | D6: \\srvfich\Prevoyance_I\Documentation liee aux processus metiers\SINISTRE\Anne Claire\CIEL\maquette-CF-parametres.xlsx#F
B7: 4970 | C7: =HYPERLINK((D7),"Police_4970") -> Police_4970 | D7: \\srvfich\Prevoyance_I\Documentation liee aux processus metiers\SINISTRE\Anne Claire\CIEL\maquette-CF-parametres.xlsx#D
B8: 4971 | C8: =HYPERLINK((D8),"Police_4971") -> Police_4971 | D8: \\srvfich\Prevoyance_I\Documentation liee aux processus metiers\SINISTRE\Anne Claire\CIEL\maquette-CF-parametres.xlsx#B
B9: 4973 | C9: =HYPERLINK((D9),"Police_4973") -> Police_4973 | D9: \\srvfich\Prevoyance_I\Documentation liee aux processus metiers\SINISTRE\Anne Claire\CIEL\maquette-CF-parametres.xlsx#A
B10: 4977 | C10: =HYPERLINK((D10),"Police_4977") -> Police_4977 | D10: \\srvfich\Prevoyance_I\Documentation liee aux processus metiers\SINISTRE\Anne Claire\CIEL\maquette-CF-parametres.xlsx#AC
B11: 4978 | C11: =HYPERLINK((D11),"Police_4978") -> Police_4978 | D11: \\srvfich\Prevoyance_I\Documentation liee aux processus metiers\SINISTRE\Anne Claire\CIEL\maquette-CF-parametres.xlsx#AA
B12: 7522 | C12: =HYPERLINK((D12),"Police_7522") -> Police_7522 | D12: \\srvfich\Prevoyance_I\Documentation liee aux processus metiers\SINISTRE\Anne Claire\CIEL\maquette-CF-parametres.xlsx#N
B13: 8030 | C13: =HYPERLINK((D13),"Police_8030") -> Police_8030 | D13: \\srvfich\Prevoyance_I\Documentation liee aux processus metiers\SINISTRE\Anne Claire\CIEL\maquette-CF-parametres.xlsx#M
B14: 8060 | C14: =HYPERLINK((D14),"Police_8060") -> Police_8060 | D14: \\srvfich\Prevoyance_I\Documentation liee aux processus metiers\SINISTRE\Anne Claire\CIEL\maquette-CF-parametres.xlsx#K
B15: 8115 | C15: =HYPERLINK((D15),"Police_8115") -> Police_8115 | D15: \\srvfich\Prevoyance_I\Documentation liee aux processus metiers\SINISTRE\Anne Claire\CIEL\maquette-CF-parametres.xlsx#H
B16: 8860 | C16: =HYPERLINK((D16),"Police_8860") -> Police_8860 | D16: \\srvfich\Prevoyance_I\Documentation liee aux processus metiers\SINISTRE\Anne Claire\CIEL\maquette-CF-parametres.xlsx#J
B17: 8861 | C17: =HYPERLINK((D17),"Police_8861") -> Police_8861 | D17: \\srvfich\Prevoyance_I\Documentation liee aux processus metiers\SINISTRE\Anne Claire\CIEL\maquette-CF-parametres.xlsx#I
B19: '\\srvfich\Prevoyance_I\Documentation liee aux processus metiers\SINISTRE\Anne Claire\CIEL\maquette-CF-parametres.xlsx#A
B21: N° DE POLICE | C21: lien hypertexte | D21: Emplacement
B22: 3659 | C22: =HYPERLINK(D22) -> \\srvfich\Prevoyance_I\Documentation liee aux processus metiers\SINISTRE\Anne Claire\CIEL\maquette-CF-parametres.xlsx#Q | D22: \\srvfich\Prevoyance_I\Documentation liee aux processus metiers\SINISTRE\Anne Claire\CIEL\maquette-CF-parametres.xlsx#Q
B23: 3660 | C23: =HYPERLINK(D23) -> \\srvfich\Prevoyance_I\Documentation liee aux processus metiers\SINISTRE\Anne Claire\CIEL\maquette-CF-parametres.xlsx#P | D23: \\srvfich\Prevoyance_I\Documentation liee aux processus metiers\SINISTRE\Anne Claire\CIEL\maquette-CF-parametres.xlsx#P
B24: 3713 | C24: =HYPERLINK(D24) -> \\srvfich\Prevoyance_I\Documentation liee aux processus metiers\SINISTRE\Anne Claire\CIEL\maquette-CF-parametres.xlsx#O | D24: \\srvfich\Prevoyance_I\Documentation liee aux processus metiers\SINISTRE\Anne Claire\CIEL\maquette-CF-parametres.xlsx#O
B25: 4875 | C25: =HYPERLINK(D25) -> \\srvfich\Prevoyance_I\Documentation liee aux processus metiers\SINISTRE\Anne Claire\CIEL\maquette-CF-parametres.xlsx#G | D25: \\srvfich\Prevoyance_I\Documentation liee aux processus metiers\SINISTRE\Anne Claire\CIEL\maquette-CF-parametres.xlsx#G
B26: 4880 | C26: =HYPERLINK(D26) -> \\srvfich\Prevoyance_I\Documentation liee aux processus metiers\SINISTRE\Anne Claire\CIEL\maquette-CF-parametres.xlsx#F | D26: \\srvfich\Prevoyance_I\Documentation liee aux processus metiers\SINISTRE\Anne Claire\CIEL\maquette-CF-parametres.xlsx#F
B27: 4970 | C27: =HYPERLINK(D27) -> \\srvfich\Prevoyance_I\Documentation liee aux processus metiers\SINISTRE\Anne Claire\CIEL\maquette-CF-parametres.xlsx#D | D27: \\srvfich\Prevoyance_I\Documentation liee aux processus metiers\SINISTRE\Anne Claire\CIEL\maquette-CF-parametres.xlsx#D
B28: 4971 | C28: =HYPERLINK(D28) -> \\srvfich\Prevoyance_I\Documentation liee aux processus metiers\SINISTRE\Anne Claire\CIEL\maquette-CF-parametres.xlsx#B | D28: \\srvfich\Prevoyance_I\Documentation liee aux processus metiers\SINISTRE\Anne Claire\CIEL\maquette-CF-parametres.xlsx#B
B29: 4973 | C29: =HYPERLINK(D29) -> \\srvfich\Prevoyance_I\Documentation liee aux processus metiers\SINISTRE\Anne Claire\CIEL\maquette-CF-parametres.xlsx#A | D29: \\srvfich\Prevoyance_I\Documentation liee aux processus metiers\SINISTRE\Anne Claire\CIEL\maquette-CF-parametres.xlsx#A
B30: 4977 | C30: =HYPERLINK(D30) -> \\srvfich\Prevoyance_I\Documentation liee aux processus metiers\SINISTRE\Anne Claire\CIEL\maquette-CF-parametres.xlsx#AC | D30: \\srvfich\Prevoyance_I\Documentation liee aux processus metiers\SINISTRE\Anne Claire\CIEL\maquette-CF-parametres.xlsx#AC
B31: 4978 | C31: =HYPERLINK(D31) -> \\srvfich\Prevoyance_I\Documentation liee aux processus metiers\SINISTRE\Anne Claire\CIEL\maquette-CF-parametres.xlsx#AA | D31: \\srvfich\Prevoyance_I\Documentation liee aux processus metiers\SINISTRE\Anne Claire\CIEL\maquette-CF-parametres.xlsx#AA
B32: 7522 | C32: =HYPERLINK(D32) -> \\srvfich\Prevoyance_I\Documentation liee aux processus metiers\SINISTRE\Anne Claire\CIEL\maquette-CF-parametres.xlsx#N | D32: \\srvfich\Prevoyance_I\Documentation liee aux processus metiers\SINISTRE\Anne Claire\CIEL\maquette-CF-parametres.xlsx#N
B33: 8030 | C33: =HYPERLINK(D33) -> \\srvfich\Prevoyance_I\Documentation liee aux processus metiers\SINISTRE\Anne Claire\CIEL\maquette-CF-parametres.xlsx#M | D33: \\srvfich\Prevoyance_I\Documentation liee aux processus metiers\SINISTRE\Anne Claire\CIEL\maquette-CF-parametres.xlsx#M
... B37: 8861 | C37: =HYPERLINK(D37) -> \\srvfich\Prevoyance_I\Documentation liee aux processus metiers\SINISTRE\Anne Claire\CIEL\maquette-CF-parametres.xlsx#I | D37: \\srvfich\Prevoyance_I\Documentation liee aux processus metiers\SINISTRE\Anne Claire\CIEL\maquette-CF-parametres.xlsx#I
