Workbook

Sheet BDD
A1: ANNEE SCOLAIRE | B1: =Formulaire!B2 -> 2015/2016
A3: ETABLISSEMENT
A4: Nom établissement | B4: =Formulaire!B4 -> HENRY III
A5: Type | B5: =Formulaire!C5 -> Secondaire
A6: Adresse | B6: =Formulaire!B6 -> 10 avenue du G
A7: CP | B7: =Formulaire!B7 -> 7400
A8: Ville | B8: =Formulaire!B8 -> RUOMS
A9: Tél | B9: =Formulaire!B9 -> 0475567829
A10: Portable | B10: =Formulaire!B10 -> 0616684311
A11: Email | B11: =Formulaire!B11 -> henry@dfg.fr
A12: Web | B12: =Formulaire!B12 -> www.henry3
A13: Tutelle St joseph | B13: =Formulaire!B13 -> oui
A14: Délégué(e | B14: =Formulaire!B14 -> LAVMAUL
A15: Contrat d'association | B15: =Formulaire!B15 -> oui
A16: OGEC
A17: Nom Prénom président | B17: =Formulaire!B17 -> ERIC ERECRU
A18: Siret | B18: =Formulaire!B18 -> 78572875300012
A19: Prefecture Enregist | B19: =Formulaire!B19 -> PRIVAS
A20: Date insertion au J.O | B20: 32610
A21: DIRECTION
A22: Nom Prénom C.Etbs | B22: =Formulaire!B22 -> XAVIER HILARANT
A23: Portable | B23: =Formulaire!B23 -> 06789023
A24: Bloc note | B24: =Formulaire!B24 -> xxxxxx
A25: EFFECTIFS
A26: Maternelle | B26: =Formulaire!B26 -> 25
A27: Primaire | B27: =Formulaire!B27 -> 34
A28: College | B28: =Formulaire!B28 -> 0
A29: Lycée pro | B29: =Formulaire!B29 -> 0
A30: Lycée tech | B30: =Formulaire!B30 -> 0
A31: Lycée Gén | B31: =Formulaire!B31 -> 0
A32: Total effectif | B32: =Formulaire!B32 -> calcul
A33: dont internes | B33: =Formulaire!B33 -> 12
A34: dont demi-pension | B34: =Formulaire!B34 -> 41
A35: Observations | B35: =Formulaire!B35 -> blabla
A36: RESSOURCES PUB
A37: Forfait communal
A38: Forfait communal par élève | B38: =Formulaire!B38 -> 650
A39: Effectifs de la commune | B39: =Formulaire!B39 -> 27
A40: Forfait hors commune 1 | B40: =Formulaire!B40 -> 456
A41: Effectifs hors commune 1 | B41: =Formulaire!B41 -> 3
...

Sheet Formulaire
A1: ANNEE SCOLAIRE
A2: année / année | B2: 2015/2016
A3: ETABLISSEMENT
A4: Nom établissement | B4: HENRY III
A5: Type | B5: Primaire | C5: Secondaire | D5: (choix)
A6: Adresse | B6: 10 avenue du G
A7: CP | B7: 7400
A8: Ville | B8: RUOMS
A9: Tél | B9: 0475567829
A10: Portable | B10: 0616684311
A11: Email | B11: henry@dfg.fr
A12: Web | B12: www.henry3
A13: Tutelle St joseph | B13: oui | C13: non | D13: (choix)
A14: Délégué(e | B14: LAVMAUL
A15: Contrat d'association | B15: oui | C15: non | D15: (choix)
A16: OGEC
A17: Nom Prénom président | B17: ERIC ERECRU
A18: Siret | B18: 78572875300012
A19: Prefecture Enregist | B19: PRIVAS
A20: Date insertion au J.O | B20: 32610
A21: DIRECTION
A22: Nom Prénom C.Etbs | B22: XAVIER HILARANT
A23: Portable | B23: 06789023
A24: Bloc note | B24: xxxxxx
A25: EFFECTIFS
A26: Maternelle | B26: 25
A27: Primaire | B27: 34
A28: College | B28: 0
A29: Lycée pro | B29: 0
A30: Lycée tech | B30: 0
A31: Lycée Gén | B31: 0
A32: Total effectif | B32: calcul
A33: dont internes | B33: 12
A34: dont demi-pension | B34: 41
A35: Observations | B35: blabla
A36: RESSOURCES PUB
A37: Forfait communal
A38: Forfait communal par élève | B38: 650
A39: Effectifs de la commune | B39: 27
A40: Forfait hors commune 1 | B40: 456
...

Sheet Modele formulaire
I2: Effectifs
B3: Année scolaire | F3: OGEC
F4: Nom Prénom président
B6: ETABLISSEMENT | F6: Siret
B8: Nom établissement | F8: Prefecture Enregist | I8: Ress Pub
B10: Type | C10: Primaire | D10: Secondaire | F10: Date insertion au J.O
B11: Adresse
B13: CP | F13: DIRECTION | I13: Ress Priv
B15: Ville | F15: Nom Prénom C.Etbs
B17: Tél | F17: Portable
B19: Portable | I19: Locaux
B21: Email | F21: Bloc note
B23: Web
B24: Tutelle St joseph | C24: oui | D24: non | I24: Aides Fi
B25: Délégué(e
B26: Contrat d'association | C26: oui | D26: non
