Workbook

Sheet BDD
A1: ANNEE SCOLAIRE | B1: =Formulaire!B2 -> 2015/2016
A3: ETABLISSEMENT
A4: Nom établissement | B4: =Formulaire!B4 -> HENRY III
A5: Type | B5: =Formulaire!C5 -> Secondaire
A6: Adresse | B6: =Formulaire!B6 -> 10 avenue du G
A7: CP | B7: =Formulaire!B7 -> 7400
A8: Ville | B8: =Formulaire!B8 -> RUOMS
A9: Tél | B9: =Formulaire!B9 -> 0475567829
A10: Portable | B10: =Formulaire!B10 -> 0616684311
A11: Email | B11: =Formulaire!B11 -> henry@dfg.fr
A12: Web | B12: =Formulaire!B12 -> www.henry3
A13: Tutelle St joseph | B13: =Formulaire!B13 -> oui
A14: Délégué(e | B14: =Formulaire!B14 -> LAVMAUL
A15: Contrat d'association | B15: =Formulaire!B15 -> oui
A16: OGEC
A17: Nom Prénom président | B17: =Formulaire!B17 -> ERIC ERECRU
A18: Siret | B18: =Formulaire!B18 -> 78572875300012
A19: Prefecture Enregist | B19: =Formulaire!B19 -> PRIVAS
A20: Date insertion au J.O | B20: 32610
A21: DIRECTION
A22: Nom Prénom C.Etbs | B22: =Formulaire!B22 -> XAVIER HILARANT
A23: Portable | B23: =Formulaire!B23 -> 06789023
A24: Bloc note | B24: =Formulaire!B24 -> xxxxxx
A25: EFFECTIFS
A26: Maternelle | B26: =Formulaire!B26 -> 25
A27: Primaire | B27: =Formulaire!B27 -> 34
A28: College | B28: =Formulaire!B28 -> 0
A29: Lycée pro | B29: =Formulaire!B29 -> 0
A30: Lycée tech | B30: =Formulaire!B30 -> 0
A31: Lycée Gén | B31: =Formulaire!B31 -> 0
A32: Total effectif | B32: =Formulaire!B32 -> calcul
A33: dont internes | B33: =Formulaire!B33 -> 12
A34: dont demi-pension | B34: =Formulaire!B34 -> 41
A35: Observations | B35: =Formulaire!B35 -> blabla
A36: RESSOURCES PUB
A37: Forfait communal
A38: Forfait communal par élève | B38: =Formulaire!B38 -> 650
A39: Effectifs de la commune | B39: =Formulaire!B39 -> 27
A40: Forfait hors commune 1 | B40: =Formulaire!B40 -> 456
A41: Effectifs hors commune 1 | B41: =Formulaire!B41 -> 3
A42: Forfait hors commune 2 | B42: =Formulaire!B42 -> 0
A43: Effectifs hors commune 2 | B43: =Formulaire!B43 -> 0
A44: Forfait hors commune 3 | B44: =Formulaire!B44 -> 0
A45: Effectifs hors commune 3 | B45: =Formulaire!B45 -> 0
A46: Effectifs non pris en charge | B46: =Formulaire!B46 -> 11
A47: Forfait Externat College
A48: Forfait Départ par élève | B48: =Formulaire!B48 -> 0
A49: Effectif forfait Départem | B49: =Formulaire!B49 -> 0
A50: Forfait État par élève | B50: =Formulaire!B50 -> 0
A51: Effectif forfait Etat | B51: =Formulaire!B51 -> 0
A52: Forfait Externat Lycée
A53: Forfait Règion par élève | B53: =Formulaire!B53 -> 0
A54: Effectif forfait Règion | B54: =Formulaire!B54 -> 0
A55: Forfait État par élève | B55: =Formulaire!B55 -> 0
A56: Effectif forfait Etat | B56: =Formulaire!B56 -> 0
A57: RESSOURCES PRIV
A58: Taxe d'apprentissage
A59: Montant global annuel | B59: =Formulaire!B59 -> 0
A60: Contribution des familles
A61: C.Familles 1er enf mat | B61: =Formulaire!B61 -> 32
A62: C.Familles 2nd enf mat | B62: =Formulaire!B62 -> 28
A63: C.Familles 3eme enf mat | B63: =Formulaire!B63 -> 26
A64: C.Familles 1er enf prim | B64: =Formulaire!B64 -> 31
A65: C.Familles 2nd enf prim | B65: =Formulaire!B65 -> 29
A66: C.Familles 3eme enf prim | B66: =Formulaire!B66 -> 27
A67: C.Familles 1er enf coll | B67: =Formulaire!B67 -> 0
A68: C.Familles 2nd enf coll | B68: =Formulaire!B68 -> 0
A69: C.Familles 3eme enf coll | B69: =Formulaire!B69 -> 0
A70: C.Familles 1er enf lyc | B70: =Formulaire!B70 -> 0
A71: C.Familles 2nd enf lyc | B71: =Formulaire!B71 -> 0
A72: C.Familles 3eme enf lyc | B72: =Formulaire!B72 -> 0
... A83: Garderie | B83: =Formulaire!B83 -> 3
A84: LOCAUX
A85: Superficie
A86: Superficie totale en m2 | B86: =Formulaire!B86 -> 12456
A87: Superficie locaux scolaire m2 | B87: =Formulaire!B87 -> 8700
A88: Superficie locaux hors scolaire m2 | B88: =Formulaire!B88 -> 1320
A89: Superficie locaux innocuppés | B89: =Formulaire!B89 -> 560
A90: Cours & autres | B90: =Formulaire!B90 -> 1256
A91: Contrat de location
A92: Type de bail | B92: =Formulaire!B92 -> à construction
A93: Durée du bail | B93: =Formulaire!B93 -> 20 ans
A94: Début du contrat | B94: =Formulaire!B94 -> 37865
A95: Fin du contrat | B95: =Formulaire!B95 -> 44804
A96: Montant du loyer annuel | B96: =Formulaire!B96 -> 5000
A97: Impôt & taxes
A98: Montant Taxes foncières | B98: =Formulaire!B98 -> 12390
A99: Montant des assurances DAB | B99: =Formulaire!B99 -> 4560
A100: Nom compagnie | B100: =Formulaire!B100 -> MSC
A101: Payée par | B101: =Formulaire!B101 -> VDP
A102: Reversement 50% | B102: =Formulaire!B102 -> 2560
A103: AIDES FI PROPRIETAIRE
A104: Montant demandé | B104: =Formulaire!B104 -> 189000
A105: Quel projet | B105: =Formulaire!B105 -> Immobilier rénov
A106: Architecte | B106: =Formulaire!B106 -> 0
A107: Date de la demande | B107: =Formulaire!B107 -> 0
A108: Montant attribué | B108: =Formulaire!B108 -> 100000
A109: Date de versement | B109: =Formulaire!B109 -> 0
A110: Autre Subvent reçu | B110: =Formulaire!B110 -> 0
A111: Nom du donateur | B111: =Formulaire!B111 -> 0
...

Sheet Formulaire
A1: ANNEE SCOLAIRE
A2: année / année | B2: 2015/2016
A3: ETABLISSEMENT
A4: Nom établissement | B4: HENRY III
A5: Type | B5: Primaire | C5: Secondaire | D5: (choix)
A6: Adresse | B6: 10 avenue du G
A7: CP | B7: 7400
A8: Ville | B8: RUOMS
A9: Tél | B9: 0475567829
A10: Portable | B10: 0616684311
A11: Email | B11: henry@dfg.fr
A12: Web | B12: www.henry3
A13: Tutelle St joseph | B13: oui | C13: non | D13: (choix)
A14: Délégué(e | B14: LAVMAUL
A15: Contrat d'association | B15: oui | C15: non | D15: (choix)
A16: OGEC
A17: Nom Prénom président | B17: ERIC ERECRU
A18: Siret | B18: 78572875300012
A19: Prefecture Enregist | B19: PRIVAS
A20: Date insertion au J.O | B20: 32610
A21: DIRECTION
A22: Nom Prénom C.Etbs | B22: XAVIER HILARANT
A23: Portable | B23: 06789023
A24: Bloc note | B24: xxxxxx
A25: EFFECTIFS
A26: Maternelle | B26: 25
A27: Primaire | B27: 34
A28: College | B28: 0
A29: Lycée pro | B29: 0
A30: Lycée tech | B30: 0
A31: Lycée Gén | B31: 0
A32: Total effectif | B32: calcul
A33: dont internes | B33: 12
A34: dont demi-pension | B34: 41
A35: Observations | B35: blabla
A36: RESSOURCES PUB
A37: Forfait communal
A38: Forfait communal par élève | B38: 650
A39: Effectifs de la commune | B39: 27
A40: Forfait hors commune 1 | B40: 456
A41: Effectifs hors commune 1 | B41: 3
A42: Forfait hors commune 2 | B42: 0
A43: Effectifs hors commune 2 | B43: 0
A44: Forfait hors commune 3 | B44: 0
A45: Effectifs hors commune 3 | B45: 0
A46: Effectifs non pris en charge | B46: 11
A47: Forfait Externat College
A48: Forfait Départ par élève | B48: 0
A49: Effectif forfait Départem | B49: 0
A50: Forfait État par élève | B50: 0
A51: Effectif forfait Etat | B51: 0
A52: Forfait Externat Lycée
A53: Forfait Règion par élève | B53: 0
A54: Effectif forfait Règion | B54: 0
A55: Forfait État par élève | B55: 0
A56: Effectif forfait Etat | B56: 0
A57: RESSOURCES PRIV
A58: Taxe d'apprentissage
A59: Montant global annuel | B59: 0
A60: Contribution des familles
A61: C.Familles 1er enf mat | B61: 32
A62: C.Familles 2nd enf mat | B62: 28
A63: C.Familles 3eme enf mat | B63: 26
A64: C.Familles 1er enf prim | B64: 31
A65: C.Familles 2nd enf prim | B65: 29
A66: C.Familles 3eme enf prim | B66: 27
A67: C.Familles 1er enf coll | B67: 0
A68: C.Familles 2nd enf coll | B68: 0
A69: C.Familles 3eme enf coll | B69: 0
A70: C.Familles 1er enf lyc | B70: 0
A71: C.Familles 2nd enf lyc | B71: 0
A72: C.Familles 3eme enf lyc | B72: 0
... A83: Garderie | B83: 3
A84: LOCAUX
A85: Superficie
A86: Superficie totale en m2 | B86: 12456
A87: Superficie locaux scolaire m2 | B87: 8700
A88: Superficie locaux hors scolaire m2 | B88: 1320
A89: Superficie locaux innocuppés | B89: 560
A90: Cours & autres | B90: 1256
A91: Contrat de location
A92: Type de bail | B92: à construction
A93: Durée du bail | B93: 20 ans
A94: Début du contrat | B94: 37865
A95: Fin du contrat | B95: 44804
A96: Montant du loyer annuel | B96: 5000
A97: Impôt & taxes
A98: Montant Taxes foncières | B98: 12390
A99: Montant des assurances DAB | B99: 4560
A100: Nom compagnie | B100: MSC
A101: Payée par | B101: VDP
A102: Reversement 50% | B102: 2560
A103: AIDES FI PROPRIETAIRE
A104: Montant demandé | B104: 189000 | G104: (choix)
A105: Quel projet | B105: Immobilier rénov | C105: Immobilier neuf | D105: Mobilier | E105: Matériel | F105: Autres | G105: (choix)
A106: Architecte
A107: Date de la demande
A108: Montant attribué | B108: 100000 | D108: 20000 | F108: 450
A109: Date de versement
A110: Autre Subvent reçu
...

Sheet Modele formulaire
I2: Effectifs
B3: Année scolaire | F3: OGEC
F4: Nom Prénom président
B6: ETABLISSEMENT | F6: Siret
B8: Nom établissement | F8: Prefecture Enregist | I8: Ress Pub
B10: Type | C10: Primaire | D10: Secondaire | F10: Date insertion au J.O
B11: Adresse
B13: CP | F13: DIRECTION | I13: Ress Priv
B15: Ville | F15: Nom Prénom C.Etbs
B17: Tél | F17: Portable
B19: Portable | I19: Locaux
B21: Email | F21: Bloc note
B23: Web
B24: Tutelle St joseph | C24: oui | D24: non | I24: Aides Fi
B25: Délégué(e
B26: Contrat d'association | C26: oui | D26: non
