Workbook

Sheet AP 2nde
F2: App à app Chardonnet/Couplan | G2: Com & cult bilingue Tamir/Defontaine | H2: Lire une consigne Moulart/Bordes | I2: Prise de confiance Denisse/Berthe | J2: Lire, dire et écrire des contes Doremus/Lestrade | K2: FLE Ibanez/Authiat | L2: ROLL Abara/Floirac
F3: 6 semaines / C15 | G3: 3 semaines / C27 | H3: 3 semaines / C14 | I3: 6 semaines / C24 | J3: 3 semaines / B30 | K3: tte l'année / B39 | L3: 6 semaines / B32 | M3: Total
B4: Total période | E4: 1 | F4: =COUNTIF(F$12:F$35,$E$4)+COUNTIF(F$37:F$60,$E$4)+COUNTIF(F$62:F$86,$E$4)+COUNTIF(F$88:F$117,$E$4) -> 18 | G4: =COUNTIF(G$12:G$35,$E$4)+COUNTIF(G$37:G$60,$E$4)+COUNTIF(G$62:G$86,$E$4)+COUNTIF(G$88:G$117,$E$4) -> 12 | H4: =COUNTIF(H$12:H$35,$E$4)+COUNTIF(H$37:H$60,$E$4)+COUNTIF(H$62:H$86,$E$4)+COUNTIF(H$88:H$117,$E$4) -> 16 | I4: =COUNTIF(I$12:I$35,$E$4)+COUNTIF(I$37:I$60,$E$4)+COUNTIF(I$62:I$86,$E$4)+COUNTIF(I$88:I$117,$E$4) -> 15 | J4: =COUNTIF(J$12:J$35,$E$4)+COUNTIF(J$37:J$60,$E$4)+COUNTIF(J$62:J$86,$E$4)+COUNTIF(J$88:J$117,$E$4) -> 9 | K4: =COUNTIF(K$12:K$35,$E$4)+COUNTIF(K$37:K$60,$E$4)+COUNTIF(K$62:K$86,$E$4)+COUNTIF(K$88:K$117,$E$4) -> 4 | L4: =COUNTIF(L$12:L$35,$E$4)+COUNTIF(L$37:L$60,$E$4)+COUNTIF(L$62:L$86,$E$4)+COUNTIF(L$88:L$117,$E$4) -> 14 | M4: =SUM(F4:L4) -> 88
B5: Total période | E5: 2 | F5: =COUNTIF(F$12:F$35,$E$5)+COUNTIF(F$37:F$60,$E$5)+COUNTIF(F$62:F$86,$E$5)+COUNTIF(F$88:F$117,$E$5) -> 3 | G5: =COUNTIF(G$12:G$35,$E$5)+COUNTIF(G$37:G$60,$E$5)+COUNTIF(G$62:G$86,$E$5)+COUNTIF(G$88:G$117,$E$5) -> 9 | H5: =COUNTIF(H$12:H$35,$E$5)+COUNTIF(H$37:H$60,$E$5)+COUNTIF(H$62:H$86,$E$5)+COUNTIF(H$88:H$117,$E$5) -> 11 | I5: =COUNTIF(I$12:I$35,$E$5)+COUNTIF(I$37:I$60,$E$5)+COUNTIF(I$62:I$86,$E$5)+COUNTIF(I$88:I$117,$E$5) -> 0 | J5: =COUNTIF(J$12:J$35,$E$5)+COUNTIF(J$37:J$60,$E$5)+COUNTIF(J$62:J$86,$E$5)+COUNTIF(J$88:J$117,$E$5) -> 12 | K5: =COUNTIF(K$12:K$35,$E$4)+COUNTIF(K$37:K$60,$E$4)+COUNTIF(K$62:K$86,$E$4)+COUNTIF(K$88:K$117,$E$4) -> 4 | L5: =COUNTIF(L$12:L$35,$E$5)+COUNTIF(L$37:L$60,$E$5)+COUNTIF(L$62:L$86,$E$5)+COUNTIF(L$88:L$117,$E$5) -> 0 | M5: =SUM(F5:L5)+F4+I4 -> 72
B6: Total période | E6: 3 | F6: =COUNTIF(F$12:F$35,$E$6)+COUNTIF(F$37:F$60,$E$6)+COUNTIF(F$62:F$86,$E$6)+COUNTIF(F$88:F$117,$E$6) -> 16 | G6: =COUNTIF(G$12:G$35,$E$6)+COUNTIF(G$37:G$60,$E$6)+COUNTIF(G$62:G$86,$E$6)+COUNTIF(G$88:G$117,$E$6) -> 10 | H6: =COUNTIF(H$12:H$35,$E$6)+COUNTIF(H$37:H$60,$E$6)+COUNTIF(H$62:H$86,$E$6)+COUNTIF(H$88:H$117,$E$6) -> 10 | I6: =COUNTIF(I$12:I$35,$E$6)+COUNTIF(I$37:I$60,$E$6)+COUNTIF(I$62:I$86,$E$6)+COUNTIF(I$88:I$117,$E$6) -> 16 | J6: =COUNTIF(J$12:J$35,$E$6)+COUNTIF(J$37:J$60,$E$6)+COUNTIF(J$62:J$86,$E$6)+COUNTIF(J$88:J$117,$E$6) -> 12 | K6: =COUNTIF(K$12:K$35,$E$4)+COUNTIF(K$37:K$60,$E$4)+COUNTIF(K$62:K$86,$E$4)+COUNTIF(K$88:K$117,$E$4) -> 4 | L6: =COUNTIF(L$12:L$35,$E$6)+COUNTIF(L$37:L$60,$E$6)+COUNTIF(L$62:L$86,$E$6)+COUNTIF(L$88:L$117,$E$6) -> 15 | M6: =SUM(F6:L6) -> 83
B7: Total période | E7: 4 | F7: =COUNTIF(F$12:F$35,$E$7)+COUNTIF(F$37:F$60,$E$7)+COUNTIF(F$62:F$86,$E$7)+COUNTIF(F$88:F$117,$E$7) -> 0 | G7: =COUNTIF(G$12:G$35,$E$7)+COUNTIF(G$37:G$60,$E$7)+COUNTIF(G$62:G$86,$E$7)+COUNTIF(G$88:G$117,$E$7) -> 5 | H7: =COUNTIF(H$12:H$35,$E$7)+COUNTIF(H$37:H$60,$E$7)+COUNTIF(H$62:H$86,$E$7)+COUNTIF(H$88:H$117,$E$7) -> 7 | I7: =COUNTIF(I$12:I$35,$E$7)+COUNTIF(I$37:I$60,$E$7)+COUNTIF(I$62:I$86,$E$7)+COUNTIF(I$88:I$117,$E$7) -> 0 | J7: =COUNTIF(J$12:J$35,$E$7)+COUNTIF(J$37:J$60,$E$7)+COUNTIF(J$62:J$86,$E$7)+COUNTIF(J$88:J$117,$E$7) -> 8 | K7: =COUNTIF(K$12:K$35,$E$4)+COUNTIF(K$37:K$60,$E$4)+COUNTIF(K$62:K$86,$E$4)+COUNTIF(K$88:K$117,$E$4) -> 4 | L7: =COUNTIF(L$12:L$35,$E$7)+COUNTIF(L$37:L$60,$E$7)+COUNTIF(L$62:L$86,$E$7)+COUNTIF(L$88:L$117,$E$7) -> 0 | M7: =SUM(F7:L7)+F6+I6 -> 56
B8: Total période | E8: 5 | F8: =COUNTIF(F$12:F$35,$E$8)+COUNTIF(F$37:F$60,$E$8)+COUNTIF(F$62:F$86,$E$8)+COUNTIF(F$88:F$117,$E$8) -> 3 | G8: =COUNTIF(G$12:G$35,$E$8)+COUNTIF(G$37:G$60,$E$8)+COUNTIF(G$62:G$86,$E$8)+COUNTIF(G$88:G$117,$E$8) -> 10 | H8: =COUNTIF(H$12:H$35,$E$8)+COUNTIF(H$37:H$60,$E$8)+COUNTIF(H$62:H$86,$E$8)+COUNTIF(H$88:H$117,$E$8) -> 7 | I8: =COUNTIF(I$12:I$35,$E$8)+COUNTIF(I$37:I$60,$E$8)+COUNTIF(I$62:I$86,$E$8)+COUNTIF(I$88:I$117,$E$8) -> 10 | J8: =COUNTIF(J$12:J$35,$E$8)+COUNTIF(J$37:J$60,$E$8)+COUNTIF(J$62:J$86,$E$8)+COUNTIF(J$88:J$117,$E$8) -> 8 | K8: =COUNTIF(K$12:K$35,$E$4)+COUNTIF(K$37:K$60,$E$4)+COUNTIF(K$62:K$86,$E$4)+COUNTIF(K$88:K$117,$E$4) -> 4 | L8: =COUNTIF(L$12:L$35,$E$8)+COUNTIF(L$37:L$60,$E$8)+COUNTIF(L$62:L$86,$E$8)+COUNTIF(L$88:L$117,$E$8) -> 6 | M8: =SUM(F8:L8) -> 48
B9: Total période | E9: 6 | F9: =COUNTIF(F$12:F$35,$E$9)+COUNTIF(F$37:F$60,$E$9)+COUNTIF(F$62:F$86,$E$9)+COUNTIF(F$88:F$117,$E$9) -> 0 | G9: =COUNTIF(G$12:G$35,$E$9)+COUNTIF(G$37:G$60,$E$9)+COUNTIF(G$62:G$86,$E$9)+COUNTIF(G$88:G$117,$E$9) -> 4 | H9: =COUNTIF(H$12:H$35,$E$9)+COUNTIF(H$37:H$60,$E$9)+COUNTIF(H$62:H$86,$E$9)+COUNTIF(H$88:H$117,$E$9) -> 4 | I9: =COUNTIF(I$12:I$35,$E$9)+COUNTIF(I$37:I$60,$E$9)+COUNTIF(I$62:I$86,$E$9)+COUNTIF(I$88:I$117,$E$9) -> 0 | J9: =COUNTIF(J$12:J$35,$E$9)+COUNTIF(J$37:J$60,$E$9)+COUNTIF(J$62:J$86,$E$9)+COUNTIF(J$88:J$117,$E$9) -> 4 | K9: =COUNTIF(K$12:K$35,$E$4)+COUNTIF(K$37:K$60,$E$4)+COUNTIF(K$62:K$86,$E$4)+COUNTIF(K$88:K$117,$E$4) -> 4 | L9: =COUNTIF(L$12:L$35,$E$9)+COUNTIF(L$37:L$60,$E$9)+COUNTIF(L$62:L$86,$E$9)+COUNTIF(L$88:L$117,$E$9) -> 0 | M9: =SUM(F9:L9)+I8 -> 26
B10: Total période | E10: 7 | F10: =COUNTIF(F$12:F$35,$E$10)+COUNTIF(F$37:F$60,$E$10)+COUNTIF(F$62:F$86,$E$10)+COUNTIF(F$88:F$117,$E$10) -> 3 | G10: =COUNTIF(G$12:G$35,$E$10)+COUNTIF(G$37:G$60,$E$10)+COUNTIF(G$62:G$86,$E$10)+COUNTIF(G$88:G$117,$E$10) -> 3 | H10: =COUNTIF(H$12:H$35,$E$10)+COUNTIF(H$37:H$60,$E$10)+COUNTIF(H$62:H$86,$E$10)+COUNTIF(H$88:H$117,$E$10) -> 2 | I10: =COUNTIF(I$12:I$35,$E$10)+COUNTIF(I$37:I$60,$E$10)+COUNTIF(I$62:I$86,$E$10)+COUNTIF(I$88:I$117,$E$10) -> 3 | J10: =COUNTIF(J$12:J$35,$E$10)+COUNTIF(J$37:J$60,$E$10)+COUNTIF(J$62:J$86,$E$10)+COUNTIF(J$88:J$117,$E$10) -> 2 | K10: =COUNTIF(K$12:K$35,$E$4)+COUNTIF(K$37:K$60,$E$4)+COUNTIF(K$62:K$86,$E$4)+COUNTIF(K$88:K$117,$E$4) -> 4 | L10: =COUNTIF(L$12:L$35,$E$10)+COUNTIF(L$37:L$60,$E$10)+COUNTIF(L$62:L$86,$E$10)+COUNTIF(L$88:L$117,$E$10) -> 4 | M10: =SUM(F10:L10) -> 21
A11: Nom | B11: Prénom | C11: Classe | D11: Gpe | E11: Age | F11: Atelier 1 | G11: Atelier 2 | H11: Atelier 3 | I11: Atelier 4 | J11: Atelier 5 | K11: atelier 6 | L11: Atelier 7 | M11: 100
A12: BARBE | B12: Ronan | C12: SP1 | D12: B | E12: 36636 | F12: 1 | G12: 3 | H12: 5 | J12: 4 | L12: 7 | M12: =COUNTA(#REF!)+COUNTIF(F12,"<7")*2+COUNTIF(F12,"=7")+COUNTA(G12)+COUNTA(H12)+COUNTIF(I12,"<7")*2+COUNTIF(I12,"=7")+COUNTA(J12)+COUNTA(L12)+COUNTA(K12)*7 -> 7
A13: BLENNER | B13: Louis | C13: SP1 | D13: B | E13: 36543 | F13: 1 | G13: 6 | H13: 3 | J13: 4 | M13: =COUNTA(#REF!)+COUNTIF(F13,"<7")*2+COUNTIF(F13,"=7")+COUNTA(G13)+COUNTA(H13)+COUNTIF(I13,"<7")*2+COUNTIF(I13,"=7")+COUNTA(J13)+COUNTA(L13)+COUNTA(K13)*7 -> 6
A14: BRABAN | B14: Mélanie | C14: SP1 | D14: B | E14: 36699 | F14: 7 | H14: 1 | I14: 5 | J14: 2 | L14: 3 | M14: =COUNTA(#REF!)+COUNTIF(F14,"<7")*2+COUNTIF(F14,"=7")+COUNTA(G14)+COUNTA(H14)+COUNTIF(I14,"<7")*2+COUNTIF(I14,"=7")+COUNTA(J14)+COUNTA(L14)+COUNTA(K14)*7 -> 7
A15: DABONNEVILLE | B15: Camille | C15: SP1 | D15: B | E15: 36570 | F15: 7 | H15: 1 | I15: 5 | J15: 2 | L15: 3 | M15: =COUNTA(#REF!)+COUNTIF(F15,"<7")*2+COUNTIF(F15,"=7")+COUNTA(G15)+COUNTA(H15)+COUNTIF(I15,"<7")*2+COUNTIF(I15,"=7")+COUNTA(J15)+COUNTA(L15)+COUNTA(K15)*7 -> 7
A16: DELGADO | B16: Nicolas | C16: SP1 | D16: B | E16: 36763 | G16: 6 | H16: 1 | J16: 5 | L16: 3 | M16: =COUNTA(#REF!)+COUNTIF(F16,"<7")*2+COUNTIF(F16,"=7")+COUNTA(G16)+COUNTA(H16)+COUNTIF(I16,"<7")*2+COUNTIF(I16,"=7")+COUNTA(J16)+COUNTA(L16)+COUNTA(K16)*7 -> 5
A17: DIOP | B17: Mariama | C17: SP1 | D17: B | E17: 36105 | G17: 5 | H17: 2 | J17: 6 | L17: 3 | M17: =COUNTA(#REF!)+COUNTIF(F17,"<7")*2+COUNTIF(F17,"=7")+COUNTA(G17)+COUNTA(H17)+COUNTIF(I17,"<7")*2+COUNTIF(I17,"=7")+COUNTA(J17)+COUNTA(L17)+COUNTA(K17)*7 -> 5
A18: DUCASTEL | B18: Teddy | C18: SP1 | D18: B | E18: 36413 | G18: 4 | H18: 7 | J18: 3 | L18: 1 | M18: =COUNTA(#REF!)+COUNTIF(F18,"<7")*2+COUNTIF(F18,"=7")+COUNTA(G18)+COUNTA(H18)+COUNTIF(I18,"<7")*2+COUNTIF(I18,"=7")+COUNTA(J18)+COUNTA(L18)+COUNTA(K18)*7 -> 5
A19: FERREIRA | B19: Marine | C19: SP1 | D19: A | E19: 36820 | F19: 7 | G19: 4 | H19: 3 | J19: 5 | L19: 1 | M19: =COUNTA(#REF!)+COUNTIF(F19,"<7")*2+COUNTIF(F19,"=7")+COUNTA(G19)+COUNTA(H19)+COUNTIF(I19,"<7")*2+COUNTIF(I19,"=7")+COUNTA(J19)+COUNTA(L19)+COUNTA(K19)*7 -> 6
A20: HADDADI | B20: Inès | C20: SP1 | D20: B | E20: 36709 | G20: 2 | I20: 3 | J20: 7 | L20: 5 | M20: =COUNTA(#REF!)+COUNTIF(F20,"<7")*2+COUNTIF(F20,"=7")+COUNTA(G20)+COUNTA(H20)+COUNTIF(I20,"<7")*2+COUNTIF(I20,"=7")+COUNTA(J20)+COUNTA(L20)+COUNTA(K20)*7 -> 6
A21: HOCHET | B21: Julien | C21: SP1 | D21: B | E21: 36879 | G21: 1 | H21: 5 | I21: 3 | J21: 2 | M21: =COUNTA(#REF!)+COUNTIF(F21,"<7")*2+COUNTIF(F21,"=7")+COUNTA(G21)+COUNTA(H21)+COUNTIF(I21,"<7")*2+COUNTIF(I21,"=7")+COUNTA(J21)+COUNTA(L21)+COUNTA(K21)*7 -> 6
A22: KEITA | B22: Sora | C22: SP1 | D22: B | E22: 36161 | F22: 1 | G22: 7 | H22: 6 | I22: 3 | J22: 5 | M22: =COUNTA(#REF!)+COUNTIF(F22,"<7")*2+COUNTIF(F22,"=7")+COUNTA(G22)+COUNTA(H22)+COUNTIF(I22,"<7")*2+COUNTIF(I22,"=7")+COUNTA(J22)+COUNTA(L22)+COUNTA(K22)*7 -> 8
A23: LANCELOT | B23: Maxime | C23: SP1 | D23: B | E23: 36740 | F23: 5 | G23: 1 | H23: 2 | J23: 3 | L23: 7 | M23: =COUNTA(#REF!)+COUNTIF(F23,"<7")*2+COUNTIF(F23,"=7")+COUNTA(G23)+COUNTA(H23)+COUNTIF(I23,"<7")*2+COUNTIF(I23,"=7")+COUNTA(J23)+COUNTA(L23)+COUNTA(K23)*7 -> 7
A24: LLOPIS | B24: Hugo | C24: SP1 | D24: A | E24: 36794 | F24: 1 | G24: 3 | H24: 4 | I24: 7 | J24: 6 | M24: =COUNTA(#REF!)+COUNTIF(F24,"<7")*2+COUNTIF(F24,"=7")+COUNTA(G24)+COUNTA(H24)+COUNTIF(I24,"<7")*2+COUNTIF(I24,"=7")+COUNTA(J24)+COUNTA(L24)+COUNTA(K24)*7 -> 7
A25: LUCCHINACCI | B25: Laetitia | C25: SP1 | D25: A | E25: 36480 | G25: 6 | H25: 4 | J25: 3 | L25: 1 | M25: =COUNTA(#REF!)+COUNTIF(F25,"<7")*2+COUNTIF(F25,"=7")+COUNTA(G25)+COUNTA(H25)+COUNTIF(I25,"<7")*2+COUNTIF(I25,"=7")+COUNTA(J25)+COUNTA(L25)+COUNTA(K25)*7 -> 5
A26: LUNEL | B26: Léa | C26: SP1 | D26: A | E26: 36546 | F26: 3 | G26: 5 | H26: 6 | I26: 7 | J26: 1 | M26: =COUNTA(#REF!)+COUNTIF(F26,"<7")*2+COUNTIF(F26,"=7")+COUNTA(G26)+COUNTA(H26)+COUNTIF(I26,"<7")*2+COUNTIF(I26,"=7")+COUNTA(J26)+COUNTA(L26)+COUNTA(K26)*7 -> 7
A27: MALONGA | B27: Erol | C27: SP1 | D27: A | E27: 36726 | F27: 3 | G27: 1 | H27: 6 | J27: 7 | M27: =COUNTA(#REF!)+COUNTIF(F27,"<7")*2+COUNTIF(F27,"=7")+COUNTA(G27)+COUNTA(H27)+COUNTIF(I27,"<7")*2+COUNTIF(I27,"=7")+COUNTA(J27)+COUNTA(L27)+COUNTA(K27)*7 -> 6
A28: MAREGA | B28: Sékou | C28: SP1 | D28: B | E28: 36853 | G28: 2 | H28: 4 | I28: 7 | J28: 1 | L28: 5 | M28: =COUNTA(#REF!)+COUNTIF(F28,"<7")*2+COUNTIF(F28,"=7")+COUNTA(G28)+COUNTA(H28)+COUNTIF(I28,"<7")*2+COUNTIF(I28,"=7")+COUNTA(J28)+COUNTA(L28)+COUNTA(K28)*7 -> 6
A29: MARX | B29: Louana | C29: SP1 | D29: A | E29: 35582 | K29: 1 | M29: =COUNTA(#REF!)+COUNTIF(F29,"<7")*2+COUNTIF(F29,"=7")+COUNTA(G29)+COUNTA(H29)+COUNTIF(I29,"<7")*2+COUNTIF(I29,"=7")+COUNTA(J29)+COUNTA(L29)+COUNTA(K29)*7 -> 8
A30: MENGUE-ZONO SERGE | B30: Noëdhy | C30: SP1 | D30: A | E30: 36418 | G30: 3 | H30: 5 | I30: 1 | J30: 4 | L30: 7 | M30: =COUNTA(#REF!)+COUNTIF(F30,"<7")*2+COUNTIF(F30,"=7")+COUNTA(G30)+COUNTA(H30)+COUNTIF(I30,"<7")*2+COUNTIF(I30,"=7")+COUNTA(J30)+COUNTA(L30)+COUNTA(K30)*7 -> 7
A31: MOUZITA | B31: Audrey | C31: SP1 | D31: A | E31: 36405 | F31: 5 | G31: 7 | H31: 3 | I31: 1 | M31: =COUNTA(#REF!)+COUNTIF(F31,"<7")*2+COUNTIF(F31,"=7")+COUNTA(G31)+COUNTA(H31)+COUNTIF(I31,"<7")*2+COUNTIF(I31,"=7")+COUNTA(J31)+COUNTA(L31)+COUNTA(K31)*7 -> 7
A32: OYAHYA | B32: Syham | C32: SP1 | D32: A | E32: 36388 | F32: 3 | G32: 7 | I32: 5 | L32: 1 | M32: =COUNTA(#REF!)+COUNTIF(F32,"<7")*2+COUNTIF(F32,"=7")+COUNTA(G32)+COUNTA(H32)+COUNTIF(I32,"<7")*2+COUNTIF(I32,"=7")+COUNTA(J32)+COUNTA(L32)+COUNTA(K32)*7 -> 7
A33: SAUVEY | B33: Mélissa | C33: SP1 | D33: A | E33: 36249 | G33: 5 | H33: 2 | I33: 3 | J33: 6 | L33: 7 | M33: =COUNTA(#REF!)+COUNTIF(F33,"<7")*2+COUNTIF(F33,"=7")+COUNTA(G33)+COUNTA(H33)+COUNTIF(I33,"<7")*2+COUNTIF(I33,"=7")+COUNTA(J33)+COUNTA(L33)+COUNTA(K33)*7 -> 7
A34: SISSOKO | B34: Aisseta | C34: SP1 | D34: A | E34: 36578 | F34: 5 | G34: 4 | I34: 1 | M34: =COUNTA(#REF!)+COUNTIF(F34,"<7")*2+COUNTIF(F34,"=7")+COUNTA(G34)+COUNTA(H34)+COUNTIF(I34,"<7")*2+COUNTIF(I34,"=7")+COUNTA(J34)+COUNTA(L34)+COUNTA(K34)*7 -> 6
A35: TAURINO | B35: Laura | C35: SP1 | D35: A | E35: 36776 | F35: 3 | G35: 2 | H35: 7 | J35: 1 | L35: 5 | M35: =COUNTA(#REF!)+COUNTIF(F35,"<7")*2+COUNTIF(F35,"=7")+COUNTA(G35)+COUNTA(H35)+COUNTIF(I35,"<7")*2+COUNTIF(I35,"=7")+COUNTA(J35)+COUNTA(L35)+COUNTA(K35)*7 -> 7
A36: Total | C36: SP1 | D36: =COUNTA(A12:A35) -> 24 | E36: =SUM(F36:L36) -> 21 | F36: =COUNTIF(F12:F35,1) -> 4 | G36: =COUNTIF(G12:G35,1) -> 3 | H36: =COUNTIF(H12:H35,1) -> 3 | I36: =COUNTIF(I12:I35,1) -> 3 | J36: =COUNTIF(J12:J35,1) -> 3 | K36: =COUNTIF(K12:K35,1) -> 1 | L36: =COUNTIF(L12:L35,1) -> 4
A37: AIT OUMGHAR | B37: Dalila | C37: SP2 | D37: B | E37: 36886 | F37: 3 | I37: 5 | L37: 1 | M37: =COUNTA(#REF!)+COUNTIF(F37,"<7")*2+COUNTIF(F37,"=7")+COUNTA(G37)+COUNTA(H37)+COUNTIF(I37,"<7")*2+COUNTIF(I37,"=7")+COUNTA(J37)+COUNTA(L37)+COUNTA(K37)*7 -> 6
A38: ALAND | B38: Damien | C38: SP2 | D38: A | E38: 36162 | H38: 1 | I38: 3 | J38: 2 | M38: =COUNTA(#REF!)+COUNTIF(F38,"<7")*2+COUNTIF(F38,"=7")+COUNTA(G38)+COUNTA(H38)+COUNTIF(I38,"<7")*2+COUNTIF(I38,"=7")+COUNTA(J38)+COUNTA(L38)+COUNTA(K38)*7 -> 5
A39: BORIES | B39: Lucille | C39: SP2 | D39: A | E39: 36614 | I39: 1 | J39: 5 | L39: 3 | M39: =COUNTA(#REF!)+COUNTIF(F39,"<7")*2+COUNTIF(F39,"=7")+COUNTA(G39)+COUNTA(H39)+COUNTIF(I39,"<7")*2+COUNTIF(I39,"=7")+COUNTA(J39)+COUNTA(L39)+COUNTA(K39)*7 -> 5
A40: BROYON | B40: Hugo | C40: SP2 | D40: A | E40: 36836 | H40: 3 | I40: 1 | J40: 4 | M40: =COUNTA(#REF!)+COUNTIF(F40,"<7")*2+COUNTIF(F40,"=7")+COUNTA(G40)+COUNTA(H40)+COUNTIF(I40,"<7")*2+COUNTIF(I40,"=7")+COUNTA(J40)+COUNTA(L40)+COUNTA(K40)*7 -> 5
A41: CAFFIN | B41: Lisa | C41: SP2 | D41: A | E41: 36487 | I41: 3 | J41: 5 | L41: 1 | M41: =COUNTA(#REF!)+COUNTIF(F41,"<7")*2+COUNTIF(F41,"=7")+COUNTA(G41)+COUNTA(H41)+COUNTIF(I41,"<7")*2+COUNTIF(I41,"=7")+COUNTA(J41)+COUNTA(L41)+COUNTA(K41)*7 -> 5
A42: COULIOU | B42: Florian | C42: SP2 | D42: A | E42: 36353 | F42: 3 | G42: 1 | I42: 5 | J42: 2 | M42: =COUNTA(#REF!)+COUNTIF(F42,"<7")*2+COUNTIF(F42,"=7")+COUNTA(G42)+COUNTA(H42)+COUNTIF(I42,"<7")*2+COUNTIF(I42,"=7")+COUNTA(J42)+COUNTA(L42)+COUNTA(K42)*7 -> 7
A43: DJEDIDI | B43: Nassim | C43: SP2 | D43: A | E43: 36428 | F43: 3 | I43: 5 | L43: 1 | M43: =COUNTA(#REF!)+COUNTIF(F43,"<7")*2+COUNTIF(F43,"=7")+COUNTA(G43)+COUNTA(H43)+COUNTIF(I43,"<7")*2+COUNTIF(I43,"=7")+COUNTA(J43)+COUNTA(L43)+COUNTA(K43)*7 -> 6
A44: DO PACO DA CRUZ | B44: Andrea | C44: SP2 | D44: A | E44: 36726 | F44: 1 | G44: 6 | J44: 5 | L44: 3 | M44: =COUNTA(#REF!)+COUNTIF(F44,"<7")*2+COUNTIF(F44,"=7")+COUNTA(G44)+COUNTA(H44)+COUNTIF(I44,"<7")*2+COUNTIF(I44,"=7")+COUNTA(J44)+COUNTA(L44)+COUNTA(K44)*7 -> 6
A45: FERREIRA | B45: Thomas | C45: SP2 | D45: A | E45: 36800 | G45: 2 | H45: 1 | J45: 3 | M45: =COUNTA(#REF!)+COUNTIF(F45,"<7")*2+COUNTIF(F45,"=7")+COUNTA(G45)+COUNTA(H45)+COUNTIF(I45,"<7")*2+COUNTIF(I45,"=7")+COUNTA(J45)+COUNTA(L45)+COUNTA(K45)*7 -> 4
A46: FUMEL | B46: Lea | C46: SP2 | D46: B | E46: 36263 | G46: 5 | H46: 4 | I46: 1 | J46: 3 | M46: =COUNTA(#REF!)+COUNTIF(F46,"<7")*2+COUNTIF(F46,"=7")+COUNTA(G46)+COUNTA(H46)+COUNTIF(I46,"<7")*2+COUNTIF(I46,"=7")+COUNTA(J46)+COUNTA(L46)+COUNTA(K46)*7 -> 6
A47: GONDLACH | B47: Jessica | C47: SP2 | D47: B | E47: 36562 | G47: 3 | H47: 1 | J47: 2 | M47: =COUNTA(#REF!)+COUNTIF(F47,"<7")*2+COUNTIF(F47,"=7")+COUNTA(G47)+COUNTA(H47)+COUNTIF(I47,"<7")*2+COUNTIF(I47,"=7")+COUNTA(J47)+COUNTA(L47)+COUNTA(K47)*7 -> 4
A48: GUEREVE | B48: Wandé | C48: SP2 | D48: B | E48: 36418 | K48: 1 | M48: =COUNTA(#REF!)+COUNTIF(F48,"<7")*2+COUNTIF(F48,"=7")+COUNTA(G48)+COUNTA(H48)+COUNTIF(I48,"<7")*2+COUNTIF(I48,"=7")+COUNTA(J48)+COUNTA(L48)+COUNTA(K48)*7 -> 8
A49: HUSSAIN | B49: Shabbir | C49: SP2 | D49: A | E49: 36595 | F49: 1 | G49: 5 | H49: 6 | I49: 3 | M49: =COUNTA(#REF!)+COUNTIF(F49,"<7")*2+COUNTIF(F49,"=7")+COUNTA(G49)+COUNTA(H49)+COUNTIF(I49,"<7")*2+COUNTIF(I49,"=7")+COUNTA(J49)+COUNTA(L49)+COUNTA(K49)*7 -> 7
A50: KOUADIO | B50: Ohinané | C50: SP2 | D50: A | E50: 36095 | G50: 3 | H50: 4 | I50: 1 | M50: =COUNTA(#REF!)+COUNTIF(F50,"<7")*2+COUNTIF(F50,"=7")+COUNTA(G50)+COUNTA(H50)+COUNTIF(I50,"<7")*2+COUNTIF(I50,"=7")+COUNTA(J50)+COUNTA(L50)+COUNTA(K50)*7 -> 5
A51: LOPEZ NAVARRO | B51: Morgane | C51: SP2 | D51: B | E51: 36548 | G51: 1 | H51: 2 | J51: 3 | M51: =COUNTA(#REF!)+COUNTIF(F51,"<7")*2+COUNTIF(F51,"=7")+COUNTA(G51)+COUNTA(H51)+COUNTIF(I51,"<7")*2+COUNTIF(I51,"=7")+COUNTA(J51)+COUNTA(L51)+COUNTA(K51)*7 -> 4
A52: MONTOUT | B52: Dylan | C52: SP2 | D52: B | E52: 36785 | F52: 1 | G52: 3 | J52: 4 | M52: =COUNTA(#REF!)+COUNTIF(F52,"<7")*2+COUNTIF(F52,"=7")+COUNTA(G52)+COUNTA(H52)+COUNTIF(I52,"<7")*2+COUNTIF(I52,"=7")+COUNTA(J52)+COUNTA(L52)+COUNTA(K52)*7 -> 5
A53: MOREL | B53: Amandine | C53: SP2 | D53: A | E53: 36552 | G53: 2 | H53: 1 | I53: 3 | M53: =COUNTA(#REF!)+COUNTIF(F53,"<7")*2+COUNTIF(F53,"=7")+COUNTA(G53)+COUNTA(H53)+COUNTIF(I53,"<7")*2+COUNTIF(I53,"=7")+COUNTA(J53)+COUNTA(L53)+COUNTA(K53)*7 -> 5
A54: NDONG MEMIAGHE | B54: Magalie | C54: SP2 | D54: A | E54: 35531 | K54: 1 | M54: =COUNTA(#REF!)+COUNTIF(F54,"<7")*2+COUNTIF(F54,"=7")+COUNTA(G54)+COUNTA(H54)+COUNTIF(I54,"<7")*2+COUNTIF(I54,"=7")+COUNTA(J54)+COUNTA(L54)+COUNTA(K54)*7 -> 8
A55: PEREIRA BARBOSA | B55: Marline | C55: SP2 | D55: B | E55: 36207 | G55: 1 | H55: 2 | L55: 3 | M55: =COUNTA(#REF!)+COUNTIF(F55,"<7")*2+COUNTIF(F55,"=7")+COUNTA(G55)+COUNTA(H55)+COUNTIF(I55,"<7")*2+COUNTIF(I55,"=7")+COUNTA(J55)+COUNTA(L55)+COUNTA(K55)*7 -> 4
A56: SAAVEDRA | B56: Aymeric | C56: SP2 | D56: B | E56: 36572 | G56: 3 | H56: 2 | J56: 1 | M56: =COUNTA(#REF!)+COUNTIF(F56,"<7")*2+COUNTIF(F56,"=7")+COUNTA(G56)+COUNTA(H56)+COUNTIF(I56,"<7")*2+COUNTIF(I56,"=7")+COUNTA(J56)+COUNTA(L56)+COUNTA(K56)*7 -> 4
A57: STOLL | B57: Laura | C57: SP2 | D57: B | E57: 36871 | G57: 2 | H57: 3 | I57: 5 | J57: 1 | M57: =COUNTA(#REF!)+COUNTIF(F57,"<7")*2+COUNTIF(F57,"=7")+COUNTA(G57)+COUNTA(H57)+COUNTIF(I57,"<7")*2+COUNTIF(I57,"=7")+COUNTA(J57)+COUNTA(L57)+COUNTA(K57)*7 -> 6
A58: TAMIMUL | B58: Muksith | C58: SP2 | D58: B | E58: 36416 | G58: 5 | H58: 4 | J58: 3 | L58: 1 | M58: =COUNTA(#REF!)+COUNTIF(F58,"<7")*2+COUNTIF(F58,"=7")+COUNTA(G58)+COUNTA(H58)+COUNTIF(I58,"<7")*2+COUNTIF(I58,"=7")+COUNTA(J58)+COUNTA(L58)+COUNTA(K58)*7 -> 5
A59: VIRAPIN | B59: Dennis | C59: SP2 | D59: B | E59: 36532 | F59: 1 | H59: 5 | J59: 6 | L59: 3 | M59: =COUNTA(#REF!)+COUNTIF(F59,"<7")*2+COUNTIF(F59,"=7")+COUNTA(G59)+COUNTA(H59)+COUNTIF(I59,"<7")*2+COUNTIF(I59,"=7")+COUNTA(J59)+COUNTA(L59)+COUNTA(K59)*7 -> 6
A60: ZOUAID | B60: Ibtissam | C60: SP2 | D60: B | E60: 36763 | F60: 3 | H60: 2 | J60: 1 | M60: =COUNTA(#REF!)+COUNTIF(F60,"<7")*2+COUNTIF(F60,"=7")+COUNTA(G60)+COUNTA(H60)+COUNTIF(I60,"<7")*2+COUNTIF(I60,"=7")+COUNTA(J60)+COUNTA(L60)+COUNTA(K60)*7 -> 5
A61: Total | C61: SP2 | D61: =COUNTA(A37:A60) -> 24 | E61: =SUM(F61:L61) -> 24 | F61: =COUNTIF(F37:F60,1) -> 4 | G61: =COUNTIF(G37:G60,1) -> 3 | H61: =COUNTIF(H37:H60,1) -> 4 | I61: =COUNTIF(I37:I60,1) -> 4 | J61: =COUNTIF(J37:J60,1) -> 3 | K61: =COUNTIF(K37:K60,1) -> 2 | L61: =COUNTIF(L37:L60,1) -> 4
A62: ALIAS | B62: Arnaud | C62: SP3 | D62: A | E62: 36586 | F62: 1 | I62: 3 | M62: =COUNTA(#REF!)+COUNTIF(F62,"<7")*2+COUNTIF(F62,"=7")+COUNTA(G62)+COUNTA(H62)+COUNTIF(I62,"<7")*2+COUNTIF(I62,"=7")+COUNTA(J62)+COUNTA(L62)+COUNTA(K62)*7 -> 5
A63: BLANCHET | B63: Teddy | C63: SP3 | D63: B | E63: 36334 | M63: =COUNTA(#REF!)+COUNTIF(F63,"<7")*2+COUNTIF(F63,"=7")+COUNTA(G63)+COUNTA(H63)+COUNTIF(I63,"<7")*2+COUNTIF(I63,"=7")+COUNTA(J63)+COUNTA(L63)+COUNTA(K63)*7 -> 1
A64: BOUTERFAS | B64: Sabrina | C64: SP3 | D64: A | E64: 36222 | F64: 2 | H64: 1 | M64: =COUNTA(#REF!)+COUNTIF(F64,"<7")*2+COUNTIF(F64,"=7")+COUNTA(G64)+COUNTA(H64)+COUNTIF(I64,"<7")*2+COUNTIF(I64,"=7")+COUNTA(J64)+COUNTA(L64)+COUNTA(K64)*7 -> 4
A65: COVINDARASSOU | B65: Divya Bharathi | C65: SP3 | D65: A | E65: 36363 | K65: 1 | M65: =COUNTA(#REF!)+COUNTIF(F65,"<7")*2+COUNTIF(F65,"=7")+COUNTA(G65)+COUNTA(H65)+COUNTIF(I65,"<7")*2+COUNTIF(I65,"=7")+COUNTA(J65)+COUNTA(L65)+COUNTA(K65)*7 -> 8
A66: DAMAY | B66: Tiffany | C66: SP3 | D66: B | E66: 36510 | F66: 1 | J66: 3 | M66: =COUNTA(#REF!)+COUNTIF(F66,"<7")*2+COUNTIF(F66,"=7")+COUNTA(G66)+COUNTA(H66)+COUNTIF(I66,"<7")*2+COUNTIF(I66,"=7")+COUNTA(J66)+COUNTA(L66)+COUNTA(K66)*7 -> 4
A67: DIAS | B67: Victoria | C67: SP3 | D67: A | E67: 36872 | I67: 1 | L67: 3 | M67: =COUNTA(#REF!)+COUNTIF(F67,"<7")*2+COUNTIF(F67,"=7")+COUNTA(G67)+COUNTA(H67)+COUNTIF(I67,"<7")*2+COUNTIF(I67,"=7")+COUNTA(J67)+COUNTA(L67)+COUNTA(K67)*7 -> 4
A68: DUCROCQ | B68: Mélissa | C68: SP3 | D68: B | E68: 36832 | F68: 2 | J68: 1 | M68: =COUNTA(#REF!)+COUNTIF(F68,"<7")*2+COUNTIF(F68,"=7")+COUNTA(G68)+COUNTA(H68)+COUNTIF(I68,"<7")*2+COUNTIF(I68,"=7")+COUNTA(J68)+COUNTA(L68)+COUNTA(K68)*7 -> 4
A69: FATREZ | B69: Pauline | C69: SP3 | D69: A | E69: 36474 | I69: 1 | J69: 3 | M69: =COUNTA(#REF!)+COUNTIF(F69,"<7")*2+COUNTIF(F69,"=7")+COUNTA(G69)+COUNTA(H69)+COUNTIF(I69,"<7")*2+COUNTIF(I69,"=7")+COUNTA(J69)+COUNTA(L69)+COUNTA(K69)*7 -> 4
A70: FELIX | B70: Ludovic | C70: SP3 | D70: B | E70: 36459 | F70: 1 | H70: 3 | M70: =COUNTA(#REF!)+COUNTIF(F70,"<7")*2+COUNTIF(F70,"=7")+COUNTA(G70)+COUNTA(H70)+COUNTIF(I70,"<7")*2+COUNTIF(I70,"=7")+COUNTA(J70)+COUNTA(L70)+COUNTA(K70)*7 -> 4
A71: FOSSE | B71: Charlotte | C71: SP3 | D71: A | E71: 36486 | F71: 2 | H71: 1 | M71: =COUNTA(#REF!)+COUNTIF(F71,"<7")*2+COUNTIF(F71,"=7")+COUNTA(G71)+COUNTA(H71)+COUNTIF(I71,"<7")*2+COUNTIF(I71,"=7")+COUNTA(J71)+COUNTA(L71)+COUNTA(K71)*7 -> 4
A72: FRAGOSO | B72: Kahlan | C72: SP3 | D72: A | E72: 36834 | H72: 1 | J72: 2 | M72: =COUNTA(#REF!)+COUNTIF(F72,"<7")*2+COUNTIF(F72,"=7")+COUNTA(G72)+COUNTA(H72)+COUNTIF(I72,"<7")*2+COUNTIF(I72,"=7")+COUNTA(J72)+COUNTA(L72)+COUNTA(K72)*7 -> 3
A73: GIBIERGE | B73: Christian | C73: SP3 | D73: B | E73: 35805 | G73: 3 | L73: 1 | M73: =COUNTA(#REF!)+COUNTIF(F73,"<7")*2+COUNTIF(F73,"=7")+COUNTA(G73)+COUNTA(H73)+COUNTIF(I73,"<7")*2+COUNTIF(I73,"=7")+COUNTA(J73)+COUNTA(L73)+COUNTA(K73)*7 -> 3
A74: LACROIX | B74: Célia | C74: SP3 | D74: B | E74: 36407 | F74: 3 | I74: 1 | M74: =COUNTA(#REF!)+COUNTIF(F74,"<7")*2+COUNTIF(F74,"=7")+COUNTA(G74)+COUNTA(H74)+COUNTIF(I74,"<7")*2+COUNTIF(I74,"=7")+COUNTA(J74)+COUNTA(L74)+COUNTA(K74)*7 -> 5
A75: MARCEL | B75: Camille | C75: SP3 | D75: A | E75: 36711 | F75: 1 | I75: 3 | M75: =COUNTA(#REF!)+COUNTIF(F75,"<7")*2+COUNTIF(F75,"=7")+COUNTA(G75)+COUNTA(H75)+COUNTIF(I75,"<7")*2+COUNTIF(I75,"=7")+COUNTA(J75)+COUNTA(L75)+COUNTA(K75)*7 -> 5
A76: MARCHAL | B76: Alban | C76: SP3 | D76: A | E76: 36609 | M76: =COUNTA(#REF!)+COUNTIF(F76,"<7")*2+COUNTIF(F76,"=7")+COUNTA(G76)+COUNTA(H76)+COUNTIF(I76,"<7")*2+COUNTIF(I76,"=7")+COUNTA(J76)+COUNTA(L76)+COUNTA(K76)*7 -> 1
A77: MATERA | B77: Dhune | C77: SP3 | D77: B | E77: 36889 | M77: =COUNTA(#REF!)+COUNTIF(F77,"<7")*2+COUNTIF(F77,"=7")+COUNTA(G77)+COUNTA(H77)+COUNTIF(I77,"<7")*2+COUNTIF(I77,"=7")+COUNTA(J77)+COUNTA(L77)+COUNTA(K77)*7 -> 1
A78: MAYEUX | B78: Thibaut | C78: SP3 | D78: A | E78: 36876 | M78: =COUNTA(#REF!)+COUNTIF(F78,"<7")*2+COUNTIF(F78,"=7")+COUNTA(G78)+COUNTA(H78)+COUNTIF(I78,"<7")*2+COUNTIF(I78,"=7")+COUNTA(J78)+COUNTA(L78)+COUNTA(K78)*7 -> 1
A79: MIFUNINI | B79: Sylvere | C79: SP3 | D79: B | E79: 36767 | M79: =COUNTA(#REF!)+COUNTIF(F79,"<7")*2+COUNTIF(F79,"=7")+COUNTA(G79)+COUNTA(H79)+COUNTIF(I79,"<7")*2+COUNTIF(I79,"=7")+COUNTA(J79)+COUNTA(L79)+COUNTA(K79)*7 -> 1
A80: NKANSAH | B80: Dennis | C80: SP3 | D80: B | E80: 36151 | M80: =COUNTA(#REF!)+COUNTIF(F80,"<7")*2+COUNTIF(F80,"=7")+COUNTA(G80)+COUNTA(H80)+COUNTIF(I80,"<7")*2+COUNTIF(I80,"=7")+COUNTA(J80)+COUNTA(L80)+COUNTA(K80)*7 -> 1
A81: NSUNGU | B81: Peter | C81: SP3 | D81: A | E81: 36598 | M81: =COUNTA(#REF!)+COUNTIF(F81,"<7")*2+COUNTIF(F81,"=7")+COUNTA(G81)+COUNTA(H81)+COUNTIF(I81,"<7")*2+COUNTIF(I81,"=7")+COUNTA(J81)+COUNTA(L81)+COUNTA(K81)*7 -> 1
A82: PORTE | B82: Laura | C82: SP3 | D82: B | E82: 36666 | M82: =COUNTA(#REF!)+COUNTIF(F82,"<7")*2+COUNTIF(F82,"=7")+COUNTA(G82)+COUNTA(H82)+COUNTIF(I82,"<7")*2+COUNTIF(I82,"=7")+COUNTA(J82)+COUNTA(L82)+COUNTA(K82)*7 -> 1
A83: SUDAGARAN | B83: Evangéline | C83: SP3 | D83: B | E83: 36596 | M83: =COUNTA(#REF!)+COUNTIF(F83,"<7")*2+COUNTIF(F83,"=7")+COUNTA(G83)+COUNTA(H83)+COUNTIF(I83,"<7")*2+COUNTIF(I83,"=7")+COUNTA(J83)+COUNTA(L83)+COUNTA(K83)*7 -> 1
A84: SYMKANYCH | B84: Laura | C84: SP3 | D84: A | E84: 36593 | M84: =COUNTA(#REF!)+COUNTIF(F84,"<7")*2+COUNTIF(F84,"=7")+COUNTA(G84)+COUNTA(H84)+COUNTIF(I84,"<7")*2+COUNTIF(I84,"=7")+COUNTA(J84)+COUNTA(L84)+COUNTA(K84)*7 -> 1
C85: SP3 | M85: =COUNTA(#REF!)+COUNTIF(F85,"<7")*2+COUNTIF(F85,"=7")+COUNTA(G85)+COUNTA(H85)+COUNTIF(I85,"<7")*2+COUNTIF(I85,"=7")+COUNTA(J85)+COUNTA(L85)+COUNTA(K85)*7 -> 1
C86: SP3 | M86: =COUNTA(#REF!)+COUNTIF(F86,"<7")*2+COUNTIF(F86,"=7")+COUNTA(G86)+COUNTA(H86)+COUNTIF(I86,"<7")*2+COUNTIF(I86,"=7")+COUNTA(J86)+COUNTA(L86)+COUNTA(K86)*7 -> 1
A87: Total | C87: SP3 | D87: =COUNTA(A62:A86) -> 23 | E87: =SUM(F87:L87) -> 13 | F87: =COUNTIF(F62:F86,1) -> 4 | G87: =COUNTIF(G62:G86,1) -> 0 | H87: =COUNTIF(H62:H86,1) -> 3 | I87: =COUNTIF(I62:I86,1) -> 3 | J87: =COUNTIF(J62:J86,1) -> 1 | K87: =COUNTIF(K62:K86,1) -> 1 | L87: =COUNTIF(L62:L86,1) -> 1
A88: ADOUM | B88: Peji | C88: SGA | D88: A | E88: 36568 | F88: 3 | G88: 5 | L88: 1 | M88: =COUNTA(#REF!)+COUNTIF(F88,"<7")*2+COUNTIF(F88,"=7")+COUNTA(G88)+COUNTA(H88)+COUNTIF(I88,"<7")*2+COUNTIF(I88,"=7")+COUNTA(J88)+COUNTA(L88)+COUNTA(K88)*7 -> 5
A89: AMALOUA | B89: Amine | C89: SGA | D89: A | E89: 36502 | G89: 5 | H89: 1 | I89: 3 | J89: 2 | M89: =COUNTA(#REF!)+COUNTIF(F89,"<7")*2+COUNTIF(F89,"=7")+COUNTA(G89)+COUNTA(H89)+COUNTIF(I89,"<7")*2+COUNTIF(I89,"=7")+COUNTA(J89)+COUNTA(L89)+COUNTA(K89)*7 -> 6
A90: AZIZ | B90: Lydia | C90: SGA | D90: A | E90: 36312 | F90: 3 | H90: 5 | L90: 1 | M90: =COUNTA(#REF!)+COUNTIF(F90,"<7")*2+COUNTIF(F90,"=7")+COUNTA(G90)+COUNTA(H90)+COUNTIF(I90,"<7")*2+COUNTIF(I90,"=7")+COUNTA(J90)+COUNTA(L90)+COUNTA(K90)*7 -> 5
A91: BELARBIA | B91: Artwen | C91: SGA | D91: B | E91: 09/10/1998 | I91: 1 | J91: 5 | L91: 3 | M91: =COUNTA(#REF!)+COUNTIF(F91,"<7")*2+COUNTIF(F91,"=7")+COUNTA(G91)+COUNTA(H91)+COUNTIF(I91,"<7")*2+COUNTIF(I91,"=7")+COUNTA(J91)+COUNTA(L91)+COUNTA(K91)*7 -> 5
A92: BONNETERRE | B92: Julie | C92: SGA | D92: B | E92: 36830 | G92: 5 | H92: 1 | I92: 3 | J92: 2 | M92: =COUNTA(#REF!)+COUNTIF(F92,"<7")*2+COUNTIF(F92,"=7")+COUNTA(G92)+COUNTA(H92)+COUNTIF(I92,"<7")*2+COUNTIF(I92,"=7")+COUNTA(J92)+COUNTA(L92)+COUNTA(K92)*7 -> 6
A93: DEROUBAIX | B93: Nathan | C93: SGA | D93: A | E93: 36255 | F93: 1 | H93: 5 | L93: 3 | M93: =COUNTA(#REF!)+COUNTIF(F93,"<7")*2+COUNTIF(F93,"=7")+COUNTA(G93)+COUNTA(H93)+COUNTIF(I93,"<7")*2+COUNTIF(I93,"=7")+COUNTA(J93)+COUNTA(L93)+COUNTA(K93)*7 -> 5
A94: DIALLO | B94: Sory | C94: SGA | D94: B | E94: 36196 | G94: 1 | K94: 2 | M94: =COUNTA(#REF!)+COUNTIF(F94,"<7")*2+COUNTIF(F94,"=7")+COUNTA(G94)+COUNTA(H94)+COUNTIF(I94,"<7")*2+COUNTIF(I94,"=7")+COUNTA(J94)+COUNTA(L94)+COUNTA(K94)*7 -> 9
A95: DJIKPE | B95: Essenam | C95: SGA | D95: A | E95: 35584 | G95: 1 | K95: 2 | M95: =COUNTA(#REF!)+COUNTIF(F95,"<7")*2+COUNTIF(F95,"=7")+COUNTA(G95)+COUNTA(H95)+COUNTIF(I95,"<7")*2+COUNTIF(I95,"=7")+COUNTA(J95)+COUNTA(L95)+COUNTA(K95)*7 -> 9
A96: GRASSE | B96: Kandjura Diabi | C96: SGA | D96: A | E96: 36134 | F96: 3 | H96: 1 | J96: 2 | L96: 5 | M96: =COUNTA(#REF!)+COUNTIF(F96,"<7")*2+COUNTIF(F96,"=7")+COUNTA(G96)+COUNTA(H96)+COUNTIF(I96,"<7")*2+COUNTIF(I96,"=7")+COUNTA(J96)+COUNTA(L96)+COUNTA(K96)*7 -> 6
A97: HEURTELOUP | B97: Olivia | C97: SGA | D97: B | E97: 36597 | F97: 3 | I97: 1 | J97: 5 | M97: =COUNTA(#REF!)+COUNTIF(F97,"<7")*2+COUNTIF(F97,"=7")+COUNTA(G97)+COUNTA(H97)+COUNTIF(I97,"<7")*2+COUNTIF(I97,"=7")+COUNTA(J97)+COUNTA(L97)+COUNTA(K97)*7 -> 6
A98: KACEMI-LATRECHE | B98: Jasmine | C98: SGA | D98: B | E98: 36641 | F98: 1 | H98: 4 | J98: 3 | L98: 5 | M98: =COUNTA(#REF!)+COUNTIF(F98,"<7")*2+COUNTIF(F98,"=7")+COUNTA(G98)+COUNTA(H98)+COUNTIF(I98,"<7")*2+COUNTIF(I98,"=7")+COUNTA(J98)+COUNTA(L98)+COUNTA(K98)*7 -> 6
A99: KANOUTE | B99: Alhassana | C99: SGA | D99: B | E99: 36384 | G99: 4 | H99: 5 | J99: 3 | L99: 1 | M99: =COUNTA(#REF!)+COUNTIF(F99,"<7")*2+COUNTIF(F99,"=7")+COUNTA(G99)+COUNTA(H99)+COUNTIF(I99,"<7")*2+COUNTIF(I99,"=7")+COUNTA(J99)+COUNTA(L99)+COUNTA(K99)*7 -> 5
A100: KARI | B100: Mohamed | C100: SGA | D100: A | E100: 08/02/2000 | F100: 3 | G100: 5 | L100: 1 | M100: =COUNTA(#REF!)+COUNTIF(F100,"<7")*2+COUNTIF(F100,"=7")+COUNTA(G100)+COUNTA(H100)+COUNTIF(I100,"<7")*2+COUNTIF(I100,"=7")+COUNTA(J100)+COUNTA(L100)+COUNTA(K100)*7 -> 5
A101: KEDIS | B101: Marie Elisabeth | C101: SGA | D101: B | E101: 36505 | G101: 2 | H101: 1 | L101: 3 | M101: =COUNTA(#REF!)+COUNTIF(F101,"<7")*2+COUNTIF(F101,"=7")+COUNTA(G101)+COUNTA(H101)+COUNTIF(I101,"<7")*2+COUNTIF(I101,"=7")+COUNTA(J101)+COUNTA(L101)+COUNTA(K101)*7 -> 4
...

Sheet période 1
A1: 1 | F1: AP 2nde du 28 sep au 16 oct 2015
F3: ATELIER
F4: App à app Chardonnet/Couplan | H4: Com & cult bilingue Tamir/Defontaine | J4: Lire une consigne Moulart/Bordes | L4: Prise de confiance Denisse/Berthe | N4: Lire, dire et écrire des contes Doremus/Lestrade | P4: FLE Ibanez/Authiat | R4: ROLL Abara/Floirac
F5: 6 semaines / C15 | H5: 3 semaines / C27 | J5: 3 semaines / C14 | L5: 6 semaines / B37 | N5: 3 semaines / R32 | P5: tte l'année / C03 | R5: 6 semaines / B32 | T5: Total
B6: Total période | E6: 2 | F6: =COUNTIF('AP 2nde'!F12:F35,$A$1)+COUNTIF('AP 2nde'!F37:F60,$A$1)+COUNTIF('AP 2nde'!F62:F86,$A$1)+COUNTIF('AP 2nde'!F88:F117,$A$1) -> 18 | G6: Classe | H6: =COUNTIF(H7:H21,"*") -> 13 | I6: Classe | J6: =COUNTIF(J7:J30,"*") -> 14 | K6: Classe | L6: =COUNTIF(L7:L21,"*") -> 14 | M6: Classe | N6: =COUNTIF(N7:N22,"*") -> 12 | O6: Classe | P6: =COUNTIF(P7:P21,"*") -> 6 | Q6: Classe | R6: =COUNTIF(R7:R20,"*") -> 14 | S6: Classe | T6: =SUM(F6:R6) -> 91 | V6: =COUNTIF($B$1:B1,"="&$C$1)*(B1=$C$1) -> 1 | X6: =IFERROR(OFFSET($A$1:$A$4,MATCH(ROW(),$D$1:$D$4,0)-1,0,1,1),"")
B7: =IF('AP 2nde'!F12='période 1'!$A$1,ROW(),"") -> 7 | F7: =IF('AP 2nde'!F12='période 1'!$A$1,'AP 2nde'!A12,"") -> BARBE | G7: SP1 | H7: BARBE | I7: SP1 | J7: BRABAN | K7: SP1 | L7: MOUZITA | M7: SP1 | N7: LUNEL | O7: SP1 | P7: MARX | Q7: SP1 | R7: DUCASTEL | S7: SP1 | V7: =COUNTIF($B$1:B2,"="&$C$1)*(B2=$C$1) -> 2 | X7: =IFERROR(OFFSET($A$1:$A$4,MATCH(ROW(),$D$1:$D$4,0)-1,0,1,1),"")
B8: =IF('AP 2nde'!F13='période 1'!$A$1,ROW(),"") -> 8 | F8: =IF('AP 2nde'!F13='période 1'!$A$1,'AP 2nde'!A13,"") -> BLENNER | G8: SP1 | H8: HOCHET | I8: SP1 | J8: DABONNEVILLE | K8: SP1 | L8: SISSOKO | M8: SP1 | N8: MAREGA | O8: SP1 | P8: HUSSAIN | Q8: SP2 | R8: FERREIRA | S8: SP1 | V8: =COUNTIF($B$1:B3,"="&$C$1)*(B3=$C$1) -> 3 | X8: =IFERROR(OFFSET($A$1:$A$4,MATCH(ROW(),$D$1:$D$4,0)-1,0,1,1),"")
B9: =IF('AP 2nde'!F14='période 1'!$A$1,ROW(),"") | F9: =IF('AP 2nde'!F14='période 1'!$A$1,'AP 2nde'!A14,"") | G9: SP1 | H9: LANCELOT | I9: SP1 | J9: DELGADO | K9: SP1 | L9: BROYON | M9: SP2 | N9: TAURINO | O9: SP1 | P9: PEREIRA BARBOSA | Q9: SP2 | R9: LUCCHINACCI | S9: SP1 | V9: =COUNTIF($B$1:B4,"="&$C$1)*(B4=$C$1) -> 4 | X9: =IFERROR(OFFSET($A$1:$A$4,MATCH(ROW(),$D$1:$D$4,0)-1,0,1,1),"")
B10: =IF('AP 2nde'!F15='période 1'!$A$1,ROW(),"") | F10: =IF('AP 2nde'!F15='période 1'!$A$1,'AP 2nde'!A15,"") | G10: SP2 | H10: MALONGA | I10: SP1 | J10: ALAND | K10: SP2 | L10: CAFFIN | M10: SP2 | N10: SANOKO | O10: SP2 | P10: COVINDARASSOU | Q10: SP3 | R10: OYAHYA | S10: SP1 | V10: =COUNTIF($B$1:B5,"="&$C$1)*(B5=$C$1) -> 5
B11: =IF('AP 2nde'!F16='période 1'!$A$1,ROW(),"") | F11: =IF('AP 2nde'!F16='période 1'!$A$1,'AP 2nde'!A16,"") | G11: SP2 | H11: MENGUE-ZONO SERGE | I11: SP1 | J11: FUMEL | K11: SP2 | L11: GONDLACH | M11: SP2 | N11: STOLL | O11: SP2 | P11: DIALLO | Q11: SGA | R11: AIT OUMGHAR | S11: SP2 | V11: =COUNTIF($B$1:B6,"="&$C$1)*(B6=$C$1) -> 0
B12: =IF('AP 2nde'!F17='période 1'!$A$1,ROW(),"") | F12: =IF('AP 2nde'!F17='période 1'!$A$1,'AP 2nde'!A17,"") | G12: SP2 | H12: DJEDIDI | I12: SP2 | J12: GUEREVE | K12: SP2 | L12: LOPEZ NAVARRO | M12: SP2 | N12: ZOUAID | O12: SP2 | P12: DJIKPE | Q12: SGA | R12: COULIOU | S12: SP2 | V12: =COUNTIF($B$1:B7,"="&$C$1)*(B7=$C$1) -> 0
B13: =IF('AP 2nde'!F18='période 1'!$A$1,ROW(),"") | F13: =IF('AP 2nde'!F18='période 1'!$A$1,'AP 2nde'!A18,"") | G13: SP2 | H13: MONTOUT | I13: SP2 | J13: NDONG MEMIAGHE | K13: SP2 | L13: DIAS | M13: SP3 | N13: BOUTERFAS | O13: SP3 | R13: DO PACO DA CRUZ | S13: SP2
B14: =IF('AP 2nde'!F19='période 1'!$A$1,ROW(),"") | F14: =IF('AP 2nde'!F19='période 1'!$A$1,'AP 2nde'!A19,"") | G14: SP3 | H14: SAAVEDRA | I14: SP2 | J14: FRAGOSO | K14: SP3 | L14: FATREZ | M14: SP3 | N14: DAMAY | O14: SP3 | R14: TAMIMUL | S14: SP2
B15: =IF('AP 2nde'!F20='période 1'!$A$1,ROW(),"") | F15: =IF('AP 2nde'!F20='période 1'!$A$1,'AP 2nde'!A20,"") | G15: SP3 | H15: MANSOURI | I15: SGA | J15: AMALOUA | K15: SGA | L15: LACROIX | M15: SP3 | N15: DUCROCQ | O15: SP3 | R15: GIBIERGE | S15: SP3
B16: =IF('AP 2nde'!F21='période 1'!$A$1,ROW(),"") | F16: =IF('AP 2nde'!F21='période 1'!$A$1,'AP 2nde'!A21,"") | G16: SGA | H16: MOUANGA | I16: SGA | J16: BONNETERRE | K16: SGA | L16: BELARBIA | M16: SGA | N16: FOSSE | O16: SP3 | R16: ADOUM | S16: SGA
B17: =IF('AP 2nde'!F22='période 1'!$A$1,ROW(),"") -> 17 | F17: =IF('AP 2nde'!F22='période 1'!$A$1,'AP 2nde'!A22,"") -> KEITA | G17: SGA | H17: NDOM | I17: SGA | J17: GRASSE | K17: SGA | L17: HEURTELOUP | M17: SGA | N17: MARIE-LOUISE | O17: SGA | R17: AZIZ | S17: SGA
B18: =IF('AP 2nde'!F23='période 1'!$A$1,ROW(),"") | F18: =IF('AP 2nde'!F23='période 1'!$A$1,'AP 2nde'!A23,"") | G18: SGA | H18: OKORIE | I18: SGA | J18: KEDIS | K18: SGA | L18: KHALFET | M18: SGA | N18: RZIK | O18: SGA | R18: KANOUTE | S18: SGA
B19: =IF('AP 2nde'!F24='période 1'!$A$1,ROW(),"") -> 19 | F19: =IF('AP 2nde'!F24='période 1'!$A$1,'AP 2nde'!A24,"") -> LLOPIS | G19: SGA | H19: PERIC | I19: SGA | J19: MBOKOLO | K19: SGA | L19: LABBACI | M19: SGA | R19: KARI | S19: SGA
B20: =IF('AP 2nde'!F25='période 1'!$A$1,ROW(),"") | F20: =IF('AP 2nde'!F25='période 1'!$A$1,'AP 2nde'!A25,"") | G20: SGA | J20: RODRIGUES | K20: SGA | L20: TOUNKARA | M20: SGA | R20: SISSOKO | S20: SGA
B21: =IF('AP 2nde'!F26='période 1'!$A$1,ROW(),"")
B22: =IF('AP 2nde'!F27='période 1'!$A$1,ROW(),"")
B23: =IF('AP 2nde'!F28='période 1'!$A$1,ROW(),"")
B24: =IF('AP 2nde'!F29='période 1'!$A$1,ROW(),"")
B25: =IF('AP 2nde'!F30='période 1'!$A$1,ROW(),"")
B26: =IF('AP 2nde'!F31='période 1'!$A$1,ROW(),"")
B27: =IF('AP 2nde'!F32='période 1'!$A$1,ROW(),"")
B28: =IF('AP 2nde'!F33='période 1'!$A$1,ROW(),"")
B29: =IF('AP 2nde'!F34='période 1'!$A$1,ROW(),"")
B30: =IF('AP 2nde'!F35='période 1'!$A$1,ROW(),"")
B31: =IF('AP 2nde'!F36='période 1'!$A$1,ROW(),"")
B32: =IF('AP 2nde'!F37='période 1'!$A$1,ROW(),"")
... B45: =IF('AP 2nde'!F50='période 1'!$A$1,ROW(),"")

Sheet Feuil3
