Workbook
Name Data: data!$A$1:$A$2

Sheet Questions
B1: Mois
A2: Questions | B2: 42156 | C2: 42217 | D2: 42278
A3: Les patients portent-ils un bracelet d’identification lisible au poignet ? | B3: X | C3: X | D3: X
A4: Le matériel présent en chambre est-il encore utilisé par ou pour le patient ? | B4: X | C4: X | D4: X
A5: Le kit aérosol a-t-il été daté lors du dernier changement ? | B5: X | C5: X | D5: X
A6: un score de Norton a été calculé pour le patient à son admission. | B6: X | C6: X | D6: X
A7: le personnel infirmier a des ongles courts, propres et sans vernis. | C7: X | D7: X
A8: Le patient ayant une plaie a celle-ci décrite dans la feuille pansement du dossier infirmier. | D8: X

Sheet juin '15
A1: Thème :
A2: =IF(Questions!B3="X",Questions!A3,"") -> Les patients portent-ils un bracelet d’identification lisible au poignet ? | B2: Oui Non Non applicable entourer la réponse
C3: O | D3: N | E3: NA
B4: Patient 1 | C4: X | F4: =IF(C4="x",1,0)+IF(D4="x",0,0)+IF(E4="x",0,0) -> 1 | G4: =IF(C4="x",0,0)+IF(D4="x",1,0)+IF(E4="x",0,0) -> 0 | H4: =IF(C4="x",0,0)+IF(D4="x",0,0)+IF(E4="x",1,0) -> 0
A5: Remarque : | B5: Patient 2 | C5: X | F5: =IF(C5="x",1,0)+IF(D5="x",0,0)+IF(E5="x",0,0) -> 1 | G5: =IF(C5="x",0,0)+IF(D5="x",1,0)+IF(E5="x",0,0) -> 0 | H5: =IF(C5="x",0,0)+IF(D5="x",0,0)+IF(E5="x",1,0) -> 0
B6: patient 3 | C6: X | F6: =IF(C6="x",1,0)+IF(D6="x",0,0)+IF(E6="x",0,0) -> 1 | G6: =IF(C6="x",0,0)+IF(D6="x",1,0)+IF(E6="x",0,0) -> 0 | H6: =IF(C6="x",0,0)+IF(D6="x",0,0)+IF(E6="x",1,0) -> 0
B7: patient 4 | D7: X | F7: =IF(C7="x",1,0)+IF(D7="x",0,0)+IF(E7="x",0,0) -> 0 | G7: =IF(C7="x",0,0)+IF(D7="x",1,0)+IF(E7="x",0,0) -> 1 | H7: =IF(C7="x",0,0)+IF(D7="x",0,0)+IF(E7="x",1,0) -> 0
B8: Patient 5 | D8: X | F8: =IF(C8="x",1,0)+IF(D8="x",0,0)+IF(E8="x",0,0) -> 0 | G8: =IF(C8="x",0,0)+IF(D8="x",1,0)+IF(E8="x",0,0) -> 1 | H8: =IF(C8="x",0,0)+IF(D8="x",0,0)+IF(E8="x",1,0) -> 0
A9: Thème :
A10: =IF(Questions!B4="X",Questions!A4,"") -> Le matériel présent en chambre est-il encore utilisé par ou pour le patient ? | B10: Oui Non Non applicable entourer la réponse
C11: O | D11: N | E11: NA
B12: Patient 1 | C12: X | F12: =IF(C12="x",1,0)+IF(D12="x",0,0)+IF(E12="x",0,0) -> 1 | G12: =IF(C12="x",0,0)+IF(D12="x",1,0)+IF(E12="x",0,0) -> 0 | H12: =IF(C12="x",0,0)+IF(D12="x",0,0)+IF(E12="x",1,0) -> 0
A13: Remarque : | B13: Patient 2 | C13: X | F13: =IF(C13="x",1,0)+IF(D13="x",0,0)+IF(E13="x",0,0) -> 1 | G13: =IF(C13="x",0,0)+IF(D13="x",1,0)+IF(E13="x",0,0) -> 0 | H13: =IF(C13="x",0,0)+IF(D13="x",0,0)+IF(E13="x",1,0) -> 0
B14: patient 3 | C14: X | F14: =IF(C14="x",1,0)+IF(D14="x",0,0)+IF(E14="x",0,0) -> 1 | G14: =IF(C14="x",0,0)+IF(D14="x",1,0)+IF(E14="x",0,0) -> 0 | H14: =IF(C14="x",0,0)+IF(D14="x",0,0)+IF(E14="x",1,0) -> 0
B15: patient 4 | C15: X | F15: =IF(C15="x",1,0)+IF(D15="x",0,0)+IF(E15="x",0,0) -> 1 | G15: =IF(C15="x",0,0)+IF(D15="x",1,0)+IF(E15="x",0,0) -> 0 | H15: =IF(C15="x",0,0)+IF(D15="x",0,0)+IF(E15="x",1,0) -> 0
B16: Patient 5 | C16: X | F16: =IF(C16="x",1,0)+IF(D16="x",0,0)+IF(E16="x",0,0) -> 1 | G16: =IF(C16="x",0,0)+IF(D16="x",1,0)+IF(E16="x",0,0) -> 0 | H16: =IF(C16="x",0,0)+IF(D16="x",0,0)+IF(E16="x",1,0) -> 0
A17: Thème :
A18: =IF(Questions!B5="X",Questions!A5,"") -> Le kit aérosol a-t-il été daté lors du dernier changement ? | B18: Oui Non Non applicable entourer la réponse
C19: O | D19: N | E19: NA
B20: Patient 1 | E20: X | F20: =IF(C20="x",1,0)+IF(D20="x",0,0)+IF(E20="x",0,0) -> 0 | G20: =IF(C20="x",0,0)+IF(D20="x",1,0)+IF(E20="x",0,0) -> 0 | H20: =IF(C20="x",0,0)+IF(D20="x",0,0)+IF(E20="x",1,0) -> 1
A21: Remarque : | B21: Patient 2 | E21: X | F21: =IF(C21="x",1,0)+IF(D21="x",0,0)+IF(E21="x",0,0) -> 0 | G21: =IF(C21="x",0,0)+IF(D21="x",1,0)+IF(E21="x",0,0) -> 0 | H21: =IF(C21="x",0,0)+IF(D21="x",0,0)+IF(E21="x",1,0) -> 1
B22: patient 3 | E22: X | F22: =IF(C22="x",1,0)+IF(D22="x",0,0)+IF(E22="x",0,0) -> 0 | G22: =IF(C22="x",0,0)+IF(D22="x",1,0)+IF(E22="x",0,0) -> 0 | H22: =IF(C22="x",0,0)+IF(D22="x",0,0)+IF(E22="x",1,0) -> 1
B23: patient 4 | E23: X | F23: =IF(C23="x",1,0)+IF(D23="x",0,0)+IF(E23="x",0,0) -> 0 | G23: =IF(C23="x",0,0)+IF(D23="x",1,0)+IF(E23="x",0,0) -> 0 | H23: =IF(C23="x",0,0)+IF(D23="x",0,0)+IF(E23="x",1,0) -> 1
B24: Patient 5 | C24: X | F24: =IF(C24="x",1,0)+IF(D24="x",0,0)+IF(E24="x",0,0) -> 1 | G24: =IF(C24="x",0,0)+IF(D24="x",1,0)+IF(E24="x",0,0) -> 0 | H24: =IF(C24="x",0,0)+IF(D24="x",0,0)+IF(E24="x",1,0) -> 0
A25: Thème : Programmation des soins
A26: =IF(Questions!B6="X",Questions!A6,"") -> un score de Norton a été calculé pour le patient à son admission. | B26: Oui Non Non applicable
A27: (et si < 12 a été recalculé 1x/semaine !) | C27: O | D27: N | E27: NA
B28: Patient 1 | F28: =IF(C28="x",1,0)+IF(D28="x",0,0)+IF(E28="x",0,0) -> 0 | G28: =IF(C28="x",0,0)+IF(D28="x",1,0)+IF(E28="x",0,0) -> 0 | H28: =IF(C28="x",0,0)+IF(D28="x",0,0)+IF(E28="x",1,0) -> 0
B29: Patient 2 | F29: =IF(C29="x",1,0)+IF(D29="x",0,0)+IF(E29="x",0,0) -> 0 | G29: =IF(C29="x",0,0)+IF(D29="x",1,0)+IF(E29="x",0,0) -> 0 | H29: =IF(C29="x",0,0)+IF(D29="x",0,0)+IF(E29="x",1,0) -> 0
B30: patient 3 | F30: =IF(C30="x",1,0)+IF(D30="x",0,0)+IF(E30="x",0,0) -> 0 | G30: =IF(C30="x",0,0)+IF(D30="x",1,0)+IF(E30="x",0,0) -> 0 | H30: =IF(C30="x",0,0)+IF(D30="x",0,0)+IF(E30="x",1,0) -> 0
B31: patient 4 | F31: =IF(C31="x",1,0)+IF(D31="x",0,0)+IF(E31="x",0,0) -> 0 | G31: =IF(C31="x",0,0)+IF(D31="x",1,0)+IF(E31="x",0,0) -> 0 | H31: =IF(C31="x",0,0)+IF(D31="x",0,0)+IF(E31="x",1,0) -> 0
B32: Patient 5 | F32: =IF(C32="x",1,0)+IF(D32="x",0,0)+IF(E32="x",0,0) -> 0 | G32: =IF(C32="x",0,0)+IF(D32="x",1,0)+IF(E32="x",0,0) -> 0 | H32: =IF(C32="x",0,0)+IF(D32="x",0,0)+IF(E32="x",1,0) -> 0
A34: =IF(Questions!B7="X",Questions!A7,"") | B34: Oui Non Non applicable entourer la réponse
C35: O | D35: N | E35: NA
B36: Personne 1 | F36: =IF(C36="x",1,0)+IF(D36="x",0,0)+IF(E36="x",0,0) -> 0 | G36: =IF(C36="x",0,0)+IF(D36="x",1,0)+IF(E36="x",0,0) -> 0 | H36: =IF(C36="x",0,0)+IF(D36="x",0,0)+IF(E36="x",1,0) -> 0
A37: Remarque : | B37: Personne 2 | F37: =IF(C37="x",1,0)+IF(D37="x",0,0)+IF(E37="x",0,0) -> 0 | G37: =IF(C37="x",0,0)+IF(D37="x",1,0)+IF(E37="x",0,0) -> 0 | H37: =IF(C37="x",0,0)+IF(D37="x",0,0)+IF(E37="x",1,0) -> 0
B38: Personne 3 | F38: =IF(C38="x",1,0)+IF(D38="x",0,0)+IF(E38="x",0,0) -> 0 | G38: =IF(C38="x",0,0)+IF(D38="x",1,0)+IF(E38="x",0,0) -> 0 | H38: =IF(C38="x",0,0)+IF(D38="x",0,0)+IF(E38="x",1,0) -> 0
B39: Personne 4 | F39: =IF(C39="x",1,0)+IF(D39="x",0,0)+IF(E39="x",0,0) -> 0 | G39: =IF(C39="x",0,0)+IF(D39="x",1,0)+IF(E39="x",0,0) -> 0 | H39: =IF(C39="x",0,0)+IF(D39="x",0,0)+IF(E39="x",1,0) -> 0
B40: Personne 5 | F40: =IF(C40="x",1,0)+IF(D40="x",0,0)+IF(E40="x",0,0) -> 0 | G40: =IF(C40="x",0,0)+IF(D40="x",1,0)+IF(E40="x",0,0) -> 0 | H40: =IF(C40="x",0,0)+IF(D40="x",0,0)+IF(E40="x",1,0) -> 0
A42: =IF(Questions!B8="X",Questions!A8,"") | B42: Oui Non Non applicable entourer la réponse
...

Sheet août '15
A1: Thème : | XFB1: =("x") -> x | XFC1: =("x") -> x | XFD1: =("x") -> x
A2: =IF(Questions!C3="X",Questions!A3,"") -> Les patients portent-ils un bracelet d’identification lisible au poignet ? | B2: Oui Non Non applicable entourer la réponse | XFB2: =("x") -> x | XFC2: =("x") -> x | XFD2: =("x") -> x
C3: O | D3: N | E3: NA | XFB3: =("x") -> x | XFC3: =("x") -> x | XFD3: =("x") -> x
B4: Patient 1 | C4: X | F4: =IF(C4="x",1,0)+IF(D4="x",0,0)+IF(E4="x",0,0) -> 1 | G4: =IF(C4="x",0,0)+IF(D4="x",1,0)+IF(E4="x",0,0) -> 0 | H4: =IF(C4="x",0,0)+IF(D4="x",0,0)+IF(E4="x",1,0) -> 0 | XFB4: =("x") -> x | XFC4: =("x") -> x | XFD4: =("x") -> x
A5: Remarque : | B5: Patient 2 | C5: X | F5: =IF(C5="x",1,0)+IF(D5="x",0,0)+IF(E5="x",0,0) -> 1 | G5: =IF(C5="x",0,0)+IF(D5="x",1,0)+IF(E5="x",0,0) -> 0 | H5: =IF(C5="x",0,0)+IF(D5="x",0,0)+IF(E5="x",1,0) -> 0 | XFB5: =("x") -> x | XFC5: =("x") -> x | XFD5: =("x") -> x
B6: patient 3 | D6: X | F6: =IF(C6="x",1,0)+IF(D6="x",0,0)+IF(E6="x",0,0) -> 0 | G6: =IF(C6="x",0,0)+IF(D6="x",1,0)+IF(E6="x",0,0) -> 1 | H6: =IF(C6="x",0,0)+IF(D6="x",0,0)+IF(E6="x",1,0) -> 0 | XFB6: =("x") -> x | XFC6: =("x") -> x | XFD6: =("x") -> x
B7: patient 4 | D7: X | F7: =IF(C7="x",1,0)+IF(D7="x",0,0)+IF(E7="x",0,0) -> 0 | G7: =IF(C7="x",0,0)+IF(D7="x",1,0)+IF(E7="x",0,0) -> 1 | H7: =IF(C7="x",0,0)+IF(D7="x",0,0)+IF(E7="x",1,0) -> 0 | XFB7: =("x") -> x | XFC7: =("x") -> x | XFD7: =("x") -> x
B8: Patient 5 | D8: X | F8: =IF(C8="x",1,0)+IF(D8="x",0,0)+IF(E8="x",0,0) -> 0 | G8: =IF(C8="x",0,0)+IF(D8="x",1,0)+IF(E8="x",0,0) -> 1 | H8: =IF(C8="x",0,0)+IF(D8="x",0,0)+IF(E8="x",1,0) -> 0 | XFB8: =("x") -> x | XFC8: =("x") -> x | XFD8: =("x") -> x
A9: Thème : | XFB9: =("x") -> x | XFC9: =("x") -> x | XFD9: =("x") -> x
A10: =IF(Questions!C4="X",Questions!A4,"") -> Le matériel présent en chambre est-il encore utilisé par ou pour le patient ? | B10: Oui Non Non applicable entourer la réponse | XFB10: =("x") -> x | XFC10: =("x") -> x | XFD10: =("x") -> x
C11: O | D11: N | E11: NA | XFB11: =("x") -> x | XFC11: =("x") -> x | XFD11: =("x") -> x
B12: Patient 1 | C12: X | F12: =IF(C12="x",1,0)+IF(D12="x",0,0)+IF(E12="x",0,0) -> 1 | G12: =IF(C12="x",0,0)+IF(D12="x",1,0)+IF(E12="x",0,0) -> 0 | H12: =IF(C12="x",0,0)+IF(D12="x",0,0)+IF(E12="x",1,0) -> 0 | XFB12: =("x") -> x | XFC12: =("x") -> x | XFD12: =("x") -> x
A13: Remarque : | B13: Patient 2 | C13: X | F13: =IF(C13="x",1,0)+IF(D13="x",0,0)+IF(E13="x",0,0) -> 1 | G13: =IF(C13="x",0,0)+IF(D13="x",1,0)+IF(E13="x",0,0) -> 0 | H13: =IF(C13="x",0,0)+IF(D13="x",0,0)+IF(E13="x",1,0) -> 0 | XFB13: =("x") -> x | XFC13: =("x") -> x | XFD13: =("x") -> x
B14: patient 3 | C14: X | F14: =IF(C14="x",1,0)+IF(D14="x",0,0)+IF(E14="x",0,0) -> 1 | G14: =IF(C14="x",0,0)+IF(D14="x",1,0)+IF(E14="x",0,0) -> 0 | H14: =IF(C14="x",0,0)+IF(D14="x",0,0)+IF(E14="x",1,0) -> 0 | XFB14: =("x") -> x | XFC14: =("x") -> x | XFD14: =("x") -> x
B15: patient 4 | C15: X | F15: =IF(C15="x",1,0)+IF(D15="x",0,0)+IF(E15="x",0,0) -> 1 | G15: =IF(C15="x",0,0)+IF(D15="x",1,0)+IF(E15="x",0,0) -> 0 | H15: =IF(C15="x",0,0)+IF(D15="x",0,0)+IF(E15="x",1,0) -> 0 | XFB15: =("x") -> x | XFC15: =("x") -> x | XFD15: =("x") -> x
B16: Patient 5 | D16: X | F16: =IF(C16="x",1,0)+IF(D16="x",0,0)+IF(E16="x",0,0) -> 0 | G16: =IF(C16="x",0,0)+IF(D16="x",1,0)+IF(E16="x",0,0) -> 1 | H16: =IF(C16="x",0,0)+IF(D16="x",0,0)+IF(E16="x",1,0) -> 0 | XFB16: =("x") -> x | XFC16: =("x") -> x | XFD16: =("x") -> x
A17: Thème : | XFB17: =("x") -> x | XFC17: =("x") -> x | XFD17: =("x") -> x
A18: =IF(Questions!C5="X",Questions!A5,"") -> Le kit aérosol a-t-il été daté lors du dernier changement ? | B18: Oui Non Non applicable entourer la réponse | XFB18: =("x") -> x | XFC18: =("x") -> x | XFD18: =("x") -> x
C19: O | D19: N | E19: NA | XFB19: =("x") -> x | XFC19: =("x") -> x | XFD19: =("x") -> x
B20: Patient 1 | C20: X | F20: =IF(C20="x",1,0)+IF(D20="x",0,0)+IF(E20="x",0,0) -> 1 | G20: =IF(C20="x",0,0)+IF(D20="x",1,0)+IF(E20="x",0,0) -> 0 | H20: =IF(C20="x",0,0)+IF(D20="x",0,0)+IF(E20="x",1,0) -> 0 | XFB20: =("x") -> x | XFC20: =("x") -> x | XFD20: =("x") -> x
A21: Remarque : | B21: Patient 2 | C21: X | F21: =IF(C21="x",1,0)+IF(D21="x",0,0)+IF(E21="x",0,0) -> 1 | G21: =IF(C21="x",0,0)+IF(D21="x",1,0)+IF(E21="x",0,0) -> 0 | H21: =IF(C21="x",0,0)+IF(D21="x",0,0)+IF(E21="x",1,0) -> 0 | XFB21: =("x") -> x | XFC21: =("x") -> x | XFD21: =("x") -> x
B22: patient 3 | C22: X | F22: =IF(C22="x",1,0)+IF(D22="x",0,0)+IF(E22="x",0,0) -> 1 | G22: =IF(C22="x",0,0)+IF(D22="x",1,0)+IF(E22="x",0,0) -> 0 | H22: =IF(C22="x",0,0)+IF(D22="x",0,0)+IF(E22="x",1,0) -> 0 | XFB22: =("x") -> x | XFC22: =("x") -> x | XFD22: =("x") -> x
B23: patient 4 | D23: X | F23: =IF(C23="x",1,0)+IF(D23="x",0,0)+IF(E23="x",0,0) -> 0 | G23: =IF(C23="x",0,0)+IF(D23="x",1,0)+IF(E23="x",0,0) -> 1 | H23: =IF(C23="x",0,0)+IF(D23="x",0,0)+IF(E23="x",1,0) -> 0 | XFB23: =("x") -> x | XFC23: =("x") -> x | XFD23: =("x") -> x
B24: Patient 5 | D24: X | F24: =IF(C24="x",1,0)+IF(D24="x",0,0)+IF(E24="x",0,0) -> 0 | G24: =IF(C24="x",0,0)+IF(D24="x",1,0)+IF(E24="x",0,0) -> 1 | H24: =IF(C24="x",0,0)+IF(D24="x",0,0)+IF(E24="x",1,0) -> 0 | XFB24: =("x") -> x | XFC24: =("x") -> x | XFD24: =("x") -> x
A25: Thème : Programmation des soins | XFB25: =("x") -> x | XFC25: =("x") -> x | XFD25: =("x") -> x
A26: =IF(Questions!C6="X",Questions!A6,"") -> un score de Norton a été calculé pour le patient à son admission. | B26: Oui Non Non applicable | XFB26: =("x") -> x | XFC26: =("x") -> x | XFD26: =("x") -> x
A27: (et si < 12 a été recalculé 1x/semaine !) | C27: O | D27: N | E27: NA | XFB27: =("x") -> x | XFC27: =("x") -> x | XFD27: =("x") -> x
B28: Patient 1 | C28: X | F28: =IF(C28="x",1,0)+IF(D28="x",0,0)+IF(E28="x",0,0) -> 1 | G28: =IF(C28="x",0,0)+IF(D28="x",1,0)+IF(E28="x",0,0) -> 0 | H28: =IF(C28="x",0,0)+IF(D28="x",0,0)+IF(E28="x",1,0) -> 0 | XFB28: =("x") -> x | XFC28: =("x") -> x | XFD28: =("x") -> x
B29: Patient 2 | C29: X | F29: =IF(C29="x",1,0)+IF(D29="x",0,0)+IF(E29="x",0,0) -> 1 | G29: =IF(C29="x",0,0)+IF(D29="x",1,0)+IF(E29="x",0,0) -> 0 | H29: =IF(C29="x",0,0)+IF(D29="x",0,0)+IF(E29="x",1,0) -> 0 | XFB29: =("x") -> x | XFC29: =("x") -> x | XFD29: =("x") -> x
B30: patient 3 | C30: X | F30: =IF(C30="x",1,0)+IF(D30="x",0,0)+IF(E30="x",0,0) -> 1 | G30: =IF(C30="x",0,0)+IF(D30="x",1,0)+IF(E30="x",0,0) -> 0 | H30: =IF(C30="x",0,0)+IF(D30="x",0,0)+IF(E30="x",1,0) -> 0 | XFB30: =("x") -> x | XFC30: =("x") -> x | XFD30: =("x") -> x
B31: patient 4 | D31: X | F31: =IF(C31="x",1,0)+IF(D31="x",0,0)+IF(E31="x",0,0) -> 0 | G31: =IF(C31="x",0,0)+IF(D31="x",1,0)+IF(E31="x",0,0) -> 1 | H31: =IF(C31="x",0,0)+IF(D31="x",0,0)+IF(E31="x",1,0) -> 0 | XFB31: =("x") -> x | XFC31: =("x") -> x | XFD31: =("x") -> x
B32: Patient 5 | D32: X | F32: =IF(C32="x",1,0)+IF(D32="x",0,0)+IF(E32="x",0,0) -> 0 | G32: =IF(C32="x",0,0)+IF(D32="x",1,0)+IF(E32="x",0,0) -> 1 | H32: =IF(C32="x",0,0)+IF(D32="x",0,0)+IF(E32="x",1,0) -> 0 | XFB32: =("x") -> x | XFC32: =("x") -> x | XFD32: =("x") -> x
XFB33: =("x") -> x | XFC33: =("x") -> x | XFD33: =("x") -> x
A34: =IF(Questions!C7="X",Questions!A7,"") -> le personnel infirmier a des ongles courts, propres et sans vernis. | B34: Oui Non Non applicable entourer la réponse | XFB34: =("x") -> x | XFC34: =("x") -> x | XFD34: =("x") -> x
C35: O | D35: N | E35: NA | XFB35: =("x") -> x | XFC35: =("x") -> x | XFD35: =("x") -> x
B36: Personne 1 | C36: X | F36: =IF(C36="x",1,0)+IF(D36="x",0,0)+IF(E36="x",0,0) -> 1 | G36: =IF(C36="x",0,0)+IF(D36="x",1,0)+IF(E36="x",0,0) -> 0 | H36: =IF(C36="x",0,0)+IF(D36="x",0,0)+IF(E36="x",1,0) -> 0 | XFB36: =("x") -> x | XFC36: =("x") -> x | XFD36: =("x") -> x
A37: Remarque : | B37: Personne 2 | C37: X | F37: =IF(C37="x",1,0)+IF(D37="x",0,0)+IF(E37="x",0,0) -> 1 | G37: =IF(C37="x",0,0)+IF(D37="x",1,0)+IF(E37="x",0,0) -> 0 | H37: =IF(C37="x",0,0)+IF(D37="x",0,0)+IF(E37="x",1,0) -> 0 | XFB37: =("x") -> x | XFC37: =("x") -> x | XFD37: =("x") -> x
B38: Personne 3 | C38: X | F38: =IF(C38="x",1,0)+IF(D38="x",0,0)+IF(E38="x",0,0) -> 1 | G38: =IF(C38="x",0,0)+IF(D38="x",1,0)+IF(E38="x",0,0) -> 0 | H38: =IF(C38="x",0,0)+IF(D38="x",0,0)+IF(E38="x",1,0) -> 0 | XFB38: =("x") -> x | XFC38: =("x") -> x | XFD38: =("x") -> x
B39: Personne 4 | C39: X | F39: =IF(C39="x",1,0)+IF(D39="x",0,0)+IF(E39="x",0,0) -> 1 | G39: =IF(C39="x",0,0)+IF(D39="x",1,0)+IF(E39="x",0,0) -> 0 | H39: =IF(C39="x",0,0)+IF(D39="x",0,0)+IF(E39="x",1,0) -> 0 | XFB39: =("x") -> x | XFC39: =("x") -> x | XFD39: =("x") -> x
B40: Personne 5 | C40: X | F40: =IF(C40="x",1,0)+IF(D40="x",0,0)+IF(E40="x",0,0) -> 1 | G40: =IF(C40="x",0,0)+IF(D40="x",1,0)+IF(E40="x",0,0) -> 0 | H40: =IF(C40="x",0,0)+IF(D40="x",0,0)+IF(E40="x",1,0) -> 0
...

Sheet octobre '15
A1: Thème :
A2: =IF(Questions!D3="X",Questions!A3,"") -> Les patients portent-ils un bracelet d’identification lisible au poignet ? | B2: Oui Non Non applicable entourer la réponse
C3: O | D3: N | E3: NA
B4: Patient 1 | F4: =IF(C4="x",1,0)+IF(D4="x",0,0)+IF(E4="x",0,0) -> 0 | G4: =IF(C4="x",0,0)+IF(D4="x",1,0)+IF(E4="x",0,0) -> 0 | H4: =IF(C4="x",0,0)+IF(D4="x",0,0)+IF(E4="x",1,0) -> 0
A5: Remarque : | B5: Patient 2 | F5: =IF(C5="x",1,0)+IF(D5="x",0,0)+IF(E5="x",0,0) -> 0 | G5: =IF(C5="x",0,0)+IF(D5="x",1,0)+IF(E5="x",0,0) -> 0 | H5: =IF(C5="x",0,0)+IF(D5="x",0,0)+IF(E5="x",1,0) -> 0
B6: patient 3 | F6: =IF(C6="x",1,0)+IF(D6="x",0,0)+IF(E6="x",0,0) -> 0 | G6: =IF(C6="x",0,0)+IF(D6="x",1,0)+IF(E6="x",0,0) -> 0 | H6: =IF(C6="x",0,0)+IF(D6="x",0,0)+IF(E6="x",1,0) -> 0
B7: patient 4 | F7: =IF(C7="x",1,0)+IF(D7="x",0,0)+IF(E7="x",0,0) -> 0 | G7: =IF(C7="x",0,0)+IF(D7="x",1,0)+IF(E7="x",0,0) -> 0 | H7: =IF(C7="x",0,0)+IF(D7="x",0,0)+IF(E7="x",1,0) -> 0
B8: Patient 5 | F8: =IF(C8="x",1,0)+IF(D8="x",0,0)+IF(E8="x",0,0) -> 0 | G8: =IF(C8="x",0,0)+IF(D8="x",1,0)+IF(E8="x",0,0) -> 0 | H8: =IF(C8="x",0,0)+IF(D8="x",0,0)+IF(E8="x",1,0) -> 0
A9: Thème :
A10: =IF(Questions!D4="X",Questions!A4,"") -> Le matériel présent en chambre est-il encore utilisé par ou pour le patient ? | B10: Oui Non Non applicable entourer la réponse
C11: O | D11: N | E11: NA
B12: Patient 1 | F12: =IF(C12="x",1,0)+IF(D12="x",0,0)+IF(E12="x",0,0) -> 0 | G12: =IF(C12="x",0,0)+IF(D12="x",1,0)+IF(E12="x",0,0) -> 0 | H12: =IF(C12="x",0,0)+IF(D12="x",0,0)+IF(E12="x",1,0) -> 0
A13: Remarque : | B13: Patient 2 | F13: =IF(C13="x",1,0)+IF(D13="x",0,0)+IF(E13="x",0,0) -> 0 | G13: =IF(C13="x",0,0)+IF(D13="x",1,0)+IF(E13="x",0,0) -> 0 | H13: =IF(C13="x",0,0)+IF(D13="x",0,0)+IF(E13="x",1,0) -> 0
B14: patient 3 | F14: =IF(C14="x",1,0)+IF(D14="x",0,0)+IF(E14="x",0,0) -> 0 | G14: =IF(C14="x",0,0)+IF(D14="x",1,0)+IF(E14="x",0,0) -> 0 | H14: =IF(C14="x",0,0)+IF(D14="x",0,0)+IF(E14="x",1,0) -> 0
B15: patient 4 | F15: =IF(C15="x",1,0)+IF(D15="x",0,0)+IF(E15="x",0,0) -> 0 | G15: =IF(C15="x",0,0)+IF(D15="x",1,0)+IF(E15="x",0,0) -> 0 | H15: =IF(C15="x",0,0)+IF(D15="x",0,0)+IF(E15="x",1,0) -> 0
B16: Patient 5 | F16: =IF(C16="x",1,0)+IF(D16="x",0,0)+IF(E16="x",0,0) -> 0 | G16: =IF(C16="x",0,0)+IF(D16="x",1,0)+IF(E16="x",0,0) -> 0 | H16: =IF(C16="x",0,0)+IF(D16="x",0,0)+IF(E16="x",1,0) -> 0
A17: Thème :
A18: =IF(Questions!D5="X",Questions!A5,"") -> Le kit aérosol a-t-il été daté lors du dernier changement ? | B18: Oui Non Non applicable entourer la réponse
C19: O | D19: N | E19: NA
B20: Patient 1 | F20: =IF(C20="x",1,0)+IF(D20="x",0,0)+IF(E20="x",0,0) -> 0 | G20: =IF(C20="x",0,0)+IF(D20="x",1,0)+IF(E20="x",0,0) -> 0 | H20: =IF(C20="x",0,0)+IF(D20="x",0,0)+IF(E20="x",1,0) -> 0
A21: Remarque : | B21: Patient 2 | F21: =IF(C21="x",1,0)+IF(D21="x",0,0)+IF(E21="x",0,0) -> 0 | G21: =IF(C21="x",0,0)+IF(D21="x",1,0)+IF(E21="x",0,0) -> 0 | H21: =IF(C21="x",0,0)+IF(D21="x",0,0)+IF(E21="x",1,0) -> 0
B22: patient 3 | F22: =IF(C22="x",1,0)+IF(D22="x",0,0)+IF(E22="x",0,0) -> 0 | G22: =IF(C22="x",0,0)+IF(D22="x",1,0)+IF(E22="x",0,0) -> 0 | H22: =IF(C22="x",0,0)+IF(D22="x",0,0)+IF(E22="x",1,0) -> 0
B23: patient 4 | F23: =IF(C23="x",1,0)+IF(D23="x",0,0)+IF(E23="x",0,0) -> 0 | G23: =IF(C23="x",0,0)+IF(D23="x",1,0)+IF(E23="x",0,0) -> 0 | H23: =IF(C23="x",0,0)+IF(D23="x",0,0)+IF(E23="x",1,0) -> 0
B24: Patient 5 | F24: =IF(C24="x",1,0)+IF(D24="x",0,0)+IF(E24="x",0,0) -> 0 | G24: =IF(C24="x",0,0)+IF(D24="x",1,0)+IF(E24="x",0,0) -> 0 | H24: =IF(C24="x",0,0)+IF(D24="x",0,0)+IF(E24="x",1,0) -> 0
A25: Thème : Programmation des soins
A26: =IF(Questions!D6="X",Questions!A6,"") -> un score de Norton a été calculé pour le patient à son admission. | B26: Oui Non Non applicable
A27: (et si < 12 a été recalculé 1x/semaine !) | C27: O | D27: N | E27: NA
B28: Patient 1 | F28: =IF(C28="x",1,0)+IF(D28="x",0,0)+IF(E28="x",0,0) -> 0 | G28: =IF(C28="x",0,0)+IF(D28="x",1,0)+IF(E28="x",0,0) -> 0 | H28: =IF(C28="x",0,0)+IF(D28="x",0,0)+IF(E28="x",1,0) -> 0
B29: Patient 2 | F29: =IF(C29="x",1,0)+IF(D29="x",0,0)+IF(E29="x",0,0) -> 0 | G29: =IF(C29="x",0,0)+IF(D29="x",1,0)+IF(E29="x",0,0) -> 0 | H29: =IF(C29="x",0,0)+IF(D29="x",0,0)+IF(E29="x",1,0) -> 0
B30: patient 3 | F30: =IF(C30="x",1,0)+IF(D30="x",0,0)+IF(E30="x",0,0) -> 0 | G30: =IF(C30="x",0,0)+IF(D30="x",1,0)+IF(E30="x",0,0) -> 0 | H30: =IF(C30="x",0,0)+IF(D30="x",0,0)+IF(E30="x",1,0) -> 0
B31: patient 4 | F31: =IF(C31="x",1,0)+IF(D31="x",0,0)+IF(E31="x",0,0) -> 0 | G31: =IF(C31="x",0,0)+IF(D31="x",1,0)+IF(E31="x",0,0) -> 0 | H31: =IF(C31="x",0,0)+IF(D31="x",0,0)+IF(E31="x",1,0) -> 0
B32: Patient 5 | F32: =IF(C32="x",1,0)+IF(D32="x",0,0)+IF(E32="x",0,0) -> 0 | G32: =IF(C32="x",0,0)+IF(D32="x",1,0)+IF(E32="x",0,0) -> 0 | H32: =IF(C32="x",0,0)+IF(D32="x",0,0)+IF(E32="x",1,0) -> 0
A34: =IF(Questions!D7="X",Questions!A7,"") -> le personnel infirmier a des ongles courts, propres et sans vernis. | B34: Oui Non Non applicable entourer la réponse
C35: O | D35: N | E35: NA
B36: Personne 1 | F36: =IF(C36="x",1,0)+IF(D36="x",0,0)+IF(E36="x",0,0) -> 0 | G36: =IF(C36="x",0,0)+IF(D36="x",1,0)+IF(E36="x",0,0) -> 0 | H36: =IF(C36="x",0,0)+IF(D36="x",0,0)+IF(E36="x",1,0) -> 0
A37: Remarque : | B37: Personne 2 | F37: =IF(C37="x",1,0)+IF(D37="x",0,0)+IF(E37="x",0,0) -> 0 | G37: =IF(C37="x",0,0)+IF(D37="x",1,0)+IF(E37="x",0,0) -> 0 | H37: =IF(C37="x",0,0)+IF(D37="x",0,0)+IF(E37="x",1,0) -> 0
B38: Personne 3 | F38: =IF(C38="x",1,0)+IF(D38="x",0,0)+IF(E38="x",0,0) -> 0 | G38: =IF(C38="x",0,0)+IF(D38="x",1,0)+IF(E38="x",0,0) -> 0 | H38: =IF(C38="x",0,0)+IF(D38="x",0,0)+IF(E38="x",1,0) -> 0
B39: Personne 4 | F39: =IF(C39="x",1,0)+IF(D39="x",0,0)+IF(E39="x",0,0) -> 0 | G39: =IF(C39="x",0,0)+IF(D39="x",1,0)+IF(E39="x",0,0) -> 0 | H39: =IF(C39="x",0,0)+IF(D39="x",0,0)+IF(E39="x",1,0) -> 0
B40: Personne 5 | F40: =IF(C40="x",1,0)+IF(D40="x",0,0)+IF(E40="x",0,0) -> 0 | G40: =IF(C40="x",0,0)+IF(D40="x",1,0)+IF(E40="x",0,0) -> 0 | H40: =IF(C40="x",0,0)+IF(D40="x",0,0)+IF(E40="x",1,0) -> 0
A42: =IF(Questions!D8="X",Questions!A8,"") -> Le patient ayant une plaie a celle-ci décrite dans la feuille pansement du dossier infirmier. | B42: Oui Non Non applicable entourer la réponse
...

Sheet x'15
A1: Thème :
A2: =IF(Questions!E3="X",Questions!A3,"") | B2: Oui Non Non applicable entourer la réponse
C3: O | D3: N | E3: NA
B4: Patient 1 | F4: =IF(C4="x",1,0)+IF(D4="x",0,0)+IF(E4="x",0,0) -> 0 | G4: =IF(C4="x",0,0)+IF(D4="x",1,0)+IF(E4="x",0,0) -> 0 | H4: =IF(C4="x",0,0)+IF(D4="x",0,0)+IF(E4="x",1,0) -> 0
A5: Remarque : | B5: Patient 2 | F5: =IF(C5="x",1,0)+IF(D5="x",0,0)+IF(E5="x",0,0) -> 0 | G5: =IF(C5="x",0,0)+IF(D5="x",1,0)+IF(E5="x",0,0) -> 0 | H5: =IF(C5="x",0,0)+IF(D5="x",0,0)+IF(E5="x",1,0) -> 0
B6: patient 3 | F6: =IF(C6="x",1,0)+IF(D6="x",0,0)+IF(E6="x",0,0) -> 0 | G6: =IF(C6="x",0,0)+IF(D6="x",1,0)+IF(E6="x",0,0) -> 0 | H6: =IF(C6="x",0,0)+IF(D6="x",0,0)+IF(E6="x",1,0) -> 0
B7: patient 4 | F7: =IF(C7="x",1,0)+IF(D7="x",0,0)+IF(E7="x",0,0) -> 0 | G7: =IF(C7="x",0,0)+IF(D7="x",1,0)+IF(E7="x",0,0) -> 0 | H7: =IF(C7="x",0,0)+IF(D7="x",0,0)+IF(E7="x",1,0) -> 0
B8: Patient 5 | F8: =IF(C8="x",1,0)+IF(D8="x",0,0)+IF(E8="x",0,0) -> 0 | G8: =IF(C8="x",0,0)+IF(D8="x",1,0)+IF(E8="x",0,0) -> 0 | H8: =IF(C8="x",0,0)+IF(D8="x",0,0)+IF(E8="x",1,0) -> 0
A9: Thème :
A10: =IF(Questions!E4="X",Questions!A4,"") | B10: Oui Non Non applicable entourer la réponse
C11: O | D11: N | E11: NA
B12: Patient 1 | F12: =IF(C12="x",1,0)+IF(D12="x",0,0)+IF(E12="x",0,0) -> 0 | G12: =IF(C12="x",0,0)+IF(D12="x",1,0)+IF(E12="x",0,0) -> 0 | H12: =IF(C12="x",0,0)+IF(D12="x",0,0)+IF(E12="x",1,0) -> 0
A13: Remarque : | B13: Patient 2 | F13: =IF(C13="x",1,0)+IF(D13="x",0,0)+IF(E13="x",0,0) -> 0 | G13: =IF(C13="x",0,0)+IF(D13="x",1,0)+IF(E13="x",0,0) -> 0 | H13: =IF(C13="x",0,0)+IF(D13="x",0,0)+IF(E13="x",1,0) -> 0
B14: patient 3 | F14: =IF(C14="x",1,0)+IF(D14="x",0,0)+IF(E14="x",0,0) -> 0 | G14: =IF(C14="x",0,0)+IF(D14="x",1,0)+IF(E14="x",0,0) -> 0 | H14: =IF(C14="x",0,0)+IF(D14="x",0,0)+IF(E14="x",1,0) -> 0
B15: patient 4 | F15: =IF(C15="x",1,0)+IF(D15="x",0,0)+IF(E15="x",0,0) -> 0 | G15: =IF(C15="x",0,0)+IF(D15="x",1,0)+IF(E15="x",0,0) -> 0 | H15: =IF(C15="x",0,0)+IF(D15="x",0,0)+IF(E15="x",1,0) -> 0
B16: Patient 5 | F16: =IF(C16="x",1,0)+IF(D16="x",0,0)+IF(E16="x",0,0) -> 0 | G16: =IF(C16="x",0,0)+IF(D16="x",1,0)+IF(E16="x",0,0) -> 0 | H16: =IF(C16="x",0,0)+IF(D16="x",0,0)+IF(E16="x",1,0) -> 0
A17: Thème :
A18: =IF(Questions!E5="X",Questions!A5,"") | B18: Oui Non Non applicable entourer la réponse
C19: O | D19: N | E19: NA
B20: Patient 1 | F20: =IF(C20="x",1,0)+IF(D20="x",0,0)+IF(E20="x",0,0) -> 0 | G20: =IF(C20="x",0,0)+IF(D20="x",1,0)+IF(E20="x",0,0) -> 0 | H20: =IF(C20="x",0,0)+IF(D20="x",0,0)+IF(E20="x",1,0) -> 0
A21: Remarque : | B21: Patient 2 | F21: =IF(C21="x",1,0)+IF(D21="x",0,0)+IF(E21="x",0,0) -> 0 | G21: =IF(C21="x",0,0)+IF(D21="x",1,0)+IF(E21="x",0,0) -> 0 | H21: =IF(C21="x",0,0)+IF(D21="x",0,0)+IF(E21="x",1,0) -> 0
B22: patient 3 | F22: =IF(C22="x",1,0)+IF(D22="x",0,0)+IF(E22="x",0,0) -> 0 | G22: =IF(C22="x",0,0)+IF(D22="x",1,0)+IF(E22="x",0,0) -> 0 | H22: =IF(C22="x",0,0)+IF(D22="x",0,0)+IF(E22="x",1,0) -> 0
B23: patient 4 | F23: =IF(C23="x",1,0)+IF(D23="x",0,0)+IF(E23="x",0,0) -> 0 | G23: =IF(C23="x",0,0)+IF(D23="x",1,0)+IF(E23="x",0,0) -> 0 | H23: =IF(C23="x",0,0)+IF(D23="x",0,0)+IF(E23="x",1,0) -> 0
B24: Patient 5 | F24: =IF(C24="x",1,0)+IF(D24="x",0,0)+IF(E24="x",0,0) -> 0 | G24: =IF(C24="x",0,0)+IF(D24="x",1,0)+IF(E24="x",0,0) -> 0 | H24: =IF(C24="x",0,0)+IF(D24="x",0,0)+IF(E24="x",1,0) -> 0
A25: Thème : Programmation des soins
A26: =IF(Questions!E6="X",Questions!A6,"") | B26: Oui Non Non applicable
A27: (et si < 12 a été recalculé 1x/semaine !) | C27: O | D27: N | E27: NA
B28: Patient 1 | F28: =IF(C28="x",1,0)+IF(D28="x",0,0)+IF(E28="x",0,0) -> 0 | G28: =IF(C28="x",0,0)+IF(D28="x",1,0)+IF(E28="x",0,0) -> 0 | H28: =IF(C28="x",0,0)+IF(D28="x",0,0)+IF(E28="x",1,0) -> 0
B29: Patient 2 | F29: =IF(C29="x",1,0)+IF(D29="x",0,0)+IF(E29="x",0,0) -> 0 | G29: =IF(C29="x",0,0)+IF(D29="x",1,0)+IF(E29="x",0,0) -> 0 | H29: =IF(C29="x",0,0)+IF(D29="x",0,0)+IF(E29="x",1,0) -> 0
B30: patient 3 | F30: =IF(C30="x",1,0)+IF(D30="x",0,0)+IF(E30="x",0,0) -> 0 | G30: =IF(C30="x",0,0)+IF(D30="x",1,0)+IF(E30="x",0,0) -> 0 | H30: =IF(C30="x",0,0)+IF(D30="x",0,0)+IF(E30="x",1,0) -> 0
B31: patient 4 | F31: =IF(C31="x",1,0)+IF(D31="x",0,0)+IF(E31="x",0,0) -> 0 | G31: =IF(C31="x",0,0)+IF(D31="x",1,0)+IF(E31="x",0,0) -> 0 | H31: =IF(C31="x",0,0)+IF(D31="x",0,0)+IF(E31="x",1,0) -> 0
B32: Patient 5 | F32: =IF(C32="x",1,0)+IF(D32="x",0,0)+IF(E32="x",0,0) -> 0 | G32: =IF(C32="x",0,0)+IF(D32="x",1,0)+IF(E32="x",0,0) -> 0 | H32: =IF(C32="x",0,0)+IF(D32="x",0,0)+IF(E32="x",1,0) -> 0
A34: =IF(Questions!E7="X",Questions!A7,"") | B34: Oui Non Non applicable entourer la réponse
C35: O | D35: N | E35: NA
B36: Personne 1 | F36: =IF(C36="x",1,0)+IF(D36="x",0,0)+IF(E36="x",0,0) -> 0 | G36: =IF(C36="x",0,0)+IF(D36="x",1,0)+IF(E36="x",0,0) -> 0 | H36: =IF(C36="x",0,0)+IF(D36="x",0,0)+IF(E36="x",1,0) -> 0
A37: Remarque : | B37: Personne 2 | F37: =IF(C37="x",1,0)+IF(D37="x",0,0)+IF(E37="x",0,0) -> 0 | G37: =IF(C37="x",0,0)+IF(D37="x",1,0)+IF(E37="x",0,0) -> 0 | H37: =IF(C37="x",0,0)+IF(D37="x",0,0)+IF(E37="x",1,0) -> 0
B38: Personne 3 | F38: =IF(C38="x",1,0)+IF(D38="x",0,0)+IF(E38="x",0,0) -> 0 | G38: =IF(C38="x",0,0)+IF(D38="x",1,0)+IF(E38="x",0,0) -> 0 | H38: =IF(C38="x",0,0)+IF(D38="x",0,0)+IF(E38="x",1,0) -> 0
B39: Personne 4 | F39: =IF(C39="x",1,0)+IF(D39="x",0,0)+IF(E39="x",0,0) -> 0 | G39: =IF(C39="x",0,0)+IF(D39="x",1,0)+IF(E39="x",0,0) -> 0 | H39: =IF(C39="x",0,0)+IF(D39="x",0,0)+IF(E39="x",1,0) -> 0
B40: Personne 5 | F40: =IF(C40="x",1,0)+IF(D40="x",0,0)+IF(E40="x",0,0) -> 0 | G40: =IF(C40="x",0,0)+IF(D40="x",1,0)+IF(E40="x",0,0) -> 0 | H40: =IF(C40="x",0,0)+IF(D40="x",0,0)+IF(E40="x",1,0) -> 0
A42: =IF(Questions!E8="X",Questions!A8,"") | B42: Oui Non Non applicable entourer la réponse
...

Sheet y'15
A1: Thème :
A2: =IF(Questions!F3="X",Questions!A3,"") | B2: Oui Non Non applicable entourer la réponse
C3: O | D3: N | E3: NA
B4: Patient 1 | F4: =IF(C4="x",1,0)+IF(D4="x",0,0)+IF(E4="x",0,0) -> 0 | G4: =IF(C4="x",0,0)+IF(D4="x",1,0)+IF(E4="x",0,0) -> 0 | H4: =IF(C4="x",0,0)+IF(D4="x",0,0)+IF(E4="x",1,0) -> 0
A5: Remarque : | B5: Patient 2 | F5: =IF(C5="x",1,0)+IF(D5="x",0,0)+IF(E5="x",0,0) -> 0 | G5: =IF(C5="x",0,0)+IF(D5="x",1,0)+IF(E5="x",0,0) -> 0 | H5: =IF(C5="x",0,0)+IF(D5="x",0,0)+IF(E5="x",1,0) -> 0
B6: patient 3 | F6: =IF(C6="x",1,0)+IF(D6="x",0,0)+IF(E6="x",0,0) -> 0 | G6: =IF(C6="x",0,0)+IF(D6="x",1,0)+IF(E6="x",0,0) -> 0 | H6: =IF(C6="x",0,0)+IF(D6="x",0,0)+IF(E6="x",1,0) -> 0
B7: patient 4 | F7: =IF(C7="x",1,0)+IF(D7="x",0,0)+IF(E7="x",0,0) -> 0 | G7: =IF(C7="x",0,0)+IF(D7="x",1,0)+IF(E7="x",0,0) -> 0 | H7: =IF(C7="x",0,0)+IF(D7="x",0,0)+IF(E7="x",1,0) -> 0
B8: Patient 5 | F8: =IF(C8="x",1,0)+IF(D8="x",0,0)+IF(E8="x",0,0) -> 0 | G8: =IF(C8="x",0,0)+IF(D8="x",1,0)+IF(E8="x",0,0) -> 0 | H8: =IF(C8="x",0,0)+IF(D8="x",0,0)+IF(E8="x",1,0) -> 0
A9: Thème :
A10: =IF(Questions!F4="X",Questions!A4,"") | B10: Oui Non Non applicable entourer la réponse
C11: O | D11: N | E11: NA
B12: Patient 1 | F12: =IF(C12="x",1,0)+IF(D12="x",0,0)+IF(E12="x",0,0) -> 0 | G12: =IF(C12="x",0,0)+IF(D12="x",1,0)+IF(E12="x",0,0) -> 0 | H12: =IF(C12="x",0,0)+IF(D12="x",0,0)+IF(E12="x",1,0) -> 0
A13: Remarque : | B13: Patient 2 | F13: =IF(C13="x",1,0)+IF(D13="x",0,0)+IF(E13="x",0,0) -> 0 | G13: =IF(C13="x",0,0)+IF(D13="x",1,0)+IF(E13="x",0,0) -> 0 | H13: =IF(C13="x",0,0)+IF(D13="x",0,0)+IF(E13="x",1,0) -> 0
B14: patient 3 | F14: =IF(C14="x",1,0)+IF(D14="x",0,0)+IF(E14="x",0,0) -> 0 | G14: =IF(C14="x",0,0)+IF(D14="x",1,0)+IF(E14="x",0,0) -> 0 | H14: =IF(C14="x",0,0)+IF(D14="x",0,0)+IF(E14="x",1,0) -> 0
B15: patient 4 | F15: =IF(C15="x",1,0)+IF(D15="x",0,0)+IF(E15="x",0,0) -> 0 | G15: =IF(C15="x",0,0)+IF(D15="x",1,0)+IF(E15="x",0,0) -> 0 | H15: =IF(C15="x",0,0)+IF(D15="x",0,0)+IF(E15="x",1,0) -> 0
B16: Patient 5 | F16: =IF(C16="x",1,0)+IF(D16="x",0,0)+IF(E16="x",0,0) -> 0 | G16: =IF(C16="x",0,0)+IF(D16="x",1,0)+IF(E16="x",0,0) -> 0 | H16: =IF(C16="x",0,0)+IF(D16="x",0,0)+IF(E16="x",1,0) -> 0
A17: Thème :
A18: =IF(Questions!F5="X",Questions!A5,"") | B18: Oui Non Non applicable entourer la réponse
C19: O | D19: N | E19: NA
B20: Patient 1 | F20: =IF(C20="x",1,0)+IF(D20="x",0,0)+IF(E20="x",0,0) -> 0 | G20: =IF(C20="x",0,0)+IF(D20="x",1,0)+IF(E20="x",0,0) -> 0 | H20: =IF(C20="x",0,0)+IF(D20="x",0,0)+IF(E20="x",1,0) -> 0
A21: Remarque : | B21: Patient 2 | F21: =IF(C21="x",1,0)+IF(D21="x",0,0)+IF(E21="x",0,0) -> 0 | G21: =IF(C21="x",0,0)+IF(D21="x",1,0)+IF(E21="x",0,0) -> 0 | H21: =IF(C21="x",0,0)+IF(D21="x",0,0)+IF(E21="x",1,0) -> 0
B22: patient 3 | F22: =IF(C22="x",1,0)+IF(D22="x",0,0)+IF(E22="x",0,0) -> 0 | G22: =IF(C22="x",0,0)+IF(D22="x",1,0)+IF(E22="x",0,0) -> 0 | H22: =IF(C22="x",0,0)+IF(D22="x",0,0)+IF(E22="x",1,0) -> 0
B23: patient 4 | F23: =IF(C23="x",1,0)+IF(D23="x",0,0)+IF(E23="x",0,0) -> 0 | G23: =IF(C23="x",0,0)+IF(D23="x",1,0)+IF(E23="x",0,0) -> 0 | H23: =IF(C23="x",0,0)+IF(D23="x",0,0)+IF(E23="x",1,0) -> 0
B24: Patient 5 | F24: =IF(C24="x",1,0)+IF(D24="x",0,0)+IF(E24="x",0,0) -> 0 | G24: =IF(C24="x",0,0)+IF(D24="x",1,0)+IF(E24="x",0,0) -> 0 | H24: =IF(C24="x",0,0)+IF(D24="x",0,0)+IF(E24="x",1,0) -> 0
A25: Thème : Programmation des soins
A26: =IF(Questions!F6="X",Questions!A6,"") | B26: Oui Non Non applicable
A27: (et si < 12 a été recalculé 1x/semaine !) | C27: O | D27: N | E27: NA
B28: Patient 1 | F28: =IF(C28="x",1,0)+IF(D28="x",0,0)+IF(E28="x",0,0) -> 0 | G28: =IF(C28="x",0,0)+IF(D28="x",1,0)+IF(E28="x",0,0) -> 0 | H28: =IF(C28="x",0,0)+IF(D28="x",0,0)+IF(E28="x",1,0) -> 0
B29: Patient 2 | F29: =IF(C29="x",1,0)+IF(D29="x",0,0)+IF(E29="x",0,0) -> 0 | G29: =IF(C29="x",0,0)+IF(D29="x",1,0)+IF(E29="x",0,0) -> 0 | H29: =IF(C29="x",0,0)+IF(D29="x",0,0)+IF(E29="x",1,0) -> 0
B30: patient 3 | F30: =IF(C30="x",1,0)+IF(D30="x",0,0)+IF(E30="x",0,0) -> 0 | G30: =IF(C30="x",0,0)+IF(D30="x",1,0)+IF(E30="x",0,0) -> 0 | H30: =IF(C30="x",0,0)+IF(D30="x",0,0)+IF(E30="x",1,0) -> 0
B31: patient 4 | F31: =IF(C31="x",1,0)+IF(D31="x",0,0)+IF(E31="x",0,0) -> 0 | G31: =IF(C31="x",0,0)+IF(D31="x",1,0)+IF(E31="x",0,0) -> 0 | H31: =IF(C31="x",0,0)+IF(D31="x",0,0)+IF(E31="x",1,0) -> 0
B32: Patient 5 | F32: =IF(C32="x",1,0)+IF(D32="x",0,0)+IF(E32="x",0,0) -> 0 | G32: =IF(C32="x",0,0)+IF(D32="x",1,0)+IF(E32="x",0,0) -> 0 | H32: =IF(C32="x",0,0)+IF(D32="x",0,0)+IF(E32="x",1,0) -> 0
A34: =IF(Questions!F7="X",Questions!A7,"") | B34: Oui Non Non applicable entourer la réponse
C35: O | D35: N | E35: NA
B36: Personne 1 | F36: =IF(C36="x",1,0)+IF(D36="x",0,0)+IF(E36="x",0,0) -> 0 | G36: =IF(C36="x",0,0)+IF(D36="x",1,0)+IF(E36="x",0,0) -> 0 | H36: =IF(C36="x",0,0)+IF(D36="x",0,0)+IF(E36="x",1,0) -> 0
A37: Remarque : | B37: Personne 2 | F37: =IF(C37="x",1,0)+IF(D37="x",0,0)+IF(E37="x",0,0) -> 0 | G37: =IF(C37="x",0,0)+IF(D37="x",1,0)+IF(E37="x",0,0) -> 0 | H37: =IF(C37="x",0,0)+IF(D37="x",0,0)+IF(E37="x",1,0) -> 0
B38: Personne 3 | F38: =IF(C38="x",1,0)+IF(D38="x",0,0)+IF(E38="x",0,0) -> 0 | G38: =IF(C38="x",0,0)+IF(D38="x",1,0)+IF(E38="x",0,0) -> 0 | H38: =IF(C38="x",0,0)+IF(D38="x",0,0)+IF(E38="x",1,0) -> 0
B39: Personne 4 | F39: =IF(C39="x",1,0)+IF(D39="x",0,0)+IF(E39="x",0,0) -> 0 | G39: =IF(C39="x",0,0)+IF(D39="x",1,0)+IF(E39="x",0,0) -> 0 | H39: =IF(C39="x",0,0)+IF(D39="x",0,0)+IF(E39="x",1,0) -> 0
B40: Personne 5 | F40: =IF(C40="x",1,0)+IF(D40="x",0,0)+IF(E40="x",0,0) -> 0 | G40: =IF(C40="x",0,0)+IF(D40="x",1,0)+IF(E40="x",0,0) -> 0 | H40: =IF(C40="x",0,0)+IF(D40="x",0,0)+IF(E40="x",1,0) -> 0
A42: =IF(Questions!F8="X",Questions!A8,"") | B42: Oui Non Non applicable entourer la réponse
...

Sheet Resultat
A1: =Questions!A2 -> Questions | B1: =IF(Questions!B2="","",Questions!B2) -> 42156 | C1: =IF(Questions!C2="","",Questions!C2) -> 42217 | D1: =IF(Questions!D2="","",Questions!D2) -> 42278 | E1: =IF(Questions!E2="","",Questions!E2) | F1: =IF(Questions!F2="","",Questions!F2)
A2: =IF(Questions!A3="","",Questions!A3) -> Les patients portent-ils un bracelet d’identification lisible au poignet ? | B2: =IF(SUM('juin ''15'!F4:H8)=0,"",SUM('juin ''15'!F4:F8)) -> 3 | C2: =IF(SUM('août ''15'!F4:H8)=0,"",SUM('août ''15'!F4:F8)) -> 2 | D2: =IF(SUM('octobre ''15'!F4:H8)=0,"",SUM('octobre ''15'!F4:F8)) | E2: =IF(SUM('x''15'!G4:I8)=0,"",SUM('x''15'!G4:G8)) | F2: =IF(SUM('y''15'!H4:J8)=0,"",SUM('y''15'!H4:H8))
A3: =IF(Questions!A4="","",Questions!A4) -> Le matériel présent en chambre est-il encore utilisé par ou pour le patient ? | B3: =IF(SUM('juin ''15'!F12:H16)=0,"",SUM('juin ''15'!F12:F16)) -> 5 | C3: =IF(SUM('août ''15'!G12:I16)=0,"",SUM('août ''15'!G12:G16)) -> 1 | D3: =IF(SUM('octobre ''15'!H12:J16)=0,"",SUM('octobre ''15'!H12:H16)) | E3: =IF(SUM('x''15'!I12:K16)=0,"",SUM('x''15'!I12:I16)) | F3: =IF(SUM('y''15'!J12:L16)=0,"",SUM('y''15'!J12:J16))
A4: =IF(Questions!A5="","",Questions!A5) -> Le kit aérosol a-t-il été daté lors du dernier changement ? | B4: =IF(SUM('juin ''15'!F20:H24)=0,"",SUM('juin ''15'!F20:F24)) -> 1 | C4: =IF(SUM('août ''15'!G20:I24)=0,"",SUM('août ''15'!G20:G24)) -> 2 | D4: =IF(SUM('octobre ''15'!H20:J24)=0,"",SUM('octobre ''15'!H20:H24)) | E4: =IF(SUM('x''15'!I20:K24)=0,"",SUM('x''15'!I20:I24)) | F4: =IF(SUM('y''15'!J20:L24)=0,"",SUM('y''15'!J20:J24))
A5: =IF(Questions!A6="","",Questions!A6) -> un score de Norton a été calculé pour le patient à son admission. | B5: =IF(SUM('juin ''15'!F28:H32)=0,"",SUM('juin ''15'!F28:F32)) | C5: =IF(SUM('août ''15'!G28:I32)=0,"",SUM('août ''15'!G28:G32)) -> 2 | D5: =IF(SUM('octobre ''15'!H28:J32)=0,"",SUM('octobre ''15'!H28:H32)) | E5: =IF(SUM('x''15'!I28:K32)=0,"",SUM('x''15'!I28:I32)) | F5: =IF(SUM('y''15'!J28:L32)=0,"",SUM('y''15'!J28:J32))
A6: =IF(Questions!A7="","",Questions!A7) -> le personnel infirmier a des ongles courts, propres et sans vernis. | B6: =IF(SUM('juin ''15'!F36:H40)=0,"",SUM('juin ''15'!F36:F40)) | C6: =IF(SUM('août ''15'!G36:I40)=0,"",SUM('août ''15'!G36:G40)) | D6: =IF(SUM('octobre ''15'!H36:J40)=0,"",SUM('octobre ''15'!H36:H40)) | E6: =IF(SUM('x''15'!I36:K40)=0,"",SUM('x''15'!I36:I40)) | F6: =IF(SUM('y''15'!J36:L40)=0,"",SUM('y''15'!J36:J40))
A7: =IF(Questions!A8="","",Questions!A8) -> Le patient ayant une plaie a celle-ci décrite dans la feuille pansement du dossier infirmier. | B7: =IF(SUM('juin ''15'!F44:H48)=0,"",SUM('juin ''15'!F44:F48)) | C7: =IF(SUM('août ''15'!G44:I48)=0,"",SUM('août ''15'!G44:G48)) | D7: =IF(SUM('octobre ''15'!H44:J48)=0,"",SUM('octobre ''15'!H44:H48)) | E7: =IF(SUM('x''15'!I44:K48)=0,"",SUM('x''15'!I44:I48)) | F7: =IF(SUM('y''15'!J44:L48)=0,"",SUM('y''15'!J44:J48))
A8: =IF(Questions!A9="","",Questions!A9) | B8: =IF(SUM('juin ''15'!F52:H56)=0,"",SUM('juin ''15'!F52:F56)) | C8: =IF(SUM('août ''15'!G52:I56)=0,"",SUM('août ''15'!G52:G56)) | D8: =IF(SUM('octobre ''15'!H52:J56)=0,"",SUM('octobre ''15'!H52:H56)) | E8: =IF(SUM('x''15'!I52:K56)=0,"",SUM('x''15'!I52:I56)) | F8: =IF(SUM('y''15'!J52:L56)=0,"",SUM('y''15'!J52:J56))
A9: =IF(Questions!A10="","",Questions!A10) | B9: =IF(SUM('juin ''15'!F60:H64)=0,"",SUM('juin ''15'!F60:F64)) | C9: =IF(SUM('août ''15'!G60:I64)=0,"",SUM('août ''15'!G60:G64)) | D9: =IF(SUM('octobre ''15'!H60:J64)=0,"",SUM('octobre ''15'!H60:H64)) | E9: =IF(SUM('x''15'!I60:K64)=0,"",SUM('x''15'!I60:I64)) | F9: =IF(SUM('y''15'!J60:L64)=0,"",SUM('y''15'!J60:J64))
A10: =IF(Questions!A11="","",Questions!A11) | B10: =IF(SUM('juin ''15'!F68:H72)=0,"",SUM('juin ''15'!F68:F72)) | C10: =IF(SUM('août ''15'!G68:I72)=0,"",SUM('août ''15'!G68:G72)) | D10: =IF(SUM('octobre ''15'!H68:J72)=0,"",SUM('octobre ''15'!H68:H72)) | E10: =IF(SUM('x''15'!I68:K72)=0,"",SUM('x''15'!I68:I72)) | F10: =IF(SUM('y''15'!J68:L72)=0,"",SUM('y''15'!J68:J72))
A11: =IF(Questions!A12="","",Questions!A12) | B11: =IF(SUM('juin ''15'!F76:H80)=0,"",SUM('juin ''15'!F76:F80)) | C11: =IF(SUM('août ''15'!G76:I80)=0,"",SUM('août ''15'!G76:G80)) | D11: =IF(SUM('octobre ''15'!H76:J80)=0,"",SUM('octobre ''15'!H76:H80)) | E11: =IF(SUM('x''15'!I76:K80)=0,"",SUM('x''15'!I76:I80)) | F11: =IF(SUM('y''15'!J76:L80)=0,"",SUM('y''15'!J76:J80))
A12: =IF(Questions!A13="","",Questions!A13) | B12: =IF(SUM('juin ''15'!F84:H88)=0,"",SUM('juin ''15'!F84:F88)) | C12: =IF(SUM('août ''15'!G84:I88)=0,"",SUM('août ''15'!G84:G88)) | D12: =IF(SUM('octobre ''15'!H84:J88)=0,"",SUM('octobre ''15'!H84:H88)) | E12: =IF(SUM('x''15'!I84:K88)=0,"",SUM('x''15'!I84:I88)) | F12: =IF(SUM('y''15'!J84:L88)=0,"",SUM('y''15'!J84:J88))
A13: =IF(Questions!A14="","",Questions!A14) | B13: =IF(SUM('juin ''15'!F92:H96)=0,"",SUM('juin ''15'!F92:F96)) | C13: =IF(SUM('août ''15'!G92:I96)=0,"",SUM('août ''15'!G92:G96)) | D13: =IF(SUM('octobre ''15'!H92:J96)=0,"",SUM('octobre ''15'!H92:H96)) | E13: =IF(SUM('x''15'!I92:K96)=0,"",SUM('x''15'!I92:I96)) | F13: =IF(SUM('y''15'!J92:L96)=0,"",SUM('y''15'!J92:J96))
A14: =IF(Questions!A15="","",Questions!A15) | B14: =IF(SUM('juin ''15'!F100:H104)=0,"",SUM('juin ''15'!F100:F104)) | C14: =IF(SUM('août ''15'!G100:I104)=0,"",SUM('août ''15'!G100:G104)) | D14: =IF(SUM('octobre ''15'!H100:J104)=0,"",SUM('octobre ''15'!H100:H104)) | E14: =IF(SUM('x''15'!I100:K104)=0,"",SUM('x''15'!I100:I104)) | F14: =IF(SUM('y''15'!J100:L104)=0,"",SUM('y''15'!J100:J104))
A15: =IF(Questions!A16="","",Questions!A16) | B15: =IF(SUM('juin ''15'!F108:H112)=0,"",SUM('juin ''15'!F108:F112)) | C15: =IF(SUM('août ''15'!G108:I112)=0,"",SUM('août ''15'!G108:G112)) | D15: =IF(SUM('octobre ''15'!H108:J112)=0,"",SUM('octobre ''15'!H108:H112)) | E15: =IF(SUM('x''15'!I108:K112)=0,"",SUM('x''15'!I108:I112)) | F15: =IF(SUM('y''15'!J108:L112)=0,"",SUM('y''15'!J108:J112))

Sheet Template
A1: Thème :
A2: =IF(Questions!E3="X",Questions!A3,"") | B2: Oui Non Non applicable entourer la réponse
C3: O | D3: N | E3: NA
B4: Patient 1 | F4: =IF(C4="x",1,0)+IF(D4="x",0,0)+IF(E4="x",0,0) -> 0 | G4: =IF(C4="x",0,0)+IF(D4="x",1,0)+IF(E4="x",0,0) -> 0 | H4: =IF(C4="x",0,0)+IF(D4="x",0,0)+IF(E4="x",1,0) -> 0
A5: Remarque : | B5: Patient 2 | F5: =IF(C5="x",1,0)+IF(D5="x",0,0)+IF(E5="x",0,0) -> 0 | G5: =IF(C5="x",0,0)+IF(D5="x",1,0)+IF(E5="x",0,0) -> 0 | H5: =IF(C5="x",0,0)+IF(D5="x",0,0)+IF(E5="x",1,0) -> 0
B6: patient 3 | F6: =IF(C6="x",1,0)+IF(D6="x",0,0)+IF(E6="x",0,0) -> 0 | G6: =IF(C6="x",0,0)+IF(D6="x",1,0)+IF(E6="x",0,0) -> 0 | H6: =IF(C6="x",0,0)+IF(D6="x",0,0)+IF(E6="x",1,0) -> 0
B7: patient 4 | F7: =IF(C7="x",1,0)+IF(D7="x",0,0)+IF(E7="x",0,0) -> 0 | G7: =IF(C7="x",0,0)+IF(D7="x",1,0)+IF(E7="x",0,0) -> 0 | H7: =IF(C7="x",0,0)+IF(D7="x",0,0)+IF(E7="x",1,0) -> 0
B8: Patient 5 | F8: =IF(C8="x",1,0)+IF(D8="x",0,0)+IF(E8="x",0,0) -> 0 | G8: =IF(C8="x",0,0)+IF(D8="x",1,0)+IF(E8="x",0,0) -> 0 | H8: =IF(C8="x",0,0)+IF(D8="x",0,0)+IF(E8="x",1,0) -> 0
A9: Thème :
A10: =IF(Questions!E4="X",Questions!A4,"") | B10: Oui Non Non applicable entourer la réponse
C11: O | D11: N | E11: NA
B12: Patient 1 | F12: =IF(C12="x",1,0)+IF(D12="x",0,0)+IF(E12="x",0,0) -> 0 | G12: =IF(C12="x",0,0)+IF(D12="x",1,0)+IF(E12="x",0,0) -> 0 | H12: =IF(C12="x",0,0)+IF(D12="x",0,0)+IF(E12="x",1,0) -> 0
A13: Remarque : | B13: Patient 2 | F13: =IF(C13="x",1,0)+IF(D13="x",0,0)+IF(E13="x",0,0) -> 0 | G13: =IF(C13="x",0,0)+IF(D13="x",1,0)+IF(E13="x",0,0) -> 0 | H13: =IF(C13="x",0,0)+IF(D13="x",0,0)+IF(E13="x",1,0) -> 0
B14: patient 3 | F14: =IF(C14="x",1,0)+IF(D14="x",0,0)+IF(E14="x",0,0) -> 0 | G14: =IF(C14="x",0,0)+IF(D14="x",1,0)+IF(E14="x",0,0) -> 0 | H14: =IF(C14="x",0,0)+IF(D14="x",0,0)+IF(E14="x",1,0) -> 0
B15: patient 4 | F15: =IF(C15="x",1,0)+IF(D15="x",0,0)+IF(E15="x",0,0) -> 0 | G15: =IF(C15="x",0,0)+IF(D15="x",1,0)+IF(E15="x",0,0) -> 0 | H15: =IF(C15="x",0,0)+IF(D15="x",0,0)+IF(E15="x",1,0) -> 0
B16: Patient 5 | F16: =IF(C16="x",1,0)+IF(D16="x",0,0)+IF(E16="x",0,0) -> 0 | G16: =IF(C16="x",0,0)+IF(D16="x",1,0)+IF(E16="x",0,0) -> 0 | H16: =IF(C16="x",0,0)+IF(D16="x",0,0)+IF(E16="x",1,0) -> 0
A17: Thème :
A18: =IF(Questions!E5="X",Questions!A5,"") | B18: Oui Non Non applicable entourer la réponse
C19: O | D19: N | E19: NA
B20: Patient 1 | F20: =IF(C20="x",1,0)+IF(D20="x",0,0)+IF(E20="x",0,0) -> 0 | G20: =IF(C20="x",0,0)+IF(D20="x",1,0)+IF(E20="x",0,0) -> 0 | H20: =IF(C20="x",0,0)+IF(D20="x",0,0)+IF(E20="x",1,0) -> 0
A21: Remarque : | B21: Patient 2 | F21: =IF(C21="x",1,0)+IF(D21="x",0,0)+IF(E21="x",0,0) -> 0 | G21: =IF(C21="x",0,0)+IF(D21="x",1,0)+IF(E21="x",0,0) -> 0 | H21: =IF(C21="x",0,0)+IF(D21="x",0,0)+IF(E21="x",1,0) -> 0
B22: patient 3 | F22: =IF(C22="x",1,0)+IF(D22="x",0,0)+IF(E22="x",0,0) -> 0 | G22: =IF(C22="x",0,0)+IF(D22="x",1,0)+IF(E22="x",0,0) -> 0 | H22: =IF(C22="x",0,0)+IF(D22="x",0,0)+IF(E22="x",1,0) -> 0
B23: patient 4 | F23: =IF(C23="x",1,0)+IF(D23="x",0,0)+IF(E23="x",0,0) -> 0 | G23: =IF(C23="x",0,0)+IF(D23="x",1,0)+IF(E23="x",0,0) -> 0 | H23: =IF(C23="x",0,0)+IF(D23="x",0,0)+IF(E23="x",1,0) -> 0
B24: Patient 5 | F24: =IF(C24="x",1,0)+IF(D24="x",0,0)+IF(E24="x",0,0) -> 0 | G24: =IF(C24="x",0,0)+IF(D24="x",1,0)+IF(E24="x",0,0) -> 0 | H24: =IF(C24="x",0,0)+IF(D24="x",0,0)+IF(E24="x",1,0) -> 0
A25: Thème : Programmation des soins
A26: =IF(Questions!E6="X",Questions!A6,"") | B26: Oui Non Non applicable
A27: (et si < 12 a été recalculé 1x/semaine !) | C27: O | D27: N | E27: NA
B28: Patient 1 | F28: =IF(C28="x",1,0)+IF(D28="x",0,0)+IF(E28="x",0,0) -> 0 | G28: =IF(C28="x",0,0)+IF(D28="x",1,0)+IF(E28="x",0,0) -> 0 | H28: =IF(C28="x",0,0)+IF(D28="x",0,0)+IF(E28="x",1,0) -> 0
B29: Patient 2 | F29: =IF(C29="x",1,0)+IF(D29="x",0,0)+IF(E29="x",0,0) -> 0 | G29: =IF(C29="x",0,0)+IF(D29="x",1,0)+IF(E29="x",0,0) -> 0 | H29: =IF(C29="x",0,0)+IF(D29="x",0,0)+IF(E29="x",1,0) -> 0
B30: patient 3 | F30: =IF(C30="x",1,0)+IF(D30="x",0,0)+IF(E30="x",0,0) -> 0 | G30: =IF(C30="x",0,0)+IF(D30="x",1,0)+IF(E30="x",0,0) -> 0 | H30: =IF(C30="x",0,0)+IF(D30="x",0,0)+IF(E30="x",1,0) -> 0
B31: patient 4 | F31: =IF(C31="x",1,0)+IF(D31="x",0,0)+IF(E31="x",0,0) -> 0 | G31: =IF(C31="x",0,0)+IF(D31="x",1,0)+IF(E31="x",0,0) -> 0 | H31: =IF(C31="x",0,0)+IF(D31="x",0,0)+IF(E31="x",1,0) -> 0
B32: Patient 5 | F32: =IF(C32="x",1,0)+IF(D32="x",0,0)+IF(E32="x",0,0) -> 0 | G32: =IF(C32="x",0,0)+IF(D32="x",1,0)+IF(E32="x",0,0) -> 0 | H32: =IF(C32="x",0,0)+IF(D32="x",0,0)+IF(E32="x",1,0) -> 0
A34: =IF(Questions!E7="X",Questions!A7,"") | B34: Oui Non Non applicable entourer la réponse
C35: O | D35: N | E35: NA
B36: Personne 1 | F36: =IF(C36="x",1,0)+IF(D36="x",0,0)+IF(E36="x",0,0) -> 0 | G36: =IF(C36="x",0,0)+IF(D36="x",1,0)+IF(E36="x",0,0) -> 0 | H36: =IF(C36="x",0,0)+IF(D36="x",0,0)+IF(E36="x",1,0) -> 0
A37: Remarque : | B37: Personne 2 | F37: =IF(C37="x",1,0)+IF(D37="x",0,0)+IF(E37="x",0,0) -> 0 | G37: =IF(C37="x",0,0)+IF(D37="x",1,0)+IF(E37="x",0,0) -> 0 | H37: =IF(C37="x",0,0)+IF(D37="x",0,0)+IF(E37="x",1,0) -> 0
B38: Personne 3 | F38: =IF(C38="x",1,0)+IF(D38="x",0,0)+IF(E38="x",0,0) -> 0 | G38: =IF(C38="x",0,0)+IF(D38="x",1,0)+IF(E38="x",0,0) -> 0 | H38: =IF(C38="x",0,0)+IF(D38="x",0,0)+IF(E38="x",1,0) -> 0
B39: Personne 4 | F39: =IF(C39="x",1,0)+IF(D39="x",0,0)+IF(E39="x",0,0) -> 0 | G39: =IF(C39="x",0,0)+IF(D39="x",1,0)+IF(E39="x",0,0) -> 0 | H39: =IF(C39="x",0,0)+IF(D39="x",0,0)+IF(E39="x",1,0) -> 0
B40: Personne 5 | F40: =IF(C40="x",1,0)+IF(D40="x",0,0)+IF(E40="x",0,0) -> 0 | G40: =IF(C40="x",0,0)+IF(D40="x",1,0)+IF(E40="x",0,0) -> 0 | H40: =IF(C40="x",0,0)+IF(D40="x",0,0)+IF(E40="x",1,0) -> 0
A42: =IF(Questions!E8="X",Questions!A8,"") | B42: Oui Non Non applicable entourer la réponse
...

Sheet data
C1: =Questions!A2 -> Questions | D1: =Questions!B2 -> 42156 | E1: =Questions!C2 -> 42217 | F1: =Questions!D2 -> 42278 | G1: =Questions!E2 -> 0 | H1: =Questions!F2 -> 0
A2: X | C2: =IF(Questions!A3="","",Questions!A3) -> Les patients portent-ils un bracelet d’identification lisible au poignet ? | D2: =IF(SUM('juin ''15'!F4:H8)=0,NA(),SUM('juin ''15'!F4:F8)) -> 3 | E2: =IF(SUM('août ''15'!F4:H8)=0,NA(),SUM('août ''15'!F4:F8)) -> 2 | F2: =IF(SUM('octobre ''15'!F4:H8)=0,NA(),SUM('octobre ''15'!F4:F8)) -> #N/A | G2: =IF(SUM('x''15'!G4:I8)=0,NA(),SUM('x''15'!G4:G8)) -> #N/A | H2: =IF(SUM('y''15'!H4:J8)=0,NA(),SUM('y''15'!H4:H8)) -> #N/A
C3: =IF(Questions!A4="","",Questions!A4) -> Le matériel présent en chambre est-il encore utilisé par ou pour le patient ? | D3: =IF(SUM('juin ''15'!F12:H16)=0,NA(),SUM('juin ''15'!F12:F16)) -> 5 | E3: =IF(SUM('août ''15'!G12:I16)=0,NA(),SUM('août ''15'!G12:G16)) -> 1 | F3: =IF(SUM('octobre ''15'!H12:J16)=0,NA(),SUM('octobre ''15'!H12:H16)) -> #N/A | G3: =IF(SUM('x''15'!I12:K16)=0,NA(),SUM('x''15'!I12:I16)) -> #N/A | H3: =IF(SUM('y''15'!J12:L16)=0,NA(),SUM('y''15'!J12:J16)) -> #N/A
C4: =IF(Questions!A5="","",Questions!A5) -> Le kit aérosol a-t-il été daté lors du dernier changement ? | D4: =IF(SUM('juin ''15'!F20:H24)=0,NA(),SUM('juin ''15'!F20:F24)) -> 1 | E4: =IF(SUM('août ''15'!G20:I24)=0,NA(),SUM('août ''15'!G20:G24)) -> 2 | F4: =IF(SUM('octobre ''15'!H20:J24)=0,NA(),SUM('octobre ''15'!H20:H24)) -> #N/A | G4: =IF(SUM('x''15'!I20:K24)=0,NA(),SUM('x''15'!I20:I24)) -> #N/A | H4: =IF(SUM('y''15'!J20:L24)=0,NA(),SUM('y''15'!J20:J24)) -> #N/A
C5: =IF(Questions!A6="","",Questions!A6) -> un score de Norton a été calculé pour le patient à son admission. | D5: =IF(SUM('juin ''15'!F28:H32)=0,NA(),SUM('juin ''15'!F28:F32)) -> #N/A | E5: =IF(SUM('août ''15'!G28:I32)=0,NA(),SUM('août ''15'!G28:G32)) -> 2 | F5: =IF(SUM('octobre ''15'!H28:J32)=0,NA(),SUM('octobre ''15'!H28:H32)) -> #N/A | G5: =IF(SUM('x''15'!I28:K32)=0,NA(),SUM('x''15'!I28:I32)) -> #N/A | H5: =IF(SUM('y''15'!J28:L32)=0,NA(),SUM('y''15'!J28:J32)) -> #N/A
C6: =IF(Questions!A7="","",Questions!A7) -> le personnel infirmier a des ongles courts, propres et sans vernis. | D6: =IF(SUM('juin ''15'!F36:H40)=0,NA(),SUM('juin ''15'!F36:F40)) -> #N/A | E6: =IF(SUM('août ''15'!G36:I40)=0,NA(),SUM('août ''15'!G36:G40)) -> #N/A | F6: =IF(SUM('octobre ''15'!H36:J40)=0,NA(),SUM('octobre ''15'!H36:H40)) -> #N/A | G6: =IF(SUM('x''15'!I36:K40)=0,NA(),SUM('x''15'!I36:I40)) -> #N/A | H6: =IF(SUM('y''15'!J36:L40)=0,NA(),SUM('y''15'!J36:J40)) -> #N/A
A7: 42005 | C7: =IF(Questions!A8="","",Questions!A8) -> Le patient ayant une plaie a celle-ci décrite dans la feuille pansement du dossier infirmier. | D7: =IF(SUM('juin ''15'!F44:H48)=0,NA(),SUM('juin ''15'!F44:F48)) -> #N/A | E7: =IF(SUM('août ''15'!G44:I48)=0,NA(),SUM('août ''15'!G44:G48)) -> #N/A | F7: =IF(SUM('octobre ''15'!H44:J48)=0,NA(),SUM('octobre ''15'!H44:H48)) -> #N/A | G7: =IF(SUM('x''15'!I44:K48)=0,NA(),SUM('x''15'!I44:I48)) -> #N/A | H7: =IF(SUM('y''15'!J44:L48)=0,NA(),SUM('y''15'!J44:J48)) -> #N/A
A8: 42036 | C8: =IF(Questions!A9="","",Questions!A9) | D8: =IF(SUM('juin ''15'!F52:H56)=0,NA(),SUM('juin ''15'!F52:F56)) -> #N/A | E8: =IF(SUM('août ''15'!G52:I56)=0,NA(),SUM('août ''15'!G52:G56)) -> #N/A | F8: =IF(SUM('octobre ''15'!H52:J56)=0,NA(),SUM('octobre ''15'!H52:H56)) -> #N/A | G8: =IF(SUM('x''15'!I52:K56)=0,NA(),SUM('x''15'!I52:I56)) -> #N/A | H8: =IF(SUM('y''15'!J52:L56)=0,NA(),SUM('y''15'!J52:J56)) -> #N/A
A9: 42064 | C9: =IF(Questions!A10="","",Questions!A10) | D9: =IF(SUM('juin ''15'!F60:H64)=0,NA(),SUM('juin ''15'!F60:F64)) -> #N/A | E9: =IF(SUM('août ''15'!G60:I64)=0,NA(),SUM('août ''15'!G60:G64)) -> #N/A | F9: =IF(SUM('octobre ''15'!H60:J64)=0,NA(),SUM('octobre ''15'!H60:H64)) -> #N/A | G9: =IF(SUM('x''15'!I60:K64)=0,NA(),SUM('x''15'!I60:I64)) -> #N/A | H9: =IF(SUM('y''15'!J60:L64)=0,NA(),SUM('y''15'!J60:J64)) -> #N/A
A10: 42095 | C10: =IF(Questions!A11="","",Questions!A11) | D10: =IF(SUM('juin ''15'!F68:H72)=0,NA(),SUM('juin ''15'!F68:F72)) -> #N/A | E10: =IF(SUM('août ''15'!G68:I72)=0,NA(),SUM('août ''15'!G68:G72)) -> #N/A | F10: =IF(SUM('octobre ''15'!H68:J72)=0,NA(),SUM('octobre ''15'!H68:H72)) -> #N/A | G10: =IF(SUM('x''15'!I68:K72)=0,NA(),SUM('x''15'!I68:I72)) -> #N/A | H10: =IF(SUM('y''15'!J68:L72)=0,NA(),SUM('y''15'!J68:J72)) -> #N/A
A11: 42125 | C11: =IF(Questions!A12="","",Questions!A12) | D11: =IF(SUM('juin ''15'!F76:H80)=0,NA(),SUM('juin ''15'!F76:F80)) -> #N/A | E11: =IF(SUM('août ''15'!G76:I80)=0,NA(),SUM('août ''15'!G76:G80)) -> #N/A | F11: =IF(SUM('octobre ''15'!H76:J80)=0,NA(),SUM('octobre ''15'!H76:H80)) -> #N/A | G11: =IF(SUM('x''15'!I76:K80)=0,NA(),SUM('x''15'!I76:I80)) -> #N/A | H11: =IF(SUM('y''15'!J76:L80)=0,NA(),SUM('y''15'!J76:J80)) -> #N/A
A12: 42156 | C12: =IF(Questions!A13="","",Questions!A13) | D12: =IF(SUM('juin ''15'!F84:H88)=0,NA(),SUM('juin ''15'!F84:F88)) -> #N/A | E12: =IF(SUM('août ''15'!G84:I88)=0,NA(),SUM('août ''15'!G84:G88)) -> #N/A | F12: =IF(SUM('octobre ''15'!H84:J88)=0,NA(),SUM('octobre ''15'!H84:H88)) -> #N/A | G12: =IF(SUM('x''15'!I84:K88)=0,NA(),SUM('x''15'!I84:I88)) -> #N/A | H12: =IF(SUM('y''15'!J84:L88)=0,NA(),SUM('y''15'!J84:J88)) -> #N/A
A13: 42186 | C13: =IF(Questions!A14="","",Questions!A14) | D13: =IF(SUM('juin ''15'!F92:H96)=0,NA(),SUM('juin ''15'!F92:F96)) -> #N/A | E13: =IF(SUM('août ''15'!G92:I96)=0,NA(),SUM('août ''15'!G92:G96)) -> #N/A | F13: =IF(SUM('octobre ''15'!H92:J96)=0,NA(),SUM('octobre ''15'!H92:H96)) -> #N/A | G13: =IF(SUM('x''15'!I92:K96)=0,NA(),SUM('x''15'!I92:I96)) -> #N/A | H13: =IF(SUM('y''15'!J92:L96)=0,NA(),SUM('y''15'!J92:J96)) -> #N/A
A14: 42217 | C14: =IF(Questions!A15="","",Questions!A15) | D14: =IF(SUM('juin ''15'!F100:H104)=0,NA(),SUM('juin ''15'!F100:F104)) -> #N/A | E14: =IF(SUM('août ''15'!G100:I104)=0,NA(),SUM('août ''15'!G100:G104)) -> #N/A | F14: =IF(SUM('octobre ''15'!H100:J104)=0,NA(),SUM('octobre ''15'!H100:H104)) -> #N/A | G14: =IF(SUM('x''15'!I100:K104)=0,NA(),SUM('x''15'!I100:I104)) -> #N/A | H14: =IF(SUM('y''15'!J100:L104)=0,NA(),SUM('y''15'!J100:J104)) -> #N/A
A15: 42248 | C15: =IF(Questions!A16="","",Questions!A16) | D15: =IF(SUM('juin ''15'!F108:H112)=0,NA(),SUM('juin ''15'!F108:F112)) -> #N/A | E15: =IF(SUM('août ''15'!G108:I112)=0,NA(),SUM('août ''15'!G108:G112)) -> #N/A | F15: =IF(SUM('octobre ''15'!H108:J112)=0,NA(),SUM('octobre ''15'!H108:H112)) -> #N/A | G15: =IF(SUM('x''15'!I108:K112)=0,NA(),SUM('x''15'!I108:I112)) -> #N/A | H15: =IF(SUM('y''15'!J108:L112)=0,NA(),SUM('y''15'!J108:J112)) -> #N/A
A16: 42278
A17: 42309
A18: 42339
A19: 42370
A20: 42401
A21: 42430
A22: 42461
A23: 42491
A24: 42522
A25: 42552
A26: 42583
A27: 42614
... A30: 42705
