Workbook
Name clesf: données_brutes!$Q$16:$S$19
Name clesp: données_brutes!$Q$9:$T$12
Name col: données_brutes!$E$7:$E$26
Name ligne: données_brutes!$D$7:$D$26

Sheet données_brutes
A3: Données brutes
B6: n° | C6: montant | D6: ligne matrice poste | E6: colonne matrice flux | F6: clé poste | G6: clé flux | P6: Clés de répartitions
B7: charge 1 | C7: 5 | D7: collecte | E7: OM
B8: charge 2 | C8: 6 | D8: traitement | E8: CS
B9: charge 3 | C9: 7 | D9: collecte | E9: divers | G9: F1 | Q9: P | R9: P1 | S9: P2 | T9: P3
B10: charge 4 | C10: 45 | D10: prévention | E10: OM | Q10: prévention | R10: 0.5 | S10: 0.8 | T10: 0.7 | U10: 1
B11: charge 5 | C11: 12 | D11: prévention | E11: divers | G11: F2 | Q11: collecte | R11: 0 | S11: 0 | T11: 0
B12: charge 6 | C12: 89 | D12: collecte | E12: CS | Q12: traitement | R12: 0.5 | S12: 0.2 | T12: 0.3
B13: charge 7 | C13: 5 | D13: divers | E13: CS | F13: P1 | R13: =SUM(R10:R12) -> 1 | S13: =SUM(S10:S12) -> 1 | T13: =SUM(T10:T12) -> 1
B14: charge 8 | C14: 6 | D14: collecte | E14: OM
B15: charge 9 | C15: 3 | D15: traitement | E15: divers | G15: F1
B16: charge 10 | C16: 2 | D16: collecte | E16: OM | Q16: F | R16: OM | S16: CS | T16: total
B17: charge 11 | C17: 4 | D17: divers | E17: CS | F17: P1 | Q17: F1 | R17: 0.5 | S17: 0.5 | T17: =SUM(R17:S17) -> 1
B18: charge 12 | C18: 8 | D18: divers | E18: CS | F18: P2 | Q18: F2 | R18: 0.3 | S18: 0.7 | T18: =SUM(R18:S18) -> 1
B19: charge 13 | C19: 1 | D19: divers | E19: CS | F19: P2 | Q19: F3 | R19: 0.2 | S19: 0.8 | T19: =SUM(R19:S19) -> 1
B20: charge 14 | C20: 2 | D20: traitement | E20: divers | G20: F3
B21: charge 15 | C21: 415 | D21: collecte | E21: OM
B22: charge 16 | C22: 2 | D22: traitement | E22: divers | G22: F1
B23: charge 17 | C23: 1 | D23: collecte | E23: divers | G23: F1
B24: charge 18 | C24: 45 | D24: traitement | E24: CS
B25: charge 19 | C25: 2 | D25: divers | E25: OM | F25: P1
B26: charge 20 | C26: 1 | D26: divers | E26: OM | F26: P3
C27: =SUM(C7:C26) -> 661
C29: (1) Matrice des postes simples (sans "divers")
E31: OM | F31: CS | G31: total
D32: prévention | E32: =SUMPRODUCT((ligne=$D32)*(col=E$31)*(données_brutes!$C$7:$C$26)) -> 45 | F32: =SUMPRODUCT((ligne=$D32)*(col=F$31)*(données_brutes!$C$7:$C$26)) -> 0 | G32: =SUM(E32:F32) -> 45
D33: collecte | E33: =SUMPRODUCT((ligne=$D33)*(col=E$31)*(données_brutes!$C$7:$C$26)) -> 428 | F33: =SUMPRODUCT((ligne=$D33)*(col=F$31)*(données_brutes!$C$7:$C$26)) -> 89 | G33: =SUM(E33:F33) -> 517
D34: traitement | E34: =SUMPRODUCT((ligne=$D34)*(col=E$31)*(données_brutes!$C$7:$C$26)) -> 0 | F34: =SUMPRODUCT((ligne=$D34)*(col=F$31)*(données_brutes!$C$7:$C$26)) -> 51 | G34: =SUM(E34:F34) -> 51
D35: total | E35: =SUM(E32:E34) -> 473 | F35: =SUM(F32:F34) -> 140 | G35: =SUM(G32:G34) -> 613
A40: (2a) Matrices intermédiaires divers postes | J40: (2b) Matrices intermédiaires divers flux
A41: matrices intermédiaires
C42: OM | D42: CS | E42: DIVERS | J42: F1 | K42: F2 | L42: F3 | S42: prévention | T42: collecte | U42: traitement | V42: divers
B43: P1 | C43: =SUMPRODUCT(($F$7:$F$26=$B43)*(col=C$42)*(données_brutes!$C$7:$C$26)) -> 2 | D43: =SUMPRODUCT(($F$7:$F$26=$B43)*(col=D$42)*(données_brutes!$C$7:$C$26)) -> 9 | E43: =SUMPRODUCT(($F$7:$F$26=$B43)*(col=E$42)*(données_brutes!$C$7:$C$26)) -> 0 | I43: prévention | J43: =SUMPRODUCT(($G$7:$G$26=J$42)*(ligne=$I43)*(données_brutes!$C$7:$C$26)) -> 0 | K43: =SUMPRODUCT(($G$7:$G$26=K$42)*(ligne=$I43)*(données_brutes!$C$7:$C$26)) -> 12 | L43: =SUMPRODUCT(($G$7:$G$26=L$42)*(ligne=$I43)*(données_brutes!$C$7:$C$26)) -> 0 | R43: F1 | T43: =SUMPRODUCT(($G$7:$G$26=$R43)*(ligne=T$42)*(données_brutes!$C$7:$C$26)) -> 8 | U43: =SUMPRODUCT(($G$7:$G$26=$R43)*(ligne=U$42)*(données_brutes!$C$7:$C$26)) -> 5 | V43: =SUMPRODUCT(($G$7:$G$26=$R43)*(ligne=V$42)*(données_brutes!$C$7:$C$26)) -> 0
B44: P2 | C44: =SUMPRODUCT(($F$7:$F$26=$B44)*(col=C$42)*(données_brutes!$C$7:$C$26)) -> 0 | D44: =SUMPRODUCT(($F$7:$F$26=$B44)*(col=D$42)*(données_brutes!$C$7:$C$26)) -> 9 | E44: =SUMPRODUCT(($F$7:$F$26=$B44)*(col=E$42)*(données_brutes!$C$7:$C$26)) -> 0 | I44: collecte | J44: =SUMPRODUCT(($G$7:$G$26=J$42)*(ligne=$I44)*(données_brutes!$C$7:$C$26)) -> 8 | K44: =SUMPRODUCT(($G$7:$G$26=K$42)*(ligne=$I44)*(données_brutes!$C$7:$C$26)) -> 0 | L44: =SUMPRODUCT(($G$7:$G$26=L$42)*(ligne=$I44)*(données_brutes!$C$7:$C$26)) -> 0 | R44: F2 | S44: =SUMPRODUCT(($G$7:$G$26=$R44)*(ligne=S$42)*(données_brutes!$C$7:$C$26)) -> 12 | T44: =SUMPRODUCT(($G$7:$G$26=$R44)*(ligne=T$42)*(données_brutes!$C$7:$C$26)) -> 0 | U44: =SUMPRODUCT(($G$7:$G$26=$R44)*(ligne=U$42)*(données_brutes!$C$7:$C$26)) -> 0 | V44: =SUMPRODUCT(($G$7:$G$26=$R44)*(ligne=V$42)*(données_brutes!$C$7:$C$26)) -> 0
B45: P3 | C45: =SUMPRODUCT(($F$7:$F$26=$B45)*(col=C$42)*(données_brutes!$C$7:$C$26)) -> 1 | D45: =SUMPRODUCT(($F$7:$F$26=$B45)*(col=D$42)*(données_brutes!$C$7:$C$26)) -> 0 | E45: =SUMPRODUCT(($F$7:$F$26=$B45)*(col=E$42)*(données_brutes!$C$7:$C$26)) -> 0 | I45: traitement | J45: =SUMPRODUCT(($G$7:$G$26=J$42)*(ligne=$I45)*(données_brutes!$C$7:$C$26)) -> 5 | K45: =SUMPRODUCT(($G$7:$G$26=K$42)*(ligne=$I45)*(données_brutes!$C$7:$C$26)) -> 0 | L45: =SUMPRODUCT(($G$7:$G$26=L$42)*(ligne=$I45)*(données_brutes!$C$7:$C$26)) -> 2 | R45: F3 | S45: =SUMPRODUCT(($G$7:$G$26=$R45)*(ligne=S$42)*(données_brutes!$C$7:$C$26)) -> 0 | T45: =SUMPRODUCT(($G$7:$G$26=$R45)*(ligne=T$42)*(données_brutes!$C$7:$C$26)) -> 0 | U45: =SUMPRODUCT(($G$7:$G$26=$R45)*(ligne=U$42)*(données_brutes!$C$7:$C$26)) -> 2 | V45: =SUMPRODUCT(($G$7:$G$26=$R45)*(ligne=V$42)*(données_brutes!$C$7:$C$26)) -> 0
B46: total | C46: =SUM(C43:C45) -> 3 | D46: =SUM(D43:D45) -> 18 | I46: divers | J46: =SUMPRODUCT(($G$7:$G$26=J$42)*(ligne=$I46)*(données_brutes!$C$7:$C$26)) -> 0 | K46: =SUMPRODUCT(($G$7:$G$26=K$42)*(ligne=$I46)*(données_brutes!$C$7:$C$26)) -> 0 | L46: =SUMPRODUCT(($G$7:$G$26=L$42)*(ligne=$I46)*(données_brutes!$C$7:$C$26)) -> 0 | R46: total | S46: =SUM(S43:S45) -> 12 | T46: =SUM(T43:T45) -> 8
I48: matrice finale 2bf
A49: matrice finale 2af
C50: OM | D50: CS | J50: OM | K50: CS
B51: prévention | C51: =HLOOKUP($B$43,clesp,MATCH($B51,$Q$9:$Q$12,0))*C$43+HLOOKUP($B$44,clesp,MATCH($B51,$Q$9:$Q$12,0))*C$44+HLOOKUP($B$45,clesp,MATCH($B51,$Q$9:$Q$12,0))*C$45 -> 1.7 | D51: =HLOOKUP($B$43,clesp,MATCH($B51,$Q$9:$Q$12,0))*D$43+HLOOKUP($B$44,clesp,MATCH($B51,$Q$9:$Q$12,0))*D$44+HLOOKUP($B$45,clesp,MATCH($B51,$Q$9:$Q$12,0))*D$45 -> 11.7 | I51: prévention | J51: =VLOOKUP($J$42,clesf,MATCH(J$50,$Q$16:$S$16,0))*$J43+VLOOKUP($K$42,clesf,MATCH(J$50,$Q$16:$S$16,0))*$K43+VLOOKUP($L$42,clesf,MATCH(J$50,$Q$16:$S$16,0))*$L43 -> 3.6 | K51: =VLOOKUP($J$42,clesf,MATCH(K$50,$Q$16:$S$16,0))*$J43+VLOOKUP($K$42,clesf,MATCH(K$50,$Q$16:$S$16,0))*$K43+VLOOKUP($L$42,clesf,MATCH(K$50,$Q$16:$S$16,0))*$L43 -> 8.4
...

Sheet matrice
