Workbook
Name Donnees: Feuil1!#REF!

Sheet Feuil1
B1: Animal | C1: Animal | D1: Animal | E1: Animal | F1: Animal | G1: Animal | H1: Animal | I1: Animal | K1: Fruit | L1: Fruit | M1: Fruit | N1: Fruit | O1: Fruit | P1: Fruit | Q1: Fruit | R1: Fruit | S1: Fruit | T1: Fruit | U1: Fruit | V1: Fruit | W1: Fruit | X1: Fruit
A2: Nom | B2: =Animal!B2 -> Girafe | C2: =Animal!C2 -> Elephant | D2: =Animal!D2 -> Panthère | E2: =Animal!E2 -> Lion | F2: =Animal!F2 -> Chat | G2: =Animal!G2 -> Chien | H2: =Animal!H2 -> Oiseau | I2: =Animal!I2 -> Lézard | K2: =Fruit!B2 -> Pomme | L2: =Fruit!C2 -> Poire | M2: =Fruit!D2 -> Abricot | N2: =Fruit!E2 -> Citron | O2: =Fruit!F2 -> Peche | P2: =Fruit!G2 -> Ananas | Q2: =Fruit!H2 -> Cerise | R2: =Fruit!I2 -> Raisin | ... X2: =Fruit!O2 -> 0
A3: Joli | B3: =Animal!B3 -> Oui | C3: =Animal!C3 -> Oui | D3: =Animal!D3 -> Oui | E3: =Animal!E3 -> Oui | F3: =Animal!F3 -> Oui | G3: =Animal!G3 -> Oui | H3: =Animal!H3 -> Oui | I3: =Animal!I3 -> Non | K3: =Fruit!B3 -> Oui | L3: =Fruit!C3 -> Non | M3: =Fruit!D3 -> Oui | N3: =Fruit!E3 -> Oui | O3: =Fruit!F3 -> Non | P3: =Fruit!G3 -> Oui | Q3: =Fruit!H3 -> Oui | R3: =Fruit!I3 -> Oui | ... X3: =Fruit!O3 -> 0
A4: Bon | B4: =Animal!B4 -> Oui | C4: =Animal!C4 -> Non | D4: =Animal!D4 -> Non | E4: =Animal!E4 -> Non | F4: =Animal!F4 -> Non | G4: =Animal!G4 -> Oui | H4: =Animal!H4 -> Non | I4: =Animal!I4 -> Non | K4: =Fruit!B4 -> Oui | L4: =Fruit!C4 -> Oui | M4: =Fruit!D4 -> Oui | N4: =Fruit!E4 -> Non | O4: =Fruit!F4 -> Non | P4: =Fruit!G4 -> Oui | Q4: =Fruit!H4 -> Oui | R4: =Fruit!I4 -> Oui | ... X4: =Fruit!O4 -> 0
A6: Nom | B6: =B1&"!B2" -> Animal!B2
A7: Joli
A8: Bon

Sheet Animal
B2: Girafe | C2: Elephant | D2: Panthère | E2: Lion | F2: Chat | G2: Chien | H2: Oiseau | I2: Lézard | J2: Serpent | K2: Hibou | L2: Tortue | M2: Singe | N2: Canard
A3: Joli | B3: Oui | C3: Oui | D3: Oui | E3: Oui | F3: Oui | G3: Oui | H3: Oui | I3: Non | J3: Non | K3: Non | L3: Oui | M3: Non | N3: Oui
A4: Bon | B4: Oui | C4: Non | D4: Non | E4: Non | F4: Non | G4: Oui | H4: Non | I4: Non | J4: Oui | K4: Non | L4: Non | M4: Non | N4: Oui

Sheet Fruit
B2: Pomme | C2: Poire | D2: Abricot | E2: Citron | F2: Peche | G2: Ananas | H2: Cerise | I2: Raisin | J2: Pamplemousse | K2: Melon
A3: Joli | B3: Oui | C3: Non | D3: Oui | E3: Oui | F3: Non | G3: Oui | H3: Oui | I3: Oui | J3: Non | K3: Non
A4: Bon | B4: Oui | C4: Oui | D4: Oui | E4: Non | F4: Non | G4: Oui | H4: Oui | I4: Oui | J4: Non | K4: Oui

Sheet Feuil4
