Workbook
Name MATIERES: GRILLE!$A$3:$A$72
Name N_SEM: '1A_2015_1SEM'!$D$4
Name O_SYNTHESE: '1A_2015_1SEM'!$K$1

Sheet Emploi-1A-2015-1SEM
E1: EMPLOI | F1: 1ERE ANNEE | G1: 2015-2016 | H1: 1 SEM. | P1: =E1 -> EMPLOI | Q1: =F1 -> 1ERE ANNEE | R1: =G1 -> 2015-2016 | S1: =H1 -> 1 SEM. | AA1: =P1 -> EMPLOI | AB1: =Q1 -> 1ERE ANNEE | AC1: =R1 -> 2015-2016 | AD1: =S1 -> 1 SEM.
B2: Semaine | C2: 0 | D2: 9-11 Sep | E2: =C2+1 -> 1 | F2: 14-18 Sep | G2: =E2+1 -> 2 | H2: 28 Sep -2 Oct | I2: =G2+1 -> 3 | J2: 5 - 13 Oct | K2: =I2+1 -> 4 | L2: 12 - 16 Oct | M2: =K2+1 -> 5 | N2: 19- 23 Oct | O2: =M2+1 -> 6 | P2: 26 - 30 Oct | Q2: =O2+1 -> 7 | R2: 2 - 5 Nov | S2: =Q2+1 -> 8 | T2: 9 - 13 Nov | U2: =S2+1 -> 9 | V2: 16 - 20 Nov | W2: =U2+1 -> 10 | X2: 23 - 28 Nov | Y2: =W2+1 -> 11 | Z2: 30 Nov - 4 Déc | AA2: =Y2+1 -> 12 | AB2: 7 - 12 Déc | AC2: =AA2+1 -> 13 | AD2: 14 - 18 Déc | AE2: =AC2+1 -> 14 | AF2: 23 - 25 Déc | AG2: =AE2+1 -> 15 | AH2: 28 - 31 Déc | AI2: =AG2+1 -> 16 | AJ2: 4 - 8 Jan | AK2: =AI2+1 -> 17 | AL2: 4 - 8 Jan | AM2: =AK2+1 -> 18 | AN2: 4 - 8 Jan | AO2: =AM2+1 -> 19 | AP2: 4 - 8 Jan | AQ2: =AO2+1 -> 20 | AR2: 4 - 8 Jan
A3: Jours | B3: horaire | C3: Sect A | D3: Sect B | E3: Sect A | F3: Sect B | G3: Sect A | H3: Sect B | I3: Sect A | J3: Sect B | K3: Sect A | L3: Sect B | M3: Sect A | N3: Sect B | O3: Sect A | P3: Sect B | Q3: Sect A | R3: Sect B | S3: Sect A | T3: Sect B | U3: Sect A | V3: Sect B | W3: Sect A | X3: Sect B | Y3: Sect A | Z3: Sect B | AA3: Sect A | AB3: Sect B | AC3: Sect A | AD3: Sect B | AE3: Sect A | AF3: Sect B | AG3: Sect A | AH3: Sect B | AI3: Sect A | AJ3: Sect B | AK3: Sect A | AL3: Sect B | AM3: Sect A | AN3: Sect B | AO3: Sect A | AP3: Sect B | AQ3: Sect A | AR3: Sect B
A4: lundi | B4: 8 h 30 - 10 h 15' | E4: Analyse Numérique | F4: Dessin & Technologie | G4: Analyse Numérique | H4: Dessin & Technologie | I4: Analyse Numérique | J4: Dessin & Technologie | K4: Analyse Numérique | L4: Dessin & Technologie | M4: Analyse Numérique | N4: TP/TD | O4: TP/TD | P4: Analyse Numérique | Q4: Analyse Numérique | R4: TP/TD | S4: TP/TD | T4: Analyse Numérique | U4: VB DOTNET | V4: TP/TD
B5: 10 h 30 - 12 h 15' | E5: Dessin & Technologie | F5: Analyse Numérique | G5: Dessin & Technologie | H5: Analyse Numérique | I5: Dessin & Technologie | J5: Analyse Numérique | K5: Dessin & Technologie | L5: Analyse Numérique | M5: Dessin & Technologie | N5: TP/TD | O5: TP/TD | P5: Dessin & Technologie | Q5: Dessin & Technologie | R5: TP/TD | S5: TP/TD | T5: Dessin & Technologie | U5: Dessin & Technologie | V5: TP/TD
B7: 14 h 30' - 16 h 15' | E7: Langues & communication | F7: Langues & communication | G7: Langues & communication | H7: Langues & communication | I7: Langues & communication | J7: Langues & communication | K7: Langues & communication | L7: Langues & communication | M7: Langues & communication | N7: Langues & communication | O7: Langues & communication | P7: Langues & communication | Q7: Langues & communication | R7: Langues & communication | S7: Langues & communication | T7: Langues & communication | U7: Langues & communication | V7: Langues & communication
B8: 16 h 30' - 18 h 15' | E8: Langues & communication | F8: Langues & communication | G8: Langues & communication | H8: Langues & communication | I8: Langues & communication | J8: Langues & communication | K8: Langues & communication | L8: Langues & communication | M8: Langues & communication | N8: Langues & communication | O8: Langues & communication | P8: Langues & communication | Q8: Langues & communication | R8: Langues & communication | S8: Langues & communication | T8: Langues & communication | U8: Langues & communication | V8: Langues & communication
A10: Mardi | B10: 8 h 30 - 10 h 15' | C10: INSCRIPTIONS | D10: INSCRIPTIONS | E10: Analyse Numérique | F10: Electrotechnique | G10: Automatique | H10: Electrotechnique | I10: Automatique | J10: Electrotechnique | K10: Automatique | L10: Electrotechnique | M10: Automatismes | N10: Electrotechnique | O10: Algorithmique & C | P10: Electrotechnique | Q10: Automatique | R10: Automatismes | S10: Automatique | T10: Electrotechnique | U10: Automatismes | V10: Electrotechnique
B11: 10 h 30 - 12 h 15' | C11: INSCRIPTIONS | D11: INSCRIPTIONS | E11: Electrotechnique | F11: Analyse Numérique | G11: Electrotechnique | H11: Automatique | I11: Electrotechnique | J11: Automatique | K11: Electrotechnique | L11: Automatique | M11: Electrotechnique | N11: Automatismes | O11: Electrotechnique | P11: Algorithmique & C | Q11: Automatismes | R11: Automatique | S11: Electrotechnique | T11: Automatique | U11: Electrotechnique | V11: Automatismes
B13: 14 h 30' - 16 h 15' | C13: INSCRIPTIONS | D13: INSCRIPTIONS | E13: Dessin & Technologie | F13: Economie | G13: Dessin & Technologie | H13: Economie | I13: Dessin & Technologie | J13: Economie | K13: Dessin & Technologie | L13: Economie | M13: TP/TD | N13: Economie | O13: Economie | P13: TP/TD | Q13: TP/TD | R13: Economie | S13: Economie | T13: TP/TD | U13: TP/TD | V13: Comptabilité
B14: 16 h 30' - 18 h 15' | C14: INSCRIPTIONS | D14: INSCRIPTIONS | E14: Economie | F14: Dessin & Technologie | G14: Economie | H14: Dessin & Technologie | I14: Economie | J14: Dessin & Technologie | K14: Economie | L14: Dessin & Technologie | M14: TP/TD | N14: Dessin & Technologie | O14: Dessin & Technologie | P14: TP/TD | Q14: TP/TD | R14: Dessin & Technologie | S14: Dessin & Technologie | T14: TP/TD | U14: TP/TD | V14: Dessin & Technologie
A16: Mercredi | B16: 8 h 30 - 10 h 15' | C16: Mathématiques | D16: Algorithmique & C | E16: Analyse Numérique | F16: Algorithmique & C | G16: Mathématiques | H16: Algorithmique & C | I16: Mathématiques | J16: Algorithmique & C | K16: Mathématiques | L16: Automatique | M16: Algorithmique & C | N16: TP/TD | O16: TP/TD | P16: Algorithmique & C | Q16: Algorithmique & C | R16: TP/TD | S16: TP/TD | T16: Algorithmique & C
B17: 10 h 30 - 12 h 15' | C17: Algorithmique & C | D17: Mathématiques | E17: Algorithmique & C | F17: Analyse Numérique | G17: Algorithmique & C | H17: Mathématiques | I17: Algorithmique & C | J17: Mathématiques | K17: Automatique | L17: Mathématiques | M17: Mathématiques | N17: TP/TD | O17: TP/TD | P17: Mathématiques | Q17: Mathématiques | R17: TP/TD | S17: TP/TD | T17: Mathématiques
B19: 14 h 30' - 16 h 15'
B20: 16 h 30' - 18 h 15'
A22: Jeudi | B22: 8 h 30 - 10 h 15' | C22: Mathématiques | D22: Analyse Numérique | E22: Electronique | F22: Automatique | G22: Electronique | H22: Automatismes | I22: Electronique | J22: Automatismes | M22: Electronique | N22: Automatismes | O22: Electronique | P22: Automatique | Q22: Examen Ingenerie | R22: Examen Ingenerie | S22: Electronique | T22: Automatique | U22: Examen Economie | V22: Examen Economie
B23: 10 h 30 - 12 h 15' | C23: Analyse Numérique | D23: Mathématiques | E23: Automatique | F23: Electronique | G23: Automatismes | H23: Electronique | I23: Automatismes | J23: Electronique | M23: Automatismes | N23: Electronique | O23: Automatique | P23: Electronique | Q23: Examen Ingenerie | R23: Examen Ingenerie | S23: Automatique | T23: Electronique | U23: Examen Economie | V23: Examen Economie
B25: 14 h 30' - 16 h 15' | C25: Economie | D25: Ingénierie | E25: Economie | F25: Ingénierie | G25: Economie | H25: Ingénierie | I25: Economie | J25: Ingénierie | M25: TP/TD | N25: Metrologie | O25: Metrologie | P25: TP/TD | Q25: TP/TD | R25: Metrologie | S25: Economie | T25: TP/TD | U25: TP/TD | V25: Metrologie
B26: 16 h 30' - 18 h 15' | C26: Ingénierie | D26: Economie | E26: Ingénierie | F26: Economie | G26: Ingénierie | H26: Economie | I26: Ingénierie | J26: Economie | M26: TP/TD | N26: Economie | O26: Economie | P26: TP/TD | Q26: TP/TD | R26: Comptabilité | S26: Economie | T26: TP/TD | U26: TP/TD | V26: Comptabilité
A28: Vendredi | B28: 8 h 30 - 10 h 15' | C28: Algorithmique & C | D28: Electronique | E28: Algorithmique & C | F28: Electrotechnique | G28: Algorithmique & C | H28: Mathématiques | I28: Algorithmique & C | J28: Mathématiques | K28: Algorithmique & C | L28: Mathématiques | M28: TP/TD | N28: Algorithmique & C | O28: Algorithmique & C | P28: TP/TD | S28: Algorithmique & C | T28: TP/TD | U28: TD | V28: Algorithmique & C
B29: 10 h 30 - 12 h 15' | C29: Electronique | D29: Algorithmique & C | E29: Electrotechnique | F29: Algorithmique & C | G29: Mathématiques | H29: Algorithmique & C | I29: Mathématiques | J29: Algorithmique & C | K29: Mathématiques | L29: Algorithmique & C | M29: TP/TD | N29: Mathématiques | O29: Mathématiques | P29: TP/TD | S29: Mathématiques | T29: TP/TD | U29: TD | V29: Mathématiques
B31: 14 h 30' - 16 h 15' | C31: Economie | D31: Ingénierie | E31: Economie | F31: Ingénierie | G31: Analyse Numérique | H31: Ingénierie | I31: Automatismes | J31: Ingénierie | K31: Ingénierie | L31: Ingénierie | M31: Metrologie | N31: TP/TD | O31: TP/TD | P31: Metrologie | S31: TP/TD | T31: Metrologie | U31: Metrologie | V31: TP/TD
B32: 16 h 30' - 18 h 15' | C32: Ingénierie | D32: Economie | E32: Ingénierie | F32: Economie | G32: Ingénierie | H32: Analyse Numérique | I32: Ingénierie | J32: Automatismes | K32: Ingénierie | L32: Ingénierie | M32: Economie | N32: TP/TD | O32: TP/TD | P32: Economie | S32: TP/TD | T32: Economie | U32: Comptabilité | V32: TP/TD
A34: Samedi | B34: 8 h 30 - 10 h 15'
B35: 10 h 30 - 12 h 15'
B37: 14 h 30' - 16 h 15'
B38: 16 h 30' - 18 h 15'
R41: VB dotnet | S41: TP/TD | U41: Sem 8 / 9 - 13 Nov
R42: Dessin | S42: TP/TD | U42: Sect A | V42: Sect B
U43: TP/TD | V43: Anal Numér
R44: Langues | S44: Langues | U44: TP/TD | V44: Dessin
R45: Langues | S45: Langues
U46: Langues | V46: Langues
R47: Automatiqu | S47: Electrotech | U47: Langues | V47: Langues
R48: Electrotech | S48: Automatiqu
U49: Automatis | V49: Electrotech
R50: TP/TD | S50: Comptab | U50: Electrotech | V50: Automatis
R51: TP/TD | S51: Dessin
U52: Economie | V52: TP/TD
U53: Dessin | V53: TP/TD
U55: TP/TD | V55: Alg & C av.
U56: TP/TD | V56: Math. Appl
R59: Examen Economie
U61: Electroni | V61: Automatiqu
R62: TP/TD | S62: Metrologie | U62: Automatiqu | V62: Electroni
R63: TP/TD | S63: Comptab
U64: Economie | V64: TP/TD
R65: TD | S65: Alg & C av. | U65: Economie | V65: TP/TD
R66: TD | S66: Math. Appl
U67: Alg & C av. | V67: TD
R68: Métrologie | S68: TP/TD | U68: Math. Appl | V68: TD
R69: Comptab | S69: TP/TD
U70: TP/TD | V70: Métrologie
U71: TP/TD | V71: Comptab

Sheet 1A_2015_1SEM
K1: =CONCATENATE(MID(CELL("filename",'Emploi-1A-2015-1SEM'!A1),SEARCH("]",CELL("filename",'Emploi-1A-2015-1SEM'!A1),1)+1,200)) -> Emploi-1A-2015-1SEM
B3: =CONCATENATE("HORAIRE HEBDOMADAIRE ",'Emploi-1A-2015-1SEM'!F1) -> HORAIRE HEBDOMADAIRE 1ERE ANNEE
C4: Semaine : | D4: 8 | E4: =VLOOKUP(N_SEM,GRILLE!D3:E23,2,FALSE) -> 9 - 13 Nov
B6: Jours/séances | C6: Sections | D6: =CONCATENATE("Séance 1 ",'Emploi-1A-2015-1SEM'!$B4) -> Séance 1 8 h 30 - 10 h 15' | E6: =CONCATENATE("Séance 2 ",'Emploi-1A-2015-1SEM'!$B5) -> Séance 2 10 h 30 - 12 h 15' | G6: =CONCATENATE("Séance 3 ",'Emploi-1A-2015-1SEM'!$B7) -> Séance 3 14 h 30' - 16 h 15' | H6: =CONCATENATE("Séance 4 ",'Emploi-1A-2015-1SEM'!$B8) -> Séance 4 16 h 30' - 18 h 15'
A7: 0 | B7: Lundi | C7: SecA | D7: =INDIRECT(ADDRESS(COLUMN()+($A7*6),3+IF($C7="SecA",0,1)+(2*N_SEM),2,1,O_SYNTHESE)) -> TP/TD | E7: =INDIRECT(ADDRESS(COLUMN()+($A7*6),3+IF($C7="SecA",0,1)+(2*N_SEM),2,1,O_SYNTHESE)) -> TP/TD | G7: =INDIRECT(ADDRESS(COLUMN()+($A7*6),3+IF($C7="SecA",0,1)+(2*N_SEM),2,1,O_SYNTHESE)) -> Langues & communication | H7: =INDIRECT(ADDRESS(COLUMN()+($A7*6),3+IF($C7="SecA",0,1)+(2*N_SEM),2,1,O_SYNTHESE)) -> Langues & communication
D8: =IF(D7=0,"",VLOOKUP(D7,GRILLE!$A$3:$B$72,2,FALSE)) | E8: =IF(E7=0,"",VLOOKUP(E7,GRILLE!$A$3:$B$72,2,FALSE)) | G8: =IF(G7=0,"",VLOOKUP(G7,GRILLE!$A$3:$B$72,2,FALSE)) -> Voir emploi ctre des langues | H8: =IF(H7=0,"",VLOOKUP(H7,GRILLE!$A$3:$B$72,2,FALSE)) -> Voir emploi ctre des langues
A9: =A7 -> 0 | C9: SecB | D9: =INDIRECT(ADDRESS(COLUMN()+($A9*6),3+IF($C9="SecA",0,1)+(2*N_SEM),2,1,O_SYNTHESE)) -> Analyse Numérique | E9: =INDIRECT(ADDRESS(COLUMN()+($A9*6),3+IF($C9="SecA",0,1)+(2*N_SEM),2,1,O_SYNTHESE)) -> Dessin & Technologie | G9: =INDIRECT(ADDRESS(COLUMN()+($A9*6),3+IF($C9="SecA",0,1)+(2*N_SEM),2,1,O_SYNTHESE)) -> Langues & communication | H9: =INDIRECT(ADDRESS(COLUMN()+($A9*6),3+IF($C9="SecA",0,1)+(2*N_SEM),2,1,O_SYNTHESE)) -> Langues & communication
D10: =IF(D9=0,"",VLOOKUP(D9,GRILLE!$A$3:$B$72,2,FALSE)) -> M. ZAOUI | E10: =IF(E9=0,"",VLOOKUP(E9,GRILLE!$A$3:$B$72,2,FALSE)) -> M. LASRI | G10: =IF(G9=0,"",VLOOKUP(G9,GRILLE!$A$3:$B$72,2,FALSE)) -> Voir emploi ctre des langues | H10: =IF(H9=0,"",VLOOKUP(H9,GRILLE!$A$3:$B$72,2,FALSE)) -> Voir emploi ctre des langues
A11: 1 | B11: Mardi | C11: SecA | D11: =INDIRECT(ADDRESS(COLUMN()+($A11*6),3+IF($C11="SecA",0,1)+(2*N_SEM),2,1,O_SYNTHESE)) -> Automatique | E11: =INDIRECT(ADDRESS(COLUMN()+($A11*6),3+IF($C11="SecA",0,1)+(2*N_SEM),2,1,O_SYNTHESE)) -> Electrotechnique | G11: =INDIRECT(ADDRESS(COLUMN()+($A11*6),3+IF($C11="SecA",0,1)+(2*N_SEM),2,1,O_SYNTHESE)) -> Economie | H11: =INDIRECT(ADDRESS(COLUMN()+($A11*6),3+IF($C11="SecA",0,1)+(2*N_SEM),2,1,O_SYNTHESE)) -> Dessin & Technologie
D12: =IF(D11=0,"",VLOOKUP(D11,GRILLE!$A$3:$B$72,2,FALSE)) -> M. OUADGHIRI | E12: =IF(E11=0,"",VLOOKUP(E11,GRILLE!$A$3:$B$72,2,FALSE)) -> M. NGOTE | G12: =IF(G11=0,"",VLOOKUP(G11,GRILLE!$A$3:$B$72,2,FALSE)) -> M. EL OUADI | H12: =IF(H11=0,"",VLOOKUP(H11,GRILLE!$A$3:$B$72,2,FALSE)) -> M. LASRI
A13: =A11 -> 1 | C13: SecB | D13: =INDIRECT(ADDRESS(COLUMN()+($A13*6),3+IF($C13="SecA",0,1)+(2*N_SEM),2,1,O_SYNTHESE)) -> Electrotechnique | E13: =INDIRECT(ADDRESS(COLUMN()+($A13*6),3+IF($C13="SecA",0,1)+(2*N_SEM),2,1,O_SYNTHESE)) -> Automatique | G13: =INDIRECT(ADDRESS(COLUMN()+($A13*6),3+IF($C13="SecA",0,1)+(2*N_SEM),2,1,O_SYNTHESE)) -> TP/TD | H13: =INDIRECT(ADDRESS(COLUMN()+($A13*6),3+IF($C13="SecA",0,1)+(2*N_SEM),2,1,O_SYNTHESE)) -> TP/TD
D14: =IF(D13=0,"",VLOOKUP(D13,GRILLE!$A$3:$B$72,2,FALSE)) -> M. NGOTE | E14: =IF(E13=0,"",VLOOKUP(E13,GRILLE!$A$3:$B$72,2,FALSE)) -> M. OUADGHIRI | G14: =IF(G13=0,"",VLOOKUP(G13,GRILLE!$A$3:$B$72,2,FALSE)) | H14: =IF(H13=0,"",VLOOKUP(H13,GRILLE!$A$3:$B$72,2,FALSE))
A15: 2 | C15: SecA | D15: =INDIRECT(ADDRESS(COLUMN()+($A15*6),3+IF($C15="SecA",0,1)+(2*N_SEM),2,1,O_SYNTHESE)) -> TP/TD | E15: =INDIRECT(ADDRESS(COLUMN()+($A15*6),3+IF($C15="SecA",0,1)+(2*N_SEM),2,1,O_SYNTHESE)) -> TP/TD | G15: =INDIRECT(ADDRESS(COLUMN()+($A15*6),3+IF($C15="SecA",0,1)+(2*N_SEM),2,1,O_SYNTHESE)) -> 0 | H15: =INDIRECT(ADDRESS(COLUMN()+($A15*6),3+IF($C15="SecA",0,1)+(2*N_SEM),2,1,O_SYNTHESE)) -> 0
B16: Mercredi | D16: =IF(D15=0,"",VLOOKUP(D15,GRILLE!$A$3:$B$72,2,FALSE)) | E16: =IF(E15=0,"",VLOOKUP(E15,GRILLE!$A$3:$B$72,2,FALSE)) | G16: =IF(G15=0,"",VLOOKUP(G15,GRILLE!$A$3:$B$72,2,FALSE)) | H16: =IF(H15=0,"",VLOOKUP(H15,GRILLE!$A$3:$B$72,2,FALSE))
A17: =A15 -> 2 | C17: SecB | D17: =INDIRECT(ADDRESS(COLUMN()+($A17*6),3+IF($C17="SecA",0,1)+(2*N_SEM),2,1,O_SYNTHESE)) -> Algorithmique & C | E17: =INDIRECT(ADDRESS(COLUMN()+($A17*6),3+IF($C17="SecA",0,1)+(2*N_SEM),2,1,O_SYNTHESE)) -> Mathématiques | G17: =INDIRECT(ADDRESS(COLUMN()+($A17*6),3+IF($C17="SecA",0,1)+(2*N_SEM),2,1,O_SYNTHESE)) -> 0 | H17: =INDIRECT(ADDRESS(COLUMN()+($A17*6),3+IF($C17="SecA",0,1)+(2*N_SEM),2,1,O_SYNTHESE)) -> 0
D18: =IF(D17=0,"",VLOOKUP(D17,GRILLE!$A$3:$B$72,2,FALSE)) -> M. EL GAMAH | E18: =IF(E17=0,"",VLOOKUP(E17,GRILLE!$A$3:$B$72,2,FALSE)) -> M. NAJIB | G18: =IF(G17=0,"",VLOOKUP(G17,GRILLE!$A$3:$B$72,2,FALSE)) | H18: =IF(H17=0,"",VLOOKUP(H17,GRILLE!$A$3:$B$72,2,FALSE))
A19: 3 | D19: =INDIRECT(ADDRESS(COLUMN()+($A19*6),3+IF($C19="SecA",0,1)+(2*N_SEM),2,1,O_SYNTHESE)) -> Automatique | E19: =INDIRECT(ADDRESS(COLUMN()+($A19*6),3+IF($C19="SecA",0,1)+(2*N_SEM),2,1,O_SYNTHESE)) -> Electronique | G19: =INDIRECT(ADDRESS(COLUMN()+($A19*6),3+IF($C19="SecA",0,1)+(2*N_SEM),2,1,O_SYNTHESE)) -> TP/TD | H19: =INDIRECT(ADDRESS(COLUMN()+($A19*6),3+IF($C19="SecA",0,1)+(2*N_SEM),2,1,O_SYNTHESE)) -> TP/TD
C20: SecA | D20: =IF(D19=0,"",VLOOKUP(D19,GRILLE!$A$3:$B$72,2,FALSE)) -> M. OUADGHIRI | E20: =IF(E19=0,"",VLOOKUP(E19,GRILLE!$A$3:$B$72,2,FALSE)) -> M. NGOTE | G20: =IF(G19=0,"",VLOOKUP(G19,GRILLE!$A$3:$B$72,2,FALSE)) | H20: =IF(H19=0,"",VLOOKUP(H19,GRILLE!$A$3:$B$72,2,FALSE))
A21: =A19 -> 3 | B21: Jeudi | C21: SecB | D21: =INDIRECT(ADDRESS(COLUMN()+($A21*6),3+IF($C21="SecA",0,1)+(2*N_SEM),2,1,O_SYNTHESE)) -> Automatique | E21: =INDIRECT(ADDRESS(COLUMN()+($A21*6),3+IF($C21="SecA",0,1)+(2*N_SEM),2,1,O_SYNTHESE)) -> Electronique | G21: =INDIRECT(ADDRESS(COLUMN()+($A21*6),3+IF($C21="SecA",0,1)+(2*N_SEM),2,1,O_SYNTHESE)) -> TP/TD | H21: =INDIRECT(ADDRESS(COLUMN()+($A21*6),3+IF($C21="SecA",0,1)+(2*N_SEM),2,1,O_SYNTHESE)) -> TP/TD
D22: =IF(D21=0,"",VLOOKUP(D21,GRILLE!$A$3:$B$72,2,FALSE)) -> M. OUADGHIRI | E22: =IF(E21=0,"",VLOOKUP(E21,GRILLE!$A$3:$B$72,2,FALSE)) -> M. NGOTE | G22: =IF(G21=0,"",VLOOKUP(G21,GRILLE!$A$3:$B$72,2,FALSE)) | H22: =IF(H21=0,"",VLOOKUP(H21,GRILLE!$A$3:$B$72,2,FALSE))
A23: 4 | C23: SecA | D23: =INDIRECT(ADDRESS(COLUMN()+($A23*6),3+IF($C23="SecA",0,1)+(2*N_SEM),2,1,O_SYNTHESE)) -> Algorithmique & C | E23: =INDIRECT(ADDRESS(COLUMN()+($A23*6),3+IF($C23="SecA",0,1)+(2*N_SEM),2,1,O_SYNTHESE)) -> Mathématiques | G23: =INDIRECT(ADDRESS(COLUMN()+($A23*6),3+IF($C23="SecA",0,1)+(2*N_SEM),2,1,O_SYNTHESE)) -> TP/TD | H23: =INDIRECT(ADDRESS(COLUMN()+($A23*6),3+IF($C23="SecA",0,1)+(2*N_SEM),2,1,O_SYNTHESE)) -> TP/TD
B24: Vendredi | D24: =IF(D23=0,"",VLOOKUP(D23,GRILLE!$A$3:$B$72,2,FALSE)) -> M. EL GAMAH | E24: =IF(E23=0,"",VLOOKUP(E23,GRILLE!$A$3:$B$72,2,FALSE)) -> M. NAJIB | G24: =IF(G23=0,"",VLOOKUP(G23,GRILLE!$A$3:$B$72,2,FALSE)) | H24: =IF(H23=0,"",VLOOKUP(H23,GRILLE!$A$3:$B$72,2,FALSE))
A25: =A23 -> 4 | C25: SecB | D25: =INDIRECT(ADDRESS(COLUMN()+($A25*6),3+IF($C25="SecA",0,1)+(2*N_SEM),2,1,O_SYNTHESE)) -> TP/TD | E25: =INDIRECT(ADDRESS(COLUMN()+($A25*6),3+IF($C25="SecA",0,1)+(2*N_SEM),2,1,O_SYNTHESE)) -> TP/TD | G25: =INDIRECT(ADDRESS(COLUMN()+($A25*6),3+IF($C25="SecA",0,1)+(2*N_SEM),2,1,O_SYNTHESE)) -> Metrologie | H25: =INDIRECT(ADDRESS(COLUMN()+($A25*6),3+IF($C25="SecA",0,1)+(2*N_SEM),2,1,O_SYNTHESE)) -> Economie
D26: =IF(D25=0,"",VLOOKUP(D25,GRILLE!$A$3:$B$72,2,FALSE)) | E26: =IF(E25=0,"",VLOOKUP(E25,GRILLE!$A$3:$B$72,2,FALSE)) | G26: =IF(G25=0,"",VLOOKUP(G25,GRILLE!$A$3:$B$72,2,FALSE)) -> M. MOUBAKER | H26: =IF(H25=0,"",VLOOKUP(H25,GRILLE!$A$3:$B$72,2,FALSE)) -> M. EL OUADI
A27: 5 | B27: Samedi | C27: SecA | D27: =INDIRECT(ADDRESS(COLUMN()+($A27*6),3+IF($C27="SecA",0,1)+(2*N_SEM),2,1,O_SYNTHESE)) -> 0 | E27: =INDIRECT(ADDRESS(COLUMN()+($A27*6),3+IF($C27="SecA",0,1)+(2*N_SEM),2,1,O_SYNTHESE)) -> 0 | G27: =INDIRECT(ADDRESS(COLUMN()+($A27*6),3+IF($C27="SecA",0,1)+(2*N_SEM),2,1,O_SYNTHESE)) -> 0 | H27: =INDIRECT(ADDRESS(COLUMN()+($A27*6),3+IF($C27="SecA",0,1)+(2*N_SEM),2,1,O_SYNTHESE)) -> 0
D28: =IF(D27=0,"",VLOOKUP(D27,GRILLE!$A$3:$B$72,2,FALSE)) | E28: =IF(E27=0,"",VLOOKUP(E27,GRILLE!$A$3:$B$72,2,FALSE)) | G28: =IF(G27=0,"",VLOOKUP(G27,GRILLE!$A$3:$B$72,2,FALSE)) | H28: =IF(H27=0,"",VLOOKUP(H27,GRILLE!$A$3:$B$72,2,FALSE))
A29: =A27 -> 5 | C29: SecB | D29: =INDIRECT(ADDRESS(COLUMN()+($A29*6),3+IF($C29="SecA",0,1)+(2*N_SEM),2,1,O_SYNTHESE)) -> 0 | E29: =INDIRECT(ADDRESS(COLUMN()+($A29*6),3+IF($C29="SecA",0,1)+(2*N_SEM),2,1,O_SYNTHESE)) -> 0 | G29: =INDIRECT(ADDRESS(COLUMN()+($A29*6),3+IF($C29="SecA",0,1)+(2*N_SEM),2,1,O_SYNTHESE)) -> 0 | H29: =INDIRECT(ADDRESS(COLUMN()+($A29*6),3+IF($C29="SecA",0,1)+(2*N_SEM),2,1,O_SYNTHESE)) -> 0
D30: =IF(D29=0,"",VLOOKUP(D29,GRILLE!$A$3:$B$72,2,FALSE)) | E30: =IF(E29=0,"",VLOOKUP(E29,GRILLE!$A$3:$B$72,2,FALSE)) | G30: =IF(G29=0,"",VLOOKUP(G29,GRILLE!$A$3:$B$72,2,FALSE)) | H30: =IF(H29=0,"",VLOOKUP(H29,GRILLE!$A$3:$B$72,2,FALSE))
B31: AMPHI : | D31: Sec A | E31: Amphi 1A | G31: Sec B | H31: Amphi 2A

Sheet GRILLE
A1: GRILLE MATIERES / ENSEIGNANTS
A2: Matières | B2: Enseignants | D2: N.SEMAINE | E2: DATE
A3: Algorithmique & C | B3: M. EL GAMAH | D3: ='Emploi-1A-2015-1SEM'!C2 -> 0 | E3: ='Emploi-1A-2015-1SEM'!D2 -> 9-11 Sep
A4: Analyse Numérique | B4: M. ZAOUI | D4: ='Emploi-1A-2015-1SEM'!E2 -> 1 | E4: ='Emploi-1A-2015-1SEM'!F2 -> 14-18 Sep
A5: Automatique | B5: M. OUADGHIRI | D5: ='Emploi-1A-2015-1SEM'!G2 -> 2 | E5: ='Emploi-1A-2015-1SEM'!H2 -> 28 Sep -2 Oct
D6: ='Emploi-1A-2015-1SEM'!I2 -> 3 | E6: ='Emploi-1A-2015-1SEM'!J2 -> 5 - 13 Oct
A7: Automatismes | B7: M. TAHIRI | D7: ='Emploi-1A-2015-1SEM'!K2 -> 4 | E7: ='Emploi-1A-2015-1SEM'!L2 -> 12 - 16 Oct
A8: Comptabilité | B8: M. EL OUADIH | D8: ='Emploi-1A-2015-1SEM'!M2 -> 5 | E8: ='Emploi-1A-2015-1SEM'!N2 -> 19- 23 Oct
A9: Dessin & Technologie | B9: M. LASRI | D9: ='Emploi-1A-2015-1SEM'!O2 -> 6 | E9: ='Emploi-1A-2015-1SEM'!P2 -> 26 - 30 Oct
A10: Economie | B10: M. EL OUADI | D10: ='Emploi-1A-2015-1SEM'!Q2 -> 7 | E10: ='Emploi-1A-2015-1SEM'!R2 -> 2 - 5 Nov
A11: Electronique | B11: M. NGOTE | D11: ='Emploi-1A-2015-1SEM'!S2 -> 8 | E11: ='Emploi-1A-2015-1SEM'!T2 -> 9 - 13 Nov
D12: ='Emploi-1A-2015-1SEM'!U2 -> 9 | E12: ='Emploi-1A-2015-1SEM'!V2 -> 16 - 20 Nov
A13: Electrotechnique | B13: M. NGOTE | D13: ='Emploi-1A-2015-1SEM'!W2 -> 10 | E13: ='Emploi-1A-2015-1SEM'!X2 -> 23 - 28 Nov
A14: Ingénierie | B14: M. HAMIDI | D14: ='Emploi-1A-2015-1SEM'!Y2 -> 11 | E14: ='Emploi-1A-2015-1SEM'!Z2 -> 30 Nov - 4 Déc
D15: ='Emploi-1A-2015-1SEM'!AA2 -> 12 | E15: ='Emploi-1A-2015-1SEM'!AB2 -> 7 - 12 Déc
A16: Mathématiques | B16: M. NAJIB | D16: ='Emploi-1A-2015-1SEM'!AC2 -> 13 | E16: ='Emploi-1A-2015-1SEM'!AD2 -> 14 - 18 Déc
A17: Metrologie | B17: M. MOUBAKER | D17: ='Emploi-1A-2015-1SEM'!AE2 -> 14 | E17: ='Emploi-1A-2015-1SEM'!AF2 -> 23 - 25 Déc
A18: Programmation Evènementielle | B18: M. BENMILOUD | D18: ='Emploi-1A-2015-1SEM'!AG2 -> 15 | E18: ='Emploi-1A-2015-1SEM'!AH2 -> 28 - 31 Déc
A19: VB DOTNET | B19: M. BENMILOUD | D19: ='Emploi-1A-2015-1SEM'!AI2 -> 16 | E19: ='Emploi-1A-2015-1SEM'!AJ2 -> 4 - 8 Jan
A20: TD | D20: ='Emploi-1A-2015-1SEM'!AK2 -> 17 | E20: ='Emploi-1A-2015-1SEM'!AL2 -> 4 - 8 Jan
D21: ='Emploi-1A-2015-1SEM'!AM2 -> 18 | E21: ='Emploi-1A-2015-1SEM'!AN2 -> 4 - 8 Jan
D22: ='Emploi-1A-2015-1SEM'!AO2 -> 19 | E22: ='Emploi-1A-2015-1SEM'!AP2 -> 4 - 8 Jan
D23: ='Emploi-1A-2015-1SEM'!AQ2 -> 20 | E23: ='Emploi-1A-2015-1SEM'!AR2 -> 4 - 8 Jan
A29: Langues & communication | B29: Voir emploi ctre des langues
A31: TP/TD
A32: TD Electrotechnique 1 | B32: M. MAJIDI
A33: TD Electrotechnique 2 | B33: M. AMARTINI
A34: TD Electronique 1 | B34: M. MAJIDI
A35: TD Electronique 2 | B35: M. SAHBANI
A36: TD AUTOMATIQUE | B36: M. KCHIKCH
A37: TD AUTOMATISMES | B37: M. LICER
A38: TD ANALYSE NUMERIQUE | B38: M. ZAOUI
A39: TD MATHEMATIQUES | B39: M. MEDRARI
A40: TD DESSIN 1 | B40: M. ZAKI
A41: TD DESSIN 2 | B41: M. VACATAIRE
A42: TD/TP INFORMATIQUE 1 | B42: M. ZAYDI
A43: TD/TP INFORMATIQUE 2 | B43: M. EL BARAKA
... A50: TP AUTOMATISMES 2 | B50: M;VACATAIRE
A54: C.MATH.
A55: C.AUTOMATIQUE
A56: C.ALG.& C
A57: C.ELECTROTECH.
A58: C.ELECTRONIQUE
A59: C.AN.NUMERIQUE
A63: Examen Ingenerie
A64: Examen Economie
A69: INSCRIPTIONS

Sheet OCCUPATION
I3: O C C U P A T I O N C O R P S E N S E I G N A N T
I5: ='Emploi-1A-2015-1SEM'!E1 -> EMPLOI | K5: ='Emploi-1A-2015-1SEM'!F1 -> 1ERE ANNEE | N5: ='Emploi-1A-2015-1SEM'!G1 -> 2015-2016 | Q5: ='Emploi-1A-2015-1SEM'!S1 -> 1 SEM.
C7: S E M A I N E S
A8: MATIERES | B8: ENSEIGNANTS | C8: 0 | D8: 1 | E8: 2 | F8: 3 | G8: 4 | H8: 5 | I8: 6 | J8: 7 | K8: 8 | L8: 9 | M8: 10 | N8: 11 | O8: 12 | P8: 13 | Q8: 14 | R8: 15 | S8: 16 | T8: 17 | U8: 18 | V8: 19 | W8: 20 | X8: TOT.SEM.
A9: =GRILLE!A3 -> Algorithmique & C | B9: =GRILLE!B3 -> M. EL GAMAH | C9: =COUNTIF(INDIRECT(ADDRESS(4,3+(C$8*2),1,2,O_SYNTHESE)):INDIRECT(ADDRESS(38,4+(C$8*2),1,2,O_SYNTHESE)),$A9)*2 -> 8 | D9: =COUNTIF(INDIRECT(ADDRESS(4,3+(D$8*2),1,2,O_SYNTHESE)):INDIRECT(ADDRESS(38,4+(D$8*2),1,2,O_SYNTHESE)),$A9)*2 -> 8 | E9: =COUNTIF(INDIRECT(ADDRESS(4,3+(E$8*2),1,2,O_SYNTHESE)):INDIRECT(ADDRESS(38,4+(E$8*2),1,2,O_SYNTHESE)),$A9)*2 -> 8 | F9: =COUNTIF(INDIRECT(ADDRESS(4,3+(F$8*2),1,2,O_SYNTHESE)):INDIRECT(ADDRESS(38,4+(F$8*2),1,2,O_SYNTHESE)),$A9)*2 -> 8 | G9: =COUNTIF(INDIRECT(ADDRESS(4,3+(G$8*2),1,2,O_SYNTHESE)):INDIRECT(ADDRESS(38,4+(G$8*2),1,2,O_SYNTHESE)),$A9)*2 -> 4 | H9: =COUNTIF(INDIRECT(ADDRESS(4,3+(H$8*2),1,2,O_SYNTHESE)):INDIRECT(ADDRESS(38,4+(H$8*2),1,2,O_SYNTHESE)),$A9)*2 -> 4 | I9: =COUNTIF(INDIRECT(ADDRESS(4,3+(I$8*2),1,2,O_SYNTHESE)):INDIRECT(ADDRESS(38,4+(I$8*2),1,2,O_SYNTHESE)),$A9)*2 -> 8 | J9: =COUNTIF(INDIRECT(ADDRESS(4,3+(J$8*2),1,2,O_SYNTHESE)):INDIRECT(ADDRESS(38,4+(J$8*2),1,2,O_SYNTHESE)),$A9)*2 -> 2 | ... W9: =COUNTIF(INDIRECT(ADDRESS(4,3+(W$8*2),1,2,O_SYNTHESE)):INDIRECT(ADDRESS(38,4+(W$8*2),1,2,O_SYNTHESE)),$A9)*2 -> 0 | X9: =SUM(C9:W9) -> 56
A10: =GRILLE!A4 -> Analyse Numérique | B10: =GRILLE!B4 -> M. ZAOUI | C10: =COUNTIF(INDIRECT(ADDRESS(4,3+(C$8*2),1,2,O_SYNTHESE)):INDIRECT(ADDRESS(38,4+(C$8*2),1,2,O_SYNTHESE)),$A10)*2 -> 4 | D10: =COUNTIF(INDIRECT(ADDRESS(4,3+(D$8*2),1,2,O_SYNTHESE)):INDIRECT(ADDRESS(38,4+(D$8*2),1,2,O_SYNTHESE)),$A10)*2 -> 12 | E10: =COUNTIF(INDIRECT(ADDRESS(4,3+(E$8*2),1,2,O_SYNTHESE)):INDIRECT(ADDRESS(38,4+(E$8*2),1,2,O_SYNTHESE)),$A10)*2 -> 8 | F10: =COUNTIF(INDIRECT(ADDRESS(4,3+(F$8*2),1,2,O_SYNTHESE)):INDIRECT(ADDRESS(38,4+(F$8*2),1,2,O_SYNTHESE)),$A10)*2 -> 4 | G10: =COUNTIF(INDIRECT(ADDRESS(4,3+(G$8*2),1,2,O_SYNTHESE)):INDIRECT(ADDRESS(38,4+(G$8*2),1,2,O_SYNTHESE)),$A10)*2 -> 4 | H10: =COUNTIF(INDIRECT(ADDRESS(4,3+(H$8*2),1,2,O_SYNTHESE)):INDIRECT(ADDRESS(38,4+(H$8*2),1,2,O_SYNTHESE)),$A10)*2 -> 2 | I10: =COUNTIF(INDIRECT(ADDRESS(4,3+(I$8*2),1,2,O_SYNTHESE)):INDIRECT(ADDRESS(38,4+(I$8*2),1,2,O_SYNTHESE)),$A10)*2 -> 2 | J10: =COUNTIF(INDIRECT(ADDRESS(4,3+(J$8*2),1,2,O_SYNTHESE)):INDIRECT(ADDRESS(38,4+(J$8*2),1,2,O_SYNTHESE)),$A10)*2 -> 2 | ... W10: =COUNTIF(INDIRECT(ADDRESS(4,3+(W$8*2),1,2,O_SYNTHESE)):INDIRECT(ADDRESS(38,4+(W$8*2),1,2,O_SYNTHESE)),$A10)*2 -> 0 | X10: =SUM(C10:W10) -> 40
A11: =GRILLE!A5 -> Automatique | B11: =GRILLE!B5 -> M. OUADGHIRI | C11: =COUNTIF(INDIRECT(ADDRESS(4,3+(C$8*2),1,2,O_SYNTHESE)):INDIRECT(ADDRESS(38,4+(C$8*2),1,2,O_SYNTHESE)),$A11)*2 -> 0 | D11: =COUNTIF(INDIRECT(ADDRESS(4,3+(D$8*2),1,2,O_SYNTHESE)):INDIRECT(ADDRESS(38,4+(D$8*2),1,2,O_SYNTHESE)),$A11)*2 -> 4 | E11: =COUNTIF(INDIRECT(ADDRESS(4,3+(E$8*2),1,2,O_SYNTHESE)):INDIRECT(ADDRESS(38,4+(E$8*2),1,2,O_SYNTHESE)),$A11)*2 -> 4 | F11: =COUNTIF(INDIRECT(ADDRESS(4,3+(F$8*2),1,2,O_SYNTHESE)):INDIRECT(ADDRESS(38,4+(F$8*2),1,2,O_SYNTHESE)),$A11)*2 -> 4 | G11: =COUNTIF(INDIRECT(ADDRESS(4,3+(G$8*2),1,2,O_SYNTHESE)):INDIRECT(ADDRESS(38,4+(G$8*2),1,2,O_SYNTHESE)),$A11)*2 -> 8 | H11: =COUNTIF(INDIRECT(ADDRESS(4,3+(H$8*2),1,2,O_SYNTHESE)):INDIRECT(ADDRESS(38,4+(H$8*2),1,2,O_SYNTHESE)),$A11)*2 -> 0 | I11: =COUNTIF(INDIRECT(ADDRESS(4,3+(I$8*2),1,2,O_SYNTHESE)):INDIRECT(ADDRESS(38,4+(I$8*2),1,2,O_SYNTHESE)),$A11)*2 -> 4 | J11: =COUNTIF(INDIRECT(ADDRESS(4,3+(J$8*2),1,2,O_SYNTHESE)):INDIRECT(ADDRESS(38,4+(J$8*2),1,2,O_SYNTHESE)),$A11)*2 -> 4 | ... W11: =COUNTIF(INDIRECT(ADDRESS(4,3+(W$8*2),1,2,O_SYNTHESE)):INDIRECT(ADDRESS(38,4+(W$8*2),1,2,O_SYNTHESE)),$A11)*2 -> 0 | X11: =SUM(C11:W11) -> 36
A12: =GRILLE!A6 -> 0 | B12: =GRILLE!B6 -> 0 | C12: =COUNTIF(INDIRECT(ADDRESS(4,3+(C$8*2),1,2,O_SYNTHESE)):INDIRECT(ADDRESS(38,4+(C$8*2),1,2,O_SYNTHESE)),$A12)*2 -> 0 | D12: =COUNTIF(INDIRECT(ADDRESS(4,3+(D$8*2),1,2,O_SYNTHESE)):INDIRECT(ADDRESS(38,4+(D$8*2),1,2,O_SYNTHESE)),$A12)*2 -> 0 | E12: =COUNTIF(INDIRECT(ADDRESS(4,3+(E$8*2),1,2,O_SYNTHESE)):INDIRECT(ADDRESS(38,4+(E$8*2),1,2,O_SYNTHESE)),$A12)*2 -> 0 | F12: =COUNTIF(INDIRECT(ADDRESS(4,3+(F$8*2),1,2,O_SYNTHESE)):INDIRECT(ADDRESS(38,4+(F$8*2),1,2,O_SYNTHESE)),$A12)*2 -> 0 | G12: =COUNTIF(INDIRECT(ADDRESS(4,3+(G$8*2),1,2,O_SYNTHESE)):INDIRECT(ADDRESS(38,4+(G$8*2),1,2,O_SYNTHESE)),$A12)*2 -> 0 | H12: =COUNTIF(INDIRECT(ADDRESS(4,3+(H$8*2),1,2,O_SYNTHESE)):INDIRECT(ADDRESS(38,4+(H$8*2),1,2,O_SYNTHESE)),$A12)*2 -> 0 | I12: =COUNTIF(INDIRECT(ADDRESS(4,3+(I$8*2),1,2,O_SYNTHESE)):INDIRECT(ADDRESS(38,4+(I$8*2),1,2,O_SYNTHESE)),$A12)*2 -> 0 | J12: =COUNTIF(INDIRECT(ADDRESS(4,3+(J$8*2),1,2,O_SYNTHESE)):INDIRECT(ADDRESS(38,4+(J$8*2),1,2,O_SYNTHESE)),$A12)*2 -> 0 | ... W12: =COUNTIF(INDIRECT(ADDRESS(4,3+(W$8*2),1,2,O_SYNTHESE)):INDIRECT(ADDRESS(38,4+(W$8*2),1,2,O_SYNTHESE)),$A12)*2 -> 0 | X12: =SUM(C12:W12) -> 0
A13: =GRILLE!A7 -> Automatismes | B13: =GRILLE!B7 -> M. TAHIRI | C13: =COUNTIF(INDIRECT(ADDRESS(4,3+(C$8*2),1,2,O_SYNTHESE)):INDIRECT(ADDRESS(38,4+(C$8*2),1,2,O_SYNTHESE)),$A13)*2 -> 0 | D13: =COUNTIF(INDIRECT(ADDRESS(4,3+(D$8*2),1,2,O_SYNTHESE)):INDIRECT(ADDRESS(38,4+(D$8*2),1,2,O_SYNTHESE)),$A13)*2 -> 0 | E13: =COUNTIF(INDIRECT(ADDRESS(4,3+(E$8*2),1,2,O_SYNTHESE)):INDIRECT(ADDRESS(38,4+(E$8*2),1,2,O_SYNTHESE)),$A13)*2 -> 4 | F13: =COUNTIF(INDIRECT(ADDRESS(4,3+(F$8*2),1,2,O_SYNTHESE)):INDIRECT(ADDRESS(38,4+(F$8*2),1,2,O_SYNTHESE)),$A13)*2 -> 8 | G13: =COUNTIF(INDIRECT(ADDRESS(4,3+(G$8*2),1,2,O_SYNTHESE)):INDIRECT(ADDRESS(38,4+(G$8*2),1,2,O_SYNTHESE)),$A13)*2 -> 0 | H13: =COUNTIF(INDIRECT(ADDRESS(4,3+(H$8*2),1,2,O_SYNTHESE)):INDIRECT(ADDRESS(38,4+(H$8*2),1,2,O_SYNTHESE)),$A13)*2 -> 8 | I13: =COUNTIF(INDIRECT(ADDRESS(4,3+(I$8*2),1,2,O_SYNTHESE)):INDIRECT(ADDRESS(38,4+(I$8*2),1,2,O_SYNTHESE)),$A13)*2 -> 0 | J13: =COUNTIF(INDIRECT(ADDRESS(4,3+(J$8*2),1,2,O_SYNTHESE)):INDIRECT(ADDRESS(38,4+(J$8*2),1,2,O_SYNTHESE)),$A13)*2 -> 4 | ... W13: =COUNTIF(INDIRECT(ADDRESS(4,3+(W$8*2),1,2,O_SYNTHESE)):INDIRECT(ADDRESS(38,4+(W$8*2),1,2,O_SYNTHESE)),$A13)*2 -> 0 | X13: =SUM(C13:W13) -> 28
A14: =GRILLE!A8 -> Comptabilité | B14: =GRILLE!B8 -> M. EL OUADIH | C14: =COUNTIF(INDIRECT(ADDRESS(4,3+(C$8*2),1,2,O_SYNTHESE)):INDIRECT(ADDRESS(38,4+(C$8*2),1,2,O_SYNTHESE)),$A14)*2 -> 0 | D14: =COUNTIF(INDIRECT(ADDRESS(4,3+(D$8*2),1,2,O_SYNTHESE)):INDIRECT(ADDRESS(38,4+(D$8*2),1,2,O_SYNTHESE)),$A14)*2 -> 0 | E14: =COUNTIF(INDIRECT(ADDRESS(4,3+(E$8*2),1,2,O_SYNTHESE)):INDIRECT(ADDRESS(38,4+(E$8*2),1,2,O_SYNTHESE)),$A14)*2 -> 0 | F14: =COUNTIF(INDIRECT(ADDRESS(4,3+(F$8*2),1,2,O_SYNTHESE)):INDIRECT(ADDRESS(38,4+(F$8*2),1,2,O_SYNTHESE)),$A14)*2 -> 0 | G14: =COUNTIF(INDIRECT(ADDRESS(4,3+(G$8*2),1,2,O_SYNTHESE)):INDIRECT(ADDRESS(38,4+(G$8*2),1,2,O_SYNTHESE)),$A14)*2 -> 0 | H14: =COUNTIF(INDIRECT(ADDRESS(4,3+(H$8*2),1,2,O_SYNTHESE)):INDIRECT(ADDRESS(38,4+(H$8*2),1,2,O_SYNTHESE)),$A14)*2 -> 0 | I14: =COUNTIF(INDIRECT(ADDRESS(4,3+(I$8*2),1,2,O_SYNTHESE)):INDIRECT(ADDRESS(38,4+(I$8*2),1,2,O_SYNTHESE)),$A14)*2 -> 0 | J14: =COUNTIF(INDIRECT(ADDRESS(4,3+(J$8*2),1,2,O_SYNTHESE)):INDIRECT(ADDRESS(38,4+(J$8*2),1,2,O_SYNTHESE)),$A14)*2 -> 2 | ... W14: =COUNTIF(INDIRECT(ADDRESS(4,3+(W$8*2),1,2,O_SYNTHESE)):INDIRECT(ADDRESS(38,4+(W$8*2),1,2,O_SYNTHESE)),$A14)*2 -> 0 | X14: =SUM(C14:W14) -> 8
A15: =GRILLE!A9 -> Dessin & Technologie | B15: =GRILLE!B9 -> M. LASRI | C15: =COUNTIF(INDIRECT(ADDRESS(4,3+(C$8*2),1,2,O_SYNTHESE)):INDIRECT(ADDRESS(38,4+(C$8*2),1,2,O_SYNTHESE)),$A15)*2 -> 0 | D15: =COUNTIF(INDIRECT(ADDRESS(4,3+(D$8*2),1,2,O_SYNTHESE)):INDIRECT(ADDRESS(38,4+(D$8*2),1,2,O_SYNTHESE)),$A15)*2 -> 8 | E15: =COUNTIF(INDIRECT(ADDRESS(4,3+(E$8*2),1,2,O_SYNTHESE)):INDIRECT(ADDRESS(38,4+(E$8*2),1,2,O_SYNTHESE)),$A15)*2 -> 8 | F15: =COUNTIF(INDIRECT(ADDRESS(4,3+(F$8*2),1,2,O_SYNTHESE)):INDIRECT(ADDRESS(38,4+(F$8*2),1,2,O_SYNTHESE)),$A15)*2 -> 8 | G15: =COUNTIF(INDIRECT(ADDRESS(4,3+(G$8*2),1,2,O_SYNTHESE)):INDIRECT(ADDRESS(38,4+(G$8*2),1,2,O_SYNTHESE)),$A15)*2 -> 8 | H15: =COUNTIF(INDIRECT(ADDRESS(4,3+(H$8*2),1,2,O_SYNTHESE)):INDIRECT(ADDRESS(38,4+(H$8*2),1,2,O_SYNTHESE)),$A15)*2 -> 4 | I15: =COUNTIF(INDIRECT(ADDRESS(4,3+(I$8*2),1,2,O_SYNTHESE)):INDIRECT(ADDRESS(38,4+(I$8*2),1,2,O_SYNTHESE)),$A15)*2 -> 4 | J15: =COUNTIF(INDIRECT(ADDRESS(4,3+(J$8*2),1,2,O_SYNTHESE)):INDIRECT(ADDRESS(38,4+(J$8*2),1,2,O_SYNTHESE)),$A15)*2 -> 4 | ... W15: =COUNTIF(INDIRECT(ADDRESS(4,3+(W$8*2),1,2,O_SYNTHESE)):INDIRECT(ADDRESS(38,4+(W$8*2),1,2,O_SYNTHESE)),$A15)*2 -> 0 | X15: =SUM(C15:W15) -> 52
A16: =GRILLE!A10 -> Economie | B16: =GRILLE!B10 -> M. EL OUADI | C16: =COUNTIF(INDIRECT(ADDRESS(4,3+(C$8*2),1,2,O_SYNTHESE)):INDIRECT(ADDRESS(38,4+(C$8*2),1,2,O_SYNTHESE)),$A16)*2 -> 8 | D16: =COUNTIF(INDIRECT(ADDRESS(4,3+(D$8*2),1,2,O_SYNTHESE)):INDIRECT(ADDRESS(38,4+(D$8*2),1,2,O_SYNTHESE)),$A16)*2 -> 12 | E16: =COUNTIF(INDIRECT(ADDRESS(4,3+(E$8*2),1,2,O_SYNTHESE)):INDIRECT(ADDRESS(38,4+(E$8*2),1,2,O_SYNTHESE)),$A16)*2 -> 8 | F16: =COUNTIF(INDIRECT(ADDRESS(4,3+(F$8*2),1,2,O_SYNTHESE)):INDIRECT(ADDRESS(38,4+(F$8*2),1,2,O_SYNTHESE)),$A16)*2 -> 8 | G16: =COUNTIF(INDIRECT(ADDRESS(4,3+(G$8*2),1,2,O_SYNTHESE)):INDIRECT(ADDRESS(38,4+(G$8*2),1,2,O_SYNTHESE)),$A16)*2 -> 4 | H16: =COUNTIF(INDIRECT(ADDRESS(4,3+(H$8*2),1,2,O_SYNTHESE)):INDIRECT(ADDRESS(38,4+(H$8*2),1,2,O_SYNTHESE)),$A16)*2 -> 6 | I16: =COUNTIF(INDIRECT(ADDRESS(4,3+(I$8*2),1,2,O_SYNTHESE)):INDIRECT(ADDRESS(38,4+(I$8*2),1,2,O_SYNTHESE)),$A16)*2 -> 6 | J16: =COUNTIF(INDIRECT(ADDRESS(4,3+(J$8*2),1,2,O_SYNTHESE)):INDIRECT(ADDRESS(38,4+(J$8*2),1,2,O_SYNTHESE)),$A16)*2 -> 2 | ... W16: =COUNTIF(INDIRECT(ADDRESS(4,3+(W$8*2),1,2,O_SYNTHESE)):INDIRECT(ADDRESS(38,4+(W$8*2),1,2,O_SYNTHESE)),$A16)*2 -> 0 | X16: =SUM(C16:W16) -> 62
A17: =GRILLE!A11 -> Electronique | B17: =GRILLE!B11 -> M. NGOTE | C17: =COUNTIF(INDIRECT(ADDRESS(4,3+(C$8*2),1,2,O_SYNTHESE)):INDIRECT(ADDRESS(38,4+(C$8*2),1,2,O_SYNTHESE)),$A17)*2 -> 4 | D17: =COUNTIF(INDIRECT(ADDRESS(4,3+(D$8*2),1,2,O_SYNTHESE)):INDIRECT(ADDRESS(38,4+(D$8*2),1,2,O_SYNTHESE)),$A17)*2 -> 4 | E17: =COUNTIF(INDIRECT(ADDRESS(4,3+(E$8*2),1,2,O_SYNTHESE)):INDIRECT(ADDRESS(38,4+(E$8*2),1,2,O_SYNTHESE)),$A17)*2 -> 4 | F17: =COUNTIF(INDIRECT(ADDRESS(4,3+(F$8*2),1,2,O_SYNTHESE)):INDIRECT(ADDRESS(38,4+(F$8*2),1,2,O_SYNTHESE)),$A17)*2 -> 4 | G17: =COUNTIF(INDIRECT(ADDRESS(4,3+(G$8*2),1,2,O_SYNTHESE)):INDIRECT(ADDRESS(38,4+(G$8*2),1,2,O_SYNTHESE)),$A17)*2 -> 0 | H17: =COUNTIF(INDIRECT(ADDRESS(4,3+(H$8*2),1,2,O_SYNTHESE)):INDIRECT(ADDRESS(38,4+(H$8*2),1,2,O_SYNTHESE)),$A17)*2 -> 4 | I17: =COUNTIF(INDIRECT(ADDRESS(4,3+(I$8*2),1,2,O_SYNTHESE)):INDIRECT(ADDRESS(38,4+(I$8*2),1,2,O_SYNTHESE)),$A17)*2 -> 4 | J17: =COUNTIF(INDIRECT(ADDRESS(4,3+(J$8*2),1,2,O_SYNTHESE)):INDIRECT(ADDRESS(38,4+(J$8*2),1,2,O_SYNTHESE)),$A17)*2 -> 0 | ... W17: =COUNTIF(INDIRECT(ADDRESS(4,3+(W$8*2),1,2,O_SYNTHESE)):INDIRECT(ADDRESS(38,4+(W$8*2),1,2,O_SYNTHESE)),$A17)*2 -> 0 | X17: =SUM(C17:W17) -> 28
A18: =GRILLE!A12 -> 0 | B18: =GRILLE!B12 -> 0 | C18: =COUNTIF(INDIRECT(ADDRESS(4,3+(C$8*2),1,2,O_SYNTHESE)):INDIRECT(ADDRESS(38,4+(C$8*2),1,2,O_SYNTHESE)),$A18)*2 -> 0 | D18: =COUNTIF(INDIRECT(ADDRESS(4,3+(D$8*2),1,2,O_SYNTHESE)):INDIRECT(ADDRESS(38,4+(D$8*2),1,2,O_SYNTHESE)),$A18)*2 -> 0 | E18: =COUNTIF(INDIRECT(ADDRESS(4,3+(E$8*2),1,2,O_SYNTHESE)):INDIRECT(ADDRESS(38,4+(E$8*2),1,2,O_SYNTHESE)),$A18)*2 -> 0 | F18: =COUNTIF(INDIRECT(ADDRESS(4,3+(F$8*2),1,2,O_SYNTHESE)):INDIRECT(ADDRESS(38,4+(F$8*2),1,2,O_SYNTHESE)),$A18)*2 -> 0 | G18: =COUNTIF(INDIRECT(ADDRESS(4,3+(G$8*2),1,2,O_SYNTHESE)):INDIRECT(ADDRESS(38,4+(G$8*2),1,2,O_SYNTHESE)),$A18)*2 -> 0 | H18: =COUNTIF(INDIRECT(ADDRESS(4,3+(H$8*2),1,2,O_SYNTHESE)):INDIRECT(ADDRESS(38,4+(H$8*2),1,2,O_SYNTHESE)),$A18)*2 -> 0 | I18: =COUNTIF(INDIRECT(ADDRESS(4,3+(I$8*2),1,2,O_SYNTHESE)):INDIRECT(ADDRESS(38,4+(I$8*2),1,2,O_SYNTHESE)),$A18)*2 -> 0 | J18: =COUNTIF(INDIRECT(ADDRESS(4,3+(J$8*2),1,2,O_SYNTHESE)):INDIRECT(ADDRESS(38,4+(J$8*2),1,2,O_SYNTHESE)),$A18)*2 -> 0 | ... W18: =COUNTIF(INDIRECT(ADDRESS(4,3+(W$8*2),1,2,O_SYNTHESE)):INDIRECT(ADDRESS(38,4+(W$8*2),1,2,O_SYNTHESE)),$A18)*2 -> 0 | X18: =SUM(C18:W18) -> 0
A19: =GRILLE!A13 -> Electrotechnique | B19: =GRILLE!B13 -> M. NGOTE | C19: =COUNTIF(INDIRECT(ADDRESS(4,3+(C$8*2),1,2,O_SYNTHESE)):INDIRECT(ADDRESS(38,4+(C$8*2),1,2,O_SYNTHESE)),$A19)*2 -> 0 | D19: =COUNTIF(INDIRECT(ADDRESS(4,3+(D$8*2),1,2,O_SYNTHESE)):INDIRECT(ADDRESS(38,4+(D$8*2),1,2,O_SYNTHESE)),$A19)*2 -> 8 | E19: =COUNTIF(INDIRECT(ADDRESS(4,3+(E$8*2),1,2,O_SYNTHESE)):INDIRECT(ADDRESS(38,4+(E$8*2),1,2,O_SYNTHESE)),$A19)*2 -> 4 | F19: =COUNTIF(INDIRECT(ADDRESS(4,3+(F$8*2),1,2,O_SYNTHESE)):INDIRECT(ADDRESS(38,4+(F$8*2),1,2,O_SYNTHESE)),$A19)*2 -> 4 | G19: =COUNTIF(INDIRECT(ADDRESS(4,3+(G$8*2),1,2,O_SYNTHESE)):INDIRECT(ADDRESS(38,4+(G$8*2),1,2,O_SYNTHESE)),$A19)*2 -> 4 | H19: =COUNTIF(INDIRECT(ADDRESS(4,3+(H$8*2),1,2,O_SYNTHESE)):INDIRECT(ADDRESS(38,4+(H$8*2),1,2,O_SYNTHESE)),$A19)*2 -> 4 | I19: =COUNTIF(INDIRECT(ADDRESS(4,3+(I$8*2),1,2,O_SYNTHESE)):INDIRECT(ADDRESS(38,4+(I$8*2),1,2,O_SYNTHESE)),$A19)*2 -> 4 | J19: =COUNTIF(INDIRECT(ADDRESS(4,3+(J$8*2),1,2,O_SYNTHESE)):INDIRECT(ADDRESS(38,4+(J$8*2),1,2,O_SYNTHESE)),$A19)*2 -> 0 | ... W19: =COUNTIF(INDIRECT(ADDRESS(4,3+(W$8*2),1,2,O_SYNTHESE)):INDIRECT(ADDRESS(38,4+(W$8*2),1,2,O_SYNTHESE)),$A19)*2 -> 0 | X19: =SUM(C19:W19) -> 36
A20: =GRILLE!A14 -> Ingénierie | B20: =GRILLE!B14 -> M. HAMIDI | C20: =COUNTIF(INDIRECT(ADDRESS(4,3+(C$8*2),1,2,O_SYNTHESE)):INDIRECT(ADDRESS(38,4+(C$8*2),1,2,O_SYNTHESE)),$A20)*2 -> 8 | D20: =COUNTIF(INDIRECT(ADDRESS(4,3+(D$8*2),1,2,O_SYNTHESE)):INDIRECT(ADDRESS(38,4+(D$8*2),1,2,O_SYNTHESE)),$A20)*2 -> 8 | E20: =COUNTIF(INDIRECT(ADDRESS(4,3+(E$8*2),1,2,O_SYNTHESE)):INDIRECT(ADDRESS(38,4+(E$8*2),1,2,O_SYNTHESE)),$A20)*2 -> 8 | F20: =COUNTIF(INDIRECT(ADDRESS(4,3+(F$8*2),1,2,O_SYNTHESE)):INDIRECT(ADDRESS(38,4+(F$8*2),1,2,O_SYNTHESE)),$A20)*2 -> 8 | G20: =COUNTIF(INDIRECT(ADDRESS(4,3+(G$8*2),1,2,O_SYNTHESE)):INDIRECT(ADDRESS(38,4+(G$8*2),1,2,O_SYNTHESE)),$A20)*2 -> 8 | H20: =COUNTIF(INDIRECT(ADDRESS(4,3+(H$8*2),1,2,O_SYNTHESE)):INDIRECT(ADDRESS(38,4+(H$8*2),1,2,O_SYNTHESE)),$A20)*2 -> 0 | I20: =COUNTIF(INDIRECT(ADDRESS(4,3+(I$8*2),1,2,O_SYNTHESE)):INDIRECT(ADDRESS(38,4+(I$8*2),1,2,O_SYNTHESE)),$A20)*2 -> 0 | J20: =COUNTIF(INDIRECT(ADDRESS(4,3+(J$8*2),1,2,O_SYNTHESE)):INDIRECT(ADDRESS(38,4+(J$8*2),1,2,O_SYNTHESE)),$A20)*2 -> 0 | ... W20: =COUNTIF(INDIRECT(ADDRESS(4,3+(W$8*2),1,2,O_SYNTHESE)):INDIRECT(ADDRESS(38,4+(W$8*2),1,2,O_SYNTHESE)),$A20)*2 -> 0 | X20: =SUM(C20:W20) -> 40
... A28: =GRILLE!A22 -> 0 | B28: =GRILLE!B22 -> 0 | C28: =COUNTIF(INDIRECT(ADDRESS(4,3+(C$8*2),1,2,O_SYNTHESE)):INDIRECT(ADDRESS(38,4+(C$8*2),1,2,O_SYNTHESE)),$A28)*2 -> 0 | D28: =COUNTIF(INDIRECT(ADDRESS(4,3+(D$8*2),1,2,O_SYNTHESE)):INDIRECT(ADDRESS(38,4+(D$8*2),1,2,O_SYNTHESE)),$A28)*2 -> 0 | E28: =COUNTIF(INDIRECT(ADDRESS(4,3+(E$8*2),1,2,O_SYNTHESE)):INDIRECT(ADDRESS(38,4+(E$8*2),1,2,O_SYNTHESE)),$A28)*2 -> 0 | F28: =COUNTIF(INDIRECT(ADDRESS(4,3+(F$8*2),1,2,O_SYNTHESE)):INDIRECT(ADDRESS(38,4+(F$8*2),1,2,O_SYNTHESE)),$A28)*2 -> 0 | G28: =COUNTIF(INDIRECT(ADDRESS(4,3+(G$8*2),1,2,O_SYNTHESE)):INDIRECT(ADDRESS(38,4+(G$8*2),1,2,O_SYNTHESE)),$A28)*2 -> 0 | H28: =COUNTIF(INDIRECT(ADDRESS(4,3+(H$8*2),1,2,O_SYNTHESE)):INDIRECT(ADDRESS(38,4+(H$8*2),1,2,O_SYNTHESE)),$A28)*2 -> 0 | I28: =COUNTIF(INDIRECT(ADDRESS(4,3+(I$8*2),1,2,O_SYNTHESE)):INDIRECT(ADDRESS(38,4+(I$8*2),1,2,O_SYNTHESE)),$A28)*2 -> 0 | J28: =COUNTIF(INDIRECT(ADDRESS(4,3+(J$8*2),1,2,O_SYNTHESE)):INDIRECT(ADDRESS(38,4+(J$8*2),1,2,O_SYNTHESE)),$A28)*2 -> 0 | ... W28: =COUNTIF(INDIRECT(ADDRESS(4,3+(W$8*2),1,2,O_SYNTHESE)):INDIRECT(ADDRESS(38,4+(W$8*2),1,2,O_SYNTHESE)),$A28)*2 -> 0 | X28: =SUM(C28:W28) -> 0
A29: TOTAUX | C29: =SUM(C9:C28) -> 40 | D29: =SUM(D9:D28) -> 64 | E29: =SUM(E9:E28) -> 64 | F29: =SUM(F9:F28) -> 64 | G29: =SUM(G9:G28) -> 48 | H29: =SUM(H9:H28) -> 40 | I29: =SUM(I9:I28) -> 40 | J29: =SUM(J9:J28) -> 24 | ... X29: =SUM(X9:X28) -> 456

Sheet TDTPsemestre1
C2: Planning des Travaux Dirigés 1ére Année | L2: Planning des Travaux Dirigés 1ére Année
B4: Matières | D4: Math | F4: Algorith & C | H4: Dess & Tech | J4: Anal Num | L4: Electrotech | N4: Electronique | P4: Automatique | R4: Automatismes | T4: TP
A5: Semaines | B5: Dates | C5: heure | D5: Sect A | E5: Sect B | F5: Sect A | G5: Sect B | H5: Sect A | I5: Sect B | J5: Sect A | K5: Sect B | L5: Sect A | M5: Sect B | N5: Sect A | O5: Sect B | P5: Sect A | Q5: Sect B | R5: Sect A | S5: Sect B | T5: Sect A | U5: Sect B
A6: Se 5 | B6: Lundi | C6: 8h30-10h15 | E6: GRB3 | G6: GRB1 | O6: GRB4
C7: 10h30-12h15 | E7: GRB4 | G7: GRB1 | O7: GRB3
B8: Mardi | C8: 14h30-16h15 | D8: GRA1 | F8: GRA3 | J8: GRA2
C9: 16h30-18h15 | D9: GRA2 | F9: GRA3 | J9: GRA1
B10: Mercredi | C10: 8h30-10h15 | G10: GRB4 | O10: GRB1 | Q10: GRB2
C11: 10h30-12h15 | G11: GRB4 | O11: GRB2 | Q11: GRB1
B12: Jeudi | C12: 14h30-16h15 | F12: GRA2 | L12: GRA3 | S12: GRA4
C13: 16h30-18h15 | F13: GRA2 | L13: GRA4 | S13: GRA3
B14: Vendredi | C14: 8h30-10h15 | H14: GRA1&A2 | J14: GRA3 | P14: GRA4
C15: 10h30-12h15 | H15: GRA1&A2 | J15: GRA4 | P15: GRA3
C16: 14h30-16h15 | I16: GRB3&B4 | M16: GRB1 | S16: GRB2
C17: 16h30-18h15 | I17: GRB3&B4 | M17: GRB2 | S17: GRB1
A18: Se 6 | B18: Lundi | C18: 8h30-10h15 | D18: GRA3 | F18: GRA1 | N18: GRA4 | T18: GRA2
C19: 10h30-12h15 | D19: GRA4 | F19: GRA1 | N19: GRA3 | T19: GRA2
B20: Mardi | C20: 14h30-16h15 | E20: GRB1 | G20: GRB3 | K20: GRB2 | U20: GRB4
C21: 16h30-18h15 | E21: GRB2 | G21: GRB3 | K21: GRB1 | U21: GRB4
B22: Mercredi | C22: 8h30-10h15 | F22: GRA4 | N22: GRA1 | P22: GRA2 | T22: GRA3
C23: 10h30-12h15 | F23: GRA4 | N23: GRA2 | P23: GRA1 | T23: GRA3
B24: Jeudi | C24: 14h30-16h15 | G24: GRB2 | M24: GRB3 | R24: GRB3 | U24: GRB1
C25: 16h30-18h15 | G25: GRB2 | M25: GRB4 | R25: GRB4 | U25: GRB1
B26: Vendredi | C26: 8h30-10h15 | I26: GRB1&B2 | K26: GRB3 | Q26: GRB4
C27: 10h30-12h15 | I27: GRB1&B2 | K27: GRB4 | Q27: GRB3
C28: 14h30-16h15 | H28: GRA3&A4 | L28: GRA1 | R28: GRA2
C29: 16h30-18h15 | H29: GRA3&A4 | L29: GRA2 | R29: GRA1
A30: Se 7 | B30: Lundi | C30: 8h30-10h15 | E30: GRB3 | G30: GRB1 | O30: GRB4 | U30: GRB2
C31: 10h30-12h15 | E31: GRB4 | G31: GRB1 | O31: GRB3 | U31: GRB2
B32: Mardi | C32: 14h30-16h15 | D32: GRA1 | F32: GRA3 | J32: GRA2 | T32: GRA4
C33: 16h30-18h15 | D33: GRA2 | F33: GRA3 | J33: GRA1 | T33: GRA4
B34: Mercredi | C34: 8h30-10h15 | G34: GRB4 | O34: GRB1 | Q34: GRB2 | U34: GRB3
C35: 10h30-12h15 | G35: GRB4 | O35: GRB2 | Q35: GRB1 | U35: GRB3
B36: Jeudi | C36: 14h30-16h15 | F36: GRA2 | L36: GRA3 | S36: GRA4 | T36: GRA1
C37: 16h30-18h15 | F37: GRA2 | L37: GRA4 | S37: GRA3 | T37: GRA1
A38: Se 8 | B38: Lundi | C38: 8h30-10h15 | D38: GRA3 | F38: GRA1 | N38: GRA4 | T38: GRA2
C39: 10h30-12h15 | D39: GRA4 | F39: GRA1 | N39: GRA3 | T39: GRA2
B40: Mardi | C40: 14h30-16h15 | E40: GRB1 | G40: GRB3 | K40: GRB2 | U40: GRB4
C41: 16h30-18h15 | E41: GRB2 | G41: GRB3 | K41: GRB1 | U41: GRB4
B42: Mercredi | C42: 8h30-10h15 | F42: GRA4 | N42: GRA1 | P42: GRA2 | T42: GRA3
C43: 10h30-12h15 | F43: GRA4 | N43: GRA2 | P43: GRA1 | T43: GRA3
B44: Jeudi | C44: 14h30-16h15 | G44: GRB2 | M44: GRB3 | R44: GRB3 | U44: GRB1
C45: 16h30-18h15 | G45: GRB2 | M45: GRB4 | R45: GRB4 | U45: GRB1
B46: Vendredi | C46: 8h30-10h15 | I46: GRB1&B2 | K46: GRB3 | Q46: GRB4
C47: 10h30-12h15 | I47: GRB1&B2 | K47: GRB4 | Q47: GRB3
C48: 14h30-16h15 | H48: GRA3&A4 | L48: GRA1 | R48: GRA2
C49: 16h30-18h15 | H49: GRA3&A4 | L49: GRA2 | R49: GRA1
A50: Se 9 | B50: Lundi | C50: 8h30-10h15 | E50: GRB3 | G50: GRB1 | O50: GRB4 | U50: GRB2
C51: 10h30-12h15 | E51: GRB4 | G51: GRB1 | O51: GRB3 | U51: GRB2
B52: Mardi | C52: 14h30-16h15 | D52: GRA1 | F52: GRA3 | J52: GRA2 | T52: GRA4
C53: 16h30-18h15 | D53: GRA2 | F53: GRA3 | J53: GRA1 | T53: GRA4
B54: Jeudi | C54: 14h30-16h15 | F54: GRA2 | L54: GRA3 | S54: GRA4 | T54: GRA1
C55: 16h30-18h15 | F55: GRA2 | L55: GRA4 | S55: GRA3 | T55: GRA1
B56: Vendredi | C56: 8h30-10h15 | H56: GRA1&A2 | J56: GRA3 | P56: GRA4
C57: 10h30-12h15 | H57: GRA1&A2 | J57: GRA4 | P57: GRA3
C58: 14h30-16h15 | I58: GRB3&B4 | M58: GRB1 | S58: GRB2
C59: 16h30-18h15 | I59: GRB3&B4 | M59: GRB2 | S59: GRB1
A60: Se 11 | B60: Lundi | C60: 8h30-10h15 | D60: GRA3 | F60: GRA1 | N60: GRA4 | T60: GRA2
C61: 10h30-12h15 | D61: GRA4 | F61: GRA1 | N61: GRA3 | T61: GRA2
B62: Mardi | C62: 8h30-10h15
C63: 10h30-12h15
C64: 14h30-16h15 | E64: GRB1 | G64: GRB3 | K64: GRB2 | U64: GRB4
C65: 16h30-18h15 | E65: GRB2 | G65: GRB3 | K65: GRB1 | U65: GRB4
B66: Mercredi | C66: 8h30-10h15 | F66: GRA4 | N66: GRA1 | P66: GRA2 | T66: GRA3
C67: 10h30-12h15 | F67: GRA4 | N67: GRA2 | P67: GRA1 | T67: GRA3
B68: Jeudi | C68: 8h30-10h15
C69: 10h30-12h15
C70: 14h30-16h15 | G70: GRB2 | M70: GRB3 | R70: GRB3 | U70: GRB1
C71: 16h30-18h15 | G71: GRB2 | M71: GRB4 | R71: GRB4 | U71: GRB1
B72: Vendredi | C72: 8h30-10h15 | I72: GRB1&B2 | K72: GRB3 | Q72: GRB4
C73: 10h30-12h15 | I73: GRB1&B2 | K73: GRB4 | Q73: GRB3
C74: 14h30-16h15 | H74: GRA3&A4 | L74: GRA1 | R74: GRA2
C75: 16h30-18h15 | H75: GRA3&A4 | L75: GRA2 | R75: GRA1
A76: Se 12 | B76: Lundi | C76: 8h30-10h15 | E76: GRB3 | G76: GRB1 | O76: GRB4 | U76: GRB2
C77: 10h30-12h15 | E77: GRB4 | G77: GRB1 | O77: GRB3 | U77: GRB2
B78: Mardi | C78: 8h30-10h15
C79: 10h30-12h15
C80: 14h30-16h15 | D80: GRA1 | F80: GRA3 | J80: GRA2 | T80: GRA4
C81: 16h30-18h15 | D81: GRA2 | F81: GRA3 | J81: GRA1 | T81: GRA4
B82: Mercredi | C82: 8h30-10h15 | G82: GRB4 | O82: GRB1 | Q82: GRB2 | U82: GRB3
C83: 10h30-12h15 | G83: GRB4 | O83: GRB2 | Q83: GRB1 | U83: GRB3
B84: Jeudi | C84: 8h30-10h15
C85: 10h30-12h15
C86: 14h30-16h15 | F86: GRA2 | L86: GRA3 | S86: GRA4 | T86: GRA1
C87: 16h30-18h15 | F87: GRA2 | L87: GRA4 | S87: GRA3 | T87: GRA1
B88: Vendredi | C88: 8h30-10h15 | H88: GRA1&A2 | J88: GRA3 | P88: GRA4
C89: 10h30-12h15 | H89: GRA1&A2 | J89: GRA4 | P89: GRA3
C90: 14h30-16h15 | I90: GRB3&B4 | M90: GRB1 | S90: GRB2
C91: 16h30-18h15 | I91: GRB3&B4 | M91: GRB2 | S91: GRB1
A92: Se 13 | B92: Lundi | C92: 8h30-10h15 | D92: GRA3 | F92: GRA1 | N92: GRA4 | T92: GRA2
C93: 10h30-12h15 | D93: GRA4 | F93: GRA1 | N93: GRA3 | T93: GRA2
B94: Mardi | C94: 8h30-10h15
C95: 10h30-12h15
C96: 14h30-16h15 | E96: GRB1 | G96: GRB3 | K96: GRB2 | U96: GRB4
C97: 16h30-18h15 | E97: GRB2 | G97: GRB3 | K97: GRB1 | U97: GRB4
B98: Mercredi | C98: 8h30-10h15 | F98: GRA4 | N98: GRA1 | P98: GRA2 | T98: GRA3
C99: 10h30-12h15 | F99: GRA4 | N99: GRA2 | P99: GRA1 | T99: GRA3
B100: Jeudi | C100: 8h30-10h15
C101: 10h30-12h15
C102: 14h30-16h15 | G102: GRB2 | M102: GRB3 | R102: GRB3 | U102: GRB1
...

Sheet Tp2015 (3)
B1: Mardi & Jeudi horaire : 14 H - 18 H | J1: Mardi & Jeudi horaire : 14 H - 18 H | R1: Mardi & Jeudi horaire : 14 H - 18 H | AA1: Mardi & Jeudi horaire : 14 H - 18 H | AL1: Mardi & Jeudi horaire : 14 H - 18 H
B3: Se6 26/10/ - 29/10 | F3: Se7 2/11/ -5/11/ | J3: Se8 9/11/ - 12/11/ | N3: Se9 16/11/ - 20/11/ | R3: Se11 30/11/ - 4/12/ | V3: Se 12 7/12/ - 11/12/ | AA3: Se13 14/12/ - 17/12/ | AF3: Se14 21/12 - 24/12/ | AL3: Se15 28/12/ 31/12/ | AS3: Se 16 4/01/2016 -7/01/2016
B4: Lundi | C4: Mardi | D4: Mercredi | E4: Jeudi | F4: Lundi | G4: Mardi | H4: Mercredi | I4: Jeudi | J4: Lundi | K4: Mardi | L4: Mercredi | M4: Jeudi | N4: Lundi | O4: Mardi | P4: Mercredi | Q4: Jeudi | R4: Lundi | S4: Mardi | T4: Mercredi | U4: Jeudi | V4: Lundi | W4: Mardi | X4: Mercredi | Y4: Jeudi | Z4: VENDREDI | AA4: Lundi | AB4: Mardi | AC4: Mercredi | AD4: Jeudi | AE4: Vendredi | AF4: Lundi | AG4: Mardi | AH4: Mercredi | AI4: Jeudi | AJ4: jeudi | AK4: VENDREDI | AL4: Lundi | AM4: Mardi | AN4: Mardi | AO4: Mercredi | AP4: Mercredi | AQ4: jeudi | AR4: Jeudi | AS4: Lundi | AT4: Mardi | AU4: Mardi | AV4: Mercredi | AW4: Mercredi | AX4: jeudi | AY4: Jeudi | AZ4: Vendredi | BA4: Vendredi
A5: TP DOT NET | Z5: SECT B | AE5: SECTA | AI5: SECTA | AK5: SECT B | AM5: SECT B | AP5: SECT B | AQ5: SECT B | AT5: SECT A | AW5: SECT A | AX5: SECT B
A6: TP Electrotechnique | J6: A21 | K6: B41 | L6: A31 | M6: B11 | N6: B21 | O6: A41 | Q6: A11 | R6: A24 | S6: B44 | T6: A34 | U6: B14 | V6: B24 | W6: A44 | X6: B34 | Y6: A14 | Z6: B31 | AA6: A27 | AB6: B47 | AC6: A37 | AD6: B17 | AE6: A47 | AH6: B37 | AJ6: A17 | AK6: B27 | AR6: B17
J7: A22 | K7: B42 | L7: A32 | M7: B12 | N7: B22 | O7: A42 | Q7: A12 | R7: A25 | S7: B45 | T7: A35 | U7: B15 | V7: B25 | W7: A45 | X7: B35 | Y7: A15 | Z7: B32 | AA7: A28 | AB7: B48 | AC7: A38 | AD7: B18 | AE7: A48 | AH7: B38 | AJ7: A18 | AK7: B28 | AR7: B18
J8: A23 | K8: B43 | L8: A33 | M8: B13 | N8: B23 | O8: A43 | Q8: A13 | R8: A26 | S8: B46 | T8: A36 | U8: B16 | V8: B26 | W8: A46 | X8: B36 | Y8: A16 | Z8: B33 | AA8: A29 | AB8: B49 | AC8: A39 | AD8: B19 | AE8: A49 | AH8: B39 | AJ8: A19 | AK8: B29 | AR8: B19
A9: TP Automatique | B9: A21 | C9: B41 | D9: A31 | E9: B11 | F9: B21 | G9: A41 | H9: B31 | I9: A11 | J9: A24 | K9: B44 | L9: A34 | M9: B14 | N9: B24 | O9: A44 | Q9: A14 | R9: A27 | S9: B47 | T9: A37 | U9: B17 | V9: B27 | W9: A47 | X9: B37 | Y9: A17 | Z9: B34
B10: A22 | C10: B42 | D10: A32 | E10: B12 | F10: B22 | G10: A42 | H10: B32 | I10: A12 | J10: A25 | K10: B45 | L10: A35 | M10: B15 | N10: B25 | O10: A45 | Q10: A15 | R10: A28 | S10: B48 | T10: A38 | U10: B18 | V10: B28 | W10: A48 | X10: B38 | Y10: A18 | Z10: B35
B11: A23 | C11: B43 | D11: A33 | E11: B13 | F11: B23 | G11: A43 | H11: B33 | I11: A13 | J11: A26 | K11: B46 | L11: A36 | M11: B16 | N11: B26 | O11: A46 | Q11: A16 | R11: A29 | S11: B49 | T11: A39 | U11: B19 | V11: B29 | W11: A49 | X11: B39 | Y11: A19 | Z11: B36
A12: Automatismes | AA12: A21 | AB12: B41 | AC12: A31 | AD12: B11 | AE12: A41 | AH12: B31 | AI12: A37 | AJ12: A11 | AK12: B21 | AL12: A23 | AM12: B37 | AN12: B43 | AO12: A33 | AP12: B17 | AQ12: B13 | AR12: B11 | AS12: B23 | AT12: A17 | AU12: A43 | AV12: B33 | AW12: A47 | AX12: B47 | AY12: A13 | AZ12: B27 | BA12: A27
AA13: A22 | AB13: B42 | AC13: A32 | AD13: B12 | AE13: A42 | AH13: B32 | AI13: A38 | AJ13: A12 | AK13: B22 | AL13: A25 | AM13: B38 | AN13: B45 | AO13: A35 | AP13: B18 | AQ13: B15 | AR13: B12 | AS13: B25 | AT13: A18 | AU13: A45 | AV13: B35 | AW13: A48 | AX13: B48 | AY13: A15 | AZ13: B28 | BA13: A28
AA14: A24 | AB14: B44 | AC14: A34 | AD14: B14 | AE14: A44 | AH14: B34 | AI14: A39 | AJ14: A14 | AK14: B24 | AL14: A26 | AM14: B39 | AN14: B46 | AO14: A36 | AP14: B19 | AQ14: B16 | AR14: B14 | AS14: B26 | AT14: A19 | AU14: A46 | AV14: B36 | AW14: A49 | AX14: B49 | AY14: A16 | AZ14: B29 | BA14: A29
A15: TP Electronique | B15: A24 | C15: B44 | D15: A34 | E15: B14 | F15: B24 | G15: A44 | H15: B34 | I15: A14 | J15: A27 | K15: B47 | L15: A37 | M15: B17 | N15: B27 | O15: A47 | Q15: A17 | R15: A21 | S15: B41 | T15: A31 | U15: B11 | V15: B21 | W15: A41 | X15: B31 | Y15: A11 | Z15: B37 | AA15: A23 | AB15: B43 | AC15: A33 | AD15: B13 | AE15: A43 | AH15: B33 | AJ15: A13 | AK15: B23 | AL15: A29 | AN15: B49 | AO15: A39 | AQ15: B19 | AR15: B13 | AS15: B29 | AU15: A49 | AV15: B39 | AY15: A19
B16: A25 | C16: B45 | D16: A35 | E16: B15 | F16: B25 | G16: A45 | H16: B35 | I16: A15 | J16: A28 | K16: B48 | L16: A38 | M16: B18 | N16: B28 | O16: A48 | Q16: A18 | R16: A22 | S16: B42 | T16: A32 | U16: B12 | V16: B22 | W16: A42 | X16: B32 | Y16: A12 | Z16: B38 | AA16: A26 | AB16: B46 | AC16: A36 | AD16: B16 | AE16: A46 | AH16: B36 | AJ16: A16 | AK16: B26 | AR16: B16
A17: TP C | F17: B1 | G17: A3 | H17: B4 | I17: A2 | J17: A1 | K17: B3 | L17: A4 | M17: B2 | R17: A1 | S17: B3 | T17: A4 | U17: B2 | V17: B1 | W17: A3 | X17: B4 | Y17: A2 | Z17: B1 | AA17: A1 | AB17: B3 | AC17: A4 | AD17: B2 | AE17: A3 | AF17: B1 | AG17: A3 | AH17: B4 | AJ17: A2 | AL17: A1 | AN17: B3 | AO17: A4 | AR17: B2 | AS17: B1 | AU17: A3 | AV17: B4 | AY17: A2
A18: VB DOT NET | AI18: A1&A2 | AM18: B1&B2 | AP18: B3&B4 | AQ18: B3&B4 | AT18: A3&A4 | AW18: A2&A1 | AX18: B2&B1 | AZ18: B3&B4 | BA18: A3 &A4

Sheet Emplo-1semestre
E1: EMPLOI 1ERE ANNEE 2015-2016 | P1: EMPLOI 1ERE ANNEE 2015-2016 | Z1: EMPLOI 1ERE ANNEE 2015-2016 | AG1: EMPLOI 1ERE ANNEE 2015-2016
B3: Semaine | C3: Sem 0 / 9-11 Sep | E3: Sem 1 / 14-18 Sep | G3: Sem 2 / 28 Sep -2 Oct | I3: Sem 3 / 5 - 13 Oct | K3: Sem 4 / 12 - 16 Oct | M3: Sem 5 / 19- 23 Oct | O3: Sem 6 / 26 - 30 Oct | Q3: Sem 7 / 2 - 5 Nov | S3: Sem 8 / 9 - 13 Nov | U3: Sem 9 / 16 - 20 Nov | W3: Sem 10 / 23 - 28 Nov | Y3: Sem 11 / 30 N- 4 Déc | AA3: Sem 12 / 7 - 11 Déc | AC3: Sem 13 / 14 - 18 Déc | AE3: Sem 14 / 23 - 25 Déc | AG3: Sem 15 / 28 - 31 Déc | AI3: Sem 16 / 4 - 8 Janv 2014 | AL3: Matières | AM3: Enseignants
A4: Jours | B4: horaire | C4: Sect A | D4: Sect B | E4: Sect A | F4: Sect B | G4: Sect A | H4: Sect B | I4: Sect A | J4: Sect B | K4: Sect A | L4: Sect B | M4: Sect A | N4: Sect B | O4: Sect A | P4: Sect B | Q4: Sect A | R4: Sect B | S4: Sect A | T4: Sect B | U4: Sect A | V4: Sect B | W4: Sect A | X4: Sect B | Y4: Sect A | Z4: Sect B | AA4: Sect A | AB4: Sect B | AC4: Sect A | AD4: Sect B | AE4: Sect A | AF4: Sect B | AG4: Sect A | AH4: Sect B | AI4: Sect A | AJ4: Sect B | AL4: Algorithmique & C Avancés | AM4: M. EL GAMAH
A5: lundi | B5: 8 h 30 - 10 h 15' | E5: Anal Numér | F5: Dessin | G5: Anal Numér | H5: Dessin | I5: Anal Numér | J5: Dessin | K5: Anal Numér | L5: Dessin | M5: Anal Numér | N5: TP/TD | O5: TP/TD | P5: Anal Numér | Q5: Anal Numér | R5: TP/TD | S5: TP/TD | T5: Anal Numér | U5: VB dotnet | V5: TP/TD | W5: Contrôle MATH | Y5: TP/TD | Z5: VB dotnet | AA5: VB dotnet | AB5: TP/TD | AC5: TP/TD | AD5: VB dotnet | AG5: VB dotnet | AH5: TP/TD | AI5: TP/TD | AJ5: VB dotnet | AL5: Analyse Numérique | AM5: M. ZAOUI
B6: 10 h 30 - 12 h 15' | E6: Dessin | F6: Anal Numér | G6: Dessin | H6: Anal Numér | I6: Dessin | J6: Anal Numér | K6: Dessin | L6: Anal Numér | M6: Dessin | N6: TP/TD | O6: TP/TD | P6: Dessin | Q6: Dessin | R6: TP/TD | S6: TP/TD | T6: Dessin | U6: Dessin | V6: TP/TD | Y6: TP/TD | Z6: Dessin | AA6: Dessin | AB6: TP/TD | AC6: TP/TD | AD6: Comptab | AG6: Comptab | AH6: TP/TD | AI6: TP/TD | AJ6: Comptab | AL6: Automatique | AM6: M. OUADGHIRI
B8: 14 h 30' - 16 h 15' | E8: Langues | F8: Langues | G8: Langues | H8: Langues | I8: Langues | J8: Langues | K8: Langues | L8: Langues | M8: Langues | N8: Langues | O8: Langues | P8: Langues | Q8: Langues | R8: Langues | S8: Langues | T8: Langues | U8: Langues | V8: Langues | W8: Contrôle Automatique | Y8: Langues | Z8: Langues | AA8: Langues | AB8: Langues | AC8: Langues | AD8: Langues | AG8: Langues | AH8: Langues | AI8: Evaluation langues | AL8: Automatismes | AM8: M. TAHIRI
B9: 16 h 30' - 18 h 15' | E9: Langues | F9: Langues | G9: Langues | H9: Langues | I9: Langues | J9: Langues | K9: Langues | L9: Langues | M9: Langues | N9: Langues | O9: Langues | P9: Langues | Q9: Langues | R9: Langues | S9: Langues | T9: Langues | U9: Langues | V9: Langues | Y9: Langues | Z9: Langues | AA9: Langues | AB9: Langues | AC9: Langues | AD9: Langues | AG9: Langues | AH9: Langues | AL9: Comptabilité | AM9: M. EL OUADIH
AL10: Dessin & Technologie | AM10: M. LASRI
A11: Mardi | B11: 8 h 30 - 10 h 15' | C11: Inscriptions | E11: Anal Numér | F11: Electrotech | G11: Automatiqu | H11: Electrotech | I11: Automatiqu | J11: Electrotech | K11: Automatiqu | L11: Electrotech | M11: Automatis | N11: Electrotech | O11: Alg & C av. | P11: Electrotech | Q11: Automatiqu | R11: Automatis | S11: Automatiqu | T11: Electrotech | U11: Automatis | V11: Electrotech | Y11: Automatiqu | Z11: Electrotech | AA11: Automatis | AB11: Electrotech | AC11: Automatis | AD11: VB dotnet | AG11: VB dotnet | AH11: TP | AI11: TP | AJ11: VB dotnet | AL11: Economie | AM11: M. EL OUADI
B12: 10 h 30 - 12 h 15' | E12: Electrotech | F12: Anal Numér | G12: Electrotech | H12: Automatiqu | I12: Electrotech | J12: Automatiqu | K12: Electrotech | L12: Automatiqu | M12: Electrotech | N12: Automatis | O12: Electrotech | P12: Alg & C av. | Q12: Automatis | R12: Automatiqu | S12: Electrotech | T12: Automatiqu | U12: Electrotech | V12: Automatis | Y12: Electrotech | Z12: Automatiqu | AA12: Electrotech | AB12: Automatis | AC12: VB dotnet | AD12: Automatis | AG12: Comptab | AH12: TP | AI12: TP | AJ12: Comptab | AL12: Electronique | AM12: M. NGOTE
B14: 14 h 30' - 16 h 15' | C14: Inscriptions | E14: Dessin | F14: Economie | G14: Dessin | H14: Economie | I14: Dessin | J14: Economie | K14: Dessin | L14: Economie | M14: TP/TD | N14: Economie | O14: Economie | P14: TP/TD | Q14: TP/TD | R14: Economie | S14: Economie | T14: TP/TD | U14: TP/TD | V14: Comptab | Y14: Comptab | Z14: TP/TD | AA14: TP/TD | AB14: Comptab | AC14: Comptab | AD14: TP/TD | AG14: TP/TD | AH14: Comptab | AI14: Comptab | AJ14: TP/TD | AL14: Electrotechnique | AM14: M. NGOTE
B15: 16 h 30' - 18 h 15' | E15: Economie | F15: Dessin | G15: Economie | H15: Dessin | I15: Economie | J15: Dessin | K15: Economie | L15: Dessin | M15: TP/TD | N15: Dessin | O15: Dessin | P15: TP/TD | Q15: TP/TD | R15: Dessin | S15: Dessin | T15: TP/TD | U15: TP/TD | V15: Dessin | Y15: Dessin | Z15: TP/TD | AA15: TP/TD | AB15: Dessin | AC15: VB dotnet | AD15: TP/TD | AG15: TP/TD | AH15: VB dotnet | AI15: VB dotnet | AJ15: TP/TD | AL15: Ingénierie | AM15: M. HAMIDI
L16: Automatiqu | AL16: Mathématiques | AM16: M. NAJIB
A17: Mercredi | B17: 8 h 30 - 10 h 15' | C17: Math. Appl | D17: Alg & C av. | E17: Anal Numér | F17: Alg & C av. | G17: Math. Appl | H17: Alg & C av. | I17: Math. Appl | J17: Alg & C av. | K17: Math. Appl | L17: Automatiqu | M17: Alg & C av. | N17: TP/TD | O17: TP/TD | P17: Alg & C av. | Q17: Alg & C av. | R17: TP/TD | S17: TP/TD | T17: Alg & C av. | W17: Contrôle Alg & C | Y17: TP/TD | Z17: Alg & C av. | AA17: Comptab | AB17: TP/TD | AC17: TP/TD | AD17: Comptab | AG17: Comptab | AH17: TP/TD | AI17: TP/TD | AJ17: Comptab | AL17: Métrologie | AM17: M. MOUBAKER
B18: 10 h 30 - 12 h 15' | C18: Alg & C av. | D18: Math. Appl | E18: Alg & C av. | F18: Anal Numér | G18: Alg & C av. | H18: Math. Appl | I18: Alg & C av. | J18: Math. Appl | K18: Automatiqu | L18: Math. Appl | M18: Math. Appl | N18: TP/TD | O18: TP/TD | P18: Math. Appl | Q18: Math. Appl | R18: TP/TD | S18: TP/TD | T18: Math. Appl | Y18: TP/TD | Z18: Math. Appl | AA18: VB dotnet | AB18: TP/TD | AC18: TP/TD | AD18: VB dotnet | AG18: VB dotnet | AH18: TP/TD | AI18: TP/TD | AJ18: VB dotnet | AL18: Programmation Evènementielle | AM18: M. BENMILOUD
B20: 14 h 30' - 16 h 15' | AL20: TD Electrotechnique | AM20: M. MAJIDI & M. AMARTINI
B21: 16 h 30' - 18 h 15' | AL21: TD Electronique | AM21: M. MAJIDI & M. SAHBANI
AL22: TD AUTOMATIQUE | AM22: M. KCHIKCH
A23: Jeudi | B23: 8 h 30 - 10 h 15' | C23: Math. Appl | D23: Anal Numér | E23: Electroni | F23: Automatiqu | G23: Electroni | H23: Automatis | I23: Electroni | J23: Automatis | K23: Electroni | L23: Automatis | M23: Electroni | N23: Automatis | O23: Electroni | P23: Automatiqu | Q23: Examen Ingenierie | S23: Electroni | T23: Automatiqu | U23: Examen Economie | W23: Contrôle Electrotech | Y23: Electroni | Z23: Automatis | AA23: Electroni | AB23: Automatis | AC23: Automatis | AD23: Comptab | AE23: TP | AF23: Comptab | AG23: Comptab | AH23: TP | AI23: Comptab | AJ23: TP | AL23: TD AUTOMATISMES | AM23: M. LICER
B24: 10 h 30 - 12 h 15' | C24: Anal Numér | D24: Math. Appl | E24: Automatiqu | F24: Electroni | G24: Automatis | H24: Electroni | I24: Automatis | J24: Electroni | K24: Automatis | L24: Electroni | M24: Automatis | N24: Electroni | O24: Automatiqu | P24: Electroni | S24: Automatiqu | T24: Electroni | Y24: Automatis | Z24: Electroni | AA24: Automatis | AB24: Electroni | AC24: Comptab | AD24: Automatis | AE24: TP | AF24: Vb Dot net | AG24: Vb Dot net | AH24: TP | AI24: Vb Dot net | AJ24: TP | AL24: TD ANALYSE NUMERIQUE | AM24: M. ZAOUI
B26: 14 h 30' - 16 h 15' | C26: Economie | D26: Ingénierie | E26: Economie | F26: Ingénierie | G26: Economie | H26: Ingénierie | I26: Economie | J26: Ingénierie | M26: TP/TD | N26: Metrologie | O26: Metrologie | P26: TP/TD | Q26: TP/TD | R26: Metrologie | S26: Economie | T26: TP/TD | U26: TP/TD | V26: Metrologie | Y26: Metrologie | Z26: TP/TD | AA26: TP/TD | AB26: Metrologie | AC26: Metrologie | AD26: TP/TD | AE26: TP/TD | AF26: Metrologie | AG26: Metrologie | AH26: TP/TD | AI26: TP/TD | AJ26: Metrologie | AL26: TD MATHEMATIQUES | AM26: M. MEDRARI
B27: 16 h 30' - 18 h 15' | C27: Ingénierie | D27: Economie | E27: Ingénierie | F27: Economie | G27: Ingénierie | H27: Economie | I27: Ingénierie | J27: Economie | M27: TP/TD | N27: Economie | O27: Economie | P27: TP/TD | Q27: TP/TD | R27: Comptab | S27: Economie | T27: TP/TD | U27: TP/TD | V27: Comptab | Y27: Comptab | Z27: TP/TD | AA27: TP/TD | AB27: Comptab | AC27: Comptab | AD27: TP/TD | AE27: TP/TD | AF27: Comptab | AG27: Comptab | AH27: TP/TD | AI27: TP/TD | AJ27: Comptab | AL27: TD DESSIN | AM27: M. ZAKI & VACATAIRE
AL28: TD/TP INFORMATIQUE | AM28: M. ZAYDI & M. EL BARAKA
A29: Vendredi | B29: 8 h 30 - 10 h 15' | C29: Alg & C av. | D29: Electroni | E29: Alg & C av. | F29: Electrotech | G29: Alg & C av. | H29: Math. Appl | I29: Alg & C av. | J29: Math. Appl | K29: Alg & C av. | L29: Math. Appl | M29: TD | N29: Alg & C av. | O29: Alg & C av. | P29: TD | S29: Alg & C av. | T29: TD | U29: TD | V29: Alg & C av. | W29: Contrôle Electronique | Y29: Alg & C av. | Z29: TD | AA29: TD | AB29: TP | AC29: TP | AD29: TD | AE29: TD | AF29: TP | AI29: TD | AJ29: TP | AL29: TP ELECTRIOTECHNIQUE | AM29: M. AMARTINI
B30: 10 h 30 - 12 h 15' | C30: Electroni | D30: Alg & C av. | E30: Electrotech | F30: Alg & C av. | G30: Math. Appl | H30: Alg & C av. | I30: Math. Appl | J30: Alg & C av. | K30: Math. Appl | L30: Alg & C av. | M30: TD | N30: Math. Appl | O30: Math. Appl | P30: TD | S30: Math. Appl | T30: TD | U30: TD | V30: Math. Appl | Y30: Math. Appl | Z30: TD | AA30: TD | AB30: TP | AC30: TP | AD30: TD | AE30: TD | AF30: TP | AI30: TD | AJ30: TP | AL30: TP ELECTRONIQUE | AM30: M. MAJIDI & M. SAHBANI
B32: 14 h 30' - 16 h 15' | C32: Economie | D32: Ingénierie | E32: Economie | F32: Ingénierie | G32: Anal Numér | H32: Ingénierie | I32: Automatis | J32: Ingénierie | K32: Ingenierie | M32: Métrologie | N32: TP/TD | O32: TP/TD | P32: Métrologie | S32: TP/TD | T32: Métrologie | U32: Métrologie | V32: TP/TD | Y32: TP/TD | Z32: Metrologie | AA32: Metrologie | AB32: TP/TD | AC32: TP/TD | AD32: Metrologie | AE32: Metrologie | AF32: TP/TD | AI32: TP/TD | AJ32: TP/TD | AL32: TP AUTOMATIQUE | AM32: M. LICER & VACATAIRE
B33: 16 h 30' - 18 h 15' | C33: Ingénierie | D33: Economie | E33: Ingénierie | F33: Economie | G33: Ingénierie | H33: Anal Numér | I33: Ingénierie | J33: Automatis | M33: Economie | N33: TP/TD | O33: TP/TD | P33: Economie | S33: TP/TD | T33: Comptab | U33: Comptab | V33: TP/TD | Y33: TP/TD | Z33: Comptab | AA33: Comptab | AB33: TP/TD | AC33: TP/TD | AD33: Comptab | AE33: Comptab | AF33: TP/TD | AI33: TP/TD | AJ33: TP/TD | AL33: TP AUTOMATISMES | AM33: M. LICER & VACATAIRE
U34: Samedi | W34: Contrôle Analys Numer
M37: AN NUM | N37: 11
M38: dessin | N38: 15
M39: ELECTROTECH | N39: 11
M40: AUTO | N40: 9
