Workbook
Name BILAN: HEURES_PASSEES!$D$1
Name LISTE_ETUDES: HEURES_PASSEES!$B$11:$B$86
Name MARGE_ETUDE: HEURES_PASSEES!$E$4
Name TPS_COTATION: HEURES_PASSEES!$D$4
Name TPS_ETUDES: HEURES_PASSEES!$C$4
Name TRAVAIL: 'sem01:sem53'!$M$28:$M$46

Sheet sem01
A1: R_cfan009 | B1: Affectation des temps | E1: Semaine N° | F1: 1 | G1: du | H1: =D4 -> 42002 | I1: au | J1: =J4 -> 42008 | L1: BILAN
A3: Service | B3: 8100 | C3: Outillage BE | D3: Lun | E3: Mar | F3: Mer | G3: Jeu | H3: Ven | I3: Sam | J3: Dim
A4: Matricule | B4: 20253 | C4: Mazé Damien | D4: =DATE(2014,12,29) -> 42002 | E4: =DATE(2014,12,30) -> 42003 | F4: =DATE(2014,12,31) -> 42004 | G4: =DATE(2015,1,1) -> 42005 | H4: =DATE(2015,1,2) -> 42006 | I4: =DATE(2015,1,3) -> 42007 | J4: =DATE(2015,1,4) -> 42008
A6: EFFECTIFS | K6: TOTAL
A7: TH | B7: Hommes ou heures théoriques | D7: 7.5 | E7: 7.5 | F7: 7.5 | G7: 7.5 | H7: 7.5 | K7: =SUM(D7:J7) -> 37.5
A8: HS | B8: Hommes ou heures supplémentaires | K8: =SUM(D8:J8) -> 0
A9: RET | B9: Retards et bons de sortie | K9: =SUM(D9:J9) -> 0
A10: Autres | K10: =SUM(D10:J10) -> 0
C11: TOTAL EFFECTIFS | D11: =D7+D8-D9-D10 -> 7.5 | E11: =E7+E8-E9-E10 -> 7.5 | F11: =F7+F8-F9-F10 -> 7.5 | G11: =G7+G8-G9-G10 -> 7.5 | H11: =H7+H8-H9-H10 -> 7.5 | I11: =I7+I8-I9-I10 -> 0 | J11: =J7+J8-J9-J10 -> 0 | K11: =SUM(D11:J11) -> 37.5
A12: SOCIAL
A13: MAL | B13: Maladie ; accident de travail | K13: =SUM(D13:J13) -> 0
A14: CP | B14: CP - RP - ET - JF - CF- RC | D14: 7.5 | E14: 7.5 | F14: 7.5 | G14: 7.5 | H14: 7.5 | K14: =SUM(D14:J14) -> 37.5
A15: FC | B15: Formation continue et sécurité | K15: =SUM(D15:J15) -> 0
A16: VM | B16: Visite médicale | K16: =SUM(D16:J16) -> 0
A17: Autres | K17: =SUM(D17:J17) -> 0
C18: TOTAL SOCIAL | D18: =SUM(D13:D17) -> 7.5 | E18: =SUM(E13:E17) -> 7.5 | F18: =SUM(F13:F17) -> 7.5 | G18: =SUM(G13:G17) -> 7.5 | H18: =SUM(H13:H17) -> 7.5 | I18: =SUM(I13:I17) -> 0 | J18: =SUM(J13:J17) -> 0 | K18: =SUM(D18:J18) -> 37.5
A19: TRANSFERTS
K20: =SUM(D20:J20) -> 0
K21: =SUM(D21:J21) -> 0
C22: TOTAL TRANSFERTS | D22: =SUM(D20:D21) -> 0 | E22: =SUM(E20:E21) -> 0 | F22: =SUM(F20:F21) -> 0 | G22: =SUM(G20:G21) -> 0 | H22: =SUM(H20:H21) -> 0 | I22: =SUM(I20:I21) -> 0 | J22: =SUM(J20:J21) -> 0 | K22: =SUM(D22:J22) -> 0
A23: PRODUCTION
A24: OUTPSGN | B24: Services généraux Atelier | K24: =SUM(D24:J24) -> 0
A25: OUTDSGN | B25: Services généraux BE OUT | K25: =SUM(D25:J25) -> 0
A26: OUTRECH | B26: Travaux pour recherche | K26: =SUM(D26:J26) -> 0
A27: OUTDINFO | B27: Teamcenter/Hotline-Rés-Trac/Dév.soft/… | K27: =SUM(D27:J27) -> 0 | L27: cumul tps | M27: phase
A28: IN07532 | D28: 7.5 | E28: 7.5 | F28: 7.5 | G28: 7.5 | H28: 7.5 | K28: =SUM(D28:J28) -> 37.5 | L28: =LOOKUP(A28,LISTE_ETUDES,HEURES_PASSEES!$C$11:$C$86) -> 7.5 | M28: =IF(L28>LOOKUP(A28,LISTE_ETUDES,HEURES_PASSEES!$E$11:$E$86)*(1-MARGE_ETUDE),"TPS_DEPASSE",(IF(L28>LOOKUP(A28,LISTE_ETUDES,HEURES_PASSEES!$E$11:$E$86)*(1-MARGE_ETUDE)*TPS_ETUDES,"TPS_COTATION","OK_MODELISATION"))) -> OK_MODELISATION
K29: =SUM(D29:J29) -> 0 | L29: =LOOKUP(A29,LISTE_ETUDES,HEURES_PASSEES!$C$11:$C$86) -> #N/A | M29: =IF(L29>LOOKUP(A29,LISTE_ETUDES,HEURES_PASSEES!$E$11:$E$86)*(1-MARGE_ETUDE),"TPS_DEPASSE",(IF(L29>LOOKUP(A29,LISTE_ETUDES,HEURES_PASSEES!$E$11:$E$86)*(1-MARGE_ETUDE)*TPS_ETUDES,"TPS_COTATION","OK_MODELISATION"))) -> #N/A
K30: =SUM(D30:J30) -> 0 | L30: =LOOKUP(A30,LISTE_ETUDES,HEURES_PASSEES!$C$11:$C$86) -> #N/A | M30: =IF(L30>LOOKUP(A30,LISTE_ETUDES,HEURES_PASSEES!$E$11:$E$86)*(1-MARGE_ETUDE),"TPS_DEPASSE",(IF(L30>LOOKUP(A30,LISTE_ETUDES,HEURES_PASSEES!$E$11:$E$86)*(1-MARGE_ETUDE)*TPS_ETUDES,"TPS_COTATION","OK_MODELISATION"))) -> #N/A
K31: =SUM(D31:J31) -> 0 | L31: =LOOKUP(A31,LISTE_ETUDES,HEURES_PASSEES!$C$11:$C$86) -> #N/A | M31: =IF(L31>LOOKUP(A31,LISTE_ETUDES,HEURES_PASSEES!$E$11:$E$86)*(1-MARGE_ETUDE),"TPS_DEPASSE",(IF(L31>LOOKUP(A31,LISTE_ETUDES,HEURES_PASSEES!$E$11:$E$86)*(1-MARGE_ETUDE)*TPS_ETUDES,"TPS_COTATION","OK_MODELISATION"))) -> #N/A
K32: =SUM(D32:J32) -> 0 | L32: =LOOKUP(A32,LISTE_ETUDES,HEURES_PASSEES!$C$11:$C$86) -> #N/A | M32: =IF(L32>LOOKUP(A32,LISTE_ETUDES,HEURES_PASSEES!$E$11:$E$86)*(1-MARGE_ETUDE),"TPS_DEPASSE",(IF(L32>LOOKUP(A32,LISTE_ETUDES,HEURES_PASSEES!$E$11:$E$86)*(1-MARGE_ETUDE)*TPS_ETUDES,"TPS_COTATION","OK_MODELISATION"))) -> #N/A
K33: =SUM(D33:J33) -> 0 | L33: =LOOKUP(A33,LISTE_ETUDES,HEURES_PASSEES!$C$11:$C$86) -> #N/A | M33: =IF(L33>LOOKUP(A33,LISTE_ETUDES,HEURES_PASSEES!$E$11:$E$86)*(1-MARGE_ETUDE),"TPS_DEPASSE",(IF(L33>LOOKUP(A33,LISTE_ETUDES,HEURES_PASSEES!$E$11:$E$86)*(1-MARGE_ETUDE)*TPS_ETUDES,"TPS_COTATION","OK_MODELISATION"))) -> #N/A
K34: =SUM(D34:J34) -> 0 | L34: =LOOKUP(A34,LISTE_ETUDES,HEURES_PASSEES!$C$11:$C$86) -> #N/A | M34: =IF(L34>LOOKUP(A34,LISTE_ETUDES,HEURES_PASSEES!$E$11:$E$86)*(1-MARGE_ETUDE),"TPS_DEPASSE",(IF(L34>LOOKUP(A34,LISTE_ETUDES,HEURES_PASSEES!$E$11:$E$86)*(1-MARGE_ETUDE)*TPS_ETUDES,"TPS_COTATION","OK_MODELISATION"))) -> #N/A
K35: =SUM(D35:J35) -> 0 | L35: =LOOKUP(A35,LISTE_ETUDES,HEURES_PASSEES!$C$11:$C$86) -> #N/A | M35: =IF(L35>LOOKUP(A35,LISTE_ETUDES,HEURES_PASSEES!$E$11:$E$86)*(1-MARGE_ETUDE),"TPS_DEPASSE",(IF(L35>LOOKUP(A35,LISTE_ETUDES,HEURES_PASSEES!$E$11:$E$86)*(1-MARGE_ETUDE)*TPS_ETUDES,"TPS_COTATION","OK_MODELISATION"))) -> #N/A
K36: =SUM(D36:J36) -> 0 | L36: =LOOKUP(A36,LISTE_ETUDES,HEURES_PASSEES!$C$11:$C$86) -> #N/A | M36: =IF(L36>LOOKUP(A36,LISTE_ETUDES,HEURES_PASSEES!$E$11:$E$86)*(1-MARGE_ETUDE),"TPS_DEPASSE",(IF(L36>LOOKUP(A36,LISTE_ETUDES,HEURES_PASSEES!$E$11:$E$86)*(1-MARGE_ETUDE)*TPS_ETUDES,"TPS_COTATION","OK_MODELISATION"))) -> #N/A
K37: =SUM(D37:J37) -> 0 | L37: =LOOKUP(A37,LISTE_ETUDES,HEURES_PASSEES!$C$11:$C$86) -> #N/A | M37: =IF(L37>LOOKUP(A37,LISTE_ETUDES,HEURES_PASSEES!$E$11:$E$86)*(1-MARGE_ETUDE),"TPS_DEPASSE",(IF(L37>LOOKUP(A37,LISTE_ETUDES,HEURES_PASSEES!$E$11:$E$86)*(1-MARGE_ETUDE)*TPS_ETUDES,"TPS_COTATION","OK_MODELISATION"))) -> #N/A
K38: =SUM(D38:J38) -> 0 | L38: =LOOKUP(A38,LISTE_ETUDES,HEURES_PASSEES!$C$11:$C$86) -> #N/A | M38: =IF(L38>LOOKUP(A38,LISTE_ETUDES,HEURES_PASSEES!$E$11:$E$86)*(1-MARGE_ETUDE),"TPS_DEPASSE",(IF(L38>LOOKUP(A38,LISTE_ETUDES,HEURES_PASSEES!$E$11:$E$86)*(1-MARGE_ETUDE)*TPS_ETUDES,"TPS_COTATION","OK_MODELISATION"))) -> #N/A
K39: =SUM(D39:J39) -> 0 | L39: =LOOKUP(A39,LISTE_ETUDES,HEURES_PASSEES!$C$11:$C$86) -> #N/A | M39: =IF(L39>LOOKUP(A39,LISTE_ETUDES,HEURES_PASSEES!$E$11:$E$86)*(1-MARGE_ETUDE),"TPS_DEPASSE",(IF(L39>LOOKUP(A39,LISTE_ETUDES,HEURES_PASSEES!$E$11:$E$86)*(1-MARGE_ETUDE)*TPS_ETUDES,"TPS_COTATION","OK_MODELISATION"))) -> #N/A
K40: =SUM(D40:J40) -> 0 | L40: =LOOKUP(A40,LISTE_ETUDES,HEURES_PASSEES!$C$11:$C$86) -> #N/A | M40: =IF(L40>LOOKUP(A40,LISTE_ETUDES,HEURES_PASSEES!$E$11:$E$86)*(1-MARGE_ETUDE),"TPS_DEPASSE",(IF(L40>LOOKUP(A40,LISTE_ETUDES,HEURES_PASSEES!$E$11:$E$86)*(1-MARGE_ETUDE)*TPS_ETUDES,"TPS_COTATION","OK_MODELISATION"))) -> #N/A
... K46: =SUM(D46:J46) -> 0 | L46: =LOOKUP(A46,LISTE_ETUDES,HEURES_PASSEES!$C$11:$C$86) -> #N/A | M46: =IF(L46>LOOKUP(A46,LISTE_ETUDES,HEURES_PASSEES!$E$11:$E$86)*(1-MARGE_ETUDE),"TPS_DEPASSE",(IF(L46>LOOKUP(A46,LISTE_ETUDES,HEURES_PASSEES!$E$11:$E$86)*(1-MARGE_ETUDE)*TPS_ETUDES,"TPS_COTATION","OK_MODELISATION"))) -> #N/A
C47: TOTAL PRODUCTION | D47: =SUM(D24:D46) -> 7.5 | E47: =SUM(E24:E46) -> 7.5 | F47: =SUM(F24:F46) -> 7.5 | G47: =SUM(G24:G46) -> 7.5 | H47: =SUM(H24:H46) -> 7.5 | I47: =SUM(I24:I46) -> 0 | J47: =SUM(J24:J46) -> 0 | K47: =SUM(D47:J47) -> 37.5

Sheet sem02
A1: R_cfan009 | B1: Affectation des temps | E1: Semaine N° | F1: ='sem01'!F1+1 -> 2 | G1: du | H1: =D4 -> 42009 | I1: au | J1: =J4 -> 42015 | L1: BILAN
A3: Service | B3: 8100 | C3: Outillage BE | D3: Lun | E3: Mar | F3: Mer | G3: Jeu | H3: Ven | I3: Sam | J3: Dim
A4: Matricule | B4: 20253 | C4: Mazé Damien | D4: ='sem01'!D4+7 -> 42009 | E4: ='sem01'!E4+7 -> 42010 | F4: ='sem01'!F4+7 -> 42011 | G4: ='sem01'!G4+7 -> 42012 | H4: ='sem01'!H4+7 -> 42013 | I4: ='sem01'!I4+7 -> 42014 | J4: ='sem01'!J4+7 -> 42015
A6: EFFECTIFS | K6: TOTAL
A7: TH | B7: Hommes ou heures théoriques | D7: 7.5 | E7: 7.5 | F7: 7.5 | G7: 7.5 | H7: 7.5 | K7: =SUM(D7:J7) -> 37.5
A8: HS | B8: Hommes ou heures supplémentaires | K8: =SUM(D8:J8) -> 0
A9: RET | B9: Retards et bons de sortie | K9: =SUM(D9:J9) -> 0
A10: Autres | K10: =SUM(D10:J10) -> 0
C11: TOTAL EFFECTIFS | D11: =D7+D8-D9-D10 -> 7.5 | E11: =E7+E8-E9-E10 -> 7.5 | F11: =F7+F8-F9-F10 -> 7.5 | G11: =G7+G8-G9-G10 -> 7.5 | H11: =H7+H8-H9-H10 -> 7.5 | I11: =I7+I8-I9-I10 -> 0 | J11: =J7+J8-J9-J10 -> 0 | K11: =SUM(D11:J11) -> 37.5
A12: SOCIAL
A13: MAL | B13: Maladie ; accident de travail | K13: =SUM(D13:J13) -> 0
A14: CP | B14: CP - RP - ET - JF - CF- RC | D14: 7.5 | H14: 7.5 | K14: =SUM(D14:J14) -> 15
A15: FC | B15: Formation continue et sécurité | K15: =SUM(D15:J15) -> 0
A16: VM | B16: Visite médicale | K16: =SUM(D16:J16) -> 0
A17: Autres | K17: =SUM(D17:J17) -> 0
C18: TOTAL SOCIAL | D18: =SUM(D13:D17) -> 7.5 | E18: =SUM(E13:E17) -> 0 | F18: =SUM(F13:F17) -> 0 | G18: =SUM(G13:G17) -> 0 | H18: =SUM(H13:H17) -> 7.5 | I18: =SUM(I13:I17) -> 0 | J18: =SUM(J13:J17) -> 0 | K18: =SUM(D18:J18) -> 15
A19: TRANSFERTS
K20: =SUM(D20:J20) -> 0
K21: =SUM(D21:J21) -> 0
C22: TOTAL TRANSFERTS | D22: =SUM(D20:D21) -> 0 | E22: =SUM(E20:E21) -> 0 | F22: =SUM(F20:F21) -> 0 | G22: =SUM(G20:G21) -> 0 | H22: =SUM(H20:H21) -> 0 | I22: =SUM(I20:I21) -> 0 | J22: =SUM(J20:J21) -> 0 | K22: =SUM(D22:J22) -> 0
A23: PRODUCTION
A24: OUTPSGN | B24: Services généraux Atelier | K24: =SUM(D24:J24) -> 0
A25: OUTDSGN | B25: Services généraux BE OUT | K25: =SUM(D25:J25) -> 0
A26: OUTRECH | B26: Travaux pour recherche | K26: =SUM(D26:J26) -> 0
A27: OUTDINFO | B27: Teamcenter/Hotline-Rés-Trac/Dév.soft/… | E27: 1 | G27: 1 | K27: =SUM(D27:J27) -> 2 | L27: cumul tps | M27: phase
A28: ETUIN07514 | D28: 2.5 | E28: 6.5 | K28: =SUM(D28:J28) -> 9 | L28: =LOOKUP(A28,LISTE_ETUDES,HEURES_PASSEES!$C$11:$C$86) -> 8.5 | M28: =IF(L28>LOOKUP(A28,LISTE_ETUDES,HEURES_PASSEES!$E$11:$E$86)*(1-MARGE_ETUDE),"TPS_DEPASSE",(IF(L28>LOOKUP(A28,LISTE_ETUDES,HEURES_PASSEES!$E$11:$E$86)*(1-MARGE_ETUDE)*TPS_ETUDES,"TPS_COTATION","OK_MODELISATION"))) -> TPS_DEPASSE
A29: ETUIN07566 | D29: 1 | F29: 7.5 | G29: 6.5 | K29: =SUM(D29:J29) -> 15 | L29: =LOOKUP(A29,LISTE_ETUDES,HEURES_PASSEES!$C$11:$C$86) -> 8.5 | M29: =IF(L29>LOOKUP(A29,LISTE_ETUDES,HEURES_PASSEES!$E$11:$E$86)*(1-MARGE_ETUDE),"TPS_DEPASSE",(IF(L29>LOOKUP(A29,LISTE_ETUDES,HEURES_PASSEES!$E$11:$E$86)*(1-MARGE_ETUDE)*TPS_ETUDES,"TPS_COTATION","OK_MODELISATION"))) -> TPS_DEPASSE
A30: ETUIN07532 | D30: 1 | K30: =SUM(D30:J30) -> 1 | L30: =LOOKUP(A30,LISTE_ETUDES,HEURES_PASSEES!$C$11:$C$86) -> 8.5 | M30: =IF(L30>LOOKUP(A30,LISTE_ETUDES,HEURES_PASSEES!$E$11:$E$86)*(1-MARGE_ETUDE),"TPS_DEPASSE",(IF(L30>LOOKUP(A30,LISTE_ETUDES,HEURES_PASSEES!$E$11:$E$86)*(1-MARGE_ETUDE)*TPS_ETUDES,"TPS_COTATION","OK_MODELISATION"))) -> TPS_DEPASSE
A31: ETUIN07502 | D31: 1 | K31: =SUM(D31:J31) -> 1 | L31: =LOOKUP(A31,LISTE_ETUDES,HEURES_PASSEES!$C$11:$C$86) -> 8.5 | M31: =IF(L31>LOOKUP(A31,LISTE_ETUDES,HEURES_PASSEES!$E$11:$E$86)*(1-MARGE_ETUDE),"TPS_DEPASSE",(IF(L31>LOOKUP(A31,LISTE_ETUDES,HEURES_PASSEES!$E$11:$E$86)*(1-MARGE_ETUDE)*TPS_ETUDES,"TPS_COTATION","OK_MODELISATION"))) -> TPS_DEPASSE
A32: ETUIN20590 | D32: 1 | K32: =SUM(D32:J32) -> 1 | L32: =LOOKUP(A32,LISTE_ETUDES,HEURES_PASSEES!$C$11:$C$86) -> 7.5 | M32: =IF(L32>LOOKUP(A32,LISTE_ETUDES,HEURES_PASSEES!$E$11:$E$86)*(1-MARGE_ETUDE),"TPS_DEPASSE",(IF(L32>LOOKUP(A32,LISTE_ETUDES,HEURES_PASSEES!$E$11:$E$86)*(1-MARGE_ETUDE)*TPS_ETUDES,"TPS_COTATION","OK_MODELISATION"))) -> OK_MODELISATION
A33: ETUIN07577 | D33: 1 | K33: =SUM(D33:J33) -> 1 | L33: =LOOKUP(A33,LISTE_ETUDES,HEURES_PASSEES!$C$11:$C$86) -> 8.5 | M33: =IF(L33>LOOKUP(A33,LISTE_ETUDES,HEURES_PASSEES!$E$11:$E$86)*(1-MARGE_ETUDE),"TPS_DEPASSE",(IF(L33>LOOKUP(A33,LISTE_ETUDES,HEURES_PASSEES!$E$11:$E$86)*(1-MARGE_ETUDE)*TPS_ETUDES,"TPS_COTATION","OK_MODELISATION"))) -> TPS_DEPASSE
K34: =SUM(D34:J34) -> 0 | L34: =LOOKUP(A34,LISTE_ETUDES,HEURES_PASSEES!$C$11:$C$86) -> #N/A | M34: =IF(L34>LOOKUP(A34,LISTE_ETUDES,HEURES_PASSEES!$E$11:$E$86)*(1-MARGE_ETUDE),"TPS_DEPASSE",(IF(L34>LOOKUP(A34,LISTE_ETUDES,HEURES_PASSEES!$E$11:$E$86)*(1-MARGE_ETUDE)*TPS_ETUDES,"TPS_COTATION","OK_MODELISATION"))) -> #N/A
K35: =SUM(D35:J35) -> 0 | L35: =LOOKUP(A35,LISTE_ETUDES,HEURES_PASSEES!$C$11:$C$86) -> #N/A | M35: =IF(L35>LOOKUP(A35,LISTE_ETUDES,HEURES_PASSEES!$E$11:$E$86)*(1-MARGE_ETUDE),"TPS_DEPASSE",(IF(L35>LOOKUP(A35,LISTE_ETUDES,HEURES_PASSEES!$E$11:$E$86)*(1-MARGE_ETUDE)*TPS_ETUDES,"TPS_COTATION","OK_MODELISATION"))) -> #N/A
K36: =SUM(D36:J36) -> 0 | L36: =LOOKUP(A36,LISTE_ETUDES,HEURES_PASSEES!$C$11:$C$86) -> #N/A | M36: =IF(L36>LOOKUP(A36,LISTE_ETUDES,HEURES_PASSEES!$E$11:$E$86)*(1-MARGE_ETUDE),"TPS_DEPASSE",(IF(L36>LOOKUP(A36,LISTE_ETUDES,HEURES_PASSEES!$E$11:$E$86)*(1-MARGE_ETUDE)*TPS_ETUDES,"TPS_COTATION","OK_MODELISATION"))) -> #N/A
K37: =SUM(D37:J37) -> 0 | L37: =LOOKUP(A37,LISTE_ETUDES,HEURES_PASSEES!$C$11:$C$86) -> #N/A | M37: =IF(L37>LOOKUP(A37,LISTE_ETUDES,HEURES_PASSEES!$E$11:$E$86)*(1-MARGE_ETUDE),"TPS_DEPASSE",(IF(L37>LOOKUP(A37,LISTE_ETUDES,HEURES_PASSEES!$E$11:$E$86)*(1-MARGE_ETUDE)*TPS_ETUDES,"TPS_COTATION","OK_MODELISATION"))) -> #N/A
K38: =SUM(D38:J38) -> 0 | L38: =LOOKUP(A38,LISTE_ETUDES,HEURES_PASSEES!$C$11:$C$86) -> #N/A | M38: =IF(L38>LOOKUP(A38,LISTE_ETUDES,HEURES_PASSEES!$E$11:$E$86)*(1-MARGE_ETUDE),"TPS_DEPASSE",(IF(L38>LOOKUP(A38,LISTE_ETUDES,HEURES_PASSEES!$E$11:$E$86)*(1-MARGE_ETUDE)*TPS_ETUDES,"TPS_COTATION","OK_MODELISATION"))) -> #N/A
K39: =SUM(D39:J39) -> 0 | L39: =LOOKUP(A39,LISTE_ETUDES,HEURES_PASSEES!$C$11:$C$86) -> #N/A | M39: =IF(L39>LOOKUP(A39,LISTE_ETUDES,HEURES_PASSEES!$E$11:$E$86)*(1-MARGE_ETUDE),"TPS_DEPASSE",(IF(L39>LOOKUP(A39,LISTE_ETUDES,HEURES_PASSEES!$E$11:$E$86)*(1-MARGE_ETUDE)*TPS_ETUDES,"TPS_COTATION","OK_MODELISATION"))) -> #N/A
K40: =SUM(D40:J40) -> 0 | L40: =LOOKUP(A40,LISTE_ETUDES,HEURES_PASSEES!$C$11:$C$86) -> #N/A | M40: =IF(L40>LOOKUP(A40,LISTE_ETUDES,HEURES_PASSEES!$E$11:$E$86)*(1-MARGE_ETUDE),"TPS_DEPASSE",(IF(L40>LOOKUP(A40,LISTE_ETUDES,HEURES_PASSEES!$E$11:$E$86)*(1-MARGE_ETUDE)*TPS_ETUDES,"TPS_COTATION","OK_MODELISATION"))) -> #N/A
K41: =SUM(D41:J41) -> 0 | L41: =LOOKUP(A41,LISTE_ETUDES,HEURES_PASSEES!$C$11:$C$86) -> #N/A | M41: =IF(L41>LOOKUP(A41,LISTE_ETUDES,HEURES_PASSEES!$E$11:$E$86)*(1-MARGE_ETUDE),"TPS_DEPASSE",(IF(L41>LOOKUP(A41,LISTE_ETUDES,HEURES_PASSEES!$E$11:$E$86)*(1-MARGE_ETUDE)*TPS_ETUDES,"TPS_COTATION","OK_MODELISATION"))) -> #N/A
K42: =SUM(D42:J42) -> 0 | L42: =LOOKUP(A42,LISTE_ETUDES,HEURES_PASSEES!$C$11:$C$86) -> #N/A | M42: =IF(L42>LOOKUP(A42,LISTE_ETUDES,HEURES_PASSEES!$E$11:$E$86)*(1-MARGE_ETUDE),"TPS_DEPASSE",(IF(L42>LOOKUP(A42,LISTE_ETUDES,HEURES_PASSEES!$E$11:$E$86)*(1-MARGE_ETUDE)*TPS_ETUDES,"TPS_COTATION","OK_MODELISATION"))) -> #N/A
...

Sheet sem03
A1: R_cfan009 | B1: Affectation des temps | E1: Semaine N° | F1: ='sem02'!F1+1 -> 3 | G1: du | H1: =D4 -> 42016 | I1: au | J1: =J4 -> 42022 | L1: BILAN
A3: Service | B3: 8100 | C3: Outillage BE | D3: Lun | E3: Mar | F3: Mer | G3: Jeu | H3: Ven | I3: Sam | J3: Dim
A4: Matricule | B4: 20253 | C4: Mazé Damien | D4: ='sem02'!D4+7 -> 42016 | E4: ='sem02'!E4+7 -> 42017 | F4: ='sem02'!F4+7 -> 42018 | G4: ='sem02'!G4+7 -> 42019 | H4: ='sem02'!H4+7 -> 42020 | I4: ='sem02'!I4+7 -> 42021 | J4: ='sem02'!J4+7 -> 42022
A6: EFFECTIFS | K6: TOTAL
A7: TH | B7: Hommes ou heures théoriques | D7: 7.5 | E7: 7.5 | F7: 7.5 | G7: 7.5 | H7: 7.5 | K7: =SUM(D7:J7) -> 37.5
A8: HS | B8: Hommes ou heures supplémentaires | K8: =SUM(D8:J8) -> 0
A9: RET | B9: Retards et bons de sortie | K9: =SUM(D9:J9) -> 0
A10: Autres | K10: =SUM(D10:J10) -> 0
C11: TOTAL EFFECTIFS | D11: =D7+D8-D9-D10 -> 7.5 | E11: =E7+E8-E9-E10 -> 7.5 | F11: =F7+F8-F9-F10 -> 7.5 | G11: =G7+G8-G9-G10 -> 7.5 | H11: =H7+H8-H9-H10 -> 7.5 | I11: =I7+I8-I9-I10 -> 0 | J11: =J7+J8-J9-J10 -> 0 | K11: =SUM(D11:J11) -> 37.5
A12: SOCIAL
A13: MAL | B13: Maladie ; accident de travail | K13: =SUM(D13:J13) -> 0
A14: CP | B14: CP - RP - ET - JF - CF- RC | K14: =SUM(D14:J14) -> 0
A15: FC | B15: Formation continue et sécurité | K15: =SUM(D15:J15) -> 0
A16: VM | B16: Visite médicale | K16: =SUM(D16:J16) -> 0
A17: Autres | K17: =SUM(D17:J17) -> 0
C18: TOTAL SOCIAL | D18: =SUM(D13:D17) -> 0 | E18: =SUM(E13:E17) -> 0 | F18: =SUM(F13:F17) -> 0 | G18: =SUM(G13:G17) -> 0 | H18: =SUM(H13:H17) -> 0 | I18: =SUM(I13:I17) -> 0 | J18: =SUM(J13:J17) -> 0 | K18: =SUM(D18:J18) -> 0
A19: TRANSFERTS
K20: =SUM(D20:J20) -> 0
K21: =SUM(D21:J21) -> 0
C22: TOTAL TRANSFERTS | D22: =SUM(D20:D21) -> 0 | E22: =SUM(E20:E21) -> 0 | F22: =SUM(F20:F21) -> 0 | G22: =SUM(G20:G21) -> 0 | H22: =SUM(H20:H21) -> 0 | I22: =SUM(I20:I21) -> 0 | J22: =SUM(J20:J21) -> 0 | K22: =SUM(D22:J22) -> 0
A23: PRODUCTION
A24: OUTPSGN | B24: Services généraux Atelier | K24: =SUM(D24:J24) -> 0
A25: OUTDSGN | B25: Services généraux BE OUT | K25: =SUM(D25:J25) -> 0
A26: OUTRECH | B26: Travaux pour recherche | K26: =SUM(D26:J26) -> 0
A27: OUTDINFO | B27: Teamcenter/Hotline-Rés-Trac/Dév.soft/… | D27: 7.5 | K27: =SUM(D27:J27) -> 7.5 | L27: cumul tps | M27: phase
A28: ETUIN07566 | E28: 7.5 | F28: 7.5 | G28: 7.5 | H28: 7.5 | K28: =SUM(D28:J28) -> 30 | L28: =LOOKUP(A28,LISTE_ETUDES,HEURES_PASSEES!$C$11:$C$86) -> 8.5 | M28: =IF(L28>LOOKUP(A28,LISTE_ETUDES,HEURES_PASSEES!$E$11:$E$86)*(1-MARGE_ETUDE),"TPS_DEPASSE",(IF(L28>LOOKUP(A28,LISTE_ETUDES,HEURES_PASSEES!$E$11:$E$86)*(1-MARGE_ETUDE)*TPS_ETUDES,"TPS_COTATION","OK_MODELISATION"))) -> TPS_DEPASSE
K29: =SUM(D29:J29) -> 0 | L29: =LOOKUP(A29,LISTE_ETUDES,HEURES_PASSEES!$C$11:$C$86) -> #N/A | M29: =IF(L29>LOOKUP(A29,LISTE_ETUDES,HEURES_PASSEES!$E$11:$E$86)*(1-MARGE_ETUDE),"TPS_DEPASSE",(IF(L29>LOOKUP(A29,LISTE_ETUDES,HEURES_PASSEES!$E$11:$E$86)*(1-MARGE_ETUDE)*TPS_ETUDES,"TPS_COTATION","OK_MODELISATION"))) -> #N/A
K30: =SUM(D30:J30) -> 0 | L30: =LOOKUP(A30,LISTE_ETUDES,HEURES_PASSEES!$C$11:$C$86) -> #N/A | M30: =IF(L30>LOOKUP(A30,LISTE_ETUDES,HEURES_PASSEES!$E$11:$E$86)*(1-MARGE_ETUDE),"TPS_DEPASSE",(IF(L30>LOOKUP(A30,LISTE_ETUDES,HEURES_PASSEES!$E$11:$E$86)*(1-MARGE_ETUDE)*TPS_ETUDES,"TPS_COTATION","OK_MODELISATION"))) -> #N/A
K31: =SUM(D31:J31) -> 0 | L31: =LOOKUP(A31,LISTE_ETUDES,HEURES_PASSEES!$C$11:$C$86) -> #N/A | M31: =IF(L31>LOOKUP(A31,LISTE_ETUDES,HEURES_PASSEES!$E$11:$E$86)*(1-MARGE_ETUDE),"TPS_DEPASSE",(IF(L31>LOOKUP(A31,LISTE_ETUDES,HEURES_PASSEES!$E$11:$E$86)*(1-MARGE_ETUDE)*TPS_ETUDES,"TPS_COTATION","OK_MODELISATION"))) -> #N/A
K32: =SUM(D32:J32) -> 0 | L32: =LOOKUP(A32,LISTE_ETUDES,HEURES_PASSEES!$C$11:$C$86) -> #N/A | M32: =IF(L32>LOOKUP(A32,LISTE_ETUDES,HEURES_PASSEES!$E$11:$E$86)*(1-MARGE_ETUDE),"TPS_DEPASSE",(IF(L32>LOOKUP(A32,LISTE_ETUDES,HEURES_PASSEES!$E$11:$E$86)*(1-MARGE_ETUDE)*TPS_ETUDES,"TPS_COTATION","OK_MODELISATION"))) -> #N/A
K33: =SUM(D33:J33) -> 0 | L33: =LOOKUP(A33,LISTE_ETUDES,HEURES_PASSEES!$C$11:$C$86) -> #N/A | M33: =IF(L33>LOOKUP(A33,LISTE_ETUDES,HEURES_PASSEES!$E$11:$E$86)*(1-MARGE_ETUDE),"TPS_DEPASSE",(IF(L33>LOOKUP(A33,LISTE_ETUDES,HEURES_PASSEES!$E$11:$E$86)*(1-MARGE_ETUDE)*TPS_ETUDES,"TPS_COTATION","OK_MODELISATION"))) -> #N/A
K34: =SUM(D34:J34) -> 0 | L34: =LOOKUP(A34,LISTE_ETUDES,HEURES_PASSEES!$C$11:$C$86) -> #N/A | M34: =IF(L34>LOOKUP(A34,LISTE_ETUDES,HEURES_PASSEES!$E$11:$E$86)*(1-MARGE_ETUDE),"TPS_DEPASSE",(IF(L34>LOOKUP(A34,LISTE_ETUDES,HEURES_PASSEES!$E$11:$E$86)*(1-MARGE_ETUDE)*TPS_ETUDES,"TPS_COTATION","OK_MODELISATION"))) -> #N/A
K35: =SUM(D35:J35) -> 0 | L35: =LOOKUP(A35,LISTE_ETUDES,HEURES_PASSEES!$C$11:$C$86) -> #N/A | M35: =IF(L35>LOOKUP(A35,LISTE_ETUDES,HEURES_PASSEES!$E$11:$E$86)*(1-MARGE_ETUDE),"TPS_DEPASSE",(IF(L35>LOOKUP(A35,LISTE_ETUDES,HEURES_PASSEES!$E$11:$E$86)*(1-MARGE_ETUDE)*TPS_ETUDES,"TPS_COTATION","OK_MODELISATION"))) -> #N/A
K36: =SUM(D36:J36) -> 0 | L36: =LOOKUP(A36,LISTE_ETUDES,HEURES_PASSEES!$C$11:$C$86) -> #N/A | M36: =IF(L36>LOOKUP(A36,LISTE_ETUDES,HEURES_PASSEES!$E$11:$E$86)*(1-MARGE_ETUDE),"TPS_DEPASSE",(IF(L36>LOOKUP(A36,LISTE_ETUDES,HEURES_PASSEES!$E$11:$E$86)*(1-MARGE_ETUDE)*TPS_ETUDES,"TPS_COTATION","OK_MODELISATION"))) -> #N/A
K37: =SUM(D37:J37) -> 0 | L37: =LOOKUP(A37,LISTE_ETUDES,HEURES_PASSEES!$C$11:$C$86) -> #N/A | M37: =IF(L37>LOOKUP(A37,LISTE_ETUDES,HEURES_PASSEES!$E$11:$E$86)*(1-MARGE_ETUDE),"TPS_DEPASSE",(IF(L37>LOOKUP(A37,LISTE_ETUDES,HEURES_PASSEES!$E$11:$E$86)*(1-MARGE_ETUDE)*TPS_ETUDES,"TPS_COTATION","OK_MODELISATION"))) -> #N/A
K38: =SUM(D38:J38) -> 0 | L38: =LOOKUP(A38,LISTE_ETUDES,HEURES_PASSEES!$C$11:$C$86) -> #N/A | M38: =IF(L38>LOOKUP(A38,LISTE_ETUDES,HEURES_PASSEES!$E$11:$E$86)*(1-MARGE_ETUDE),"TPS_DEPASSE",(IF(L38>LOOKUP(A38,LISTE_ETUDES,HEURES_PASSEES!$E$11:$E$86)*(1-MARGE_ETUDE)*TPS_ETUDES,"TPS_COTATION","OK_MODELISATION"))) -> #N/A
K39: =SUM(D39:J39) -> 0 | L39: =LOOKUP(A39,LISTE_ETUDES,HEURES_PASSEES!$C$11:$C$86) -> #N/A | M39: =IF(L39>LOOKUP(A39,LISTE_ETUDES,HEURES_PASSEES!$E$11:$E$86)*(1-MARGE_ETUDE),"TPS_DEPASSE",(IF(L39>LOOKUP(A39,LISTE_ETUDES,HEURES_PASSEES!$E$11:$E$86)*(1-MARGE_ETUDE)*TPS_ETUDES,"TPS_COTATION","OK_MODELISATION"))) -> #N/A
K40: =SUM(D40:J40) -> 0 | L40: =LOOKUP(A40,LISTE_ETUDES,HEURES_PASSEES!$C$11:$C$86) -> #N/A | M40: =IF(L40>LOOKUP(A40,LISTE_ETUDES,HEURES_PASSEES!$E$11:$E$86)*(1-MARGE_ETUDE),"TPS_DEPASSE",(IF(L40>LOOKUP(A40,LISTE_ETUDES,HEURES_PASSEES!$E$11:$E$86)*(1-MARGE_ETUDE)*TPS_ETUDES,"TPS_COTATION","OK_MODELISATION"))) -> #N/A
... K46: =SUM(D46:J46) -> 0 | L46: =LOOKUP(A46,LISTE_ETUDES,HEURES_PASSEES!$C$11:$C$86) -> #N/A | M46: =IF(L46>LOOKUP(A46,LISTE_ETUDES,HEURES_PASSEES!$E$11:$E$86)*(1-MARGE_ETUDE),"TPS_DEPASSE",(IF(L46>LOOKUP(A46,LISTE_ETUDES,HEURES_PASSEES!$E$11:$E$86)*(1-MARGE_ETUDE)*TPS_ETUDES,"TPS_COTATION","OK_MODELISATION"))) -> #N/A
C47: TOTAL PRODUCTION | D47: =SUM(D24:D46) -> 7.5 | E47: =SUM(E24:E46) -> 7.5 | F47: =SUM(F24:F46) -> 7.5 | G47: =SUM(G24:G46) -> 7.5 | H47: =SUM(H24:H46) -> 7.5 | I47: =SUM(I24:I46) -> 0 | J47: =SUM(J24:J46) -> 0 | K47: =SUM(D47:J47) -> 37.5

Sheet sem04
A1: R_cfan009 | B1: Affectation des temps | E1: Semaine N° | F1: ='sem03'!F1+1 -> 4 | G1: du | H1: =D4 -> 42023 | I1: au | J1: =J4 -> 42029 | L1: BILAN
A3: Service | B3: 8100 | C3: Outillage BE | D3: Lun | E3: Mar | F3: Mer | G3: Jeu | H3: Ven | I3: Sam | J3: Dim
A4: Matricule | B4: 20253 | C4: Mazé Damien | D4: ='sem03'!D4+7 -> 42023 | E4: ='sem03'!E4+7 -> 42024 | F4: ='sem03'!F4+7 -> 42025 | G4: ='sem03'!G4+7 -> 42026 | H4: ='sem03'!H4+7 -> 42027 | I4: ='sem03'!I4+7 -> 42028 | J4: ='sem03'!J4+7 -> 42029
A6: EFFECTIFS | K6: TOTAL
A7: TH | B7: Hommes ou heures théoriques | D7: 7.5 | E7: 7.5 | F7: 7.5 | G7: 7.5 | H7: 7.5 | K7: =SUM(D7:J7) -> 37.5
A8: HS | B8: Hommes ou heures supplémentaires | K8: =SUM(D8:J8) -> 0
A9: RET | B9: Retards et bons de sortie | K9: =SUM(D9:J9) -> 0
A10: Autres | K10: =SUM(D10:J10) -> 0
C11: TOTAL EFFECTIFS | D11: =D7+D8-D9-D10 -> 7.5 | E11: =E7+E8-E9-E10 -> 7.5 | F11: =F7+F8-F9-F10 -> 7.5 | G11: =G7+G8-G9-G10 -> 7.5 | H11: =H7+H8-H9-H10 -> 7.5 | I11: =I7+I8-I9-I10 -> 0 | J11: =J7+J8-J9-J10 -> 0 | K11: =SUM(D11:J11) -> 37.5
A12: SOCIAL
A13: MAL | B13: Maladie ; accident de travail | K13: =SUM(D13:J13) -> 0
A14: CP | B14: CP - RP - ET - JF - CF- RC | K14: =SUM(D14:J14) -> 0
A15: FC | B15: Formation continue et sécurité | K15: =SUM(D15:J15) -> 0
A16: VM | B16: Visite médicale | K16: =SUM(D16:J16) -> 0
A17: Autres | K17: =SUM(D17:J17) -> 0
C18: TOTAL SOCIAL | D18: =SUM(D13:D17) -> 0 | E18: =SUM(E13:E17) -> 0 | F18: =SUM(F13:F17) -> 0 | G18: =SUM(G13:G17) -> 0 | H18: =SUM(H13:H17) -> 0 | I18: =SUM(I13:I17) -> 0 | J18: =SUM(J13:J17) -> 0 | K18: =SUM(D18:J18) -> 0
A19: TRANSFERTS
K20: =SUM(D20:J20) -> 0
K21: =SUM(D21:J21) -> 0
C22: TOTAL TRANSFERTS | D22: =SUM(D20:D21) -> 0 | E22: =SUM(E20:E21) -> 0 | F22: =SUM(F20:F21) -> 0 | G22: =SUM(G20:G21) -> 0 | H22: =SUM(H20:H21) -> 0 | I22: =SUM(I20:I21) -> 0 | J22: =SUM(J20:J21) -> 0 | K22: =SUM(D22:J22) -> 0
A23: PRODUCTION
A24: OUTPSGN | B24: Services généraux Atelier | K24: =SUM(D24:J24) -> 0
A25: OUTDSGN | B25: Services généraux BE OUT | K25: =SUM(D25:J25) -> 0
A26: OUTRECH | B26: Travaux pour recherche | K26: =SUM(D26:J26) -> 0
A27: OUTDINFO | B27: Teamcenter/Hotline-Rés-Trac/Dév.soft/… | E27: 1.5 | F27: 2.5 | K27: =SUM(D27:J27) -> 4 | L27: cumul tps | M27: phase
A28: ETUIN07566 | D28: 7.5 | E28: 6 | F28: 5 | G28: 7.5 | H28: 7.5 | K28: =SUM(D28:J28) -> 33.5 | L28: =LOOKUP(A28,LISTE_ETUDES,HEURES_PASSEES!$C$11:$C$86) -> 8.5 | M28: =IF(L28>LOOKUP(A28,LISTE_ETUDES,HEURES_PASSEES!$E$11:$E$86)*(1-MARGE_ETUDE),"TPS_DEPASSE",(IF(L28>LOOKUP(A28,LISTE_ETUDES,HEURES_PASSEES!$E$11:$E$86)*(1-MARGE_ETUDE)*TPS_ETUDES,"TPS_COTATION","OK_MODELISATION"))) -> TPS_DEPASSE
K29: =SUM(D29:J29) -> 0 | L29: =LOOKUP(A29,LISTE_ETUDES,HEURES_PASSEES!$C$11:$C$86) -> #N/A | M29: =IF(L29>LOOKUP(A29,LISTE_ETUDES,HEURES_PASSEES!$E$11:$E$86)*(1-MARGE_ETUDE),"TPS_DEPASSE",(IF(L29>LOOKUP(A29,LISTE_ETUDES,HEURES_PASSEES!$E$11:$E$86)*(1-MARGE_ETUDE)*TPS_ETUDES,"TPS_COTATION","OK_MODELISATION"))) -> #N/A
K30: =SUM(D30:J30) -> 0 | L30: =LOOKUP(A30,LISTE_ETUDES,HEURES_PASSEES!$C$11:$C$86) -> #N/A | M30: =IF(L30>LOOKUP(A30,LISTE_ETUDES,HEURES_PASSEES!$E$11:$E$86)*(1-MARGE_ETUDE),"TPS_DEPASSE",(IF(L30>LOOKUP(A30,LISTE_ETUDES,HEURES_PASSEES!$E$11:$E$86)*(1-MARGE_ETUDE)*TPS_ETUDES,"TPS_COTATION","OK_MODELISATION"))) -> #N/A
K31: =SUM(D31:J31) -> 0 | L31: =LOOKUP(A31,LISTE_ETUDES,HEURES_PASSEES!$C$11:$C$86) -> #N/A | M31: =IF(L31>LOOKUP(A31,LISTE_ETUDES,HEURES_PASSEES!$E$11:$E$86)*(1-MARGE_ETUDE),"TPS_DEPASSE",(IF(L31>LOOKUP(A31,LISTE_ETUDES,HEURES_PASSEES!$E$11:$E$86)*(1-MARGE_ETUDE)*TPS_ETUDES,"TPS_COTATION","OK_MODELISATION"))) -> #N/A
K32: =SUM(D32:J32) -> 0 | L32: =LOOKUP(A32,LISTE_ETUDES,HEURES_PASSEES!$C$11:$C$86) -> #N/A | M32: =IF(L32>LOOKUP(A32,LISTE_ETUDES,HEURES_PASSEES!$E$11:$E$86)*(1-MARGE_ETUDE),"TPS_DEPASSE",(IF(L32>LOOKUP(A32,LISTE_ETUDES,HEURES_PASSEES!$E$11:$E$86)*(1-MARGE_ETUDE)*TPS_ETUDES,"TPS_COTATION","OK_MODELISATION"))) -> #N/A
K33: =SUM(D33:J33) -> 0 | L33: =LOOKUP(A33,LISTE_ETUDES,HEURES_PASSEES!$C$11:$C$86) -> #N/A | M33: =IF(L33>LOOKUP(A33,LISTE_ETUDES,HEURES_PASSEES!$E$11:$E$86)*(1-MARGE_ETUDE),"TPS_DEPASSE",(IF(L33>LOOKUP(A33,LISTE_ETUDES,HEURES_PASSEES!$E$11:$E$86)*(1-MARGE_ETUDE)*TPS_ETUDES,"TPS_COTATION","OK_MODELISATION"))) -> #N/A
K34: =SUM(D34:J34) -> 0 | L34: =LOOKUP(A34,LISTE_ETUDES,HEURES_PASSEES!$C$11:$C$86) -> #N/A | M34: =IF(L34>LOOKUP(A34,LISTE_ETUDES,HEURES_PASSEES!$E$11:$E$86)*(1-MARGE_ETUDE),"TPS_DEPASSE",(IF(L34>LOOKUP(A34,LISTE_ETUDES,HEURES_PASSEES!$E$11:$E$86)*(1-MARGE_ETUDE)*TPS_ETUDES,"TPS_COTATION","OK_MODELISATION"))) -> #N/A
K35: =SUM(D35:J35) -> 0 | L35: =LOOKUP(A35,LISTE_ETUDES,HEURES_PASSEES!$C$11:$C$86) -> #N/A | M35: =IF(L35>LOOKUP(A35,LISTE_ETUDES,HEURES_PASSEES!$E$11:$E$86)*(1-MARGE_ETUDE),"TPS_DEPASSE",(IF(L35>LOOKUP(A35,LISTE_ETUDES,HEURES_PASSEES!$E$11:$E$86)*(1-MARGE_ETUDE)*TPS_ETUDES,"TPS_COTATION","OK_MODELISATION"))) -> #N/A
K36: =SUM(D36:J36) -> 0 | L36: =LOOKUP(A36,LISTE_ETUDES,HEURES_PASSEES!$C$11:$C$86) -> #N/A | M36: =IF(L36>LOOKUP(A36,LISTE_ETUDES,HEURES_PASSEES!$E$11:$E$86)*(1-MARGE_ETUDE),"TPS_DEPASSE",(IF(L36>LOOKUP(A36,LISTE_ETUDES,HEURES_PASSEES!$E$11:$E$86)*(1-MARGE_ETUDE)*TPS_ETUDES,"TPS_COTATION","OK_MODELISATION"))) -> #N/A
K37: =SUM(D37:J37) -> 0 | L37: =LOOKUP(A37,LISTE_ETUDES,HEURES_PASSEES!$C$11:$C$86) -> #N/A | M37: =IF(L37>LOOKUP(A37,LISTE_ETUDES,HEURES_PASSEES!$E$11:$E$86)*(1-MARGE_ETUDE),"TPS_DEPASSE",(IF(L37>LOOKUP(A37,LISTE_ETUDES,HEURES_PASSEES!$E$11:$E$86)*(1-MARGE_ETUDE)*TPS_ETUDES,"TPS_COTATION","OK_MODELISATION"))) -> #N/A
K38: =SUM(D38:J38) -> 0 | L38: =LOOKUP(A38,LISTE_ETUDES,HEURES_PASSEES!$C$11:$C$86) -> #N/A | M38: =IF(L38>LOOKUP(A38,LISTE_ETUDES,HEURES_PASSEES!$E$11:$E$86)*(1-MARGE_ETUDE),"TPS_DEPASSE",(IF(L38>LOOKUP(A38,LISTE_ETUDES,HEURES_PASSEES!$E$11:$E$86)*(1-MARGE_ETUDE)*TPS_ETUDES,"TPS_COTATION","OK_MODELISATION"))) -> #N/A
K39: =SUM(D39:J39) -> 0 | L39: =LOOKUP(A39,LISTE_ETUDES,HEURES_PASSEES!$C$11:$C$86) -> #N/A | M39: =IF(L39>LOOKUP(A39,LISTE_ETUDES,HEURES_PASSEES!$E$11:$E$86)*(1-MARGE_ETUDE),"TPS_DEPASSE",(IF(L39>LOOKUP(A39,LISTE_ETUDES,HEURES_PASSEES!$E$11:$E$86)*(1-MARGE_ETUDE)*TPS_ETUDES,"TPS_COTATION","OK_MODELISATION"))) -> #N/A
K40: =SUM(D40:J40) -> 0 | L40: =LOOKUP(A40,LISTE_ETUDES,HEURES_PASSEES!$C$11:$C$86) -> #N/A | M40: =IF(L40>LOOKUP(A40,LISTE_ETUDES,HEURES_PASSEES!$E$11:$E$86)*(1-MARGE_ETUDE),"TPS_DEPASSE",(IF(L40>LOOKUP(A40,LISTE_ETUDES,HEURES_PASSEES!$E$11:$E$86)*(1-MARGE_ETUDE)*TPS_ETUDES,"TPS_COTATION","OK_MODELISATION"))) -> #N/A
... K46: =SUM(D46:J46) -> 0 | L46: =LOOKUP(A46,LISTE_ETUDES,HEURES_PASSEES!$C$11:$C$86) -> #N/A | M46: =IF(L46>LOOKUP(A46,LISTE_ETUDES,HEURES_PASSEES!$E$11:$E$86)*(1-MARGE_ETUDE),"TPS_DEPASSE",(IF(L46>LOOKUP(A46,LISTE_ETUDES,HEURES_PASSEES!$E$11:$E$86)*(1-MARGE_ETUDE)*TPS_ETUDES,"TPS_COTATION","OK_MODELISATION"))) -> #N/A
C47: TOTAL PRODUCTION | D47: =SUM(D24:D46) -> 7.5 | E47: =SUM(E24:E46) -> 7.5 | F47: =SUM(F24:F46) -> 7.5 | G47: =SUM(G24:G46) -> 7.5 | H47: =SUM(H24:H46) -> 7.5 | I47: =SUM(I24:I46) -> 0 | J47: =SUM(J24:J46) -> 0 | K47: =SUM(D47:J47) -> 37.5

Sheet sem05
A1: R_cfan009 | B1: Affectation des temps | E1: Semaine N° | F1: ='sem04'!F1+1 -> 5 | G1: du | H1: =D4 -> 42030 | I1: au | J1: =I4 -> 42035 | L1: BILAN
A3: Service | B3: 8100 | C3: Outillage BE | D3: Lun | E3: Mar | F3: Mer | G3: Jeu | H3: Ven | I3: Sam | J3: Dim
A4: Matricule | B4: 20253 | C4: Mazé Damien | D4: ='sem04'!D4+7 -> 42030 | E4: ='sem04'!E4+7 -> 42031 | F4: ='sem04'!F4+7 -> 42032 | G4: ='sem04'!G4+7 -> 42033 | H4: ='sem04'!H4+7 -> 42034 | I4: ='sem04'!I4+7 -> 42035 | J4: ='sem04'!J4+7 -> 42036
A6: EFFECTIFS | K6: TOTAL
A7: TH | B7: Hommes ou heures théoriques | D7: 7.5 | E7: 7.5 | F7: 7.5 | G7: 7.5 | H7: 7.5 | K7: =SUM(D7:J7) -> 37.5
A8: HS | B8: Hommes ou heures supplémentaires | K8: =SUM(D8:J8) -> 0
A9: RET | B9: Retards et bons de sortie | K9: =SUM(D9:J9) -> 0
A10: Autres | K10: =SUM(D10:J10) -> 0
C11: TOTAL EFFECTIFS | D11: =D7+D8-D9-D10 -> 7.5 | E11: =E7+E8-E9-E10 -> 7.5 | F11: =F7+F8-F9-F10 -> 7.5 | G11: =G7+G8-G9-G10 -> 7.5 | H11: =H7+H8-H9-H10 -> 7.5 | I11: =I7+I8-I9-I10 -> 0 | J11: =J7+J8-J9-J10 -> 0 | K11: =SUM(D11:J11) -> 37.5
A12: SOCIAL
A13: MAL | B13: Maladie ; accident de travail | K13: =SUM(D13:J13) -> 0
A14: CP | B14: CP - RP - ET - JF - CF- RC | K14: =SUM(D14:J14) -> 0
A15: FC | B15: Formation continue et sécurité | K15: =SUM(D15:J15) -> 0
A16: VM | B16: Visite médicale | K16: =SUM(D16:J16) -> 0
A17: Autres | K17: =SUM(D17:J17) -> 0
C18: TOTAL SOCIAL | D18: =SUM(D13:D17) -> 0 | E18: =SUM(E13:E17) -> 0 | F18: =SUM(F13:F17) -> 0 | G18: =SUM(G13:G17) -> 0 | H18: =SUM(H13:H17) -> 0 | I18: =SUM(I13:I17) -> 0 | J18: =SUM(J13:J17) -> 0 | K18: =SUM(D18:J18) -> 0
A19: TRANSFERTS
K20: =SUM(D20:J20) -> 0
K21: =SUM(D21:J21) -> 0
C22: TOTAL TRANSFERTS | D22: =SUM(D20:D21) -> 0 | E22: =SUM(E20:E21) -> 0 | F22: =SUM(F20:F21) -> 0 | G22: =SUM(G20:G21) -> 0 | H22: =SUM(H20:H21) -> 0 | I22: =SUM(I20:I21) -> 0 | J22: =SUM(J20:J21) -> 0 | K22: =SUM(D22:J22) -> 0
A23: PRODUCTION
A24: OUTPSGN | B24: Services généraux Atelier | K24: =SUM(D24:J24) -> 0
A25: OUTDSGN | B25: Services généraux BE OUT | K25: =SUM(D25:J25) -> 0
A26: OUTRECH | B26: Travaux pour recherche | K26: =SUM(D26:J26) -> 0
A27: OUTDINFO | B27: Teamcenter/Hotline-Rés-Trac/Dév.soft/… | F27: 2 | G27: 2 | K27: =SUM(D27:J27) -> 4 | L27: cumul tps | M27: phase
A28: ETUIN07566 | D28: 7.5 | E28: 7.5 | F28: 5.5 | G28: 5.5 | H28: 7.5 | K28: =SUM(D28:J28) -> 33.5 | L28: =LOOKUP(A28,LISTE_ETUDES,HEURES_PASSEES!$C$11:$C$86) -> 8.5 | M28: =IF(L28>LOOKUP(A28,LISTE_ETUDES,HEURES_PASSEES!$E$11:$E$86)*(1-MARGE_ETUDE),"TPS_DEPASSE",(IF(L28>LOOKUP(A28,LISTE_ETUDES,HEURES_PASSEES!$E$11:$E$86)*(1-MARGE_ETUDE)*TPS_ETUDES,"TPS_COTATION","OK_MODELISATION"))) -> TPS_DEPASSE
K29: =SUM(D29:J29) -> 0 | L29: =LOOKUP(A29,LISTE_ETUDES,HEURES_PASSEES!$C$11:$C$86) -> #N/A | M29: =IF(L29>LOOKUP(A29,LISTE_ETUDES,HEURES_PASSEES!$E$11:$E$86)*(1-MARGE_ETUDE),"TPS_DEPASSE",(IF(L29>LOOKUP(A29,LISTE_ETUDES,HEURES_PASSEES!$E$11:$E$86)*(1-MARGE_ETUDE)*TPS_ETUDES,"TPS_COTATION","OK_MODELISATION"))) -> #N/A
K30: =SUM(D30:J30) -> 0 | L30: =LOOKUP(A30,LISTE_ETUDES,HEURES_PASSEES!$C$11:$C$86) -> #N/A | M30: =IF(L30>LOOKUP(A30,LISTE_ETUDES,HEURES_PASSEES!$E$11:$E$86)*(1-MARGE_ETUDE),"TPS_DEPASSE",(IF(L30>LOOKUP(A30,LISTE_ETUDES,HEURES_PASSEES!$E$11:$E$86)*(1-MARGE_ETUDE)*TPS_ETUDES,"TPS_COTATION","OK_MODELISATION"))) -> #N/A
K31: =SUM(D31:J31) -> 0 | L31: =LOOKUP(A31,LISTE_ETUDES,HEURES_PASSEES!$C$11:$C$86) -> #N/A | M31: =IF(L31>LOOKUP(A31,LISTE_ETUDES,HEURES_PASSEES!$E$11:$E$86)*(1-MARGE_ETUDE),"TPS_DEPASSE",(IF(L31>LOOKUP(A31,LISTE_ETUDES,HEURES_PASSEES!$E$11:$E$86)*(1-MARGE_ETUDE)*TPS_ETUDES,"TPS_COTATION","OK_MODELISATION"))) -> #N/A
K32: =SUM(D32:J32) -> 0 | L32: =LOOKUP(A32,LISTE_ETUDES,HEURES_PASSEES!$C$11:$C$86) -> #N/A | M32: =IF(L32>LOOKUP(A32,LISTE_ETUDES,HEURES_PASSEES!$E$11:$E$86)*(1-MARGE_ETUDE),"TPS_DEPASSE",(IF(L32>LOOKUP(A32,LISTE_ETUDES,HEURES_PASSEES!$E$11:$E$86)*(1-MARGE_ETUDE)*TPS_ETUDES,"TPS_COTATION","OK_MODELISATION"))) -> #N/A
K33: =SUM(D33:J33) -> 0 | L33: =LOOKUP(A33,LISTE_ETUDES,HEURES_PASSEES!$C$11:$C$86) -> #N/A | M33: =IF(L33>LOOKUP(A33,LISTE_ETUDES,HEURES_PASSEES!$E$11:$E$86)*(1-MARGE_ETUDE),"TPS_DEPASSE",(IF(L33>LOOKUP(A33,LISTE_ETUDES,HEURES_PASSEES!$E$11:$E$86)*(1-MARGE_ETUDE)*TPS_ETUDES,"TPS_COTATION","OK_MODELISATION"))) -> #N/A
K34: =SUM(D34:J34) -> 0 | L34: =LOOKUP(A34,LISTE_ETUDES,HEURES_PASSEES!$C$11:$C$86) -> #N/A | M34: =IF(L34>LOOKUP(A34,LISTE_ETUDES,HEURES_PASSEES!$E$11:$E$86)*(1-MARGE_ETUDE),"TPS_DEPASSE",(IF(L34>LOOKUP(A34,LISTE_ETUDES,HEURES_PASSEES!$E$11:$E$86)*(1-MARGE_ETUDE)*TPS_ETUDES,"TPS_COTATION","OK_MODELISATION"))) -> #N/A
K35: =SUM(D35:J35) -> 0 | L35: =LOOKUP(A35,LISTE_ETUDES,HEURES_PASSEES!$C$11:$C$86) -> #N/A | M35: =IF(L35>LOOKUP(A35,LISTE_ETUDES,HEURES_PASSEES!$E$11:$E$86)*(1-MARGE_ETUDE),"TPS_DEPASSE",(IF(L35>LOOKUP(A35,LISTE_ETUDES,HEURES_PASSEES!$E$11:$E$86)*(1-MARGE_ETUDE)*TPS_ETUDES,"TPS_COTATION","OK_MODELISATION"))) -> #N/A
K36: =SUM(D36:J36) -> 0 | L36: =LOOKUP(A36,LISTE_ETUDES,HEURES_PASSEES!$C$11:$C$86) -> #N/A | M36: =IF(L36>LOOKUP(A36,LISTE_ETUDES,HEURES_PASSEES!$E$11:$E$86)*(1-MARGE_ETUDE),"TPS_DEPASSE",(IF(L36>LOOKUP(A36,LISTE_ETUDES,HEURES_PASSEES!$E$11:$E$86)*(1-MARGE_ETUDE)*TPS_ETUDES,"TPS_COTATION","OK_MODELISATION"))) -> #N/A
K37: =SUM(D37:J37) -> 0 | L37: =LOOKUP(A37,LISTE_ETUDES,HEURES_PASSEES!$C$11:$C$86) -> #N/A | M37: =IF(L37>LOOKUP(A37,LISTE_ETUDES,HEURES_PASSEES!$E$11:$E$86)*(1-MARGE_ETUDE),"TPS_DEPASSE",(IF(L37>LOOKUP(A37,LISTE_ETUDES,HEURES_PASSEES!$E$11:$E$86)*(1-MARGE_ETUDE)*TPS_ETUDES,"TPS_COTATION","OK_MODELISATION"))) -> #N/A
K38: =SUM(D38:J38) -> 0 | L38: =LOOKUP(A38,LISTE_ETUDES,HEURES_PASSEES!$C$11:$C$86) -> #N/A | M38: =IF(L38>LOOKUP(A38,LISTE_ETUDES,HEURES_PASSEES!$E$11:$E$86)*(1-MARGE_ETUDE),"TPS_DEPASSE",(IF(L38>LOOKUP(A38,LISTE_ETUDES,HEURES_PASSEES!$E$11:$E$86)*(1-MARGE_ETUDE)*TPS_ETUDES,"TPS_COTATION","OK_MODELISATION"))) -> #N/A
K39: =SUM(D39:J39) -> 0 | L39: =LOOKUP(A39,LISTE_ETUDES,HEURES_PASSEES!$C$11:$C$86) -> #N/A | M39: =IF(L39>LOOKUP(A39,LISTE_ETUDES,HEURES_PASSEES!$E$11:$E$86)*(1-MARGE_ETUDE),"TPS_DEPASSE",(IF(L39>LOOKUP(A39,LISTE_ETUDES,HEURES_PASSEES!$E$11:$E$86)*(1-MARGE_ETUDE)*TPS_ETUDES,"TPS_COTATION","OK_MODELISATION"))) -> #N/A
K40: =SUM(D40:J40) -> 0 | L40: =LOOKUP(A40,LISTE_ETUDES,HEURES_PASSEES!$C$11:$C$86) -> #N/A | M40: =IF(L40>LOOKUP(A40,LISTE_ETUDES,HEURES_PASSEES!$E$11:$E$86)*(1-MARGE_ETUDE),"TPS_DEPASSE",(IF(L40>LOOKUP(A40,LISTE_ETUDES,HEURES_PASSEES!$E$11:$E$86)*(1-MARGE_ETUDE)*TPS_ETUDES,"TPS_COTATION","OK_MODELISATION"))) -> #N/A
... K46: =SUM(D46:J46) -> 0 | L46: =LOOKUP(A46,LISTE_ETUDES,HEURES_PASSEES!$C$11:$C$86) -> #N/A | M46: =IF(L46>LOOKUP(A46,LISTE_ETUDES,HEURES_PASSEES!$E$11:$E$86)*(1-MARGE_ETUDE),"TPS_DEPASSE",(IF(L46>LOOKUP(A46,LISTE_ETUDES,HEURES_PASSEES!$E$11:$E$86)*(1-MARGE_ETUDE)*TPS_ETUDES,"TPS_COTATION","OK_MODELISATION"))) -> #N/A
C47: TOTAL PRODUCTION | D47: =SUM(D24:D46) -> 7.5 | E47: =SUM(E24:E46) -> 7.5 | F47: =SUM(F24:F46) -> 7.5 | G47: =SUM(G24:G46) -> 7.5 | H47: =SUM(H24:H46) -> 7.5 | I47: =SUM(I24:I46) -> 0 | J47: =SUM(J24:J46) -> 0 | K47: =SUM(D47:J47) -> 37.5

Sheet sem47
A1: R_cfan009 | B1: Affectation des temps | E1: Semaine N° | F1: =#REF!+1 -> #REF! | G1: du | H1: =D4 -> #REF! | I1: au | J1: =J4 -> #REF! | L1: BILAN
A3: Service | B3: 8100 | C3: Outillage BE | D3: Lun | E3: Mar | F3: Mer | G3: Jeu | H3: Ven | I3: Sam | J3: Dim
A4: Matricule | B4: 20253 | C4: Mazé Damien | D4: =#REF!+7 -> #REF! | E4: =#REF!+7 -> #REF! | F4: =#REF!+7 -> #REF! | G4: =#REF!+7 -> #REF! | H4: =#REF!+7 -> #REF! | I4: =#REF!+7 -> #REF! | J4: =#REF!+7 -> #REF!
A6: EFFECTIFS | K6: TOTAL
A7: TH | B7: Hommes ou heures théoriques | D7: 7.5 | E7: 7.5 | F7: 7.5 | G7: 7.5 | H7: 7.5 | K7: =SUM(D7:J7) -> 37.5
A8: HS | B8: Hommes ou heures supplémentaires | K8: =SUM(D8:J8) -> 0
A9: RET | B9: Retards et bons de sortie | K9: =SUM(D9:J9) -> 0
A10: Autres | K10: =SUM(D10:J10) -> 0
C11: TOTAL EFFECTIFS | D11: =D7+D8-D9-D10 -> 7.5 | E11: =E7+E8-E9-E10 -> 7.5 | F11: =F7+F8-F9-F10 -> 7.5 | G11: =G7+G8-G9-G10 -> 7.5 | H11: =H7+H8-H9-H10 -> 7.5 | I11: =I7+I8-I9-I10 -> 0 | J11: =J7+J8-J9-J10 -> 0 | K11: =SUM(D11:J11) -> 37.5
A12: SOCIAL
A13: MAL | B13: Maladie ; accident de travail | K13: =SUM(D13:J13) -> 0
A14: CP | B14: CP - RP - ET - JF - CF- RC | K14: =SUM(D14:J14) -> 0
A15: FC | B15: Formation continue et sécurité | K15: =SUM(D15:J15) -> 0
A16: VM | B16: Visite médicale | K16: =SUM(D16:J16) -> 0
A17: Autres | K17: =SUM(D17:J17) -> 0
C18: TOTAL SOCIAL | D18: =SUM(D13:D17) -> 0 | E18: =SUM(E13:E17) -> 0 | F18: =SUM(F13:F17) -> 0 | G18: =SUM(G13:G17) -> 0 | H18: =SUM(H13:H17) -> 0 | I18: =SUM(I13:I17) -> 0 | J18: =SUM(J13:J17) -> 0 | K18: =SUM(D18:J18) -> 0
A19: TRANSFERTS
K20: =SUM(D20:J20) -> 0
K21: =SUM(D21:J21) -> 0
C22: TOTAL TRANSFERTS | D22: =SUM(D20:D21) -> 0 | E22: =SUM(E20:E21) -> 0 | F22: =SUM(F20:F21) -> 0 | G22: =SUM(G20:G21) -> 0 | H22: =SUM(H20:H21) -> 0 | I22: =SUM(I20:I21) -> 0 | J22: =SUM(J20:J21) -> 0 | K22: =SUM(D22:J22) -> 0
A23: PRODUCTION
A24: OUTPSGN | B24: Services généraux Atelier | K24: =SUM(D24:J24) -> 0
A25: OUTDSGN | B25: Services généraux BE OUT | K25: =SUM(D25:J25) -> 0
A26: OUTRECH | B26: Travaux pour recherche | K26: =SUM(D26:J26) -> 0
A27: OUTDINFO | B27: Teamcenter/Hotline-Rés-Trac/Dév.soft/… | K27: =SUM(D27:J27) -> 0 | L27: cumul tps | M27: phase
K28: =SUM(D28:J28) -> 0 | L28: =LOOKUP(A28,LISTE_ETUDES,HEURES_PASSEES!$C$11:$C$86) -> #N/A | M28: =IF(L28>LOOKUP(A28,LISTE_ETUDES,HEURES_PASSEES!$E$11:$E$86)*(1-MARGE_ETUDE),"TPS_DEPASSE",(IF(L28>LOOKUP(A28,LISTE_ETUDES,HEURES_PASSEES!$E$11:$E$86)*(1-MARGE_ETUDE)*TPS_ETUDES,"TPS_COTATION","OK_MODELISATION"))) -> #N/A
K29: =SUM(D29:J29) -> 0 | L29: =LOOKUP(A29,LISTE_ETUDES,HEURES_PASSEES!$C$11:$C$86) -> #N/A | M29: =IF(L29>LOOKUP(A29,LISTE_ETUDES,HEURES_PASSEES!$E$11:$E$86)*(1-MARGE_ETUDE),"TPS_DEPASSE",(IF(L29>LOOKUP(A29,LISTE_ETUDES,HEURES_PASSEES!$E$11:$E$86)*(1-MARGE_ETUDE)*TPS_ETUDES,"TPS_COTATION","OK_MODELISATION"))) -> #N/A
K30: =SUM(D30:J30) -> 0 | L30: =LOOKUP(A30,LISTE_ETUDES,HEURES_PASSEES!$C$11:$C$86) -> #N/A | M30: =IF(L30>LOOKUP(A30,LISTE_ETUDES,HEURES_PASSEES!$E$11:$E$86)*(1-MARGE_ETUDE),"TPS_DEPASSE",(IF(L30>LOOKUP(A30,LISTE_ETUDES,HEURES_PASSEES!$E$11:$E$86)*(1-MARGE_ETUDE)*TPS_ETUDES,"TPS_COTATION","OK_MODELISATION"))) -> #N/A
K31: =SUM(D31:J31) -> 0 | L31: =LOOKUP(A31,LISTE_ETUDES,HEURES_PASSEES!$C$11:$C$86) -> #N/A | M31: =IF(L31>LOOKUP(A31,LISTE_ETUDES,HEURES_PASSEES!$E$11:$E$86)*(1-MARGE_ETUDE),"TPS_DEPASSE",(IF(L31>LOOKUP(A31,LISTE_ETUDES,HEURES_PASSEES!$E$11:$E$86)*(1-MARGE_ETUDE)*TPS_ETUDES,"TPS_COTATION","OK_MODELISATION"))) -> #N/A
K32: =SUM(D32:J32) -> 0 | L32: =LOOKUP(A32,LISTE_ETUDES,HEURES_PASSEES!$C$11:$C$86) -> #N/A | M32: =IF(L32>LOOKUP(A32,LISTE_ETUDES,HEURES_PASSEES!$E$11:$E$86)*(1-MARGE_ETUDE),"TPS_DEPASSE",(IF(L32>LOOKUP(A32,LISTE_ETUDES,HEURES_PASSEES!$E$11:$E$86)*(1-MARGE_ETUDE)*TPS_ETUDES,"TPS_COTATION","OK_MODELISATION"))) -> #N/A
K33: =SUM(D33:J33) -> 0 | L33: =LOOKUP(A33,LISTE_ETUDES,HEURES_PASSEES!$C$11:$C$86) -> #N/A | M33: =IF(L33>LOOKUP(A33,LISTE_ETUDES,HEURES_PASSEES!$E$11:$E$86)*(1-MARGE_ETUDE),"TPS_DEPASSE",(IF(L33>LOOKUP(A33,LISTE_ETUDES,HEURES_PASSEES!$E$11:$E$86)*(1-MARGE_ETUDE)*TPS_ETUDES,"TPS_COTATION","OK_MODELISATION"))) -> #N/A
K34: =SUM(D34:J34) -> 0 | L34: =LOOKUP(A34,LISTE_ETUDES,HEURES_PASSEES!$C$11:$C$86) -> #N/A | M34: =IF(L34>LOOKUP(A34,LISTE_ETUDES,HEURES_PASSEES!$E$11:$E$86)*(1-MARGE_ETUDE),"TPS_DEPASSE",(IF(L34>LOOKUP(A34,LISTE_ETUDES,HEURES_PASSEES!$E$11:$E$86)*(1-MARGE_ETUDE)*TPS_ETUDES,"TPS_COTATION","OK_MODELISATION"))) -> #N/A
K35: =SUM(D35:J35) -> 0 | L35: =LOOKUP(A35,LISTE_ETUDES,HEURES_PASSEES!$C$11:$C$86) -> #N/A | M35: =IF(L35>LOOKUP(A35,LISTE_ETUDES,HEURES_PASSEES!$E$11:$E$86)*(1-MARGE_ETUDE),"TPS_DEPASSE",(IF(L35>LOOKUP(A35,LISTE_ETUDES,HEURES_PASSEES!$E$11:$E$86)*(1-MARGE_ETUDE)*TPS_ETUDES,"TPS_COTATION","OK_MODELISATION"))) -> #N/A
K36: =SUM(D36:J36) -> 0 | L36: =LOOKUP(A36,LISTE_ETUDES,HEURES_PASSEES!$C$11:$C$86) -> #N/A | M36: =IF(L36>LOOKUP(A36,LISTE_ETUDES,HEURES_PASSEES!$E$11:$E$86)*(1-MARGE_ETUDE),"TPS_DEPASSE",(IF(L36>LOOKUP(A36,LISTE_ETUDES,HEURES_PASSEES!$E$11:$E$86)*(1-MARGE_ETUDE)*TPS_ETUDES,"TPS_COTATION","OK_MODELISATION"))) -> #N/A
K37: =SUM(D37:J37) -> 0 | L37: =LOOKUP(A37,LISTE_ETUDES,HEURES_PASSEES!$C$11:$C$86) -> #N/A | M37: =IF(L37>LOOKUP(A37,LISTE_ETUDES,HEURES_PASSEES!$E$11:$E$86)*(1-MARGE_ETUDE),"TPS_DEPASSE",(IF(L37>LOOKUP(A37,LISTE_ETUDES,HEURES_PASSEES!$E$11:$E$86)*(1-MARGE_ETUDE)*TPS_ETUDES,"TPS_COTATION","OK_MODELISATION"))) -> #N/A
K38: =SUM(D38:J38) -> 0 | L38: =LOOKUP(A38,LISTE_ETUDES,HEURES_PASSEES!$C$11:$C$86) -> #N/A | M38: =IF(L38>LOOKUP(A38,LISTE_ETUDES,HEURES_PASSEES!$E$11:$E$86)*(1-MARGE_ETUDE),"TPS_DEPASSE",(IF(L38>LOOKUP(A38,LISTE_ETUDES,HEURES_PASSEES!$E$11:$E$86)*(1-MARGE_ETUDE)*TPS_ETUDES,"TPS_COTATION","OK_MODELISATION"))) -> #N/A
K39: =SUM(D39:J39) -> 0 | L39: =LOOKUP(A39,LISTE_ETUDES,HEURES_PASSEES!$C$11:$C$86) -> #N/A | M39: =IF(L39>LOOKUP(A39,LISTE_ETUDES,HEURES_PASSEES!$E$11:$E$86)*(1-MARGE_ETUDE),"TPS_DEPASSE",(IF(L39>LOOKUP(A39,LISTE_ETUDES,HEURES_PASSEES!$E$11:$E$86)*(1-MARGE_ETUDE)*TPS_ETUDES,"TPS_COTATION","OK_MODELISATION"))) -> #N/A
... K46: =SUM(D46:J46) -> 0 | L46: =LOOKUP(A46,LISTE_ETUDES,HEURES_PASSEES!$C$11:$C$86) -> #N/A | M46: =IF(L46>LOOKUP(A46,LISTE_ETUDES,HEURES_PASSEES!$E$11:$E$86)*(1-MARGE_ETUDE),"TPS_DEPASSE",(IF(L46>LOOKUP(A46,LISTE_ETUDES,HEURES_PASSEES!$E$11:$E$86)*(1-MARGE_ETUDE)*TPS_ETUDES,"TPS_COTATION","OK_MODELISATION"))) -> #N/A
C47: TOTAL PRODUCTION | D47: =SUM(D24:D46) -> 0 | E47: =SUM(E24:E46) -> 0 | F47: =SUM(F24:F46) -> 0 | G47: =SUM(G24:G46) -> 0 | H47: =SUM(H24:H46) -> 0 | I47: =SUM(I24:I46) -> 0 | J47: =SUM(J24:J46) -> 0 | K47: =SUM(D47:J47) -> 0

Sheet sem49
A1: R_cfan009 | B1: Affectation des temps | E1: Semaine N° | F1: =#REF!+1 -> #REF! | G1: du | H1: =D4 -> #REF! | I1: au | J1: =D4 -> #REF! | L1: BILAN
A3: Service | B3: 8100 | C3: Outillage BE | D3: Lun | E3: Mar | F3: Mer | G3: Jeu | H3: Ven | I3: Sam | J3: Dim
A4: Matricule | B4: 20253 | C4: Mazé Damien | D4: =#REF!+7 -> #REF! | E4: =#REF!+7 -> #REF! | F4: =#REF!+7 -> #REF! | G4: =#REF!+7 -> #REF! | H4: =#REF!+7 -> #REF! | I4: =#REF!+7 -> #REF! | J4: =#REF!+7 -> #REF!
A6: EFFECTIFS | K6: TOTAL
A7: TH | B7: Hommes ou heures théoriques | D7: 7.5 | K7: =SUM(D7:J7) -> 7.5
A8: HS | B8: Hommes ou heures supplémentaires | K8: =SUM(D8:J8) -> 0
A9: RET | B9: Retards et bons de sortie | K9: =SUM(D9:J9) -> 0
A10: Autres | K10: =SUM(D10:J10) -> 0
C11: TOTAL EFFECTIFS | D11: =D7+D8-D9-D10 -> 7.5 | E11: =E7+E8-E9-E10 -> 0 | F11: =F7+F8-F9-F10 -> 0 | G11: =G7+G8-G9-G10 -> 0 | H11: =H7+H8-H9-H10 -> 0 | I11: =I7+I8-I9-I10 -> 0 | J11: =J7+J8-J9-J10 -> 0 | K11: =SUM(D11:J11) -> 7.5
A12: SOCIAL
A13: MAL | B13: Maladie ; accident de travail | K13: =SUM(D13:J13) -> 0
A14: CP | B14: CP - RP - ET - JF - CF- RC | K14: =SUM(D14:J14) -> 0
A15: FC | B15: Formation continue et sécurité | K15: =SUM(D15:J15) -> 0
A16: VM | B16: Visite médicale | K16: =SUM(D16:J16) -> 0
A17: Autres | K17: =SUM(D17:J17) -> 0
C18: TOTAL SOCIAL | D18: =SUM(D13:D17) -> 0 | E18: =SUM(E13:E17) -> 0 | F18: =SUM(F13:F17) -> 0 | G18: =SUM(G13:G17) -> 0 | H18: =SUM(H13:H17) -> 0 | I18: =SUM(I13:I17) -> 0 | J18: =SUM(J13:J17) -> 0 | K18: =SUM(D18:J18) -> 0
A19: TRANSFERTS
K20: =SUM(D20:J20) -> 0
K21: =SUM(D21:J21) -> 0
C22: TOTAL TRANSFERTS | D22: =SUM(D20:D21) -> 0 | E22: =SUM(E20:E21) -> 0 | F22: =SUM(F20:F21) -> 0 | G22: =SUM(G20:G21) -> 0 | H22: =SUM(H20:H21) -> 0 | I22: =SUM(I20:I21) -> 0 | J22: =SUM(J20:J21) -> 0 | K22: =SUM(D22:J22) -> 0
A23: PRODUCTION
A24: OUTPSGN | B24: Services généraux Atelier | K24: =SUM(D24:J24) -> 0
A25: OUTDSGN | B25: Services généraux BE OUT | K25: =SUM(D25:J25) -> 0
A26: OUTRECH | B26: Travaux pour recherche | K26: =SUM(D26:J26) -> 0
A27: OUTDINFO | B27: Teamcenter/Hotline-Rés-Trac/Dév.soft/… | K27: =SUM(D27:J27) -> 0 | L27: cumul tps | M27: phase
A28: ETUIN07578 | D28: 7.5 | K28: =SUM(D28:J28) -> 7.5 | L28: =LOOKUP(A28,LISTE_ETUDES,HEURES_PASSEES!$C$11:$C$86) -> 15 | M28: =IF(L28>LOOKUP(A28,LISTE_ETUDES,HEURES_PASSEES!$E$11:$E$86)*(1-MARGE_ETUDE),"TPS_DEPASSE",(IF(L28>LOOKUP(A28,LISTE_ETUDES,HEURES_PASSEES!$E$11:$E$86)*(1-MARGE_ETUDE)*TPS_ETUDES,"TPS_COTATION","OK_MODELISATION"))) -> OK_MODELISATION
A29: ETUIN07581 | E29: 7.5 | K29: =SUM(D29:J29) -> 7.5 | L29: =LOOKUP(A29,LISTE_ETUDES,HEURES_PASSEES!$C$11:$C$86) -> 7.5 | M29: =IF(L29>LOOKUP(A29,LISTE_ETUDES,HEURES_PASSEES!$E$11:$E$86)*(1-MARGE_ETUDE),"TPS_DEPASSE",(IF(L29>LOOKUP(A29,LISTE_ETUDES,HEURES_PASSEES!$E$11:$E$86)*(1-MARGE_ETUDE)*TPS_ETUDES,"TPS_COTATION","OK_MODELISATION"))) -> OK_MODELISATION
A30: ETUIN07583 | F30: 7.5 | H30: 7.5 | K30: =SUM(D30:J30) -> 15 | L30: =LOOKUP(A30,LISTE_ETUDES,HEURES_PASSEES!$C$11:$C$86) -> 15 | M30: =IF(L30>LOOKUP(A30,LISTE_ETUDES,HEURES_PASSEES!$E$11:$E$86)*(1-MARGE_ETUDE),"TPS_DEPASSE",(IF(L30>LOOKUP(A30,LISTE_ETUDES,HEURES_PASSEES!$E$11:$E$86)*(1-MARGE_ETUDE)*TPS_ETUDES,"TPS_COTATION","OK_MODELISATION"))) -> OK_MODELISATION
A31: ETUIN07585 | G31: 7.5 | K31: =SUM(D31:J31) -> 7.5 | L31: =LOOKUP(A31,LISTE_ETUDES,HEURES_PASSEES!$C$11:$C$86) -> 7.5 | M31: =IF(L31>LOOKUP(A31,LISTE_ETUDES,HEURES_PASSEES!$E$11:$E$86)*(1-MARGE_ETUDE),"TPS_DEPASSE",(IF(L31>LOOKUP(A31,LISTE_ETUDES,HEURES_PASSEES!$E$11:$E$86)*(1-MARGE_ETUDE)*TPS_ETUDES,"TPS_COTATION","OK_MODELISATION"))) -> OK_MODELISATION
K32: =SUM(D32:J32) -> 0 | L32: =LOOKUP(A32,LISTE_ETUDES,HEURES_PASSEES!$C$11:$C$86) -> #N/A | M32: =IF(L32>LOOKUP(A32,LISTE_ETUDES,HEURES_PASSEES!$E$11:$E$86)*(1-MARGE_ETUDE),"TPS_DEPASSE",(IF(L32>LOOKUP(A32,LISTE_ETUDES,HEURES_PASSEES!$E$11:$E$86)*(1-MARGE_ETUDE)*TPS_ETUDES,"TPS_COTATION","OK_MODELISATION"))) -> #N/A
K33: =SUM(D33:J33) -> 0 | L33: =LOOKUP(A33,LISTE_ETUDES,HEURES_PASSEES!$C$11:$C$86) -> #N/A | M33: =IF(L33>LOOKUP(A33,LISTE_ETUDES,HEURES_PASSEES!$E$11:$E$86)*(1-MARGE_ETUDE),"TPS_DEPASSE",(IF(L33>LOOKUP(A33,LISTE_ETUDES,HEURES_PASSEES!$E$11:$E$86)*(1-MARGE_ETUDE)*TPS_ETUDES,"TPS_COTATION","OK_MODELISATION"))) -> #N/A
K34: =SUM(D34:J34) -> 0 | L34: =LOOKUP(A34,LISTE_ETUDES,HEURES_PASSEES!$C$11:$C$86) -> #N/A | M34: =IF(L34>LOOKUP(A34,LISTE_ETUDES,HEURES_PASSEES!$E$11:$E$86)*(1-MARGE_ETUDE),"TPS_DEPASSE",(IF(L34>LOOKUP(A34,LISTE_ETUDES,HEURES_PASSEES!$E$11:$E$86)*(1-MARGE_ETUDE)*TPS_ETUDES,"TPS_COTATION","OK_MODELISATION"))) -> #N/A
K35: =SUM(D35:J35) -> 0 | L35: =LOOKUP(A35,LISTE_ETUDES,HEURES_PASSEES!$C$11:$C$86) -> #N/A | M35: =IF(L35>LOOKUP(A35,LISTE_ETUDES,HEURES_PASSEES!$E$11:$E$86)*(1-MARGE_ETUDE),"TPS_DEPASSE",(IF(L35>LOOKUP(A35,LISTE_ETUDES,HEURES_PASSEES!$E$11:$E$86)*(1-MARGE_ETUDE)*TPS_ETUDES,"TPS_COTATION","OK_MODELISATION"))) -> #N/A
K36: =SUM(D36:J36) -> 0 | L36: =LOOKUP(A36,LISTE_ETUDES,HEURES_PASSEES!$C$11:$C$86) -> #N/A | M36: =IF(L36>LOOKUP(A36,LISTE_ETUDES,HEURES_PASSEES!$E$11:$E$86)*(1-MARGE_ETUDE),"TPS_DEPASSE",(IF(L36>LOOKUP(A36,LISTE_ETUDES,HEURES_PASSEES!$E$11:$E$86)*(1-MARGE_ETUDE)*TPS_ETUDES,"TPS_COTATION","OK_MODELISATION"))) -> #N/A
K37: =SUM(D37:J37) -> 0 | L37: =LOOKUP(A37,LISTE_ETUDES,HEURES_PASSEES!$C$11:$C$86) -> #N/A | M37: =IF(L37>LOOKUP(A37,LISTE_ETUDES,HEURES_PASSEES!$E$11:$E$86)*(1-MARGE_ETUDE),"TPS_DEPASSE",(IF(L37>LOOKUP(A37,LISTE_ETUDES,HEURES_PASSEES!$E$11:$E$86)*(1-MARGE_ETUDE)*TPS_ETUDES,"TPS_COTATION","OK_MODELISATION"))) -> #N/A
K38: =SUM(D38:J38) -> 0 | L38: =LOOKUP(A38,LISTE_ETUDES,HEURES_PASSEES!$C$11:$C$86) -> #N/A | M38: =IF(L38>LOOKUP(A38,LISTE_ETUDES,HEURES_PASSEES!$E$11:$E$86)*(1-MARGE_ETUDE),"TPS_DEPASSE",(IF(L38>LOOKUP(A38,LISTE_ETUDES,HEURES_PASSEES!$E$11:$E$86)*(1-MARGE_ETUDE)*TPS_ETUDES,"TPS_COTATION","OK_MODELISATION"))) -> #N/A
K39: =SUM(D39:J39) -> 0 | L39: =LOOKUP(A39,LISTE_ETUDES,HEURES_PASSEES!$C$11:$C$86) -> #N/A | M39: =IF(L39>LOOKUP(A39,LISTE_ETUDES,HEURES_PASSEES!$E$11:$E$86)*(1-MARGE_ETUDE),"TPS_DEPASSE",(IF(L39>LOOKUP(A39,LISTE_ETUDES,HEURES_PASSEES!$E$11:$E$86)*(1-MARGE_ETUDE)*TPS_ETUDES,"TPS_COTATION","OK_MODELISATION"))) -> #N/A
K40: =SUM(D40:J40) -> 0 | L40: =LOOKUP(A40,LISTE_ETUDES,HEURES_PASSEES!$C$11:$C$86) -> #N/A | M40: =IF(L40>LOOKUP(A40,LISTE_ETUDES,HEURES_PASSEES!$E$11:$E$86)*(1-MARGE_ETUDE),"TPS_DEPASSE",(IF(L40>LOOKUP(A40,LISTE_ETUDES,HEURES_PASSEES!$E$11:$E$86)*(1-MARGE_ETUDE)*TPS_ETUDES,"TPS_COTATION","OK_MODELISATION"))) -> #N/A
K41: =SUM(D41:J41) -> 0 | L41: =LOOKUP(A41,LISTE_ETUDES,HEURES_PASSEES!$C$11:$C$86) -> #N/A | M41: =IF(L41>LOOKUP(A41,LISTE_ETUDES,HEURES_PASSEES!$E$11:$E$86)*(1-MARGE_ETUDE),"TPS_DEPASSE",(IF(L41>LOOKUP(A41,LISTE_ETUDES,HEURES_PASSEES!$E$11:$E$86)*(1-MARGE_ETUDE)*TPS_ETUDES,"TPS_COTATION","OK_MODELISATION"))) -> #N/A
K42: =SUM(D42:J42) -> 0 | L42: =LOOKUP(A42,LISTE_ETUDES,HEURES_PASSEES!$C$11:$C$86) -> #N/A | M42: =IF(L42>LOOKUP(A42,LISTE_ETUDES,HEURES_PASSEES!$E$11:$E$86)*(1-MARGE_ETUDE),"TPS_DEPASSE",(IF(L42>LOOKUP(A42,LISTE_ETUDES,HEURES_PASSEES!$E$11:$E$86)*(1-MARGE_ETUDE)*TPS_ETUDES,"TPS_COTATION","OK_MODELISATION"))) -> #N/A
...

Sheet sem49ma
A1: R_cfan009 | B1: Affectation des temps | E1: Semaine N° | F1: =#REF!+1 -> #REF! | G1: du | H1: =E4 -> #REF! | I1: au | J1: =J4 -> #REF! | L1: BILAN
A3: Service | B3: 8100 | C3: Outillage BE | D3: Lun | E3: Mar | F3: Mer | G3: Jeu | H3: Ven | I3: Sam | J3: Dim
A4: Matricule | B4: 20253 | C4: Mazé Damien | E4: =#REF!+7 -> #REF! | F4: =#REF!+7 -> #REF! | G4: =#REF!+7 -> #REF! | H4: =#REF!+7 -> #REF! | I4: =#REF!+7 -> #REF! | J4: =#REF!+7 -> #REF!
A6: EFFECTIFS | K6: TOTAL
A7: TH | B7: Hommes ou heures théoriques | E7: 7.5 | F7: 7.5 | G7: 7.5 | H7: 7.5 | K7: =SUM(D7:J7) -> 30
A8: HS | B8: Hommes ou heures supplémentaires | K8: =SUM(D8:J8) -> 0
A9: RET | B9: Retards et bons de sortie | K9: =SUM(D9:J9) -> 0
A10: Autres | K10: =SUM(D10:J10) -> 0
C11: TOTAL EFFECTIFS | D11: =D7+D8-D9-D10 -> 0 | E11: =E7+E8-E9-E10 -> 7.5 | F11: =F7+F8-F9-F10 -> 7.5 | G11: =G7+G8-G9-G10 -> 7.5 | H11: =H7+H8-H9-H10 -> 7.5 | I11: =I7+I8-I9-I10 -> 0 | J11: =J7+J8-J9-J10 -> 0 | K11: =SUM(D11:J11) -> 30
A12: SOCIAL
A13: MAL | B13: Maladie ; accident de travail | K13: =SUM(D13:J13) -> 0
A14: CP | B14: CP - RP - ET - JF - CF- RC | K14: =SUM(D14:J14) -> 0
A15: FC | B15: Formation continue et sécurité | K15: =SUM(D15:J15) -> 0
A16: VM | B16: Visite médicale | K16: =SUM(D16:J16) -> 0
A17: Autres | K17: =SUM(D17:J17) -> 0
C18: TOTAL SOCIAL | D18: =SUM(D13:D17) -> 0 | E18: =SUM(E13:E17) -> 0 | F18: =SUM(F13:F17) -> 0 | G18: =SUM(G13:G17) -> 0 | H18: =SUM(H13:H17) -> 0 | I18: =SUM(I13:I17) -> 0 | J18: =SUM(J13:J17) -> 0 | K18: =SUM(D18:J18) -> 0
A19: TRANSFERTS
K20: =SUM(D20:J20) -> 0
K21: =SUM(D21:J21) -> 0
C22: TOTAL TRANSFERTS | D22: =SUM(D20:D21) -> 0 | E22: =SUM(E20:E21) -> 0 | F22: =SUM(F20:F21) -> 0 | G22: =SUM(G20:G21) -> 0 | H22: =SUM(H20:H21) -> 0 | I22: =SUM(I20:I21) -> 0 | J22: =SUM(J20:J21) -> 0 | K22: =SUM(D22:J22) -> 0
A23: PRODUCTION
A24: OUTPSGN | B24: Services généraux Atelier | K24: =SUM(D24:J24) -> 0
A25: OUTDSGN | B25: Services généraux BE OUT | K25: =SUM(D25:J25) -> 0
A26: OUTRECH | B26: Travaux pour recherche | K26: =SUM(D26:J26) -> 0
A27: OUTDINFO | B27: Teamcenter/Hotline-Rés-Trac/Dév.soft/… | K27: =SUM(D27:J27) -> 0 | L27: cumul tps | M27: phase
K28: =SUM(D28:J28) -> 0 | L28: =LOOKUP(A28,LISTE_ETUDES,HEURES_PASSEES!$C$11:$C$86) -> #N/A | M28: =IF(L28>LOOKUP(A28,LISTE_ETUDES,HEURES_PASSEES!$E$11:$E$86)*(1-MARGE_ETUDE),"TPS_DEPASSE",(IF(L28>LOOKUP(A28,LISTE_ETUDES,HEURES_PASSEES!$E$11:$E$86)*(1-MARGE_ETUDE)*TPS_ETUDES,"TPS_COTATION","OK_MODELISATION"))) -> #N/A
K29: =SUM(D29:J29) -> 0 | L29: =LOOKUP(A29,LISTE_ETUDES,HEURES_PASSEES!$C$11:$C$86) -> #N/A | M29: =IF(L29>LOOKUP(A29,LISTE_ETUDES,HEURES_PASSEES!$E$11:$E$86)*(1-MARGE_ETUDE),"TPS_DEPASSE",(IF(L29>LOOKUP(A29,LISTE_ETUDES,HEURES_PASSEES!$E$11:$E$86)*(1-MARGE_ETUDE)*TPS_ETUDES,"TPS_COTATION","OK_MODELISATION"))) -> #N/A
K30: =SUM(D30:J30) -> 0 | L30: =LOOKUP(A30,LISTE_ETUDES,HEURES_PASSEES!$C$11:$C$86) -> #N/A | M30: =IF(L30>LOOKUP(A30,LISTE_ETUDES,HEURES_PASSEES!$E$11:$E$86)*(1-MARGE_ETUDE),"TPS_DEPASSE",(IF(L30>LOOKUP(A30,LISTE_ETUDES,HEURES_PASSEES!$E$11:$E$86)*(1-MARGE_ETUDE)*TPS_ETUDES,"TPS_COTATION","OK_MODELISATION"))) -> #N/A
K31: =SUM(D31:J31) -> 0 | L31: =LOOKUP(A31,LISTE_ETUDES,HEURES_PASSEES!$C$11:$C$86) -> #N/A | M31: =IF(L31>LOOKUP(A31,LISTE_ETUDES,HEURES_PASSEES!$E$11:$E$86)*(1-MARGE_ETUDE),"TPS_DEPASSE",(IF(L31>LOOKUP(A31,LISTE_ETUDES,HEURES_PASSEES!$E$11:$E$86)*(1-MARGE_ETUDE)*TPS_ETUDES,"TPS_COTATION","OK_MODELISATION"))) -> #N/A
K32: =SUM(D32:J32) -> 0 | L32: =LOOKUP(A32,LISTE_ETUDES,HEURES_PASSEES!$C$11:$C$86) -> #N/A | M32: =IF(L32>LOOKUP(A32,LISTE_ETUDES,HEURES_PASSEES!$E$11:$E$86)*(1-MARGE_ETUDE),"TPS_DEPASSE",(IF(L32>LOOKUP(A32,LISTE_ETUDES,HEURES_PASSEES!$E$11:$E$86)*(1-MARGE_ETUDE)*TPS_ETUDES,"TPS_COTATION","OK_MODELISATION"))) -> #N/A
K33: =SUM(D33:J33) -> 0 | L33: =LOOKUP(A33,LISTE_ETUDES,HEURES_PASSEES!$C$11:$C$86) -> #N/A | M33: =IF(L33>LOOKUP(A33,LISTE_ETUDES,HEURES_PASSEES!$E$11:$E$86)*(1-MARGE_ETUDE),"TPS_DEPASSE",(IF(L33>LOOKUP(A33,LISTE_ETUDES,HEURES_PASSEES!$E$11:$E$86)*(1-MARGE_ETUDE)*TPS_ETUDES,"TPS_COTATION","OK_MODELISATION"))) -> #N/A
K34: =SUM(D34:J34) -> 0 | L34: =LOOKUP(A34,LISTE_ETUDES,HEURES_PASSEES!$C$11:$C$86) -> #N/A | M34: =IF(L34>LOOKUP(A34,LISTE_ETUDES,HEURES_PASSEES!$E$11:$E$86)*(1-MARGE_ETUDE),"TPS_DEPASSE",(IF(L34>LOOKUP(A34,LISTE_ETUDES,HEURES_PASSEES!$E$11:$E$86)*(1-MARGE_ETUDE)*TPS_ETUDES,"TPS_COTATION","OK_MODELISATION"))) -> #N/A
K35: =SUM(D35:J35) -> 0 | L35: =LOOKUP(A35,LISTE_ETUDES,HEURES_PASSEES!$C$11:$C$86) -> #N/A | M35: =IF(L35>LOOKUP(A35,LISTE_ETUDES,HEURES_PASSEES!$E$11:$E$86)*(1-MARGE_ETUDE),"TPS_DEPASSE",(IF(L35>LOOKUP(A35,LISTE_ETUDES,HEURES_PASSEES!$E$11:$E$86)*(1-MARGE_ETUDE)*TPS_ETUDES,"TPS_COTATION","OK_MODELISATION"))) -> #N/A
K36: =SUM(D36:J36) -> 0 | L36: =LOOKUP(A36,LISTE_ETUDES,HEURES_PASSEES!$C$11:$C$86) -> #N/A | M36: =IF(L36>LOOKUP(A36,LISTE_ETUDES,HEURES_PASSEES!$E$11:$E$86)*(1-MARGE_ETUDE),"TPS_DEPASSE",(IF(L36>LOOKUP(A36,LISTE_ETUDES,HEURES_PASSEES!$E$11:$E$86)*(1-MARGE_ETUDE)*TPS_ETUDES,"TPS_COTATION","OK_MODELISATION"))) -> #N/A
K37: =SUM(D37:J37) -> 0 | L37: =LOOKUP(A37,LISTE_ETUDES,HEURES_PASSEES!$C$11:$C$86) -> #N/A | M37: =IF(L37>LOOKUP(A37,LISTE_ETUDES,HEURES_PASSEES!$E$11:$E$86)*(1-MARGE_ETUDE),"TPS_DEPASSE",(IF(L37>LOOKUP(A37,LISTE_ETUDES,HEURES_PASSEES!$E$11:$E$86)*(1-MARGE_ETUDE)*TPS_ETUDES,"TPS_COTATION","OK_MODELISATION"))) -> #N/A
K38: =SUM(D38:J38) -> 0 | L38: =LOOKUP(A38,LISTE_ETUDES,HEURES_PASSEES!$C$11:$C$86) -> #N/A | M38: =IF(L38>LOOKUP(A38,LISTE_ETUDES,HEURES_PASSEES!$E$11:$E$86)*(1-MARGE_ETUDE),"TPS_DEPASSE",(IF(L38>LOOKUP(A38,LISTE_ETUDES,HEURES_PASSEES!$E$11:$E$86)*(1-MARGE_ETUDE)*TPS_ETUDES,"TPS_COTATION","OK_MODELISATION"))) -> #N/A
K39: =SUM(D39:J39) -> 0 | L39: =LOOKUP(A39,LISTE_ETUDES,HEURES_PASSEES!$C$11:$C$86) -> #N/A | M39: =IF(L39>LOOKUP(A39,LISTE_ETUDES,HEURES_PASSEES!$E$11:$E$86)*(1-MARGE_ETUDE),"TPS_DEPASSE",(IF(L39>LOOKUP(A39,LISTE_ETUDES,HEURES_PASSEES!$E$11:$E$86)*(1-MARGE_ETUDE)*TPS_ETUDES,"TPS_COTATION","OK_MODELISATION"))) -> #N/A
... K46: =SUM(D46:J46) -> 0 | L46: =LOOKUP(A46,LISTE_ETUDES,HEURES_PASSEES!$C$11:$C$86) -> #N/A | M46: =IF(L46>LOOKUP(A46,LISTE_ETUDES,HEURES_PASSEES!$E$11:$E$86)*(1-MARGE_ETUDE),"TPS_DEPASSE",(IF(L46>LOOKUP(A46,LISTE_ETUDES,HEURES_PASSEES!$E$11:$E$86)*(1-MARGE_ETUDE)*TPS_ETUDES,"TPS_COTATION","OK_MODELISATION"))) -> #N/A
C47: TOTAL PRODUCTION | D47: =SUM(D24:D46) -> 0 | E47: =SUM(E24:E46) -> 0 | F47: =SUM(F24:F46) -> 0 | G47: =SUM(G24:G46) -> 0 | H47: =SUM(H24:H46) -> 0 | I47: =SUM(I24:I46) -> 0 | J47: =SUM(J24:J46) -> 0 | K47: =SUM(D47:J47) -> 0

Sheet sem50
A1: R_cfan009 | B1: Affectation des temps | E1: Semaine N° | F1: ='sem49'!F1+1 -> #REF! | G1: du | H1: =D4 -> #REF! | I1: au | J1: =J4 -> #REF! | L1: BILAN
A3: Service | B3: 8100 | C3: Outillage BE | D3: Lun | E3: Mar | F3: Mer | G3: Jeu | H3: Ven | I3: Sam | J3: Dim
A4: Matricule | B4: 20253 | C4: Mazé Damien | D4: ='sem49'!D4+7 -> #REF! | E4: ='sem49'!E4+7 -> #REF! | F4: ='sem49'!F4+7 -> #REF! | G4: ='sem49'!G4+7 -> #REF! | H4: ='sem49'!H4+7 -> #REF! | I4: ='sem49'!I4+7 -> #REF! | J4: ='sem49'!J4+7 -> #REF!
A6: EFFECTIFS | K6: TOTAL
A7: TH | B7: Hommes ou heures théoriques | D7: 7.5 | E7: 7.5 | F7: 7.5 | G7: 7.5 | H7: 7.5 | K7: =SUM(D7:J7) -> 37.5
A8: HS | B8: Hommes ou heures supplémentaires | K8: =SUM(D8:J8) -> 0
A9: RET | B9: Retards et bons de sortie | K9: =SUM(D9:J9) -> 0
A10: Autres | K10: =SUM(D10:J10) -> 0
C11: TOTAL EFFECTIFS | D11: =D7+D8-D9-D10 -> 7.5 | E11: =E7+E8-E9-E10 -> 7.5 | F11: =F7+F8-F9-F10 -> 7.5 | G11: =G7+G8-G9-G10 -> 7.5 | H11: =H7+H8-H9-H10 -> 7.5 | I11: =I7+I8-I9-I10 -> 0 | J11: =J7+J8-J9-J10 -> 0 | K11: =SUM(D11:J11) -> 37.5
A12: SOCIAL
A13: MAL | B13: Maladie ; accident de travail | K13: =SUM(D13:J13) -> 0
A14: CP | B14: CP - RP - ET - JF - CF- RC | K14: =SUM(D14:J14) -> 0
A15: FC | B15: Formation continue et sécurité | K15: =SUM(D15:J15) -> 0
A16: VM | B16: Visite médicale | K16: =SUM(D16:J16) -> 0
A17: Autres | K17: =SUM(D17:J17) -> 0
C18: TOTAL SOCIAL | D18: =SUM(D13:D17) -> 0 | E18: =SUM(E13:E17) -> 0 | F18: =SUM(F13:F17) -> 0 | G18: =SUM(G13:G17) -> 0 | H18: =SUM(H13:H17) -> 0 | I18: =SUM(I13:I17) -> 0 | J18: =SUM(J13:J17) -> 0 | K18: =SUM(D18:J18) -> 0
A19: TRANSFERTS
K20: =SUM(D20:J20) -> 0
K21: =SUM(D21:J21) -> 0
C22: TOTAL TRANSFERTS | D22: =SUM(D20:D21) -> 0 | E22: =SUM(E20:E21) -> 0 | F22: =SUM(F20:F21) -> 0 | G22: =SUM(G20:G21) -> 0 | H22: =SUM(H20:H21) -> 0 | I22: =SUM(I20:I21) -> 0 | J22: =SUM(J20:J21) -> 0 | K22: =SUM(D22:J22) -> 0
A23: PRODUCTION
A24: OUTPSGN | B24: Services généraux Atelier | K24: =SUM(D24:J24) -> 0
A25: OUTDSGN | B25: Services généraux BE OUT | K25: =SUM(D25:J25) -> 0
A26: OUTRECH | B26: Travaux pour recherche | K26: =SUM(D26:J26) -> 0
A27: OUTDINFO | B27: Teamcenter/Hotline-Rés-Trac/Dév.soft/… | K27: =SUM(D27:J27) -> 0 | L27: cumul tps | M27: phase
A28: ETUIN07502 | D28: 7.5 | K28: =SUM(D28:J28) -> 7.5 | L28: =LOOKUP(A28,LISTE_ETUDES,HEURES_PASSEES!$C$11:$C$86) -> 8.5 | M28: =IF(L28>LOOKUP(A28,LISTE_ETUDES,HEURES_PASSEES!$E$11:$E$86)*(1-MARGE_ETUDE),"TPS_DEPASSE",(IF(L28>LOOKUP(A28,LISTE_ETUDES,HEURES_PASSEES!$E$11:$E$86)*(1-MARGE_ETUDE)*TPS_ETUDES,"TPS_COTATION","OK_MODELISATION"))) -> TPS_DEPASSE
A29: ETUIN20590 | E29: 7.5 | F29: 7.5 | G29: 7.5 | K29: =SUM(D29:J29) -> 22.5 | L29: =LOOKUP(A29,LISTE_ETUDES,HEURES_PASSEES!$C$11:$C$86) -> 7.5 | M29: =IF(L29>LOOKUP(A29,LISTE_ETUDES,HEURES_PASSEES!$E$11:$E$86)*(1-MARGE_ETUDE),"TPS_DEPASSE",(IF(L29>LOOKUP(A29,LISTE_ETUDES,HEURES_PASSEES!$E$11:$E$86)*(1-MARGE_ETUDE)*TPS_ETUDES,"TPS_COTATION","OK_MODELISATION"))) -> OK_MODELISATION
A30: ETUIN07577 | H30: 7.5 | K30: =SUM(D30:J30) -> 7.5 | L30: =LOOKUP(A30,LISTE_ETUDES,HEURES_PASSEES!$C$11:$C$86) -> 8.5 | M30: =IF(L30>LOOKUP(A30,LISTE_ETUDES,HEURES_PASSEES!$E$11:$E$86)*(1-MARGE_ETUDE),"TPS_DEPASSE",(IF(L30>LOOKUP(A30,LISTE_ETUDES,HEURES_PASSEES!$E$11:$E$86)*(1-MARGE_ETUDE)*TPS_ETUDES,"TPS_COTATION","OK_MODELISATION"))) -> TPS_DEPASSE
