Workbook

Sheet Recap
B1: sem1 | I1: sem2
B2: 42856 | C2: 42857 | D2: 42858 | E2: 42859 | F2: 42860 | G2: 42861 | H2: 42862 | I2: 42863 | J2: 42864 | K2: 42865 | L2: 42866 | M2: 42867 | N2: 42868 | O2: 42869
A3: Personne A | B3: =INDEX('sem1'!$B$1:$B$29,(MATCH(Recap!B$2,'sem1'!$B$1:$B$29,0))+ROW(1:1)) -> 0.33333333 | C3: =INDEX('sem1'!$B$1:$B$29,(MATCH(Recap!C$2,'sem1'!$B$1:$B$29,0))+ROW(1:1)) -> 0.5 | D3: =INDEX('sem1'!$B$1:$B$29,(MATCH(Recap!D$2,'sem1'!$B$1:$B$29,0))+ROW(1:1)) -> 0.33333333 | E3: =INDEX('sem1'!$B$1:$B$29,(MATCH(Recap!E$2,'sem1'!$B$1:$B$29,0))+ROW(1:1)) -> 0.33333333 | F3: =INDEX('sem1'!$B$1:$B$29,(MATCH(Recap!F$2,'sem1'!$B$1:$B$29,0))+ROW(1:1)) -> 0.33333333 | G3: =INDEX('sem1'!$B$1:$B$29,(MATCH(Recap!G$2,'sem1'!$B$1:$B$29,0))+ROW(1:1)) -> 0.33333333 | H3: =INDEX('sem1'!$B$1:$B$29,(MATCH(Recap!H$2,'sem1'!$B$1:$B$29,0))+ROW(1:1)) -> 0 | I3: =INDEX('sem1'!$B$1:$B$29,(MATCH(Recap!I$2,'sem2'!$B$1:$B$29,0))+ROW(1:1)) -> #N/A | J3: =INDEX('sem1'!$B$1:$B$29,(MATCH(Recap!J$2,'sem2'!$B$1:$B$29,0))+ROW(1:1)) -> #N/A | K3: =INDEX('sem1'!$B$1:$B$29,(MATCH(Recap!K$2,'sem2'!$B$1:$B$29,0))+ROW(1:1)) -> #N/A | L3: =INDEX('sem1'!$B$1:$B$29,(MATCH(Recap!L$2,'sem2'!$B$1:$B$29,0))+ROW(1:1)) -> #N/A | M3: =INDEX('sem1'!$B$1:$B$29,(MATCH(Recap!M$2,'sem2'!$B$1:$B$29,0))+ROW(1:1)) -> #N/A | N3: =INDEX('sem1'!$B$1:$B$29,(MATCH(Recap!N$2,'sem2'!$B$1:$B$29,0))+ROW(1:1)) -> #N/A | O3: =INDEX('sem1'!$B$1:$B$29,(MATCH(Recap!O$2,'sem2'!$B$1:$B$29,0))+ROW(1:1)) -> #N/A
A4: Personne B | B4: =INDEX('sem1'!$B$1:$B$29,(MATCH(Recap!B$2,'sem1'!$B$1:$B$29,0))+ROW(2:2)) -> 0.3125 | C4: =INDEX('sem1'!$B$1:$B$29,(MATCH(Recap!C$2,'sem1'!$B$1:$B$29,0))+ROW(2:2)) -> 0.41666667 | D4: =INDEX('sem1'!$B$1:$B$29,(MATCH(Recap!D$2,'sem1'!$B$1:$B$29,0))+ROW(2:2)) -> 0.29166667 | E4: =INDEX('sem1'!$B$1:$B$29,(MATCH(Recap!E$2,'sem1'!$B$1:$B$29,0))+ROW(2:2)) -> 0.375 | F4: =INDEX('sem1'!$B$1:$B$29,(MATCH(Recap!F$2,'sem1'!$B$1:$B$29,0))+ROW(2:2)) -> 0.29166667 | G4: =INDEX('sem1'!$B$1:$B$29,(MATCH(Recap!G$2,'sem1'!$B$1:$B$29,0))+ROW(2:2)) -> 0.3125 | H4: =INDEX('sem1'!$B$1:$B$29,(MATCH(Recap!H$2,'sem1'!$B$1:$B$29,0))+ROW(2:2)) -> 0 | I4: =INDEX('sem1'!$B$1:$B$29,(MATCH(Recap!I$2,'sem2'!$B$1:$B$29,0))+ROW(2:2)) -> #N/A | J4: =INDEX('sem1'!$B$1:$B$29,(MATCH(Recap!J$2,'sem2'!$B$1:$B$29,0))+ROW(2:2)) -> #N/A | K4: =INDEX('sem1'!$B$1:$B$29,(MATCH(Recap!K$2,'sem2'!$B$1:$B$29,0))+ROW(2:2)) -> #N/A | L4: =INDEX('sem1'!$B$1:$B$29,(MATCH(Recap!L$2,'sem2'!$B$1:$B$29,0))+ROW(2:2)) -> #N/A | M4: =INDEX('sem1'!$B$1:$B$29,(MATCH(Recap!M$2,'sem2'!$B$1:$B$29,0))+ROW(2:2)) -> #N/A | N4: =INDEX('sem1'!$B$1:$B$29,(MATCH(Recap!N$2,'sem2'!$B$1:$B$29,0))+ROW(2:2)) -> #N/A | O4: =INDEX('sem1'!$B$1:$B$29,(MATCH(Recap!O$2,'sem2'!$B$1:$B$29,0))+ROW(2:2)) -> #N/A
A5: Personne C | B5: =INDEX('sem1'!$B$1:$B$29,(MATCH(Recap!B$2,'sem1'!$B$1:$B$29,0))+ROW(3:3)) -> 0.375 | C5: =INDEX('sem1'!$B$1:$B$29,(MATCH(Recap!C$2,'sem1'!$B$1:$B$29,0))+ROW(3:3)) -> 0.33333333 | D5: =INDEX('sem1'!$B$1:$B$29,(MATCH(Recap!D$2,'sem1'!$B$1:$B$29,0))+ROW(3:3)) -> 0.33333333 | E5: =INDEX('sem1'!$B$1:$B$29,(MATCH(Recap!E$2,'sem1'!$B$1:$B$29,0))+ROW(3:3)) -> 0.33333333 | F5: =INDEX('sem1'!$B$1:$B$29,(MATCH(Recap!F$2,'sem1'!$B$1:$B$29,0))+ROW(3:3)) -> 0.33333333 | G5: =INDEX('sem1'!$B$1:$B$29,(MATCH(Recap!G$2,'sem1'!$B$1:$B$29,0))+ROW(3:3)) -> 0.375 | H5: =INDEX('sem1'!$B$1:$B$29,(MATCH(Recap!H$2,'sem1'!$B$1:$B$29,0))+ROW(3:3)) -> 0 | I5: =INDEX('sem1'!$B$1:$B$29,(MATCH(Recap!I$2,'sem2'!$B$1:$B$29,0))+ROW(3:3)) -> #N/A | J5: =INDEX('sem1'!$B$1:$B$29,(MATCH(Recap!J$2,'sem2'!$B$1:$B$29,0))+ROW(3:3)) -> #N/A | K5: =INDEX('sem1'!$B$1:$B$29,(MATCH(Recap!K$2,'sem2'!$B$1:$B$29,0))+ROW(3:3)) -> #N/A | L5: =INDEX('sem1'!$B$1:$B$29,(MATCH(Recap!L$2,'sem2'!$B$1:$B$29,0))+ROW(3:3)) -> #N/A | M5: =INDEX('sem1'!$B$1:$B$29,(MATCH(Recap!M$2,'sem2'!$B$1:$B$29,0))+ROW(3:3)) -> #N/A | N5: =INDEX('sem1'!$B$1:$B$29,(MATCH(Recap!N$2,'sem2'!$B$1:$B$29,0))+ROW(3:3)) -> #N/A | O5: =INDEX('sem1'!$B$1:$B$29,(MATCH(Recap!O$2,'sem2'!$B$1:$B$29,0))+ROW(3:3)) -> #N/A

Sheet sem1
B1: 42856
A2: Personne A | B2: 0.33333333
A3: Personne B | B3: 0.3125
A4: Personne C | B4: 0.375
B6: 42857
A7: Personne A | B7: 0.5
A8: Personne B | B8: 0.41666667
A9: Personne C | B9: 0.33333333
B10: 42858
A11: Personne A | B11: 0.33333333
A12: Personne B | B12: 0.29166667
A13: Personne C | B13: 0.33333333
B14: 42859
A15: Personne A | B15: 0.33333333
A16: Personne B | B16: 0.375
A17: Personne C | B17: 0.33333333
B18: 42860
A19: Personne A | B19: 0.33333333
A20: Personne B | B20: 0.29166667
A21: Personne C | B21: 0.33333333
B22: 42861
A23: Personne A | B23: 0.33333333
A24: Personne B | B24: 0.3125
A25: Personne C | B25: 0.375
B26: 42862
A27: Personne A | B27: 0
A28: Personne B | B28: 0
A29: Personne C | B29: 0

Sheet sem2

Sheet sem3
