Workbook

Sheet sommaire
B3: Bouton de renvoi sur "Loisirs" | D3: =(Tableau4[[#Totals],[Loisir]]-VLOOKUP(OFFSET(Tableau4[[#Headers],[Colonne1]],MONTH(TODAY()),0,),Tableau4[[#Headers],[#Data]],2,FALSE))/4 -> 68.75
B6: Bouton de renvoi sur "Carburant" | D6: =(Tableau4[[#Totals],[carburant]]-VLOOKUP(OFFSET(Tableau4[[#Headers],[Colonne1]],MONTH(TODAY()),0,),Tableau4[[#Headers],[#Data]],3,FALSE))/(MONTH(TODAY())-1) -> 100
B9: Bouton de renvoi sur "Maison" | D9: =(Tableau4[[#Totals],[maison]]-VLOOKUP(OFFSET(Tableau4[[#Headers],[Colonne1]],MONTH(TODAY()),0,),Tableau4[[#Headers],[#Data]],4,FALSE))/(MONTH(TODAY())-1) -> 25
B12: Bouton de renvoi sur Totaux

Sheet maison
B4: Date | C4: Désignation de la dépense | D4: Montant | F4: Mois | G4: Montant mensuel
B5: 42827 | D5: 100 | F5: Janvier | G5: =SUMPRODUCT((MONTH($B$5:$B$21)=ROW(1:1))*($D$5:$D$21)) -> 0
F6: Février | G6: =SUMPRODUCT((MONTH($B$5:$B$21)=ROW(2:2))*($D$5:$D$21)) -> 0
F7: Mars | G7: =SUMPRODUCT((MONTH($B$5:$B$21)=ROW(3:3))*($D$5:$D$21)) -> 0
F8: Avril | G8: =SUMPRODUCT((MONTH($B$5:$B$21)=ROW(4:4))*($D$5:$D$21)) -> 100
F9: Mai | G9: =SUMPRODUCT((MONTH($B$5:$B$21)=ROW(5:5))*($D$5:$D$21)) -> 0
F10: Juin | G10: =SUMPRODUCT((MONTH($B$5:$B$21)=ROW(6:6))*($D$5:$D$21)) -> 0
F11: Juillet | G11: =SUMPRODUCT((MONTH($B$5:$B$21)=ROW(7:7))*($D$5:$D$21)) -> 0
F12: Août | G12: =SUMPRODUCT((MONTH($B$5:$B$21)=ROW(8:8))*($D$5:$D$21)) -> 0
F13: Septembre | G13: =SUMPRODUCT((MONTH($B$5:$B$21)=ROW(9:9))*($D$5:$D$21)) -> 0
F14: Octobre | G14: =SUMPRODUCT((MONTH($B$5:$B$21)=ROW(10:10))*($D$5:$D$21)) -> 0
F15: Novembre | G15: =SUMPRODUCT((MONTH($B$5:$B$21)=ROW(11:11))*($D$5:$D$21)) -> 0
F16: Décembre | G16: =SUMPRODUCT((MONTH($B$5:$B$21)=ROW(12:12))*($D$5:$D$21)) -> 0

Sheet Loisirs
B4: Date | C4: Désignation de la dépense | D4: Montant | F4: Mois | G4: Montant mensuel | H4: Colonne1
B5: 42737 | F5: Janvier | G5: =SUMPRODUCT((MONTH($B$5:$B$21)=ROW(1:1))*($D$5:$D$21)) -> 75
B6: 42805 | D6: 50 | F6: Février | G6: =SUMPRODUCT((MONTH($B$5:$B$21)=ROW(2:2))*($D$5:$D$21)) -> 150
B7: 42790 | D7: 150 | F7: Mars | G7: =SUMPRODUCT((MONTH($B$5:$B$21)=ROW(3:3))*($D$5:$D$21)) -> 50
B8: 42746 | D8: 75 | F8: Avril | G8: =SUMPRODUCT((MONTH($B$5:$B$21)=ROW(4:4))*($D$5:$D$21)) -> 0
B9: 42875 | D9: 200 | F9: Mai | G9: =SUMPRODUCT((MONTH($B$5:$B$21)=ROW(5:5))*($D$5:$D$21)) -> 200
F10: Juin | G10: =SUMPRODUCT((MONTH($B$5:$B$21)=ROW(6:6))*($D$5:$D$21)) -> 0
F11: Juillet | G11: =SUMPRODUCT((MONTH($B$5:$B$21)=ROW(7:7))*($D$5:$D$21)) -> 0
F12: Août | G12: =SUMPRODUCT((MONTH($B$5:$B$21)=ROW(8:8))*($D$5:$D$21)) -> 0
F13: Septembre | G13: =SUMPRODUCT((MONTH($B$5:$B$21)=ROW(9:9))*($D$5:$D$21)) -> 0
F14: Octobre | G14: =SUMPRODUCT((MONTH($B$5:$B$21)=ROW(10:10))*($D$5:$D$21)) -> 0
F15: Novembre | G15: =SUMPRODUCT((MONTH($B$5:$B$21)=ROW(11:11))*($D$5:$D$21)) -> 0
F16: Décembre | G16: =SUMPRODUCT((MONTH($B$5:$B$21)=ROW(12:12))*($D$5:$D$21)) -> 0

Sheet Carburant
B4: Date | C4: Désignation de la dépense | D4: Montant | F4: Mois | G4: Montant mensuel
B5: 42796 | D5: 400 | F5: Janvier | G5: =SUMPRODUCT((MONTH($B$5:$B$21)=ROW(1:1))*($D$5:$D$21)) -> 0
F6: Février | G6: =SUMPRODUCT((MONTH($B$5:$B$21)=ROW(2:2))*($D$5:$D$21)) -> 0
F7: Mars | G7: =SUMPRODUCT((MONTH($B$5:$B$21)=ROW(3:3))*($D$5:$D$21)) -> 400
F8: Avril | G8: =SUMPRODUCT((MONTH($B$5:$B$21)=ROW(4:4))*($D$5:$D$21)) -> 0
F9: Mai | G9: =SUMPRODUCT((MONTH($B$5:$B$21)=ROW(5:5))*($D$5:$D$21)) -> 0
F10: Juin | G10: =SUMPRODUCT((MONTH($B$5:$B$21)=ROW(6:6))*($D$5:$D$21)) -> 0
F11: Juillet | G11: =SUMPRODUCT((MONTH($B$5:$B$21)=ROW(7:7))*($D$5:$D$21)) -> 0
F12: Août | G12: =SUMPRODUCT((MONTH($B$5:$B$21)=ROW(8:8))*($D$5:$D$21)) -> 0
F13: Septembre | G13: =SUMPRODUCT((MONTH($B$5:$B$21)=ROW(9:9))*($D$5:$D$21)) -> 0
F14: Octobre | G14: =SUMPRODUCT((MONTH($B$5:$B$21)=ROW(10:10))*($D$5:$D$21)) -> 0
F15: Novembre | G15: =SUMPRODUCT((MONTH($B$5:$B$21)=ROW(11:11))*($D$5:$D$21)) -> 0
F16: Décembre | G16: =SUMPRODUCT((MONTH($B$5:$B$21)=ROW(12:12))*($D$5:$D$21)) -> 0

Sheet TOTAUX
C2: TOTAUX
C5: Colonne1 | D5: Loisir | E5: carburant | F5: maison
C6: Janvier | D6: =Loisirs!G5 -> 75 | E6: =Carburant!G5 -> 0 | F6: =maison!G5 -> 0
C7: Février | D7: =Loisirs!G6 -> 150 | E7: =Carburant!G6 -> 0 | F7: =maison!G6 -> 0
C8: Mars | D8: =Loisirs!G7 -> 50 | E8: =Carburant!G7 -> 400 | F8: =maison!G7 -> 0
C9: Avril | D9: =Loisirs!G8 -> 0 | E9: =Carburant!G8 -> 0 | F9: =maison!G8 -> 100
C10: Mai | D10: =Loisirs!G9 -> 200 | E10: =Carburant!G9 -> 0 | F10: =maison!G9 -> 0
C11: Juin | D11: =Loisirs!G10 -> 0 | E11: =Carburant!G10 -> 0 | F11: =maison!G10 -> 0
C12: Juillet | D12: =Loisirs!G11 -> 0 | E12: =Carburant!G11 -> 0 | F12: =maison!G11 -> 0 | H12: =IF(ROW(B11)-5<MONTH(TODAY()),ROW(B11)-5,"")
C13: Août | D13: =Loisirs!G12 -> 0 | E13: =Carburant!G12 -> 0 | F13: =maison!G12 -> 0 | H13: =IF(ROW(B12)-5<MONTH(TODAY()),ROW(B12)-5,"")
C14: Septembre | D14: =Loisirs!G13 -> 0 | E14: =Carburant!G13 -> 0 | F14: =maison!G13 -> 0 | H14: =IF(ROW(B13)-5<MONTH(TODAY()),ROW(B13)-5,"")
C15: Octobre | D15: =Loisirs!G14 -> 0 | E15: =Carburant!G14 -> 0 | F15: =maison!G14 -> 0 | H15: =IF(ROW(B14)-5<MONTH(TODAY()),ROW(B14)-5,"")
C16: Novembre | D16: =Loisirs!G15 -> 0 | E16: =Carburant!G15 -> 0 | F16: =maison!G15 -> 0 | H16: =IF(ROW(B15)-5<MONTH(TODAY()),ROW(B15)-5,"")
C17: Décembre | D17: =Loisirs!G16 -> 0 | E17: =Carburant!G16 -> 0 | F17: =maison!G16 -> 0 | H17: =IF(ROW(B16)-5<MONTH(TODAY()),ROW(B16)-5,"")
D18: =SUM(Tableau4[Loisir]) -> 475 | E18: =SUM(Tableau4[carburant]) -> 400 | F18: =SUM(Tableau4[maison]) -> 100
D24: Reprend les case G5 des autres feuilles
