Workbook
Name Salariés: 'Base de données salariés'!$A$3:$B$35

Sheet Base de données salariés
A1: Nom | B1: Prénom | C1: Lundi | E1: Mardi | I1: Mercredi | M1: Jeudi | Q1: Vendredi | U1: Samedi | W1: Dimanche | Y1: Horaire semaine
A2: Chef d'équipe | C2: Matin | D2: Après-midi | E2: Matin | F2: Nom | G2: Prénom | H2: Après-midi | I2: Matin | J2: Nom | K2: Prénom | L2: Après-midi | M2: Matin | N2: Nom | O2: Prénom | P2: Après-midi | Q2: Matin | R2: Nom | S2: Prénom | T2: Après-midi | U2: Matin | V2: Après-midi | W2: Matin | X2: Après-midi
A3: Bekauri | B3: Bachuki | C3: 08h-12h | D3: 13h30-17h30 | E3: 08h-12h | F3: Bekauri | G3: Bachuki | H3: 13h30-17h30 | I3: 08h-12h | J3: Bekauri | K3: Bachuki | L3: 13h30-17h30 | M3: 08h-12h | N3: Bekauri | O3: Bachuki | P3: 13h30-17h30 | Q3: 08h-11h | R3: Bekauri | S3: Bachuki | Y3: 35
A4: Giard | B4: Jean françois | C4: 08h-12h | D4: 13h30-17h30 | E4: 08h-12h | F4: Giard | G4: Jean françois | H4: 13h30-17h30 | I4: 08h-12h | J4: Giard | K4: Jean françois | L4: 13h30-17h30 | M4: 08h-12h | N4: Giard | O4: Jean françois | P4: 13h30-17h30 | R4: Giard | S4: Jean françois | Y4: 32
A5: Kempfer | B5: Philippe | C5: 08h-12h | D5: 13h30-17h30 | E5: 08h-12h | F5: Kempfer | G5: Philippe | H5: 13h30-17h30 | I5: 08h-12h | J5: Kempfer | K5: Philippe | L5: 13h30-17h30 | M5: 08h-12h | N5: Kempfer | O5: Philippe | P5: 13h30-17h30 | Q5: 08h-11h | R5: Kempfer | S5: Philippe | Y5: 35
A6: Malivoir | B6: Olivier | C6: 08h-12h | D6: 13h30-17h30 | E6: 08h-12h | F6: Malivoir | G6: Olivier | H6: 13h30-17h30 | I6: 08h-12h | J6: Malivoir | K6: Olivier | L6: 13h30-17h30 | M6: 08h-12h | N6: Malivoir | O6: Olivier | P6: 13h30-17h30 | Q6: 08h-11h | R6: Malivoir | S6: Olivier | Y6: 35
A7: Piran | B7: Eric | C7: 08h-12h | D7: 13h30-17h30 | E7: 08h-12h | F7: Piran | G7: Eric | H7: 13h30-17h30 | I7: 08h-12h | J7: Piran | K7: Eric | L7: 13h30-17h30 | M7: 08h-12h | N7: Piran | O7: Eric | P7: 13h30-17h30 | Q7: 08h-11h | R7: Piran | S7: Eric | Y7: 35
A8: Advalyan | B8: Torun | D8: 13h30-17h30 | E8: 08h-12h | F8: Advalyan | G8: Torun | H8: 13h30-17h30 | I8: 08h-12h | J8: Advalyan | K8: Torun | L8: 13h30-17h30 | M8: 08h-12h | N8: Advalyan | O8: Torun | P8: 13h30-17h30 | R8: Advalyan | S8: Torun | Y8: 28
A9: Bonningre | B9: Thierry | C9: 08h-12h | D9: 13h30-17h30 | E9: 08h-12h | F9: Bonningre | G9: Thierry | H9: 13h30-17h30 | I9: 08h-12h | J9: Bonningre | K9: Thierry | L9: 13h30-17h30 | M9: 08h-12h | N9: Bonningre | O9: Thierry | R9: Bonningre | S9: Thierry | Y9: 28
A10: Bono | B10: Laurence | E10: 08h-12h | F10: Bono | G10: Laurence | H10: 13h30-17h30 | I10: 08h-12h | J10: Bono | K10: Laurence | L10: 13h30-17h30 | M10: 08h-12h | N10: Bono | O10: Laurence | P10: 13h30-17h30 | Q10: 08h-12h | R10: Bono | S10: Laurence | Y10: 28
A11: Chapelet | B11: Arnaud | C11: 08h-12h | D11: 13h30-17h30 | E11: 08h-12h | F11: Chapelet | G11: Arnaud | H11: 13h30-17h30 | I11: 08h-12h | J11: Chapelet | K11: Arnaud | L11: 13h30-17h30 | M11: 08h-12h | N11: Chapelet | O11: Arnaud | R11: Chapelet | S11: Arnaud | Y11: 28
A12: Charlot | B12: Loic | E12: 08h-12h | F12: Charlot | G12: Loic | H12: 13h30-17h30 | I12: 08h-12h | J12: Charlot | K12: Loic | L12: 13h30-17h30 | M12: 08h-12h | N12: Charlot | O12: Loic | P12: 13h30-17h30 | Q12: 08h-12h | R12: Charlot | S12: Loic | Y12: 28
A13: Czaplinski | B13: Francis | D13: 13h30-17h30 | E13: 08h-12h | F13: Czaplinski | G13: Francis | H13: 13h30-17h30 | I13: 08h-12h | J13: Czaplinski | K13: Francis | L13: 13h30-17h30 | M13: 08h-12h | N13: Czaplinski | O13: Francis | P13: 13h30-17h30 | R13: Czaplinski | S13: Francis | Y13: 28
A14: Dourado da silva | B14: Joseph | E14: 08h-12h | F14: Dourado da silva | G14: Joseph | H14: 13h30-17h30 | I14: 08h-12h | J14: Dourado da silva | K14: Joseph | L14: 13h30-17h30 | M14: 08h-12h | N14: Dourado da silva | O14: Joseph | P14: 13h30-17h30 | Q14: 08h-12h | R14: Dourado da silva | S14: Joseph | Y14: 28
A15: Dupont | B15: Christian | C15: 08h-12h | D15: 13h30-17h30 | E15: 08h-12h | F15: Dupont | G15: Christian | H15: 13h30-17h30 | I15: 08h-12h | J15: Dupont | K15: Christian | L15: 13h30-17h30 | M15: 08h-12h | N15: Dupont | O15: Christian | R15: Dupont | S15: Christian | Y15: 28
A16: Frauenfelder | B16: Pascal | D16: 13h30-17h30 | E16: 08h-12h | F16: Frauenfelder | G16: Pascal | H16: 13h30-17h30 | I16: 08h-12h | J16: Frauenfelder | K16: Pascal | M16: 08h-12h | N16: Frauenfelder | O16: Pascal | P16: 13h30-17h30 | Q16: 08h-12h | R16: Frauenfelder | S16: Pascal | Y16: 28
A17: Furnon | B17: Gilles | C17: 08h-12h | D17: 13h30-17h30 | E17: 08h-12h | F17: Furnon | G17: Gilles | H17: 13h30-17h30 | I17: 08h-12h | J17: Furnon | K17: Gilles | L17: 13h30-17h30 | M17: 08h-12h | N17: Furnon | O17: Gilles | R17: Furnon | S17: Gilles | Y17: 28
A18: Geib | B18: Sébastien | C18: 08h-12h | D18: 13h30-17h30 | E18: 08h-12h | F18: Geib | G18: Sébastien | H18: 13h30-17h30 | I18: 08h-12h | J18: Geib | K18: Sébastien | L18: 13h30-17h30 | M18: 08h-12h | N18: Geib | O18: Sébastien | R18: Geib | S18: Sébastien | Y18: 28
A19: Gueusquin | B19: Nathalie | C19: 08h-12h | D19: 13h30-16h | F19: Gueusquin | G19: Nathalie | H19: 13h30-17h30 | J19: Gueusquin | K19: Nathalie | N19: Gueusquin | O19: Nathalie | P19: 13h30-17h30 | Q19: 08h-12h | R19: Gueusquin | S19: Nathalie | T19: 13h30-16h | Y19: 21
A20: Haon | B20: David | C20: 08h-12h | D20: 13h30-17h30 | E20: 08h-12h | F20: Haon | G20: David | H20: 13h30-17h30 | I20: 08h-12h | J20: Haon | K20: David | L20: 13h30-17h30 | M20: 08h-12h | N20: Haon | O20: David | R20: Haon | S20: David | Y20: 28
A21: Hovspian | B21: Harut | E21: 08h-12h | F21: Hovspian | G21: Harut | H21: 13h30-17h30 | I21: 08h-12h | J21: Hovspian | K21: Harut | L21: 13h30-17h30 | M21: 08h-12h | N21: Hovspian | O21: Harut | P21: 13h30-17h30 | Q21: 08h-12h | R21: Hovspian | S21: Harut | Y21: 28
A22: Hunter | B22: Yannick | E22: 08h-12h | F22: Hunter | G22: Yannick | H22: 13h30-17h30 | I22: 08h-12h | J22: Hunter | K22: Yannick | L22: 13h-17h | N22: Hunter | O22: Yannick | P22: 13h-17h | Q22: 09h-12h | R22: Hunter | S22: Yannick | T22: 13h-17h | Y22: 28
A23: Ibrahimi | B23: Djuliano | E23: 08h-12h | F23: Ibrahimi | G23: Djuliano | H23: 13h30-17h30 | I23: 08h-12h | J23: Ibrahimi | K23: Djuliano | L23: 13h30-17h30 | M23: 08h-12h | N23: Ibrahimi | O23: Djuliano | P23: 13h30-17h30 | Q23: 08h-12h | R23: Ibrahimi | S23: Djuliano | Y23: 28
A24: Kastrati | B24: Vezire | C24: 08h-12h | D24: 13h30-17h30 | E24: 08h-12h | F24: Kastrati | G24: Vezire | H24: 13h30-17h30 | I24: 08h-12h | J24: Kastrati | K24: Vezire | L24: 13h30-17h30 | M24: 08h-12h | N24: Kastrati | O24: Vezire | P24: 13h30-17h30 | Q24: 08h-11h | R24: Kastrati | S24: Vezire | Y24: 35
A25: L'hoste | B25: Olivier | D25: 13h30-17h30 | E25: 08h-12h | F25: L'hoste | G25: Olivier | H25: 13h30-17h30 | I25: 08h-12h | J25: L'hoste | K25: Olivier | L25: 13h30-17h30 | M25: 08h-12h | N25: L'hoste | O25: Olivier | P25: 13h30-17h30 | R25: L'hoste | S25: Olivier | Y25: 28
A26: Mayon | B26: Jean | C26: 08h-12h | D26: 13h30-17h30 | E26: 08h-12h | F26: Mayon | G26: Jean | H26: 13h30-17h30 | I26: 08h-12h | J26: Mayon | K26: Jean | M26: 08h-12h | N26: Mayon | O26: Jean | P26: 13h30-17h30 | R26: Mayon | S26: Jean | Y26: 28
A27: Ouarab | B27: Farid | C27: 08h-12h | D27: 13h30-17h30 | E27: 08h-12h | F27: Ouarab | G27: Farid | H27: 13h30-17h30 | I27: 08h-12h | J27: Ouarab | K27: Farid | L27: 13h30-17h30 | M27: 08h-12h | N27: Ouarab | O27: Farid | R27: Ouarab | S27: Farid | Y27: 28
A28: Pontico | B28: Hervé | C28: 08h-12h | D28: 13h30-17h30 | E28: 08h-12h | F28: Pontico | G28: Hervé | H28: 13h30-17h30 | J28: Pontico | K28: Hervé | M28: 08h-12h | N28: Pontico | O28: Hervé | P28: 13h30-17h30 | Q28: 08h-12h | R28: Pontico | S28: Hervé | Y28: 28
A29: Purghel | B29: Catalin | C29: 08h-12h | D29: 13h30-17h30 | E29: 08h-12h | F29: Purghel | G29: Catalin | H29: 13h30-17h30 | I29: 08h-12h | J29: Purghel | K29: Catalin | L29: 13h30-17h30 | M29: 08h-12h | N29: Purghel | O29: Catalin | R29: Purghel | S29: Catalin | Y29: 28
A30: Remy | B30: Michel | C30: 08h-12h | D30: 13h30-17h30 | E30: 08h-12h | F30: Remy | G30: Michel | H30: 13h30-17h30 | I30: 08h-12h | J30: Remy | K30: Michel | L30: 13h-17h | N30: Remy | O30: Michel | R30: Remy | S30: Michel | U30: 9h-12h | V30: 13h-17h | W30: 9h-12h | Y30: 35
A31: Talyan | B31: Aro | C31: 08h-12h | D31: 13h30-17h30 | E31: 08h-12h | F31: Talyan | G31: Aro | H31: 13h30-17h30 | I31: 08h-12h | J31: Talyan | K31: Aro | L31: 13h30-17h30 | M31: 08h-12h | N31: Talyan | O31: Aro | P31: 13h30-17h30 | Q31: 08h-11h | R31: Talyan | S31: Aro | Y31: 28
A32: Thomas | B32: Valérie | C32: 09h-12h | D32: 13h30-17h30 | E32: 09h-12h | F32: Thomas | G32: Valérie | H32: 13h30-17h30 | I32: 09h-12h | J32: Thomas | K32: Valérie | L32: 13h30-17h30 | M32: 09h-12h | N32: Thomas | O32: Valérie | P32: 13h30-17h30 | Q32: 09h-12h | R32: Thomas | S32: Valérie | T32: 13h30-17h30 | Y32: 28
A33: Thomas | B33: Valérie | C33: 08h30-12h | D33: 13h30-18h | E33: 08h30-10h | H33: 16h30-18h | I33: 08h30-10h | L33: 16h30-18h | M33: 08h30-10h | P33: 16h30-18h | Q33: 08h30-10h | T33: 16h30-18h
A34: Vigneron | B34: Alain | F34: Vigneron | G34: Alain | H34: 13h30-17h30 | I34: 08h-12h | J34: Vigneron | K34: Alain | L34: 13h30-17h30 | M34: 08h-12h | N34: Vigneron | O34: Alain | P34: 13h30-17h30 | Q34: 08h-12h | R34: Vigneron | S34: Alain | T34: 13h30-17h30 | Y34: 28
A35: Ville | B35: Frédéric | C35: 08h-12h | D35: 13h30-17h30 | E35: 08h-12h | F35: Ville | G35: Frédéric | H35: 13h30-17h30 | I35: 08h-12h | J35: Ville | K35: Frédéric | L35: 13h30-17h30 | M35: 08h-12h | N35: Ville | O35: Frédéric | R35: Ville | S35: Frédéric | Y35: 28

Sheet Lundi
C1: Lundi
C2: Matin | J2: Matin
C3: Enlèvements/Livraisons | D3: Chantiers extérieurs | E3: Autres activités | J3: Enlèvements/Livraisons | K3: Chantiers extérieurs | M3: Autres activités
C4: N° camion | D4: N° camion | E4: Décheterie | F4: Magasin | G4: Ateliers | H4: Garage | I4: Electro | J4: N° camion | K4: N° camion | M4: Décheterie | N4: Magasin | O4: Ateliers | P4: Garage | Q4: Electro
C5: Lieu | D5: Lieu | J5: Lieu | K5: Lieu
A10: Salariés
A11: {=IFERROR(INDEX('Base de données salariés'!$A$3:$A$35,SMALL(IF('Base de données salariés'!$C$3:$C$35<>"",ROW('Base de données salariés'!$C$3:$C$35)-2,""),ROW(1:1))),"")} -> Bekauri | B11: =IFERROR(VLOOKUP(A11,Salariés,2,FALSE),"") -> Bachuki
A12: {=IFERROR(INDEX('Base de données salariés'!$A$3:$A$35,SMALL(IF('Base de données salariés'!$C$3:$C$35<>"",ROW('Base de données salariés'!$C$3:$C$35)-2,""),ROW(2:2))),"")} -> Giard | B12: =IFERROR(VLOOKUP(A12,Salariés,2,FALSE),"") -> Jean françois
A13: {=IFERROR(INDEX('Base de données salariés'!$A$3:$A$35,SMALL(IF('Base de données salariés'!$C$3:$C$35<>"",ROW('Base de données salariés'!$C$3:$C$35)-2,""),ROW(3:3))),"")} -> Kempfer | B13: =IFERROR(VLOOKUP(A13,Salariés,2,FALSE),"") -> Philippe
A14: {=IFERROR(INDEX('Base de données salariés'!$A$3:$A$35,SMALL(IF('Base de données salariés'!$C$3:$C$35<>"",ROW('Base de données salariés'!$C$3:$C$35)-2,""),ROW(4:4))),"")} -> Malivoir | B14: =IFERROR(VLOOKUP(A14,Salariés,2,FALSE),"") -> Olivier
A15: {=IFERROR(INDEX('Base de données salariés'!$A$3:$A$35,SMALL(IF('Base de données salariés'!$C$3:$C$35<>"",ROW('Base de données salariés'!$C$3:$C$35)-2,""),ROW(5:5))),"")} -> Piran | B15: =IFERROR(VLOOKUP(A15,Salariés,2,FALSE),"") -> Eric
A16: {=IFERROR(INDEX('Base de données salariés'!$A$3:$A$35,SMALL(IF('Base de données salariés'!$C$3:$C$35<>"",ROW('Base de données salariés'!$C$3:$C$35)-2,""),ROW(6:6))),"")} -> Bonningre | B16: =IFERROR(VLOOKUP(A16,Salariés,2,FALSE),"") -> Thierry
A17: {=IFERROR(INDEX('Base de données salariés'!$A$3:$A$35,SMALL(IF('Base de données salariés'!$C$3:$C$35<>"",ROW('Base de données salariés'!$C$3:$C$35)-2,""),ROW(7:7))),"")} -> Chapelet | B17: =IFERROR(VLOOKUP(A17,Salariés,2,FALSE),"") -> Arnaud
A18: {=IFERROR(INDEX('Base de données salariés'!$A$3:$A$35,SMALL(IF('Base de données salariés'!$C$3:$C$35<>"",ROW('Base de données salariés'!$C$3:$C$35)-2,""),ROW(8:8))),"")} -> Dupont | B18: =IFERROR(VLOOKUP(A18,Salariés,2,FALSE),"") -> Christian
A19: {=IFERROR(INDEX('Base de données salariés'!$A$3:$A$35,SMALL(IF('Base de données salariés'!$C$3:$C$35<>"",ROW('Base de données salariés'!$C$3:$C$35)-2,""),ROW(9:9))),"")} -> Furnon | B19: =IFERROR(VLOOKUP(A19,Salariés,2,FALSE),"") -> Gilles
A20: {=IFERROR(INDEX('Base de données salariés'!$A$3:$A$35,SMALL(IF('Base de données salariés'!$C$3:$C$35<>"",ROW('Base de données salariés'!$C$3:$C$35)-2,""),ROW(10:10))),"")} -> Geib | B20: =IFERROR(VLOOKUP(A20,Salariés,2,FALSE),"") -> Sébastien
A21: {=IFERROR(INDEX('Base de données salariés'!$A$3:$A$35,SMALL(IF('Base de données salariés'!$C$3:$C$35<>"",ROW('Base de données salariés'!$C$3:$C$35)-2,""),ROW(11:11))),"")} -> Gueusquin | B21: =IFERROR(VLOOKUP(A21,Salariés,2,FALSE),"") -> Nathalie
A22: {=IFERROR(INDEX('Base de données salariés'!$A$3:$A$35,SMALL(IF('Base de données salariés'!$C$3:$C$35<>"",ROW('Base de données salariés'!$C$3:$C$35)-2,""),ROW(12:12))),"")} -> Haon | B22: =IFERROR(VLOOKUP(A22,Salariés,2,FALSE),"") -> David
A23: {=IFERROR(INDEX('Base de données salariés'!$A$3:$A$35,SMALL(IF('Base de données salariés'!$C$3:$C$35<>"",ROW('Base de données salariés'!$C$3:$C$35)-2,""),ROW(13:13))),"")} -> Kastrati | B23: =IFERROR(VLOOKUP(A23,Salariés,2,FALSE),"") -> Vezire
A24: {=IFERROR(INDEX('Base de données salariés'!$A$3:$A$35,SMALL(IF('Base de données salariés'!$C$3:$C$35<>"",ROW('Base de données salariés'!$C$3:$C$35)-2,""),ROW(14:14))),"")} -> Mayon | B24: =IFERROR(VLOOKUP(A24,Salariés,2,FALSE),"") -> Jean
A25: {=IFERROR(INDEX('Base de données salariés'!$A$3:$A$35,SMALL(IF('Base de données salariés'!$C$3:$C$35<>"",ROW('Base de données salariés'!$C$3:$C$35)-2,""),ROW(15:15))),"")} -> Ouarab | B25: =IFERROR(VLOOKUP(A25,Salariés,2,FALSE),"") -> Farid
A26: {=IFERROR(INDEX('Base de données salariés'!$A$3:$A$35,SMALL(IF('Base de données salariés'!$C$3:$C$35<>"",ROW('Base de données salariés'!$C$3:$C$35)-2,""),ROW(16:16))),"")} -> Pontico | B26: =IFERROR(VLOOKUP(A26,Salariés,2,FALSE),"") -> Hervé
A27: {=IFERROR(INDEX('Base de données salariés'!$A$3:$A$35,SMALL(IF('Base de données salariés'!$C$3:$C$35<>"",ROW('Base de données salariés'!$C$3:$C$35)-2,""),ROW(17:17))),"")} -> Purghel | B27: =IFERROR(VLOOKUP(A27,Salariés,2,FALSE),"") -> Catalin
A28: {=IFERROR(INDEX('Base de données salariés'!$A$3:$A$35,SMALL(IF('Base de données salariés'!$C$3:$C$35<>"",ROW('Base de données salariés'!$C$3:$C$35)-2,""),ROW(18:18))),"")} -> Remy | B28: =IFERROR(VLOOKUP(A28,Salariés,2,FALSE),"") -> Michel
A29: {=IFERROR(INDEX('Base de données salariés'!$A$3:$A$35,SMALL(IF('Base de données salariés'!$C$3:$C$35<>"",ROW('Base de données salariés'!$C$3:$C$35)-2,""),ROW(19:19))),"")} -> Talyan | B29: =IFERROR(VLOOKUP(A29,Salariés,2,FALSE),"") -> Aro
A30: {=IFERROR(INDEX('Base de données salariés'!$A$3:$A$35,SMALL(IF('Base de données salariés'!$C$3:$C$35<>"",ROW('Base de données salariés'!$C$3:$C$35)-2,""),ROW(20:20))),"")} -> Thomas | B30: =IFERROR(VLOOKUP(A30,Salariés,2,FALSE),"") -> Valérie
A31: {=IFERROR(INDEX('Base de données salariés'!$A$3:$A$35,SMALL(IF('Base de données salariés'!$C$3:$C$35<>"",ROW('Base de données salariés'!$C$3:$C$35)-2,""),ROW(21:21))),"")} -> Thomas | B31: =IFERROR(VLOOKUP(A31,Salariés,2,FALSE),"") -> Valérie
A32: {=IFERROR(INDEX('Base de données salariés'!$A$3:$A$35,SMALL(IF('Base de données salariés'!$C$3:$C$35<>"",ROW('Base de données salariés'!$C$3:$C$35)-2,""),ROW(22:22))),"")} -> Ville | B32: =IFERROR(VLOOKUP(A32,Salariés,2,FALSE),"") -> Frédéric
A33: {=IFERROR(INDEX('Base de données salariés'!$A$3:$A$35,SMALL(IF('Base de données salariés'!$C$3:$C$35<>"",ROW('Base de données salariés'!$C$3:$C$35)-2,""),ROW(23:23))),"")} | B33: =IFERROR(VLOOKUP(A33,Salariés,2,FALSE),"")
A34: {=IFERROR(INDEX('Base de données salariés'!$A$3:$A$35,SMALL(IF('Base de données salariés'!$C$3:$C$35<>"",ROW('Base de données salariés'!$C$3:$C$35)-2,""),ROW(24:24))),"")} | B34: =IFERROR(VLOOKUP(A34,Salariés,2,FALSE),"")
A35: {=IFERROR(INDEX('Base de données salariés'!$A$3:$A$35,SMALL(IF('Base de données salariés'!$C$3:$C$35<>"",ROW('Base de données salariés'!$C$3:$C$35)-2,""),ROW(25:25))),"")} | B35: =IFERROR(VLOOKUP(A35,Salariés,2,FALSE),"")
A36: {=IFERROR(INDEX('Base de données salariés'!$A$3:$A$35,SMALL(IF('Base de données salariés'!$C$3:$C$35<>"",ROW('Base de données salariés'!$C$3:$C$35)-2,""),ROW(26:26))),"")} | B36: =IFERROR(VLOOKUP(A36,Salariés,2,FALSE),"")
A37: {=IFERROR(INDEX('Base de données salariés'!$A$3:$A$35,SMALL(IF('Base de données salariés'!$C$3:$C$35<>"",ROW('Base de données salariés'!$C$3:$C$35)-2,""),ROW(27:27))),"")} | B37: =IFERROR(VLOOKUP(A37,Salariés,2,FALSE),"")
A38: {=IFERROR(INDEX('Base de données salariés'!$A$3:$A$35,SMALL(IF('Base de données salariés'!$C$3:$C$35<>"",ROW('Base de données salariés'!$C$3:$C$35)-2,""),ROW(28:28))),"")} | B38: =IFERROR(VLOOKUP(A38,Salariés,2,FALSE),"")
A39: {=IFERROR(INDEX('Base de données salariés'!$A$3:$A$35,SMALL(IF('Base de données salariés'!$C$3:$C$35<>"",ROW('Base de données salariés'!$C$3:$C$35)-2,""),ROW(29:29))),"")} | B39: =IFERROR(VLOOKUP(A39,Salariés,2,FALSE),"")
A40: {=IFERROR(INDEX('Base de données salariés'!$A$3:$A$35,SMALL(IF('Base de données salariés'!$C$3:$C$35<>"",ROW('Base de données salariés'!$C$3:$C$35)-2,""),ROW(30:30))),"")} | B40: =IFERROR(VLOOKUP(A40,Salariés,2,FALSE),"")
A41: {=IFERROR(INDEX('Base de données salariés'!$A$3:$A$35,SMALL(IF('Base de données salariés'!$C$3:$C$35<>"",ROW('Base de données salariés'!$C$3:$C$35)-2,""),ROW(31:31))),"")} | B41: =IFERROR(VLOOKUP(A41,Salariés,2,FALSE),"")
A42: {=IFERROR(INDEX('Base de données salariés'!$A$3:$A$35,SMALL(IF('Base de données salariés'!$C$3:$C$35<>"",ROW('Base de données salariés'!$C$3:$C$35)-2,""),ROW(32:32))),"")} | B42: =IFERROR(VLOOKUP(A42,Salariés,2,FALSE),"")
A43: {=IFERROR(INDEX('Base de données salariés'!$A$3:$A$35,SMALL(IF('Base de données salariés'!$C$3:$C$35<>"",ROW('Base de données salariés'!$C$3:$C$35)-2,""),ROW(33:33))),"")} | B43: =IFERROR(VLOOKUP(A43,Salariés,2,FALSE),"")

Sheet Mardi

Sheet Mercredi

Sheet Jeudi

Sheet Vendredi

Sheet Samedi

Sheet Dimanche
