Workbook

Sheet Feuil1
A1: 42370 | B1: Hour | C1: Commandes
A2: 42370 | B2: 0.97916667 | C2: =SUMIFS(COMMANDES!$C$2:$C$245,COMMANDES!$A$2:$A$245,Feuil1!A2,COMMANDES!$B$2:$B$245,Feuil1!B2) -> 25
A3: 42370 | B3: 0.96875 | C3: =SUMIFS(COMMANDES!$C$2:$C$245,COMMANDES!$A$2:$A$245,Feuil1!A3,COMMANDES!$B$2:$B$245,Feuil1!B3) -> 560
A4: 42370 | B4: 0.96875 | C4: =SUMIFS(COMMANDES!$C$2:$C$245,COMMANDES!$A$2:$A$245,Feuil1!A4,COMMANDES!$B$2:$B$245,Feuil1!B4) -> 560
A5: 42370 | B5: 0.96875 | C5: =SUMIFS(COMMANDES!$C$2:$C$245,COMMANDES!$A$2:$A$245,Feuil1!A5,COMMANDES!$B$2:$B$245,Feuil1!B5) -> 560
A6: 42370 | B6: 0.96875 | C6: =SUMIFS(COMMANDES!$C$2:$C$245,COMMANDES!$A$2:$A$245,Feuil1!A6,COMMANDES!$B$2:$B$245,Feuil1!B6) -> 560
A7: 42370 | B7: 0.96875 | C7: =SUMIFS(COMMANDES!$C$2:$C$245,COMMANDES!$A$2:$A$245,Feuil1!A7,COMMANDES!$B$2:$B$245,Feuil1!B7) -> 560
A8: 42370 | B8: 0.96875 | C8: =SUMIFS(COMMANDES!$C$2:$C$245,COMMANDES!$A$2:$A$245,Feuil1!A8,COMMANDES!$B$2:$B$245,Feuil1!B8) -> 560
A9: 42370 | B9: 0.95833333 | C9: =SUMIFS(COMMANDES!$C$2:$C$245,COMMANDES!$A$2:$A$245,Feuil1!A9,COMMANDES!$B$2:$B$245,Feuil1!B9) -> 400
A10: 42370 | B10: 0.95833333 | C10: =SUMIFS(COMMANDES!$C$2:$C$245,COMMANDES!$A$2:$A$245,Feuil1!A10,COMMANDES!$B$2:$B$245,Feuil1!B10) -> 400
A11: 42370 | B11: 0.97916667 | C11: =SUMIFS(COMMANDES!$C$2:$C$245,COMMANDES!$A$2:$A$245,Feuil1!A11,COMMANDES!$B$2:$B$245,Feuil1!B11) -> 25
A12: 42370 | B12: 0.96875 | C12: =SUMIFS(COMMANDES!$C$2:$C$245,COMMANDES!$A$2:$A$245,Feuil1!A12,COMMANDES!$B$2:$B$245,Feuil1!B12) -> 560
A13: 42370 | B13: 0.96875 | C13: =SUMIFS(COMMANDES!$C$2:$C$245,COMMANDES!$A$2:$A$245,Feuil1!A13,COMMANDES!$B$2:$B$245,Feuil1!B13) -> 560
... A245: 42532 | B245: 0.875 | C245: =SUMIFS(COMMANDES!$C$2:$C$245,COMMANDES!$A$2:$A$245,Feuil1!A245,COMMANDES!$B$2:$B$245,Feuil1!B245) -> 0

Sheet COMMANDES
A1: 42370 | B1: Hour | C1: Commandes
A2: 42370 | B2: 0.97916667 | C2: 25 | D2: =SUMIFS($C$2:$C$245,$A$2:$A$245,Feuil1!A2,$B$2:$B$245,Feuil1!B2) -> 25
A3: 42370 | B3: 0.96875 | C3: 60 | D3: =SUMIFS($C$2:$C$245,$A$2:$A$245,Feuil1!A3,$B$2:$B$245,Feuil1!B3) -> 560
A4: 42370 | B4: 0.96875 | C4: 100
A5: 42370 | B5: 0.96875 | C5: 100
A6: 42370 | B6: 0.96875 | C6: 100
A7: 42370 | B7: 0.96875 | C7: 100
A8: 42370 | B8: 0.96875 | C8: 100
A9: 42370 | B9: 0.95833333 | C9: 100
A10: 42370 | B10: 0.95833333 | C10: 100
A11: 42370 | B11: 0.95833333 | C11: 100
A12: 42370 | B12: 0.95833333 | C12: 100
A13: 42370 | B13: 0.94791667 | C13: 100
A14: 42370 | B14: 0.94791667 | C14: 100
A15: 42370 | B15: 0.94791667 | C15: 100
... A241: 42528 | B241: 0.875 | C241: 100
A242: 42529 | B242: 0.875
A243: 42530 | B243: 0.875
A244: 42531 | B244: 0.875
A245: 42532 | B245: 0.875
