Workbook

Sheet Traducteurs
A1: Dernière MAJ: | D1: 15/05/2019
B3: Type | C3: Numéro de chaine | D3: Numeros | E3: PV | G3: Observation
B4: MWB45-4 | C4: 15 | D4: 60693 | E4: OUI | I4: MWB45-4 | J4: 15 | K4: =VLOOKUP(B4,$B$4:$E$19,2,0) -> 15
B5: MWB45-4 | D5: 60937 | E5: OUI | K5: =VLOOKUP(K4,$C$4:$E$19,2,0) -> 60693
B6: MWB45-4 | C6: 1 | D6: 60674 | E6: OUI | K6: =VLOOKUP(VLOOKUP(B4,$B$4:$E$19,2,0),$C$4:$E$19,2,0) -> 60693
B7: MWB45-4 | C7: 3 | D7: 60694 | E7: OUI
B8: MWB45-4 | C8: 14 | D8: 60933 | E8: OUI
B9: MWB45-4 | C9: 4 | D9: 60684 | E9: OUI
B10: MWB45-4 | D10: 60935 | E10: OUI
B11: MWB45-4 | D11: 60699 | E11: OUI
B12: MWB45-4 | C12: 5 | D12: 60704 | E12: OUI
B13: MWB45-4 | C13: 2 | D13: 60657 | E13: OUI
B14: MWB45-4 | D14: 60689 | E14: OUI
B15: MWB45-4 | D15: 60691 | E15: OUI
B16: MWB45-4 | D16: 60652 | E16: OUI
B17: MWB45-4 | D17: 60383 | E17: NON
B18: MWB45-4 | D18: 1981 | E18: NON
B19: MWB45-4 | D19: 53475 | E19: NON
B20: MWB45-4 | D20: 11571 | E20: NON
A21: ajout | B21: MWB45-4 | C21: 13 | D21: 60673 | E21: OUI
A22: ajout | B22: MWB45-4 | D22: 60918 | E22: OUI
A23: ajout | B23: MWB45-4 | C23: 12 | D23: 60695 | E23: OUI
B24: MWB60-4 | C24: 2 | D24: 60912 | E24: OUI
B25: MWB60-4 | C25: 4 | D25: 60698 | E25: OUI
B26: MWB60-4 | C26: 5 | D26: 60896 | E26: OUI
B27: MWB60-4 | C27: 3 | D27: 60904 | E27: OUI
B28: MWB60-4 | C28: 1 | D28: 60557 | E28: OUI
B29: MWB60-4 | D29: 60678 | E29: OUI
B30: MWB60-4 | D30: 60899 | E30: OUI
B31: MWB60-4 | C31: 14 | D31: 60669 | E31: OUI
B32: MWB60-4 | C32: 12 | D32: 60908 | E32: OUI
B33: MWB60-4 | D33: 60680 | E33: OUI
B34: MWB60-4 | C34: 13 | D34: 60706 | E34: OUI
B35: MWB60-4 | D35: 60676 | E35: OUI
B36: MWB60-4 | D36: 60702 | E36: OUI
B37: MWB60-4 | D37: 60909 | E37: OUI
B38: MWB60-4 | D38: 60672 | E38: OUI
B39: MWB60-4 | D39: 60905 | E39: OUI
B40: MWB60-4 | D40: 60907 | E40: OUI
B41: MWB60-4 | C41: 15 | D41: 60701 | E41: OUI
...

Sheet Poste UT
B3: Type | C3: Numéro DI | D3: Numéro | E3: PV | F3: Validité | G3: Numéro Chargeur | H3: Numéro de chaine | I3: Observations
B4: EPOCH 600 | C4: 29000 UT | D4: 130512007 | E4: OUI | F4: 43635 | G4: 29000 UT | H4: 1 | L4: Fin de validité | N4: Poste UT
B5: EPOCH 600 | C5: 100200 UT | D5: 140739807 | E5: OUI | F5: 43635 | G5: 100200 UT | H5: 2 | K5: juin | L5: 5 | N5: 1
B6: EPOCH 600 | C6: 101000 UT | D6: 140739607 | E6: OUI | F6: 43777 | G6: 28400 UT | H6: 3 | K6: juillet | L6: 1 | N6: 2
B7: EPOCH 600 | C7: 29200 UT | D7: 130568307 | E7: OUI | F7: 43634 | G7: 29200 UT | H7: 4 | K7: aout | N7: 3
B8: EPOCH 600 | C8: 100600 UT | D8: 140739707 | E8: OUI | F8: 43651 | G8: 100600 UT | H8: 5 | K8: septembre | L8: 2 | N8: 4
B9: EPOCH 600 | C9: 28600 UT | D9: 130569307 | E9: OUI | F9: 43635 | G9: 28800 UT | H9: 6 | K9: octobre | L9: 1 | N9: 5
B10: EPOCH 600 | C10: 103201 UT | D10: 150946210 | E10: OUI | F10: 43822 | G10: 101200 UT | H10: 7 | K10: novembre | L10: 3 | N10: 6
B11: EPOCH 600 | C11: 103202 UT | D11: 150916310 | E11: OUI | F11: 43826 | G11: 28300 UT | H11: 8 | K11: décembre | L11: 2 | N11: 7
B12: EPOCH 600 | C12: 103203 UT | D12: 150915910 | E12: OUI | F12: 43777 | G12: 100700 UT | H12: 9 | N12: 8
B13: EPOCH 600 | C13: 100900 UT | D13: 140738907 | E13: OUI | F13: 43735 | G13: 100800 UT | H13: 10 | N13: 9
B14: EPOCH 600 | C14: 28100 UT | D14: 130567807 | E14: OUI | F14: 43761 | G14: ? | H14: 11 | N14: 10
B15: EPOCH 600 | C15: 100500 UT | D15: 140739107 | E15: OUI | F15: 43952 | G15: 28400UT | H15: 12 | N15: 11
B16: EPOCH 600 | C16: 28300 UT | D16: 130511607 | E16: OUI | F16: 43952 | G16: 103203UT | H16: 13 | N16: 12
B17: EPOCH 600 | C17: 28200 UT | D17: 130569507 | E17: OUI | F17: 43891 | G17: 103202UT | H17: 14 | N17: 13
B18: EPOCH 600 | C18: 100700 UT | D18: 140739507 | E18: OUI | F18: 43891 | G18: 103201UT | H18: 15 | N18: 14
B19: EPOCH 600 | C19: 28900 UT | D19: 130517504 | E19: OUI | F19: 43788 | G19: 28900 UT | N19: 15
N20: 16
N21: 17
N22: 18
N23: 19
N24: 20

Sheet Composition des chaines
B3: Numéro de chaine | C3: Traducteur / cable / cale | D3: Quantité | E3: Complète | F3: Observations | G3: Numéro de série | I3: Validité
B4: 1 | C4: Epoch 600 | D4: =COUNTIF('Poste UT'!H:H,"1") -> 1 | E4: NON | G4: =LOOKUP(1,'Poste UT'!H4:H19,'Poste UT'!C4:C19) -> 29000 UT | H4: =VLOOKUP(C4,'Poste UT'!$B$4:$D$19,3,0) -> 130512007 | I4: =LOOKUP(1,'Poste UT'!H4:H19,'Poste UT'!F4:F19) -> 43635 | J4: =LOOKUP(1,'Poste UT'!$H$4:$H$19,'Poste UT'!$D$4:$D$19) -> 130512007
C5: MWB45-4 | D5: 1 | E5: NON | G5: 60674 | H5: =VLOOKUP(VLOOKUP(#REF!,$B$4:$E$19,2,0),$C$4:$E$19,2,0) -> #REF!
C6: MWB60-4 | D6: 1 | E6: NON | G6: 60557 | H6: =VLOOKUP(C6,Traducteurs!$B$4:$D$212,2,0) -> 2 | L6: MWB45-4 equivalent au AM4R
C7: MSEB4 | D7: 1 | E7: NON | G7: 60712 | H7: =VLOOKUP(C7,Traducteurs!$B$4:$D$212,2,0) -> 0
C8: MWB45-2 | D8: 1 | E8: NON | G8: 60350 | H8: =VLOOKUP(C8,Traducteurs!$B$4:$D$212,2,0) -> 0
C9: MWB60-2 | D9: 1 | E9: NON | G9: 60266 | H9: =VLOOKUP(C9,Traducteurs!$B$4:$D$212,2,0) -> 0
C10: QC5 | D10: 1 | E10: NON | G10: 15F01090 | H10: =VLOOKUP(C10,Traducteurs!$B$4:$D$212,2,0) -> 0
C11: QC2.25 | D11: 1 | E11: NON | G11: 13C01L80 | H11: =VLOOKUP(C11,Traducteurs!$B$4:$D$212,2,0) -> 0
C12: ABSA4T 45° | D12: 1 | E12: NON | H12: =VLOOKUP(C12,Traducteurs!$B$4:$D$212,2,0) -> #N/A
C13: ABSA4T 60° | D13: 1 | E13: NON | H13: =VLOOKUP(C13,Traducteurs!$B$4:$D$212,2,0) -> #N/A
C14: VS60 | D14: 0 | H14: =VLOOKUP(C14,Traducteurs!$B$4:$D$212,2,0) -> 3
C15: V2 | D15: 1 | E15: NON | H15: =VLOOKUP(C15,Traducteurs!$B$4:$D$212,2,0) -> #N/A
C16: lemo1-lemo00 | D16: 1 | E16: NON | H16: =VLOOKUP(C16,Traducteurs!$B$4:$D$212,2,0) -> #N/A
C17: lemo1-µdot | D17: 1 | E17: NON | H17: =VLOOKUP(C17,Traducteurs!$B$4:$D$212,2,0) -> #N/A
C18: double lemo1-lemo00 | D18: 1 | E18: NON | H18: =VLOOKUP(C18,Traducteurs!$B$4:$D$212,2,0) -> #N/A
C19: Thermometre | D19: 0 | E19: NON | H19: =VLOOKUP(C19,Traducteurs!$B$4:$D$212,2,0) -> #N/A
C20: Rugotest n°2 | D20: 0 | E20: NON | H20: =VLOOKUP(C20,Traducteurs!$B$4:$D$212,2,0) -> #N/A
B21: 2 | C21: Epoch 600 | D21: =COUNTIF('Poste UT'!H:H,"2") -> 1 | E21: NON | G21: =LOOKUP(2,'Poste UT'!H4:H19,'Poste UT'!C4:C19) -> 100200 UT | H21: =VLOOKUP(C21,Traducteurs!$B$4:$D$212,2,0) -> #N/A | I21: =LOOKUP(2,'Poste UT'!H4:H19,'Poste UT'!F4:F19) -> 43635
C22: MWB45-4 | D22: 1 | E22: NON | G22: 60657
C23: MWB60-4 | D23: 1 | E23: NON | G23: 60706
C24: MSEB4 | D24: 1 | E24: NON | G24: 60710
C25: MWB45-2 | D25: 1 | E25: NON | G25: 60355
C26: MWB60-2 | D26: 1 | E26: NON | G26: 60156
C27: QC5 | D27: 1 | E27: NON | G27: 15F0108Y
C28: QC2.25 | D28: 1 | E28: NON | G28: 13H01L10
C29: ABSA4T 45° | D29: 1 | E29: NON
C30: ABSA4T 60° | D30: 1 | E30: NON
C31: VS60 | D31: 0
C32: V2 | D32: 1 | E32: NON
C33: lemo1-lemo00 | D33: 1 | E33: NON
C34: lemo1-µdot | D34: 1 | E34: NON
C35: double lemo1-lemo00 | D35: 1 | E35: NON
C36: Thermometre | D36: 0 | E36: NON
C37: Rugotest n°2 | D37: 0 | E37: NON
B38: 3 | C38: Epoch 600 | D38: =COUNTIF('Poste UT'!H:H,"3") -> 1 | E38: NON | G38: =LOOKUP(3,'Poste UT'!H4:H19,'Poste UT'!C4:C19) -> 101000 UT | H38: =LOOKUP(3,'Poste UT'!H4:H19,'Poste UT'!D4:D19) -> 140739607 | I38: =LOOKUP(3,'Poste UT'!H4:H19,'Poste UT'!F4:F19) -> 43777
C39: MWB45-4 | D39: 2 | E39: NON | G39: 60694 | H39: 60933
C40: MWB60-4 | D40: 2 | E40: NON | G40: 60904 | H40: 60678
C41: MSEK4 | D41: 1 | E41: NON | G41: 711
C42: MWB45-2 | D42: 1 | E42: NON | G42: 60349
...
