Workbook

Sheet SQY
A1: Absences
A3: M | B3: Maladie
A4: C | B4: Congés
A5: TP | B5: Temps partiel
B7: Column1 | C7: Column2 | D7: Column3 | E7: Column4 | F7: Column5 | G7: Column6 | H7: Column7 | I7: Column8 | J7: Column9 | K7: Column10 | L7: Column11 | M7: Column12 | N7: Column13 | O7: Column14 | P7: Column15 | Q7: Column16 | R7: Column17 | S7: Column18 | T7: Column19 | U7: Column20 | V7: Column21 | W7: Column22 | X7: Column23 | Y7: Column24 | Z7: Column25 | AA7: Column26 | AB7: Column27 | AC7: Column28 | AD7: Column29 | AE7: Column30 | AF7: Column31 | AG7: Column32 | AH7: Column33 | AI7: Column34 | AJ7: Column35 | AK7: Column36 | AL7: Column37 | AM7: Column38 | AN7: Column39 | AO7: Column40 | AP7: Column41 | AQ7: Column42 | AR7: Column43 | AS7: Column44 | AT7: Column45 | AU7: Column46 | AV7: Column47 | AW7: Column48 | AX7: Column49 | AY7: Column50 | AZ7: Column51 | BA7: Column52 | BB7: Column53 | BC7: Column54 | BD7: Column55 | BE7: Column56 | BF7: Column57 | BG7: Column58 | BH7: Column59 | BI7: Column60 | BJ7: Column61 | BK7: Column62 | BL7: Column63 | BM7: Column64 | BN7: Column65 | BO7: Column66 | BP7: Column67 | BQ7: Column68 | BR7: Column69 | BS7: Column70 | BT7: Column71 | BU7: Column72 | BV7: Column73 | BW7: Column74 | BX7: Column75 | BY7: Column76 | BZ7: Column77 | CA7: Column78 | CB7: Column79 | CC7: Column80 | CD7: Column81 | CE7: Column82 | CF7: Column83 | CG7: Column84 | CH7: Column85 | CI7: Column86 | CJ7: Column87 | CK7: Column88 | CL7: Column89 | CM7: Column90 | CN7: Column91 | CO7: Column92 | CP7: Column93 | CQ7: Column94 | CR7: Column95 | CS7: Column96 | CT7: Column97 | CU7: Column98 | CV7: Column99 | CW7: Column100 | CX7: Column101 | CY7: Column102 | CZ7: Column103 | DA7: Column104 | DB7: Column105 | DC7: Column106 | DD7: Column107 | DE7: Column108 | DF7: Column109 | DG7: Column110 | DH7: Column111 | DI7: Column112 | DJ7: Column113 | DK7: Column114 | DL7: Column115 | DM7: Column116 | DN7: Column117 | DO7: Column118 | DP7: Column119 | DQ7: Column120 | DR7: Column121 | DS7: Column122 | DT7: Column123 | DU7: Column124 | DV7: Column125 | DW7: Column126 | DX7: Column127 | DY7: Column128 | DZ7: Column129 | EA7: Column130 | EB7: Column131 | EC7: Column132 | ED7: Column133 | EE7: Column134 | EF7: Column135 | EG7: Column136 | EH7: Column137 | EI7: Column138 | EJ7: Column139 | EK7: Column140 | EL7: Column141 | EM7: Column142 | EN7: Column143 | EO7: Column144 | EP7: Column145 | EQ7: Column146 | ER7: Column147 | ES7: Column148 | ET7: Column149 | EU7: Column150 | EV7: Column151 | EW7: Column152 | EX7: Column153 | EY7: Column154 | EZ7: Column155 | FA7: Column156 | FB7: Column157 | FC7: Column158 | FD7: Column159 | FE7: Column160 | FF7: Column161 | FG7: Column162 | FH7: Column163 | FI7: Column164 | FJ7: Column165 | FK7: Column166 | FL7: Column167 | FM7: Column168 | FN7: Column169 | FO7: Column170 | FP7: Column171 | FQ7: Column172 | FR7: Column173 | FS7: Column174 | FT7: Column175 | FU7: Column176 | FV7: Column177 | FW7: Column178 | FX7: Column179 | FY7: Column180 | FZ7: Column181 | GA7: Column182 | GB7: Column183 | GC7: Column184 | GD7: Column185 | GE7: Column186 | GF7: Column187 | GG7: Column188 | GH7: Column189 | GI7: Column190 | GJ7: Column191 | GK7: Column192 | GL7: Column193 | GM7: Column194 | GN7: Column195 | GO7: Column196 | GP7: Column197 | GQ7: Column198 | GR7: Column199 | GS7: Column200 | GT7: Column201 | GU7: Column202 | GV7: Column203 | GW7: Column204 | GX7: Column205 | GY7: Column206 | GZ7: Column207 | HA7: Column208 | HB7: Column209 | HC7: Column210 | HD7: Column211 | HE7: Column212 | HF7: Column213 | HG7: Column214 | HH7: Column215 | HI7: Column216 | HJ7: Column217 | HK7: Column218 | HL7: Column219 | HM7: Column220 | HN7: Column221 | HO7: Column222 | HP7: Column223 | HQ7: Column224 | HR7: Column225 | HS7: Column226 | HT7: Column227 | HU7: Column228 | HV7: Column229 | HW7: Column230 | HX7: Column231 | HY7: Column232 | HZ7: Column233 | IA7: Column234 | IB7: Column235 | IC7: Column236 | ID7: Column237 | IE7: Column238 | IF7: Column239 | IG7: Column240 | IH7: Column241 | II7: Column242 | IJ7: Column243 | IK7: Column244 | IL7: Column245 | IM7: Column246 | IN7: Column247 | IO7: Column248 | IP7: Column249 | IQ7: Column250 | IR7: Column251 | IS7: Column252 | IT7: Column253 | IU7: Column254 | IV7: Column255 | IW7: Column256 | IX7: Column257 | IY7: Column258 | IZ7: Column259 | JA7: Column260 | JB7: Column261 | JC7: Column262 | JD7: Column263 | JE7: Column264 | JF7: Column265 | JG7: Column266 | JH7: Column267 | JI7: Column268 | JJ7: Column269 | JK7: Column270 | JL7: Column271 | JM7: Column272 | JN7: Column273 | JO7: Column274 | JP7: Column275 | JQ7: Column276 | JR7: Column277 | JS7: Column278 | JT7: Column279 | JU7: Column280 | JV7: Column281 | JW7: Column282 | JX7: Column283 | JY7: Column284 | JZ7: Column285 | KA7: Column286 | KB7: Column287 | KC7: Column288 | KD7: Column289 | KE7: Column290 | KF7: Column291 | KG7: Column292 | KH7: Column293 | KI7: Column294 | KJ7: Column295 | KK7: Column296 | KL7: Column297 | KM7: Column298 | KN7: Column299 | KO7: Column300 | KP7: Column301 | KQ7: Column302 | KR7: Column303 | KS7: Column304 | KT7: Column305 | KU7: Column306 | KV7: Column307 | KW7: Column308 | KX7: Column309 | KY7: Column310 | KZ7: Column311 | LA7: Column312 | LB7: Column313 | LC7: Column314 | LD7: Column315 | LE7: Column316 | LF7: Column317 | LG7: Column318 | LH7: Column319
B8: 2019 | C8: 1 | H8: ="S"&C8 -> S1 | I8: =C8+1 -> 2 | N8: ="S"&I8 -> S2 | O8: =I8+1 -> 3 | T8: ="S"&O8 -> S3 | U8: =O8+1 -> 4 | Z8: ="S"&U8 -> S4 | AA8: =U8+1 -> 5 | AF8: ="S"&AA8 -> S5 | AG8: =AA8+1 -> 6 | AL8: ="S"&AG8 -> S6 | AM8: =AG8+1 -> 7 | AR8: ="S"&AM8 -> S7 | AS8: =AM8+1 -> 8 | AX8: ="S"&AS8 -> S8 | AY8: =AS8+1 -> 9 | BD8: ="S"&AY8 -> S9 | BE8: =AY8+1 -> 10 | BJ8: ="S"&BE8 -> S10 | BK8: =BE8+1 -> 11 | BP8: ="S"&BK8 -> S11 | BQ8: =BK8+1 -> 12 | BV8: ="S"&BQ8 -> S12 | BW8: =BQ8+1 -> 13 | CB8: ="S"&BW8 -> S13 | CC8: =BW8+1 -> 14 | CH8: ="S"&CC8 -> S14 | CI8: =CC8+1 -> 15 | CN8: ="S"&CI8 -> S15 | CO8: =CI8+1 -> 16 | CT8: ="S"&CO8 -> S16 | CU8: =CO8+1 -> 17 | CZ8: ="S"&CU8 -> S17 | DA8: =CU8+1 -> 18 | DF8: ="S"&DA8 -> S18 | DG8: =DA8+1 -> 19 | DL8: ="S"&DG8 -> S19 | DM8: =DG8+1 -> 20 | DR8: ="S"&DM8 -> S20 | DS8: =DM8+1 -> 21 | DX8: ="S"&DS8 -> S21 | DY8: =DS8+1 -> 22 | ED8: ="S"&DY8 -> S22 | EE8: =DY8+1 -> 23 | EJ8: ="S"&EE8 -> S23 | EK8: =EE8+1 -> 24 | EP8: ="S"&EK8 -> S24 | EQ8: =EK8+1 -> 25 | EV8: ="S"&EQ8 -> S25 | EW8: =EQ8+1 -> 26 | FB8: ="S"&EW8 -> S26 | FC8: =EW8+1 -> 27 | FH8: ="S"&FC8 -> S27 | FI8: =FC8+1 -> 28 | FN8: ="S"&FI8 -> S28 | FO8: =FI8+1 -> 29 | FT8: ="S"&FO8 -> S29 | FU8: =FO8+1 -> 30 | FZ8: ="S"&FU8 -> S30 | GA8: =FU8+1 -> 31 | GF8: ="S"&GA8 -> S31 | GG8: =GA8+1 -> 32 | GL8: ="S"&GG8 -> S32 | GM8: =GG8+1 -> 33 | GR8: ="S"&GM8 -> S33 | GS8: =GM8+1 -> 34 | GX8: ="S"&GS8 -> S34 | GY8: =GS8+1 -> 35 | HD8: ="S"&GY8 -> S35 | HE8: =GY8+1 -> 36 | HJ8: ="S"&HE8 -> S36 | HK8: =HE8+1 -> 37 | HP8: ="S"&HK8 -> S37 | HQ8: =HK8+1 -> 38 | HV8: ="S"&HQ8 -> S38 | HW8: =HQ8+1 -> 39 | IB8: ="S"&HW8 -> S39 | IC8: =HW8+1 -> 40 | IH8: ="S"&IC8 -> S40 | II8: =IC8+1 -> 41 | IN8: ="S"&II8 -> S41 | IO8: =II8+1 -> 42 | IT8: ="S"&IO8 -> S42 | IU8: =IO8+1 -> 43 | IZ8: ="S"&IU8 -> S43 | JA8: =IU8+1 -> 44 | JF8: ="S"&JA8 -> S44 | JG8: =JA8+1 -> 45 | JL8: ="S"&JG8 -> S45 | JM8: =JG8+1 -> 46 | JR8: ="S"&JM8 -> S46 | JS8: =JM8+1 -> 47 | JX8: ="S"&JS8 -> S47 | JY8: =JS8+1 -> 48 | KD8: ="S"&JY8 -> S48 | KE8: =JY8+1 -> 49 | KJ8: ="S"&KE8 -> S49 | KK8: =KE8+1 -> 50 | KP8: ="S"&KK8 -> S50 | KQ8: =KK8+1 -> 51 | KV8: ="S"&KQ8 -> S51 | KW8: =KQ8+1 -> 52 | LB8: ="S"&KW8 -> S52 | LC8: =KW8+1 -> 53 | LH8: ="S"&LC8 -> S53
B9: CC SQY | C9: =7*C8+DATE($B$8,1,3)-WEEKDAY(DATE($B$8,1,3))-5 -> 43465 | D9: =C9+1 -> 43466 | E9: =D9+1 -> 43467 | F9: =E9+1 -> 43468 | G9: =F9+1 -> 43469 | I9: =7*I8+DATE($B$8,1,3)-WEEKDAY(DATE($B$8,1,3))-5 -> 43472 | J9: =I9+1 -> 43473 | K9: =J9+1 -> 43474 | L9: =K9+1 -> 43475 | M9: =L9+1 -> 43476 | O9: =7*O8+DATE($B$8,1,3)-WEEKDAY(DATE($B$8,1,3))-5 -> 43479 | P9: =O9+1 -> 43480 | Q9: =P9+1 -> 43481 | R9: =Q9+1 -> 43482 | S9: =R9+1 -> 43483 | U9: =7*U8+DATE($B$8,1,3)-WEEKDAY(DATE($B$8,1,3))-5 -> 43486 | V9: =U9+1 -> 43487 | W9: =V9+1 -> 43488 | X9: =W9+1 -> 43489 | Y9: =X9+1 -> 43490 | AA9: =7*AA8+DATE($B$8,1,3)-WEEKDAY(DATE($B$8,1,3))-5 -> 43493 | AB9: =AA9+1 -> 43494 | AC9: =AB9+1 -> 43495 | AD9: =AC9+1 -> 43496 | AE9: =AD9+1 -> 43497 | AG9: =7*AG8+DATE($B$8,1,3)-WEEKDAY(DATE($B$8,1,3))-5 -> 43500 | AH9: =AG9+1 -> 43501 | AI9: =AH9+1 -> 43502 | AJ9: =AI9+1 -> 43503 | AK9: =AJ9+1 -> 43504 | AM9: =7*AM8+DATE($B$8,1,3)-WEEKDAY(DATE($B$8,1,3))-5 -> 43507 | AN9: =AM9+1 -> 43508 | AO9: =AN9+1 -> 43509 | AP9: =AO9+1 -> 43510 | AQ9: =AP9+1 -> 43511 | AS9: =7*AS8+DATE($B$8,1,3)-WEEKDAY(DATE($B$8,1,3))-5 -> 43514 | AT9: =AS9+1 -> 43515 | AU9: =AT9+1 -> 43516 | AV9: =AU9+1 -> 43517 | AW9: =AV9+1 -> 43518 | AY9: =7*AY8+DATE($B$8,1,3)-WEEKDAY(DATE($B$8,1,3))-5 -> 43521 | AZ9: =AY9+1 -> 43522 | BA9: =AZ9+1 -> 43523 | BB9: =BA9+1 -> 43524 | BC9: =BB9+1 -> 43525 | BE9: =7*BE8+DATE($B$8,1,3)-WEEKDAY(DATE($B$8,1,3))-5 -> 43528 | BF9: =BE9+1 -> 43529 | BG9: =BF9+1 -> 43530 | BH9: =BG9+1 -> 43531 | BI9: =BH9+1 -> 43532 | BK9: =7*BK8+DATE($B$8,1,3)-WEEKDAY(DATE($B$8,1,3))-5 -> 43535 | BL9: =BK9+1 -> 43536 | BM9: =BL9+1 -> 43537 | BN9: =BM9+1 -> 43538 | BO9: =BN9+1 -> 43539 | BQ9: =7*BQ8+DATE($B$8,1,3)-WEEKDAY(DATE($B$8,1,3))-5 -> 43542 | BR9: =BQ9+1 -> 43543 | BS9: =BR9+1 -> 43544 | BT9: =BS9+1 -> 43545 | BU9: =BT9+1 -> 43546 | BW9: =7*BW8+DATE($B$8,1,3)-WEEKDAY(DATE($B$8,1,3))-5 -> 43549 | BX9: =BW9+1 -> 43550 | BY9: =BX9+1 -> 43551 | BZ9: =BY9+1 -> 43552 | CA9: =BZ9+1 -> 43553 | CC9: =7*CC8+DATE($B$8,1,3)-WEEKDAY(DATE($B$8,1,3))-5 -> 43556 | CD9: =CC9+1 -> 43557 | CE9: =CD9+1 -> 43558 | CF9: =CE9+1 -> 43559 | CG9: =CF9+1 -> 43560 | CI9: =7*CI8+DATE($B$8,1,3)-WEEKDAY(DATE($B$8,1,3))-5 -> 43563 | CJ9: =CI9+1 -> 43564 | CK9: =CJ9+1 -> 43565 | CL9: =CK9+1 -> 43566 | CM9: =CL9+1 -> 43567 | CO9: =7*CO8+DATE($B$8,1,3)-WEEKDAY(DATE($B$8,1,3))-5 -> 43570 | CP9: =CO9+1 -> 43571 | CQ9: =CP9+1 -> 43572 | CR9: =CQ9+1 -> 43573 | CS9: =CR9+1 -> 43574 | CU9: =7*CU8+DATE($B$8,1,3)-WEEKDAY(DATE($B$8,1,3))-5 -> 43577 | CV9: =CU9+1 -> 43578 | CW9: =CV9+1 -> 43579 | CX9: =CW9+1 -> 43580 | CY9: =CX9+1 -> 43581 | DA9: =7*DA8+DATE($B$8,1,3)-WEEKDAY(DATE($B$8,1,3))-5 -> 43584 | DB9: =DA9+1 -> 43585 | DC9: =DB9+1 -> 43586 | DD9: =DC9+1 -> 43587 | DE9: =DD9+1 -> 43588 | DG9: =7*DG8+DATE($B$8,1,3)-WEEKDAY(DATE($B$8,1,3))-5 -> 43591 | DH9: =DG9+1 -> 43592 | DI9: =DH9+1 -> 43593 | DJ9: =DI9+1 -> 43594 | DK9: =DJ9+1 -> 43595 | DM9: =7*DM8+DATE($B$8,1,3)-WEEKDAY(DATE($B$8,1,3))-5 -> 43598 | DN9: =DM9+1 -> 43599 | DO9: =DN9+1 -> 43600 | DP9: =DO9+1 -> 43601 | DQ9: =DP9+1 -> 43602 | DS9: =7*DS8+DATE($B$8,1,3)-WEEKDAY(DATE($B$8,1,3))-5 -> 43605 | DT9: =DS9+1 -> 43606 | DU9: =DT9+1 -> 43607 | DV9: =DU9+1 -> 43608 | DW9: =DV9+1 -> 43609 | DY9: =7*DY8+DATE($B$8,1,3)-WEEKDAY(DATE($B$8,1,3))-5 -> 43612 | DZ9: =DY9+1 -> 43613 | EA9: =DZ9+1 -> 43614 | EB9: =EA9+1 -> 43615 | EC9: =EB9+1 -> 43616 | EE9: =7*EE8+DATE($B$8,1,3)-WEEKDAY(DATE($B$8,1,3))-5 -> 43619 | EF9: =EE9+1 -> 43620 | EG9: =EF9+1 -> 43621 | EH9: =EG9+1 -> 43622 | EI9: =EH9+1 -> 43623 | EK9: =7*EK8+DATE($B$8,1,3)-WEEKDAY(DATE($B$8,1,3))-5 -> 43626 | EL9: =EK9+1 -> 43627 | EM9: =EL9+1 -> 43628 | EN9: =EM9+1 -> 43629 | EO9: =EN9+1 -> 43630 | EQ9: =7*EQ8+DATE($B$8,1,3)-WEEKDAY(DATE($B$8,1,3))-5 -> 43633 | ER9: =EQ9+1 -> 43634 | ES9: =ER9+1 -> 43635 | ET9: =ES9+1 -> 43636 | EU9: =ET9+1 -> 43637 | EW9: =7*EW8+DATE($B$8,1,3)-WEEKDAY(DATE($B$8,1,3))-5 -> 43640 | EX9: =EW9+1 -> 43641 | EY9: =EX9+1 -> 43642 | EZ9: =EY9+1 -> 43643 | FA9: =EZ9+1 -> 43644 | FC9: =7*FC8+DATE($B$8,1,3)-WEEKDAY(DATE($B$8,1,3))-5 -> 43647 | FD9: =FC9+1 -> 43648 | FE9: =FD9+1 -> 43649 | FF9: =FE9+1 -> 43650 | FG9: =FF9+1 -> 43651 | FI9: =7*FI8+DATE($B$8,1,3)-WEEKDAY(DATE($B$8,1,3))-5 -> 43654 | FJ9: =FI9+1 -> 43655 | FK9: =FJ9+1 -> 43656 | FL9: =FK9+1 -> 43657 | FM9: =FL9+1 -> 43658 | FO9: =7*FO8+DATE($B$8,1,3)-WEEKDAY(DATE($B$8,1,3))-5 -> 43661 | FP9: =FO9+1 -> 43662 | FQ9: =FP9+1 -> 43663 | FR9: =FQ9+1 -> 43664 | FS9: =FR9+1 -> 43665 | FU9: =7*FU8+DATE($B$8,1,3)-WEEKDAY(DATE($B$8,1,3))-5 -> 43668 | FV9: =FU9+1 -> 43669 | FW9: =FV9+1 -> 43670 | FX9: =FW9+1 -> 43671 | FY9: =FX9+1 -> 43672 | GA9: =7*GA8+DATE($B$8,1,3)-WEEKDAY(DATE($B$8,1,3))-5 -> 43675 | GB9: =GA9+1 -> 43676 | GC9: =GB9+1 -> 43677 | GD9: =GC9+1 -> 43678 | GE9: =GD9+1 -> 43679 | GG9: =7*GG8+DATE($B$8,1,3)-WEEKDAY(DATE($B$8,1,3))-5 -> 43682 | GH9: =GG9+1 -> 43683 | GI9: =GH9+1 -> 43684 | GJ9: =GI9+1 -> 43685 | GK9: =GJ9+1 -> 43686 | GM9: =7*GM8+DATE($B$8,1,3)-WEEKDAY(DATE($B$8,1,3))-5 -> 43689 | GN9: =GM9+1 -> 43690 | GO9: =GN9+1 -> 43691 | GP9: =GO9+1 -> 43692 | GQ9: =GP9+1 -> 43693 | GS9: =7*GS8+DATE($B$8,1,3)-WEEKDAY(DATE($B$8,1,3))-5 -> 43696 | GT9: =GS9+1 -> 43697 | GU9: =GT9+1 -> 43698 | GV9: =GU9+1 -> 43699 | GW9: =GV9+1 -> 43700 | GY9: =7*GY8+DATE($B$8,1,3)-WEEKDAY(DATE($B$8,1,3))-5 -> 43703 | GZ9: =GY9+1 -> 43704 | HA9: =GZ9+1 -> 43705 | HB9: =HA9+1 -> 43706 | HC9: =HB9+1 -> 43707 | HE9: =7*HE8+DATE($B$8,1,3)-WEEKDAY(DATE($B$8,1,3))-5 -> 43710 | HF9: =HE9+1 -> 43711 | HG9: =HF9+1 -> 43712 | HH9: =HG9+1 -> 43713 | HI9: =HH9+1 -> 43714 | HK9: =7*HK8+DATE($B$8,1,3)-WEEKDAY(DATE($B$8,1,3))-5 -> 43717 | HL9: =HK9+1 -> 43718 | HM9: =HL9+1 -> 43719 | HN9: =HM9+1 -> 43720 | HO9: =HN9+1 -> 43721 | HQ9: =7*HQ8+DATE($B$8,1,3)-WEEKDAY(DATE($B$8,1,3))-5 -> 43724 | HR9: =HQ9+1 -> 43725 | HS9: =HR9+1 -> 43726 | HT9: =HS9+1 -> 43727 | HU9: =HT9+1 -> 43728 | HW9: =7*HW8+DATE($B$8,1,3)-WEEKDAY(DATE($B$8,1,3))-5 -> 43731 | HX9: =HW9+1 -> 43732 | HY9: =HX9+1 -> 43733 | HZ9: =HY9+1 -> 43734 | IA9: =HZ9+1 -> 43735 | IC9: =7*IC8+DATE($B$8,1,3)-WEEKDAY(DATE($B$8,1,3))-5 -> 43738 | ID9: =IC9+1 -> 43739 | IE9: =ID9+1 -> 43740 | IF9: =IE9+1 -> 43741 | IG9: =IF9+1 -> 43742 | II9: =7*II8+DATE($B$8,1,3)-WEEKDAY(DATE($B$8,1,3))-5 -> 43745 | IJ9: =II9+1 -> 43746 | IK9: =IJ9+1 -> 43747 | IL9: =IK9+1 -> 43748 | IM9: =IL9+1 -> 43749 | IO9: =7*IO8+DATE($B$8,1,3)-WEEKDAY(DATE($B$8,1,3))-5 -> 43752 | IP9: =IO9+1 -> 43753 | IQ9: =IP9+1 -> 43754 | IR9: =IQ9+1 -> 43755 | IS9: =IR9+1 -> 43756 | IU9: =7*IU8+DATE($B$8,1,3)-WEEKDAY(DATE($B$8,1,3))-5 -> 43759 | IV9: =IU9+1 -> 43760 | IW9: =IV9+1 -> 43761 | IX9: =IW9+1 -> 43762 | IY9: =IX9+1 -> 43763 | JA9: =7*JA8+DATE($B$8,1,3)-WEEKDAY(DATE($B$8,1,3))-5 -> 43766 | JB9: =JA9+1 -> 43767 | JC9: =JB9+1 -> 43768 | JD9: =JC9+1 -> 43769 | JE9: =JD9+1 -> 43770 | JG9: =7*JG8+DATE($B$8,1,3)-WEEKDAY(DATE($B$8,1,3))-5 -> 43773 | JH9: =JG9+1 -> 43774 | JI9: =JH9+1 -> 43775 | JJ9: =JI9+1 -> 43776 | JK9: =JJ9+1 -> 43777 | JM9: =7*JM8+DATE($B$8,1,3)-WEEKDAY(DATE($B$8,1,3))-5 -> 43780 | JN9: =JM9+1 -> 43781 | JO9: =JN9+1 -> 43782 | JP9: =JO9+1 -> 43783 | JQ9: =JP9+1 -> 43784 | JS9: =7*JS8+DATE($B$8,1,3)-WEEKDAY(DATE($B$8,1,3))-5 -> 43787 | JT9: =JS9+1 -> 43788 | JU9: =JT9+1 -> 43789 | JV9: =JU9+1 -> 43790 | JW9: =JV9+1 -> 43791 | JY9: =7*JY8+DATE($B$8,1,3)-WEEKDAY(DATE($B$8,1,3))-5 -> 43794 | JZ9: =JY9+1 -> 43795 | KA9: =JZ9+1 -> 43796 | KB9: =KA9+1 -> 43797 | KC9: =KB9+1 -> 43798 | KE9: =7*KE8+DATE($B$8,1,3)-WEEKDAY(DATE($B$8,1,3))-5 -> 43801 | KF9: =KE9+1 -> 43802 | KG9: =KF9+1 -> 43803 | KH9: =KG9+1 -> 43804 | KI9: =KH9+1 -> 43805 | KK9: =7*KK8+DATE($B$8,1,3)-WEEKDAY(DATE($B$8,1,3))-5 -> 43808 | KL9: =KK9+1 -> 43809 | KM9: =KL9+1 -> 43810 | KN9: =KM9+1 -> 43811 | KO9: =KN9+1 -> 43812 | KQ9: =7*KQ8+DATE($B$8,1,3)-WEEKDAY(DATE($B$8,1,3))-5 -> 43815 | KR9: =KQ9+1 -> 43816 | KS9: =KR9+1 -> 43817 | KT9: =KS9+1 -> 43818 | KU9: =KT9+1 -> 43819 | KW9: =7*KW8+DATE($B$8,1,3)-WEEKDAY(DATE($B$8,1,3))-5 -> 43822 | KX9: =KW9+1 -> 43823 | KY9: =KX9+1 -> 43824 | KZ9: =KY9+1 -> 43825 | LA9: =KZ9+1 -> 43826 | LC9: =7*LC8+DATE($B$8,1,3)-WEEKDAY(DATE($B$8,1,3))-5 -> 43829 | LD9: =LC9+1 -> 43830 | LE9: =LD9+1 -> 43831 | LF9: =LE9+1 -> 43832 | LG9: =LF9+1 -> 43833
B10: cc1
B11: cc1 | C11: M
B12: cc3 | C12: C
B13: cc4
B14: cc5
B15: cc6
B16: cc7 | E16: TP
B17: cc8
B18: cc9
B19: cc10
B20: cc11
B21: cc12 | C21: C | E21: M
B22: cc13
B23: cc14 | E23: C
B24: cc15 | E24: C
B25: cc16 | E25: C | F25: M | G25: TP
B26: cc17
B27: cc18
B28: cc20
B29: cc21
B30: cc22
B31: cc23

Sheet ANG
A1: Absences
A3: M | B3: Maladie
A4: C | B4: Congés
A5: TP | B5: Temps partiel
C6: =IF(ISNA(VLOOKUP(C9,Tableau5[#All],2,0)),"",VLOOKUP(C9,Tableau5[#All],2,0)) | D6: =IF(ISNA(VLOOKUP(D9,Tableau5[#All],2,0)),"",VLOOKUP(D9,Tableau5[#All],2,0)) | E6: =IF(ISNA(VLOOKUP(E9,Tableau5[#All],2,0)),"",VLOOKUP(E9,Tableau5[#All],2,0)) | F6: =IF(ISNA(VLOOKUP(F9,Tableau5[#All],2,0)),"",VLOOKUP(F9,Tableau5[#All],2,0)) | G6: =IF(ISNA(VLOOKUP(G9,Tableau5[#All],2,0)),"",VLOOKUP(G9,Tableau5[#All],2,0)) | H6: =IF(ISNA(VLOOKUP(H9,Tableau5[#All],2,0)),"",VLOOKUP(H9,Tableau5[#All],2,0)) | I6: =IF(ISNA(VLOOKUP(I9,Tableau5[#All],2,0)),"",VLOOKUP(I9,Tableau5[#All],2,0)) | J6: =IF(ISNA(VLOOKUP(J9,Tableau5[#All],2,0)),"",VLOOKUP(J9,Tableau5[#All],2,0)) | ... LH6: =IF(ISNA(VLOOKUP(LH9,Tableau5[#All],2,0)),"",VLOOKUP(LH9,Tableau5[#All],2,0))
B7: Column1 | C7: Column2 | D7: Column3 | E7: Column4 | F7: Column5 | G7: Column6 | H7: Column7 | I7: Column8 | J7: Column9 | K7: Column10 | L7: Column11 | M7: Column12 | N7: Column13 | O7: Column14 | P7: Column15 | Q7: Column16 | R7: Column17 | S7: Column18 | T7: Column19 | U7: Column20 | V7: Column21 | W7: Column22 | X7: Column23 | Y7: Column24 | Z7: Column25 | AA7: Column26 | AB7: Column27 | AC7: Column28 | AD7: Column29 | AE7: Column30 | AF7: Column31 | AG7: Column32 | AH7: Column33 | AI7: Column34 | AJ7: Column35 | AK7: Column36 | AL7: Column37 | AM7: Column38 | AN7: Column39 | AO7: Column40 | AP7: Column41 | AQ7: Column42 | AR7: Column43 | AS7: Column44 | AT7: Column45 | AU7: Column46 | AV7: Column47 | AW7: Column48 | AX7: Column49 | AY7: Column50 | AZ7: Column51 | BA7: Column52 | BB7: Column53 | BC7: Column54 | BD7: Column55 | BE7: Column56 | BF7: Column57 | BG7: Column58 | BH7: Column59 | BI7: Column60 | BJ7: Column61 | BK7: Column62 | BL7: Column63 | BM7: Column64 | BN7: Column65 | BO7: Column66 | BP7: Column67 | BQ7: Column68 | BR7: Column69 | BS7: Column70 | BT7: Column71 | BU7: Column72 | BV7: Column73 | BW7: Column74 | BX7: Column75 | BY7: Column76 | BZ7: Column77 | CA7: Column78 | CB7: Column79 | CC7: Column80 | CD7: Column81 | CE7: Column82 | CF7: Column83 | CG7: Column84 | CH7: Column85 | CI7: Column86 | CJ7: Column87 | CK7: Column88 | CL7: Column89 | CM7: Column90 | CN7: Column91 | CO7: Column92 | CP7: Column93 | CQ7: Column94 | CR7: Column95 | CS7: Column96 | CT7: Column97 | CU7: Column98 | CV7: Column99 | CW7: Column100 | CX7: Column101 | CY7: Column102 | CZ7: Column103 | DA7: Column104 | DB7: Column105 | DC7: Column106 | DD7: Column107 | DE7: Column108 | DF7: Column109 | DG7: Column110 | DH7: Column111 | DI7: Column112 | DJ7: Column113 | DK7: Column114 | DL7: Column115 | DM7: Column116 | DN7: Column117 | DO7: Column118 | DP7: Column119 | DQ7: Column120 | DR7: Column121 | DS7: Column122 | DT7: Column123 | DU7: Column124 | DV7: Column125 | DW7: Column126 | DX7: Column127 | DY7: Column128 | DZ7: Column129 | EA7: Column130 | EB7: Column131 | EC7: Column132 | ED7: Column133 | EE7: Column134 | EF7: Column135 | EG7: Column136 | EH7: Column137 | EI7: Column138 | EJ7: Column139 | EK7: Column140 | EL7: Column141 | EM7: Column142 | EN7: Column143 | EO7: Column144 | EP7: Column145 | EQ7: Column146 | ER7: Column147 | ES7: Column148 | ET7: Column149 | EU7: Column150 | EV7: Column151 | EW7: Column152 | EX7: Column153 | EY7: Column154 | EZ7: Column155 | FA7: Column156 | FB7: Column157 | FC7: Column158 | FD7: Column159 | FE7: Column160 | FF7: Column161 | FG7: Column162 | FH7: Column163 | FI7: Column164 | FJ7: Column165 | FK7: Column166 | FL7: Column167 | FM7: Column168 | FN7: Column169 | FO7: Column170 | FP7: Column171 | FQ7: Column172 | FR7: Column173 | FS7: Column174 | FT7: Column175 | FU7: Column176 | FV7: Column177 | FW7: Column178 | FX7: Column179 | FY7: Column180 | FZ7: Column181 | GA7: Column182 | GB7: Column183 | GC7: Column184 | GD7: Column185 | GE7: Column186 | GF7: Column187 | GG7: Column188 | GH7: Column189 | GI7: Column190 | GJ7: Column191 | GK7: Column192 | GL7: Column193 | GM7: Column194 | GN7: Column195 | GO7: Column196 | GP7: Column197 | GQ7: Column198 | GR7: Column199 | GS7: Column200 | GT7: Column201 | GU7: Column202 | GV7: Column203 | GW7: Column204 | GX7: Column205 | GY7: Column206 | GZ7: Column207 | HA7: Column208 | HB7: Column209 | HC7: Column210 | HD7: Column211 | HE7: Column212 | HF7: Column213 | HG7: Column214 | HH7: Column215 | HI7: Column216 | HJ7: Column217 | HK7: Column218 | HL7: Column219 | HM7: Column220 | HN7: Column221 | HO7: Column222 | HP7: Column223 | HQ7: Column224 | HR7: Column225 | HS7: Column226 | HT7: Column227 | HU7: Column228 | HV7: Column229 | HW7: Column230 | HX7: Column231 | HY7: Column232 | HZ7: Column233 | IA7: Column234 | IB7: Column235 | IC7: Column236 | ID7: Column237 | IE7: Column238 | IF7: Column239 | IG7: Column240 | IH7: Column241 | II7: Column242 | IJ7: Column243 | IK7: Column244 | IL7: Column245 | IM7: Column246 | IN7: Column247 | IO7: Column248 | IP7: Column249 | IQ7: Column250 | IR7: Column251 | IS7: Column252 | IT7: Column253 | IU7: Column254 | IV7: Column255 | IW7: Column256 | IX7: Column257 | IY7: Column258 | IZ7: Column259 | JA7: Column260 | JB7: Column261 | JC7: Column262 | JD7: Column263 | JE7: Column264 | JF7: Column265 | JG7: Column266 | JH7: Column267 | JI7: Column268 | JJ7: Column269 | JK7: Column270 | JL7: Column271 | JM7: Column272 | JN7: Column273 | JO7: Column274 | JP7: Column275 | JQ7: Column276 | JR7: Column277 | JS7: Column278 | JT7: Column279 | JU7: Column280 | JV7: Column281 | JW7: Column282 | JX7: Column283 | JY7: Column284 | JZ7: Column285 | KA7: Column286 | KB7: Column287 | KC7: Column288 | KD7: Column289 | KE7: Column290 | KF7: Column291 | KG7: Column292 | KH7: Column293 | KI7: Column294 | KJ7: Column295 | KK7: Column296 | KL7: Column297 | KM7: Column298 | KN7: Column299 | KO7: Column300 | KP7: Column301 | KQ7: Column302 | KR7: Column303 | KS7: Column304 | KT7: Column305 | KU7: Column306 | KV7: Column307 | KW7: Column308 | KX7: Column309 | KY7: Column310 | KZ7: Column311 | LA7: Column312 | LB7: Column313 | LC7: Column314 | LD7: Column315 | LE7: Column316 | LF7: Column317 | LG7: Column318 | LH7: Column319
B8: 2019 | C8: 1 | H8: ="S"&C8 -> S1 | I8: =C8+1 -> 2 | N8: ="S"&I8 -> S2 | O8: =I8+1 -> 3 | T8: ="S"&O8 -> S3 | U8: =O8+1 -> 4 | Z8: ="S"&U8 -> S4 | AA8: =U8+1 -> 5 | AF8: ="S"&AA8 -> S5 | AG8: =AA8+1 -> 6 | AL8: ="S"&AG8 -> S6 | AM8: =AG8+1 -> 7 | AR8: ="S"&AM8 -> S7 | AS8: =AM8+1 -> 8 | AX8: ="S"&AS8 -> S8 | AY8: =AS8+1 -> 9 | BD8: ="S"&AY8 -> S9 | BE8: =AY8+1 -> 10 | BJ8: ="S"&BE8 -> S10 | BK8: =BE8+1 -> 11 | BP8: ="S"&BK8 -> S11 | BQ8: =BK8+1 -> 12 | BV8: ="S"&BQ8 -> S12 | BW8: =BQ8+1 -> 13 | CB8: ="S"&BW8 -> S13 | CC8: =BW8+1 -> 14 | CH8: ="S"&CC8 -> S14 | CI8: =CC8+1 -> 15 | CN8: ="S"&CI8 -> S15 | CO8: =CI8+1 -> 16 | CT8: ="S"&CO8 -> S16 | CU8: =CO8+1 -> 17 | CZ8: ="S"&CU8 -> S17 | DA8: =CU8+1 -> 18 | DF8: ="S"&DA8 -> S18 | DG8: =DA8+1 -> 19 | DL8: ="S"&DG8 -> S19 | DM8: =DG8+1 -> 20 | DR8: ="S"&DM8 -> S20 | DS8: =DM8+1 -> 21 | DX8: ="S"&DS8 -> S21 | DY8: =DS8+1 -> 22 | ED8: ="S"&DY8 -> S22 | EE8: =DY8+1 -> 23 | EJ8: ="S"&EE8 -> S23 | EK8: =EE8+1 -> 24 | EP8: ="S"&EK8 -> S24 | EQ8: =EK8+1 -> 25 | EV8: ="S"&EQ8 -> S25 | EW8: =EQ8+1 -> 26 | FB8: ="S"&EW8 -> S26 | FC8: =EW8+1 -> 27 | FH8: ="S"&FC8 -> S27 | FI8: =FC8+1 -> 28 | FN8: ="S"&FI8 -> S28 | FO8: =FI8+1 -> 29 | FT8: ="S"&FO8 -> S29 | FU8: =FO8+1 -> 30 | FZ8: ="S"&FU8 -> S30 | GA8: =FU8+1 -> 31 | GF8: ="S"&GA8 -> S31 | GG8: =GA8+1 -> 32 | GL8: ="S"&GG8 -> S32 | GM8: =GG8+1 -> 33 | GR8: ="S"&GM8 -> S33 | GS8: =GM8+1 -> 34 | GX8: ="S"&GS8 -> S34 | GY8: =GS8+1 -> 35 | HD8: ="S"&GY8 -> S35 | HE8: =GY8+1 -> 36 | HJ8: ="S"&HE8 -> S36 | HK8: =HE8+1 -> 37 | HP8: ="S"&HK8 -> S37 | HQ8: =HK8+1 -> 38 | HV8: ="S"&HQ8 -> S38 | HW8: =HQ8+1 -> 39 | IB8: ="S"&HW8 -> S39 | IC8: =HW8+1 -> 40 | IH8: ="S"&IC8 -> S40 | II8: =IC8+1 -> 41 | IN8: ="S"&II8 -> S41 | IO8: =II8+1 -> 42 | IT8: ="S"&IO8 -> S42 | IU8: =IO8+1 -> 43 | IZ8: ="S"&IU8 -> S43 | JA8: =IU8+1 -> 44 | JF8: ="S"&JA8 -> S44 | JG8: =JA8+1 -> 45 | JL8: ="S"&JG8 -> S45 | JM8: =JG8+1 -> 46 | JR8: ="S"&JM8 -> S46 | JS8: =JM8+1 -> 47 | JX8: ="S"&JS8 -> S47 | JY8: =JS8+1 -> 48 | KD8: ="S"&JY8 -> S48 | KE8: =JY8+1 -> 49 | KJ8: ="S"&KE8 -> S49 | KK8: =KE8+1 -> 50 | KP8: ="S"&KK8 -> S50 | KQ8: =KK8+1 -> 51 | KV8: ="S"&KQ8 -> S51 | KW8: =KQ8+1 -> 52 | LB8: ="S"&KW8 -> S52 | LC8: =KW8+1 -> 53 | LH8: ="S"&LC8 -> S53
B9: CC ANG | C9: =7*C8+DATE($B$8,1,3)-WEEKDAY(DATE($B$8,1,3))-5 -> 43465 | D9: =C9+1 -> 43466 | E9: =D9+1 -> 43467 | F9: =E9+1 -> 43468 | G9: =F9+1 -> 43469 | I9: =7*I8+DATE($B$8,1,3)-WEEKDAY(DATE($B$8,1,3))-5 -> 43472 | J9: =I9+1 -> 43473 | K9: =J9+1 -> 43474 | L9: =K9+1 -> 43475 | M9: =L9+1 -> 43476 | O9: =7*O8+DATE($B$8,1,3)-WEEKDAY(DATE($B$8,1,3))-5 -> 43479 | P9: =O9+1 -> 43480 | Q9: =P9+1 -> 43481 | R9: =Q9+1 -> 43482 | S9: =R9+1 -> 43483 | U9: =7*U8+DATE($B$8,1,3)-WEEKDAY(DATE($B$8,1,3))-5 -> 43486 | V9: =U9+1 -> 43487 | W9: =V9+1 -> 43488 | X9: =W9+1 -> 43489 | Y9: =X9+1 -> 43490 | AA9: =7*AA8+DATE($B$8,1,3)-WEEKDAY(DATE($B$8,1,3))-5 -> 43493 | AB9: =AA9+1 -> 43494 | AC9: =AB9+1 -> 43495 | AD9: =AC9+1 -> 43496 | AE9: =AD9+1 -> 43497 | AG9: =7*AG8+DATE($B$8,1,3)-WEEKDAY(DATE($B$8,1,3))-5 -> 43500 | AH9: =AG9+1 -> 43501 | AI9: =AH9+1 -> 43502 | AJ9: =AI9+1 -> 43503 | AK9: =AJ9+1 -> 43504 | AM9: =7*AM8+DATE($B$8,1,3)-WEEKDAY(DATE($B$8,1,3))-5 -> 43507 | AN9: =AM9+1 -> 43508 | AO9: =AN9+1 -> 43509 | AP9: =AO9+1 -> 43510 | AQ9: =AP9+1 -> 43511 | AS9: =7*AS8+DATE($B$8,1,3)-WEEKDAY(DATE($B$8,1,3))-5 -> 43514 | AT9: =AS9+1 -> 43515 | AU9: =AT9+1 -> 43516 | AV9: =AU9+1 -> 43517 | AW9: =AV9+1 -> 43518 | AY9: =7*AY8+DATE($B$8,1,3)-WEEKDAY(DATE($B$8,1,3))-5 -> 43521 | AZ9: =AY9+1 -> 43522 | BA9: =AZ9+1 -> 43523 | BB9: =BA9+1 -> 43524 | BC9: =BB9+1 -> 43525 | BE9: =7*BE8+DATE($B$8,1,3)-WEEKDAY(DATE($B$8,1,3))-5 -> 43528 | BF9: =BE9+1 -> 43529 | BG9: =BF9+1 -> 43530 | BH9: =BG9+1 -> 43531 | BI9: =BH9+1 -> 43532 | BK9: =7*BK8+DATE($B$8,1,3)-WEEKDAY(DATE($B$8,1,3))-5 -> 43535 | BL9: =BK9+1 -> 43536 | BM9: =BL9+1 -> 43537 | BN9: =BM9+1 -> 43538 | BO9: =BN9+1 -> 43539 | BQ9: =7*BQ8+DATE($B$8,1,3)-WEEKDAY(DATE($B$8,1,3))-5 -> 43542 | BR9: =BQ9+1 -> 43543 | BS9: =BR9+1 -> 43544 | BT9: =BS9+1 -> 43545 | BU9: =BT9+1 -> 43546 | BW9: =7*BW8+DATE($B$8,1,3)-WEEKDAY(DATE($B$8,1,3))-5 -> 43549 | BX9: =BW9+1 -> 43550 | BY9: =BX9+1 -> 43551 | BZ9: =BY9+1 -> 43552 | CA9: =BZ9+1 -> 43553 | CC9: =7*CC8+DATE($B$8,1,3)-WEEKDAY(DATE($B$8,1,3))-5 -> 43556 | CD9: =CC9+1 -> 43557 | CE9: =CD9+1 -> 43558 | CF9: =CE9+1 -> 43559 | CG9: =CF9+1 -> 43560 | CI9: =7*CI8+DATE($B$8,1,3)-WEEKDAY(DATE($B$8,1,3))-5 -> 43563 | CJ9: =CI9+1 -> 43564 | CK9: =CJ9+1 -> 43565 | CL9: =CK9+1 -> 43566 | CM9: =CL9+1 -> 43567 | CO9: =7*CO8+DATE($B$8,1,3)-WEEKDAY(DATE($B$8,1,3))-5 -> 43570 | CP9: =CO9+1 -> 43571 | CQ9: =CP9+1 -> 43572 | CR9: =CQ9+1 -> 43573 | CS9: =CR9+1 -> 43574 | CU9: =7*CU8+DATE($B$8,1,3)-WEEKDAY(DATE($B$8,1,3))-5 -> 43577 | CV9: =CU9+1 -> 43578 | CW9: =CV9+1 -> 43579 | CX9: =CW9+1 -> 43580 | CY9: =CX9+1 -> 43581 | DA9: =7*DA8+DATE($B$8,1,3)-WEEKDAY(DATE($B$8,1,3))-5 -> 43584 | DB9: =DA9+1 -> 43585 | DC9: =DB9+1 -> 43586 | DD9: =DC9+1 -> 43587 | DE9: =DD9+1 -> 43588 | DG9: =7*DG8+DATE($B$8,1,3)-WEEKDAY(DATE($B$8,1,3))-5 -> 43591 | DH9: =DG9+1 -> 43592 | DI9: =DH9+1 -> 43593 | DJ9: =DI9+1 -> 43594 | DK9: =DJ9+1 -> 43595 | DM9: =7*DM8+DATE($B$8,1,3)-WEEKDAY(DATE($B$8,1,3))-5 -> 43598 | DN9: =DM9+1 -> 43599 | DO9: =DN9+1 -> 43600 | DP9: =DO9+1 -> 43601 | DQ9: =DP9+1 -> 43602 | DS9: =7*DS8+DATE($B$8,1,3)-WEEKDAY(DATE($B$8,1,3))-5 -> 43605 | DT9: =DS9+1 -> 43606 | DU9: =DT9+1 -> 43607 | DV9: =DU9+1 -> 43608 | DW9: =DV9+1 -> 43609 | DY9: =7*DY8+DATE($B$8,1,3)-WEEKDAY(DATE($B$8,1,3))-5 -> 43612 | DZ9: =DY9+1 -> 43613 | EA9: =DZ9+1 -> 43614 | EB9: =EA9+1 -> 43615 | EC9: =EB9+1 -> 43616 | EE9: =7*EE8+DATE($B$8,1,3)-WEEKDAY(DATE($B$8,1,3))-5 -> 43619 | EF9: =EE9+1 -> 43620 | EG9: =EF9+1 -> 43621 | EH9: =EG9+1 -> 43622 | EI9: =EH9+1 -> 43623 | EK9: =7*EK8+DATE($B$8,1,3)-WEEKDAY(DATE($B$8,1,3))-5 -> 43626 | EL9: =EK9+1 -> 43627 | EM9: =EL9+1 -> 43628 | EN9: =EM9+1 -> 43629 | EO9: =EN9+1 -> 43630 | EQ9: =7*EQ8+DATE($B$8,1,3)-WEEKDAY(DATE($B$8,1,3))-5 -> 43633 | ER9: =EQ9+1 -> 43634 | ES9: =ER9+1 -> 43635 | ET9: =ES9+1 -> 43636 | EU9: =ET9+1 -> 43637 | EW9: =7*EW8+DATE($B$8,1,3)-WEEKDAY(DATE($B$8,1,3))-5 -> 43640 | EX9: =EW9+1 -> 43641 | EY9: =EX9+1 -> 43642 | EZ9: =EY9+1 -> 43643 | FA9: =EZ9+1 -> 43644 | FC9: =7*FC8+DATE($B$8,1,3)-WEEKDAY(DATE($B$8,1,3))-5 -> 43647 | FD9: =FC9+1 -> 43648 | FE9: =FD9+1 -> 43649 | FF9: =FE9+1 -> 43650 | FG9: =FF9+1 -> 43651 | FI9: =7*FI8+DATE($B$8,1,3)-WEEKDAY(DATE($B$8,1,3))-5 -> 43654 | FJ9: =FI9+1 -> 43655 | FK9: =FJ9+1 -> 43656 | FL9: =FK9+1 -> 43657 | FM9: =FL9+1 -> 43658 | FO9: =7*FO8+DATE($B$8,1,3)-WEEKDAY(DATE($B$8,1,3))-5 -> 43661 | FP9: =FO9+1 -> 43662 | FQ9: =FP9+1 -> 43663 | FR9: =FQ9+1 -> 43664 | FS9: =FR9+1 -> 43665 | FU9: =7*FU8+DATE($B$8,1,3)-WEEKDAY(DATE($B$8,1,3))-5 -> 43668 | FV9: =FU9+1 -> 43669 | FW9: =FV9+1 -> 43670 | FX9: =FW9+1 -> 43671 | FY9: =FX9+1 -> 43672 | GA9: =7*GA8+DATE($B$8,1,3)-WEEKDAY(DATE($B$8,1,3))-5 -> 43675 | GB9: =GA9+1 -> 43676 | GC9: =GB9+1 -> 43677 | GD9: =GC9+1 -> 43678 | GE9: =GD9+1 -> 43679 | GG9: =7*GG8+DATE($B$8,1,3)-WEEKDAY(DATE($B$8,1,3))-5 -> 43682 | GH9: =GG9+1 -> 43683 | GI9: =GH9+1 -> 43684 | GJ9: =GI9+1 -> 43685 | GK9: =GJ9+1 -> 43686 | GM9: =7*GM8+DATE($B$8,1,3)-WEEKDAY(DATE($B$8,1,3))-5 -> 43689 | GN9: =GM9+1 -> 43690 | GO9: =GN9+1 -> 43691 | GP9: =GO9+1 -> 43692 | GQ9: =GP9+1 -> 43693 | GS9: =7*GS8+DATE($B$8,1,3)-WEEKDAY(DATE($B$8,1,3))-5 -> 43696 | GT9: =GS9+1 -> 43697 | GU9: =GT9+1 -> 43698 | GV9: =GU9+1 -> 43699 | GW9: =GV9+1 -> 43700 | GY9: =7*GY8+DATE($B$8,1,3)-WEEKDAY(DATE($B$8,1,3))-5 -> 43703 | GZ9: =GY9+1 -> 43704 | HA9: =GZ9+1 -> 43705 | HB9: =HA9+1 -> 43706 | HC9: =HB9+1 -> 43707 | HE9: =7*HE8+DATE($B$8,1,3)-WEEKDAY(DATE($B$8,1,3))-5 -> 43710 | HF9: =HE9+1 -> 43711 | HG9: =HF9+1 -> 43712 | HH9: =HG9+1 -> 43713 | HI9: =HH9+1 -> 43714 | HK9: =7*HK8+DATE($B$8,1,3)-WEEKDAY(DATE($B$8,1,3))-5 -> 43717 | HL9: =HK9+1 -> 43718 | HM9: =HL9+1 -> 43719 | HN9: =HM9+1 -> 43720 | HO9: =HN9+1 -> 43721 | HQ9: =7*HQ8+DATE($B$8,1,3)-WEEKDAY(DATE($B$8,1,3))-5 -> 43724 | HR9: =HQ9+1 -> 43725 | HS9: =HR9+1 -> 43726 | HT9: =HS9+1 -> 43727 | HU9: =HT9+1 -> 43728 | HW9: =7*HW8+DATE($B$8,1,3)-WEEKDAY(DATE($B$8,1,3))-5 -> 43731 | HX9: =HW9+1 -> 43732 | HY9: =HX9+1 -> 43733 | HZ9: =HY9+1 -> 43734 | IA9: =HZ9+1 -> 43735 | IC9: =7*IC8+DATE($B$8,1,3)-WEEKDAY(DATE($B$8,1,3))-5 -> 43738 | ID9: =IC9+1 -> 43739 | IE9: =ID9+1 -> 43740 | IF9: =IE9+1 -> 43741 | IG9: =IF9+1 -> 43742 | II9: =7*II8+DATE($B$8,1,3)-WEEKDAY(DATE($B$8,1,3))-5 -> 43745 | IJ9: =II9+1 -> 43746 | IK9: =IJ9+1 -> 43747 | IL9: =IK9+1 -> 43748 | IM9: =IL9+1 -> 43749 | IO9: =7*IO8+DATE($B$8,1,3)-WEEKDAY(DATE($B$8,1,3))-5 -> 43752 | IP9: =IO9+1 -> 43753 | IQ9: =IP9+1 -> 43754 | IR9: =IQ9+1 -> 43755 | IS9: =IR9+1 -> 43756 | IU9: =7*IU8+DATE($B$8,1,3)-WEEKDAY(DATE($B$8,1,3))-5 -> 43759 | IV9: =IU9+1 -> 43760 | IW9: =IV9+1 -> 43761 | IX9: =IW9+1 -> 43762 | IY9: =IX9+1 -> 43763 | JA9: =7*JA8+DATE($B$8,1,3)-WEEKDAY(DATE($B$8,1,3))-5 -> 43766 | JB9: =JA9+1 -> 43767 | JC9: =JB9+1 -> 43768 | JD9: =JC9+1 -> 43769 | JE9: =JD9+1 -> 43770 | JG9: =7*JG8+DATE($B$8,1,3)-WEEKDAY(DATE($B$8,1,3))-5 -> 43773 | JH9: =JG9+1 -> 43774 | JI9: =JH9+1 -> 43775 | JJ9: =JI9+1 -> 43776 | JK9: =JJ9+1 -> 43777 | JM9: =7*JM8+DATE($B$8,1,3)-WEEKDAY(DATE($B$8,1,3))-5 -> 43780 | JN9: =JM9+1 -> 43781 | JO9: =JN9+1 -> 43782 | JP9: =JO9+1 -> 43783 | JQ9: =JP9+1 -> 43784 | JS9: =7*JS8+DATE($B$8,1,3)-WEEKDAY(DATE($B$8,1,3))-5 -> 43787 | JT9: =JS9+1 -> 43788 | JU9: =JT9+1 -> 43789 | JV9: =JU9+1 -> 43790 | JW9: =JV9+1 -> 43791 | JY9: =7*JY8+DATE($B$8,1,3)-WEEKDAY(DATE($B$8,1,3))-5 -> 43794 | JZ9: =JY9+1 -> 43795 | KA9: =JZ9+1 -> 43796 | KB9: =KA9+1 -> 43797 | KC9: =KB9+1 -> 43798 | KE9: =7*KE8+DATE($B$8,1,3)-WEEKDAY(DATE($B$8,1,3))-5 -> 43801 | KF9: =KE9+1 -> 43802 | KG9: =KF9+1 -> 43803 | KH9: =KG9+1 -> 43804 | KI9: =KH9+1 -> 43805 | KK9: =7*KK8+DATE($B$8,1,3)-WEEKDAY(DATE($B$8,1,3))-5 -> 43808 | KL9: =KK9+1 -> 43809 | KM9: =KL9+1 -> 43810 | KN9: =KM9+1 -> 43811 | KO9: =KN9+1 -> 43812 | KQ9: =7*KQ8+DATE($B$8,1,3)-WEEKDAY(DATE($B$8,1,3))-5 -> 43815 | KR9: =KQ9+1 -> 43816 | KS9: =KR9+1 -> 43817 | KT9: =KS9+1 -> 43818 | KU9: =KT9+1 -> 43819 | KW9: =7*KW8+DATE($B$8,1,3)-WEEKDAY(DATE($B$8,1,3))-5 -> 43822 | KX9: =KW9+1 -> 43823 | KY9: =KX9+1 -> 43824 | KZ9: =KY9+1 -> 43825 | LA9: =KZ9+1 -> 43826 | LC9: =7*LC8+DATE($B$8,1,3)-WEEKDAY(DATE($B$8,1,3))-5 -> 43829 | LD9: =LC9+1 -> 43830 | LE9: =LD9+1 -> 43831 | LF9: =LE9+1 -> 43832 | LG9: =LF9+1 -> 43833
B10: cc1
B11: cc2 | C11: M
B12: cc3 | C12: C
B13: cc4
B14: cc5
B15: cc6
B16: cc7 | E16: TP
B17: cc8
B18: cc9
B19: cc10
B20: cc11
B21: cc12 | C21: C | E21: M
B22: cc13
B23: cc14 | E23: C
B24: cc15 | E24: C
B25: cc16 | E25: C | F25: M | G25: TP
B26: cc17
B27: cc18
B28: cc19
B29: cc20
B30: cc21
B31: cc22
B32: cc23

Sheet Inscriptions ANG
A1: Inscriptions
A3: M | B3: Maladie
A4: C | B4: Congés
A5: TP | B5: Temps partiel
F6: =IF(ISNA(VLOOKUP(C9,Tableau5[#All],2,0)),"",VLOOKUP(C9,Tableau5[#All],2,0)) | G6: =IF(ISNA(VLOOKUP(G9,Tableau5[#All],2,0)),"",VLOOKUP(G9,Tableau5[#All],2,0)) | K6: =IF(ISNA(VLOOKUP(K9,Tableau5[#All],2,0)),"",VLOOKUP(K9,Tableau5[#All],2,0)) | L6: =IF(ISNA(VLOOKUP(L9,Tableau5[#All],2,0)),"",VLOOKUP(L9,Tableau5[#All],2,0)) | M6: =IF(ISNA(VLOOKUP(M9,Tableau5[#All],2,0)),"",VLOOKUP(M9,Tableau5[#All],2,0)) | N6: =IF(ISNA(VLOOKUP(N9,Tableau5[#All],2,0)),"",VLOOKUP(N9,Tableau5[#All],2,0)) | O6: =IF(ISNA(VLOOKUP(O9,Tableau5[#All],2,0)),"",VLOOKUP(O9,Tableau5[#All],2,0)) | P6: =IF(ISNA(VLOOKUP(P9,Tableau5[#All],2,0)),"",VLOOKUP(P9,Tableau5[#All],2,0)) | Q6: =IF(ISNA(VLOOKUP(Q9,Tableau5[#All],2,0)),"",VLOOKUP(Q9,Tableau5[#All],2,0)) | R6: =IF(ISNA(VLOOKUP(R9,Tableau5[#All],2,0)),"",VLOOKUP(R9,Tableau5[#All],2,0)) | ... LN6: =IF(ISNA(VLOOKUP(LN9,Tableau5[#All],2,0)),"",VLOOKUP(LN9,Tableau5[#All],2,0))
B7: Column1 | C7: Colonne1 | D7: Column11012 | E7: Column1102 | F7: Column2 | G7: Column3 | H7: Column322 | I7: Column321 | J7: Column320 | K7: Column4 | L7: Column5 | M7: Column6 | N7: Column7 | O7: Column8 | P7: Column9 | Q7: Column10 | R7: Column11 | S7: Column12 | T7: Column13 | U7: Column14 | V7: Column15 | W7: Column16 | X7: Column17 | Y7: Column18 | Z7: Column19 | AA7: Column20 | AB7: Column21 | AC7: Column22 | AD7: Column23 | AE7: Column24 | AF7: Column25 | AG7: Column26 | AH7: Column27 | AI7: Column28 | AJ7: Column29 | AK7: Column30 | AL7: Column31 | AM7: Column32 | AN7: Column33 | AO7: Column34 | AP7: Column35 | AQ7: Column36 | AR7: Column37 | AS7: Column38 | AT7: Column39 | AU7: Column40 | AV7: Column41 | AW7: Column42 | AX7: Column43 | AY7: Column44 | AZ7: Column45 | BA7: Column46 | BB7: Column47 | BC7: Column48 | BD7: Column49 | BE7: Column50 | BF7: Column51 | BG7: Column52 | BH7: Column53 | BI7: Column54 | BJ7: Column55 | BK7: Column56 | BL7: Column57 | BM7: Column58 | BN7: Column59 | BO7: Column60 | BP7: Column61 | BQ7: Column62 | BR7: Column63 | BS7: Column64 | BT7: Column65 | BU7: Column66 | BV7: Column67 | BW7: Column68 | BX7: Column69 | BY7: Column70 | BZ7: Column71 | CA7: Column72 | CB7: Column73 | CC7: Column74 | CD7: Column75 | CE7: Column76 | CF7: Column77 | CG7: Column78 | CH7: Column79 | CI7: Column80 | CJ7: Column81 | CK7: Column82 | CL7: Column83 | CM7: Column84 | CN7: Column85 | CO7: Column86 | CP7: Column87 | CQ7: Column88 | CR7: Column89 | CS7: Column90 | CT7: Column91 | CU7: Column92 | CV7: Column93 | CW7: Column94 | CX7: Column95 | CY7: Column96 | CZ7: Column97 | DA7: Column98 | DB7: Column99 | DC7: Column100 | DD7: Column101 | DE7: Column102 | DF7: Column103 | DG7: Column104 | DH7: Column105 | DI7: Column106 | DJ7: Column107 | DK7: Column108 | DL7: Column109 | DM7: Column110 | DN7: Column111 | DO7: Column112 | DP7: Column113 | DQ7: Column114 | DR7: Column115 | DS7: Column116 | DT7: Column117 | DU7: Column118 | DV7: Column119 | DW7: Column120 | DX7: Column121 | DY7: Column122 | DZ7: Column123 | EA7: Column124 | EB7: Column125 | EC7: Column126 | ED7: Column127 | EE7: Column128 | EF7: Column129 | EG7: Column130 | EH7: Column131 | EI7: Column132 | EJ7: Column133 | EK7: Column134 | EL7: Column135 | EM7: Column136 | EN7: Column137 | EO7: Column138 | EP7: Column139 | EQ7: Column140 | ER7: Column141 | ES7: Column142 | ET7: Column143 | EU7: Column144 | EV7: Column145 | EW7: Column146 | EX7: Column147 | EY7: Column148 | EZ7: Column149 | FA7: Column150 | FB7: Column151 | FC7: Column152 | FD7: Column153 | FE7: Column154 | FF7: Column155 | FG7: Column156 | FH7: Column157 | FI7: Column158 | FJ7: Column159 | FK7: Column160 | FL7: Column161 | FM7: Column162 | FN7: Column163 | FO7: Column164 | FP7: Column165 | FQ7: Column166 | FR7: Column167 | FS7: Column168 | FT7: Column169 | FU7: Column170 | FV7: Column171 | FW7: Column172 | FX7: Column173 | FY7: Column174 | FZ7: Column175 | GA7: Column176 | GB7: Column177 | GC7: Column178 | GD7: Column179 | GE7: Column180 | GF7: Column181 | GG7: Column182 | GH7: Column183 | GI7: Column184 | GJ7: Column185 | GK7: Column186 | GL7: Column187 | GM7: Column188 | GN7: Column189 | GO7: Column190 | GP7: Column191 | GQ7: Column192 | GR7: Column193 | GS7: Column194 | GT7: Column195 | GU7: Column196 | GV7: Column197 | GW7: Column198 | GX7: Column199 | GY7: Column200 | GZ7: Column201 | HA7: Column202 | HB7: Column203 | HC7: Column204 | HD7: Column205 | HE7: Column206 | HF7: Column207 | HG7: Column208 | HH7: Column209 | HI7: Column210 | HJ7: Column211 | HK7: Column212 | HL7: Column213 | HM7: Column214 | HN7: Column215 | HO7: Column216 | HP7: Column217 | HQ7: Column218 | HR7: Column219 | HS7: Column220 | HT7: Column221 | HU7: Column222 | HV7: Column223 | HW7: Column224 | HX7: Column225 | HY7: Column226 | HZ7: Column227 | IA7: Column228 | IB7: Column229 | IC7: Column230 | ID7: Column231 | IE7: Column232 | IF7: Column233 | IG7: Column234 | IH7: Column235 | II7: Column236 | IJ7: Column237 | IK7: Column238 | IL7: Column239 | IM7: Column240 | IN7: Column241 | IO7: Column242 | IP7: Column243 | IQ7: Column244 | IR7: Column245 | IS7: Column246 | IT7: Column247 | IU7: Column248 | IV7: Column249 | IW7: Column250 | IX7: Column251 | IY7: Column252 | IZ7: Column253 | JA7: Column254 | JB7: Column255 | JC7: Column256 | JD7: Column257 | JE7: Column258 | JF7: Column259 | JG7: Column260 | JH7: Column261 | JI7: Column262 | JJ7: Column263 | JK7: Column264 | JL7: Column265 | JM7: Column266 | JN7: Column267 | JO7: Column268 | JP7: Column269 | JQ7: Column270 | JR7: Column271 | JS7: Column272 | JT7: Column273 | JU7: Column274 | JV7: Column275 | JW7: Column276 | JX7: Column277 | JY7: Column278 | JZ7: Column279 | KA7: Column280 | KB7: Column281 | KC7: Column282 | KD7: Column283 | KE7: Column284 | KF7: Column285 | KG7: Column286 | KH7: Column287 | KI7: Column288 | KJ7: Column289 | KK7: Column290 | KL7: Column291 | KM7: Column292 | KN7: Column293 | KO7: Column294 | KP7: Column295 | KQ7: Column296 | KR7: Column297 | KS7: Column298 | KT7: Column299 | KU7: Column300 | KV7: Column301 | KW7: Column302 | KX7: Column303 | KY7: Column304 | KZ7: Column305 | LA7: Column306 | LB7: Column307 | LC7: Column308 | LD7: Column309 | LE7: Column310 | LF7: Column311 | LG7: Column312 | LH7: Column313 | LI7: Column314 | LJ7: Column315 | LK7: Column316 | LL7: Column317 | LM7: Column318 | LN7: Column319
B8: 2019 | C8: 1 | N8: ="S"&C8 -> S1 | O8: =C8+1 -> 2 | T8: ="S"&O8 -> S2 | U8: =O8+1 -> 3 | Z8: ="S"&U8 -> S3 | AA8: =U8+1 -> 4 | AF8: ="S"&AA8 -> S4 | AG8: =AA8+1 -> 5 | AL8: ="S"&AG8 -> S5 | AM8: =AG8+1 -> 6 | AR8: ="S"&AM8 -> S6 | AS8: =AM8+1 -> 7 | AX8: ="S"&AS8 -> S7 | AY8: =AS8+1 -> 8 | BD8: ="S"&AY8 -> S8 | BE8: =AY8+1 -> 9 | BJ8: ="S"&BE8 -> S9 | BK8: =BE8+1 -> 10 | BP8: ="S"&BK8 -> S10 | BQ8: =BK8+1 -> 11 | BV8: ="S"&BQ8 -> S11 | BW8: =BQ8+1 -> 12 | CB8: ="S"&BW8 -> S12 | CC8: =BW8+1 -> 13 | CH8: ="S"&CC8 -> S13 | CI8: =CC8+1 -> 14 | CN8: ="S"&CI8 -> S14 | CO8: =CI8+1 -> 15 | CT8: ="S"&CO8 -> S15 | CU8: =CO8+1 -> 16 | CZ8: ="S"&CU8 -> S16 | DA8: =CU8+1 -> 17 | DF8: ="S"&DA8 -> S17 | DG8: =DA8+1 -> 18 | DL8: ="S"&DG8 -> S18 | DM8: =DG8+1 -> 19 | DR8: ="S"&DM8 -> S19 | DS8: =DM8+1 -> 20 | DX8: ="S"&DS8 -> S20 | DY8: =DS8+1 -> 21 | ED8: ="S"&DY8 -> S21 | EE8: =DY8+1 -> 22 | EJ8: ="S"&EE8 -> S22 | EK8: =EE8+1 -> 23 | EP8: ="S"&EK8 -> S23 | EQ8: =EK8+1 -> 24 | EV8: ="S"&EQ8 -> S24 | EW8: =EQ8+1 -> 25 | FB8: ="S"&EW8 -> S25 | FC8: =EW8+1 -> 26 | FH8: ="S"&FC8 -> S26 | FI8: =FC8+1 -> 27 | FN8: ="S"&FI8 -> S27 | FO8: =FI8+1 -> 28 | FT8: ="S"&FO8 -> S28 | FU8: =FO8+1 -> 29 | FZ8: ="S"&FU8 -> S29 | GA8: =FU8+1 -> 30 | GF8: ="S"&GA8 -> S30 | GG8: =GA8+1 -> 31 | GL8: ="S"&GG8 -> S31 | GM8: =GG8+1 -> 32 | GR8: ="S"&GM8 -> S32 | GS8: =GM8+1 -> 33 | GX8: ="S"&GS8 -> S33 | GY8: =GS8+1 -> 34 | HD8: ="S"&GY8 -> S34 | HE8: =GY8+1 -> 35 | HJ8: ="S"&HE8 -> S35 | HK8: =HE8+1 -> 36 | HP8: ="S"&HK8 -> S36 | HQ8: =HK8+1 -> 37 | HV8: ="S"&HQ8 -> S37 | HW8: =HQ8+1 -> 38 | IB8: ="S"&HW8 -> S38 | IC8: =HW8+1 -> 39 | IH8: ="S"&IC8 -> S39 | II8: =IC8+1 -> 40 | IN8: ="S"&II8 -> S40 | IO8: =II8+1 -> 41 | IT8: ="S"&IO8 -> S41 | IU8: =IO8+1 -> 42 | IZ8: ="S"&IU8 -> S42 | JA8: =IU8+1 -> 43 | JF8: ="S"&JA8 -> S43 | JG8: =JA8+1 -> 44 | JL8: ="S"&JG8 -> S44 | JM8: =JG8+1 -> 45 | JR8: ="S"&JM8 -> S45 | JS8: =JM8+1 -> 46 | JX8: ="S"&JS8 -> S46 | JY8: =JS8+1 -> 47 | KD8: ="S"&JY8 -> S47 | KE8: =JY8+1 -> 48 | KJ8: ="S"&KE8 -> S48 | KK8: =KE8+1 -> 49 | KP8: ="S"&KK8 -> S49 | KQ8: =KK8+1 -> 50 | KV8: ="S"&KQ8 -> S50 | KW8: =KQ8+1 -> 51 | LB8: ="S"&KW8 -> S51 | LC8: =KW8+1 -> 52 | LH8: ="S"&LC8 -> S52 | LI8: =LC8+1 -> 53 | LN8: ="S"&LI8 -> S53
B9: CC ANG | C9: =7*C8+DATE($B$8,1,3)-WEEKDAY(DATE($B$8,1,3))-5 -> 43465 | G9: =C9+1 -> 43466 | K9: =G9+1 -> 43467 | L9: =K9+1 -> 43468 | M9: =L9+1 -> 43469 | O9: =7*O8+DATE($B$8,1,3)-WEEKDAY(DATE($B$8,1,3))-5 -> 43472 | P9: =O9+1 -> 43473 | Q9: =P9+1 -> 43474 | R9: =Q9+1 -> 43475 | S9: =R9+1 -> 43476 | U9: =7*U8+DATE($B$8,1,3)-WEEKDAY(DATE($B$8,1,3))-5 -> 43479 | V9: =U9+1 -> 43480 | W9: =V9+1 -> 43481 | X9: =W9+1 -> 43482 | Y9: =X9+1 -> 43483 | AA9: =7*AA8+DATE($B$8,1,3)-WEEKDAY(DATE($B$8,1,3))-5 -> 43486 | AB9: =AA9+1 -> 43487 | AC9: =AB9+1 -> 43488 | AD9: =AC9+1 -> 43489 | AE9: =AD9+1 -> 43490 | AG9: =7*AG8+DATE($B$8,1,3)-WEEKDAY(DATE($B$8,1,3))-5 -> 43493 | AH9: =AG9+1 -> 43494 | AI9: =AH9+1 -> 43495 | AJ9: =AI9+1 -> 43496 | AK9: =AJ9+1 -> 43497 | AM9: =7*AM8+DATE($B$8,1,3)-WEEKDAY(DATE($B$8,1,3))-5 -> 43500 | AN9: =AM9+1 -> 43501 | AO9: =AN9+1 -> 43502 | AP9: =AO9+1 -> 43503 | AQ9: =AP9+1 -> 43504 | AS9: =7*AS8+DATE($B$8,1,3)-WEEKDAY(DATE($B$8,1,3))-5 -> 43507 | AT9: =AS9+1 -> 43508 | AU9: =AT9+1 -> 43509 | AV9: =AU9+1 -> 43510 | AW9: =AV9+1 -> 43511 | AY9: =7*AY8+DATE($B$8,1,3)-WEEKDAY(DATE($B$8,1,3))-5 -> 43514 | AZ9: =AY9+1 -> 43515 | BA9: =AZ9+1 -> 43516 | BB9: =BA9+1 -> 43517 | BC9: =BB9+1 -> 43518 | BE9: =7*BE8+DATE($B$8,1,3)-WEEKDAY(DATE($B$8,1,3))-5 -> 43521 | BF9: =BE9+1 -> 43522 | BG9: =BF9+1 -> 43523 | BH9: =BG9+1 -> 43524 | BI9: =BH9+1 -> 43525 | BK9: =7*BK8+DATE($B$8,1,3)-WEEKDAY(DATE($B$8,1,3))-5 -> 43528 | BL9: =BK9+1 -> 43529 | BM9: =BL9+1 -> 43530 | BN9: =BM9+1 -> 43531 | BO9: =BN9+1 -> 43532 | BQ9: =7*BQ8+DATE($B$8,1,3)-WEEKDAY(DATE($B$8,1,3))-5 -> 43535 | BR9: =BQ9+1 -> 43536 | BS9: =BR9+1 -> 43537 | BT9: =BS9+1 -> 43538 | BU9: =BT9+1 -> 43539 | BW9: =7*BW8+DATE($B$8,1,3)-WEEKDAY(DATE($B$8,1,3))-5 -> 43542 | BX9: =BW9+1 -> 43543 | BY9: =BX9+1 -> 43544 | BZ9: =BY9+1 -> 43545 | CA9: =BZ9+1 -> 43546 | CC9: =7*CC8+DATE($B$8,1,3)-WEEKDAY(DATE($B$8,1,3))-5 -> 43549 | CD9: =CC9+1 -> 43550 | CE9: =CD9+1 -> 43551 | CF9: =CE9+1 -> 43552 | CG9: =CF9+1 -> 43553 | CI9: =7*CI8+DATE($B$8,1,3)-WEEKDAY(DATE($B$8,1,3))-5 -> 43556 | CJ9: =CI9+1 -> 43557 | CK9: =CJ9+1 -> 43558 | CL9: =CK9+1 -> 43559 | CM9: =CL9+1 -> 43560 | CO9: =7*CO8+DATE($B$8,1,3)-WEEKDAY(DATE($B$8,1,3))-5 -> 43563 | CP9: =CO9+1 -> 43564 | CQ9: =CP9+1 -> 43565 | CR9: =CQ9+1 -> 43566 | CS9: =CR9+1 -> 43567 | CU9: =7*CU8+DATE($B$8,1,3)-WEEKDAY(DATE($B$8,1,3))-5 -> 43570 | CV9: =CU9+1 -> 43571 | CW9: =CV9+1 -> 43572 | CX9: =CW9+1 -> 43573 | CY9: =CX9+1 -> 43574 | DA9: =7*DA8+DATE($B$8,1,3)-WEEKDAY(DATE($B$8,1,3))-5 -> 43577 | DB9: =DA9+1 -> 43578 | DC9: =DB9+1 -> 43579 | DD9: =DC9+1 -> 43580 | DE9: =DD9+1 -> 43581 | DG9: =7*DG8+DATE($B$8,1,3)-WEEKDAY(DATE($B$8,1,3))-5 -> 43584 | DH9: =DG9+1 -> 43585 | DI9: =DH9+1 -> 43586 | DJ9: =DI9+1 -> 43587 | DK9: =DJ9+1 -> 43588 | DM9: =7*DM8+DATE($B$8,1,3)-WEEKDAY(DATE($B$8,1,3))-5 -> 43591 | DN9: =DM9+1 -> 43592 | DO9: =DN9+1 -> 43593 | DP9: =DO9+1 -> 43594 | DQ9: =DP9+1 -> 43595 | DS9: =7*DS8+DATE($B$8,1,3)-WEEKDAY(DATE($B$8,1,3))-5 -> 43598 | DT9: =DS9+1 -> 43599 | DU9: =DT9+1 -> 43600 | DV9: =DU9+1 -> 43601 | DW9: =DV9+1 -> 43602 | DY9: =7*DY8+DATE($B$8,1,3)-WEEKDAY(DATE($B$8,1,3))-5 -> 43605 | DZ9: =DY9+1 -> 43606 | EA9: =DZ9+1 -> 43607 | EB9: =EA9+1 -> 43608 | EC9: =EB9+1 -> 43609 | EE9: =7*EE8+DATE($B$8,1,3)-WEEKDAY(DATE($B$8,1,3))-5 -> 43612 | EF9: =EE9+1 -> 43613 | EG9: =EF9+1 -> 43614 | EH9: =EG9+1 -> 43615 | EI9: =EH9+1 -> 43616 | EK9: =7*EK8+DATE($B$8,1,3)-WEEKDAY(DATE($B$8,1,3))-5 -> 43619 | EL9: =EK9+1 -> 43620 | EM9: =EL9+1 -> 43621 | EN9: =EM9+1 -> 43622 | EO9: =EN9+1 -> 43623 | EQ9: =7*EQ8+DATE($B$8,1,3)-WEEKDAY(DATE($B$8,1,3))-5 -> 43626 | ER9: =EQ9+1 -> 43627 | ES9: =ER9+1 -> 43628 | ET9: =ES9+1 -> 43629 | EU9: =ET9+1 -> 43630 | EW9: =7*EW8+DATE($B$8,1,3)-WEEKDAY(DATE($B$8,1,3))-5 -> 43633 | EX9: =EW9+1 -> 43634 | EY9: =EX9+1 -> 43635 | EZ9: =EY9+1 -> 43636 | FA9: =EZ9+1 -> 43637 | FC9: =7*FC8+DATE($B$8,1,3)-WEEKDAY(DATE($B$8,1,3))-5 -> 43640 | FD9: =FC9+1 -> 43641 | FE9: =FD9+1 -> 43642 | FF9: =FE9+1 -> 43643 | FG9: =FF9+1 -> 43644 | FI9: =7*FI8+DATE($B$8,1,3)-WEEKDAY(DATE($B$8,1,3))-5 -> 43647 | FJ9: =FI9+1 -> 43648 | FK9: =FJ9+1 -> 43649 | FL9: =FK9+1 -> 43650 | FM9: =FL9+1 -> 43651 | FO9: =7*FO8+DATE($B$8,1,3)-WEEKDAY(DATE($B$8,1,3))-5 -> 43654 | FP9: =FO9+1 -> 43655 | FQ9: =FP9+1 -> 43656 | FR9: =FQ9+1 -> 43657 | FS9: =FR9+1 -> 43658 | FU9: =7*FU8+DATE($B$8,1,3)-WEEKDAY(DATE($B$8,1,3))-5 -> 43661 | FV9: =FU9+1 -> 43662 | FW9: =FV9+1 -> 43663 | FX9: =FW9+1 -> 43664 | FY9: =FX9+1 -> 43665 | GA9: =7*GA8+DATE($B$8,1,3)-WEEKDAY(DATE($B$8,1,3))-5 -> 43668 | GB9: =GA9+1 -> 43669 | GC9: =GB9+1 -> 43670 | GD9: =GC9+1 -> 43671 | GE9: =GD9+1 -> 43672 | GG9: =7*GG8+DATE($B$8,1,3)-WEEKDAY(DATE($B$8,1,3))-5 -> 43675 | GH9: =GG9+1 -> 43676 | GI9: =GH9+1 -> 43677 | GJ9: =GI9+1 -> 43678 | GK9: =GJ9+1 -> 43679 | GM9: =7*GM8+DATE($B$8,1,3)-WEEKDAY(DATE($B$8,1,3))-5 -> 43682 | GN9: =GM9+1 -> 43683 | GO9: =GN9+1 -> 43684 | GP9: =GO9+1 -> 43685 | GQ9: =GP9+1 -> 43686 | GS9: =7*GS8+DATE($B$8,1,3)-WEEKDAY(DATE($B$8,1,3))-5 -> 43689 | GT9: =GS9+1 -> 43690 | GU9: =GT9+1 -> 43691 | GV9: =GU9+1 -> 43692 | GW9: =GV9+1 -> 43693 | GY9: =7*GY8+DATE($B$8,1,3)-WEEKDAY(DATE($B$8,1,3))-5 -> 43696 | GZ9: =GY9+1 -> 43697 | HA9: =GZ9+1 -> 43698 | HB9: =HA9+1 -> 43699 | HC9: =HB9+1 -> 43700 | HE9: =7*HE8+DATE($B$8,1,3)-WEEKDAY(DATE($B$8,1,3))-5 -> 43703 | HF9: =HE9+1 -> 43704 | HG9: =HF9+1 -> 43705 | HH9: =HG9+1 -> 43706 | HI9: =HH9+1 -> 43707 | HK9: =7*HK8+DATE($B$8,1,3)-WEEKDAY(DATE($B$8,1,3))-5 -> 43710 | HL9: =HK9+1 -> 43711 | HM9: =HL9+1 -> 43712 | HN9: =HM9+1 -> 43713 | HO9: =HN9+1 -> 43714 | HQ9: =7*HQ8+DATE($B$8,1,3)-WEEKDAY(DATE($B$8,1,3))-5 -> 43717 | HR9: =HQ9+1 -> 43718 | HS9: =HR9+1 -> 43719 | HT9: =HS9+1 -> 43720 | HU9: =HT9+1 -> 43721 | HW9: =7*HW8+DATE($B$8,1,3)-WEEKDAY(DATE($B$8,1,3))-5 -> 43724 | HX9: =HW9+1 -> 43725 | HY9: =HX9+1 -> 43726 | HZ9: =HY9+1 -> 43727 | IA9: =HZ9+1 -> 43728 | IC9: =7*IC8+DATE($B$8,1,3)-WEEKDAY(DATE($B$8,1,3))-5 -> 43731 | ID9: =IC9+1 -> 43732 | IE9: =ID9+1 -> 43733 | IF9: =IE9+1 -> 43734 | IG9: =IF9+1 -> 43735 | II9: =7*II8+DATE($B$8,1,3)-WEEKDAY(DATE($B$8,1,3))-5 -> 43738 | IJ9: =II9+1 -> 43739 | IK9: =IJ9+1 -> 43740 | IL9: =IK9+1 -> 43741 | IM9: =IL9+1 -> 43742 | IO9: =7*IO8+DATE($B$8,1,3)-WEEKDAY(DATE($B$8,1,3))-5 -> 43745 | IP9: =IO9+1 -> 43746 | IQ9: =IP9+1 -> 43747 | IR9: =IQ9+1 -> 43748 | IS9: =IR9+1 -> 43749 | IU9: =7*IU8+DATE($B$8,1,3)-WEEKDAY(DATE($B$8,1,3))-5 -> 43752 | IV9: =IU9+1 -> 43753 | IW9: =IV9+1 -> 43754 | IX9: =IW9+1 -> 43755 | IY9: =IX9+1 -> 43756 | JA9: =7*JA8+DATE($B$8,1,3)-WEEKDAY(DATE($B$8,1,3))-5 -> 43759 | JB9: =JA9+1 -> 43760 | JC9: =JB9+1 -> 43761 | JD9: =JC9+1 -> 43762 | JE9: =JD9+1 -> 43763 | JG9: =7*JG8+DATE($B$8,1,3)-WEEKDAY(DATE($B$8,1,3))-5 -> 43766 | JH9: =JG9+1 -> 43767 | JI9: =JH9+1 -> 43768 | JJ9: =JI9+1 -> 43769 | JK9: =JJ9+1 -> 43770 | JM9: =7*JM8+DATE($B$8,1,3)-WEEKDAY(DATE($B$8,1,3))-5 -> 43773 | JN9: =JM9+1 -> 43774 | JO9: =JN9+1 -> 43775 | JP9: =JO9+1 -> 43776 | JQ9: =JP9+1 -> 43777 | JS9: =7*JS8+DATE($B$8,1,3)-WEEKDAY(DATE($B$8,1,3))-5 -> 43780 | JT9: =JS9+1 -> 43781 | JU9: =JT9+1 -> 43782 | JV9: =JU9+1 -> 43783 | JW9: =JV9+1 -> 43784 | JY9: =7*JY8+DATE($B$8,1,3)-WEEKDAY(DATE($B$8,1,3))-5 -> 43787 | JZ9: =JY9+1 -> 43788 | KA9: =JZ9+1 -> 43789 | KB9: =KA9+1 -> 43790 | KC9: =KB9+1 -> 43791 | KE9: =7*KE8+DATE($B$8,1,3)-WEEKDAY(DATE($B$8,1,3))-5 -> 43794 | KF9: =KE9+1 -> 43795 | KG9: =KF9+1 -> 43796 | KH9: =KG9+1 -> 43797 | KI9: =KH9+1 -> 43798 | KK9: =7*KK8+DATE($B$8,1,3)-WEEKDAY(DATE($B$8,1,3))-5 -> 43801 | KL9: =KK9+1 -> 43802 | KM9: =KL9+1 -> 43803 | KN9: =KM9+1 -> 43804 | KO9: =KN9+1 -> 43805 | KQ9: =7*KQ8+DATE($B$8,1,3)-WEEKDAY(DATE($B$8,1,3))-5 -> 43808 | KR9: =KQ9+1 -> 43809 | KS9: =KR9+1 -> 43810 | KT9: =KS9+1 -> 43811 | KU9: =KT9+1 -> 43812 | KW9: =7*KW8+DATE($B$8,1,3)-WEEKDAY(DATE($B$8,1,3))-5 -> 43815 | KX9: =KW9+1 -> 43816 | KY9: =KX9+1 -> 43817 | KZ9: =KY9+1 -> 43818 | LA9: =KZ9+1 -> 43819 | LC9: =7*LC8+DATE($B$8,1,3)-WEEKDAY(DATE($B$8,1,3))-5 -> 43822 | LD9: =LC9+1 -> 43823 | LE9: =LD9+1 -> 43824 | LF9: =LE9+1 -> 43825 | LG9: =LF9+1 -> 43826 | LI9: =7*LI8+DATE($B$8,1,3)-WEEKDAY(DATE($B$8,1,3))-5 -> 43829 | LJ9: =LI9+1 -> 43830 | LK9: =LJ9+1 -> 43831 | LL9: =LK9+1 -> 43832 | LM9: =LL9+1 -> 43833
C10: =C9 -> 43465 | D10: =C9 -> 43465 | E10: =C9 -> 43465 | F10: =C9 -> 43465 | G10: =G9 -> 43466 | H10: =G9 -> 43466 | I10: =G9 -> 43466 | J10: =G9 -> 43466
B11: Précos | C11: 3 | D11: 3 | E11: 3 | F11: 2
C12: SCEN1 | D12: SCEN2 | E12: SCEN3 | F12: SCEN4 | G12: SCEN1 | H12: SCEN2 | I12: SCEN3 | J12: SCEN4
B13: =ANG!B10 -> cc1 | C13: =VLOOKUP(Table16[[#This Row],[Column1]],ANG!$B$10:$C$32,2,0) -> 0 | D13: =VLOOKUP(Table16[[#This Row],[Column1]],ANG!$B$10:$C$32,2,0) -> 0 | E13: =VLOOKUP(Table16[[#This Row],[Column1]],ANG!$B$10:$C$32,2,0) -> 0 | F13: =VLOOKUP(Table16[[#This Row],[Column1]],ANG!$B$10:$C$32,2,0) -> 0
B14: =ANG!B11 -> cc2 | C14: =VLOOKUP(Table16[[#This Row],[Column1]],ANG!$B$10:$C$32,2,0) -> M | D14: =VLOOKUP(Table16[[#This Row],[Column1]],ANG!$B$10:$C$32,2,0) -> M | E14: =VLOOKUP(Table16[[#This Row],[Column1]],ANG!$B$10:$C$32,2,0) -> M | F14: =VLOOKUP(Table16[[#This Row],[Column1]],ANG!$B$10:$C$32,2,0) -> M
B15: =ANG!B12 -> cc3 | C15: =VLOOKUP(Table16[[#This Row],[Column1]],ANG!$B$10:$C$32,2,0) -> C | D15: =VLOOKUP(Table16[[#This Row],[Column1]],ANG!$B$10:$C$32,2,0) -> C | E15: =VLOOKUP(Table16[[#This Row],[Column1]],ANG!$B$10:$C$32,2,0) -> C | F15: =VLOOKUP(Table16[[#This Row],[Column1]],ANG!$B$10:$C$32,2,0) -> C
B16: =ANG!B13 -> cc4 | C16: =VLOOKUP(Table16[[#This Row],[Column1]],ANG!$B$10:$C$32,2,0) -> 0 | D16: =VLOOKUP(Table16[[#This Row],[Column1]],ANG!$B$10:$C$32,2,0) -> 0 | E16: =VLOOKUP(Table16[[#This Row],[Column1]],ANG!$B$10:$C$32,2,0) -> 0 | F16: =VLOOKUP(Table16[[#This Row],[Column1]],ANG!$B$10:$C$32,2,0) -> 0
B17: =ANG!B14 -> cc5 | C17: =VLOOKUP(Table16[[#This Row],[Column1]],ANG!$B$10:$C$32,2,0) -> 0 | D17: =VLOOKUP(Table16[[#This Row],[Column1]],ANG!$B$10:$C$32,2,0) -> 0 | E17: =VLOOKUP(Table16[[#This Row],[Column1]],ANG!$B$10:$C$32,2,0) -> 0 | F17: =VLOOKUP(Table16[[#This Row],[Column1]],ANG!$B$10:$C$32,2,0) -> 0
B18: =ANG!B15 -> cc6 | C18: =VLOOKUP(Table16[[#This Row],[Column1]],ANG!$B$10:$C$32,2,0) -> 0 | D18: =VLOOKUP(Table16[[#This Row],[Column1]],ANG!$B$10:$C$32,2,0) -> 0 | E18: =VLOOKUP(Table16[[#This Row],[Column1]],ANG!$B$10:$C$32,2,0) -> 0 | F18: =VLOOKUP(Table16[[#This Row],[Column1]],ANG!$B$10:$C$32,2,0) -> 0
B19: =ANG!B16 -> cc7 | C19: =VLOOKUP(Table16[[#This Row],[Column1]],ANG!$B$10:$C$32,2,0) -> 0 | D19: =VLOOKUP(Table16[[#This Row],[Column1]],ANG!$B$10:$C$32,2,0) -> 0 | E19: =VLOOKUP(Table16[[#This Row],[Column1]],ANG!$B$10:$C$32,2,0) -> 0 | F19: =VLOOKUP(Table16[[#This Row],[Column1]],ANG!$B$10:$C$32,2,0) -> 0
B20: =ANG!B17 -> cc8 | C20: =VLOOKUP(Table16[[#This Row],[Column1]],ANG!$B$10:$C$32,2,0) -> 0 | D20: =VLOOKUP(Table16[[#This Row],[Column1]],ANG!$B$10:$C$32,2,0) -> 0 | E20: =VLOOKUP(Table16[[#This Row],[Column1]],ANG!$B$10:$C$32,2,0) -> 0 | F20: =VLOOKUP(Table16[[#This Row],[Column1]],ANG!$B$10:$C$32,2,0) -> 0
B21: =ANG!B18 -> cc9 | C21: =VLOOKUP(Table16[[#This Row],[Column1]],ANG!$B$10:$C$32,2,0) -> 0 | D21: =VLOOKUP(Table16[[#This Row],[Column1]],ANG!$B$10:$C$32,2,0) -> 0 | E21: =VLOOKUP(Table16[[#This Row],[Column1]],ANG!$B$10:$C$32,2,0) -> 0 | F21: =VLOOKUP(Table16[[#This Row],[Column1]],ANG!$B$10:$C$32,2,0) -> 0
B22: =ANG!B19 -> cc10 | C22: =VLOOKUP(Table16[[#This Row],[Column1]],ANG!$B$10:$C$32,2,0) -> 0 | D22: =VLOOKUP(Table16[[#This Row],[Column1]],ANG!$B$10:$C$32,2,0) -> 0 | E22: =VLOOKUP(Table16[[#This Row],[Column1]],ANG!$B$10:$C$32,2,0) -> 0 | F22: =VLOOKUP(Table16[[#This Row],[Column1]],ANG!$B$10:$C$32,2,0) -> 0
B23: =ANG!B20 -> cc11 | C23: =VLOOKUP(Table16[[#This Row],[Column1]],ANG!$B$10:$C$32,2,0) -> 0 | D23: =VLOOKUP(Table16[[#This Row],[Column1]],ANG!$B$10:$C$32,2,0) -> 0 | E23: =VLOOKUP(Table16[[#This Row],[Column1]],ANG!$B$10:$C$32,2,0) -> 0 | F23: =VLOOKUP(Table16[[#This Row],[Column1]],ANG!$B$10:$C$32,2,0) -> 0
B24: =ANG!B21 -> cc12 | C24: =VLOOKUP(Table16[[#This Row],[Column1]],ANG!$B$10:$C$32,2,0) -> C | D24: =VLOOKUP(Table16[[#This Row],[Column1]],ANG!$B$10:$C$32,2,0) -> C | E24: =VLOOKUP(Table16[[#This Row],[Column1]],ANG!$B$10:$C$32,2,0) -> C | F24: =VLOOKUP(Table16[[#This Row],[Column1]],ANG!$B$10:$C$32,2,0) -> C
... B33: =ANG!B30 -> cc21 | C33: =VLOOKUP(Table16[[#This Row],[Column1]],ANG!$B$10:$C$32,2,0) -> 0 | D33: =VLOOKUP(Table16[[#This Row],[Column1]],ANG!$B$10:$C$32,2,0) -> 0 | E33: =VLOOKUP(Table16[[#This Row],[Column1]],ANG!$B$10:$C$32,2,0) -> 0 | F33: =VLOOKUP(Table16[[#This Row],[Column1]],ANG!$B$10:$C$32,2,0) -> 0
B39: précos
D40: scn2 | E40: scn3 | F40: scn4
B41: cc1 | D41: 4 | E41: 3 | F41: 3 | G41: =SUM(C41:F41) -> 10 | H41: déjà calculé dans la matrice

Sheet jours fériés et RTT
B2: Date | C2: jour férié
B3: 43466 | C3: jour de l'an
B4: 43586 | C4: fête du travail
B5: 43593 | C5: victoire 1945
B6: 43660 | C6: fête nationale
B7: 43692 | C7: assomption
B8: 43770 | C8: toussaint
B9: 43780 | C9: armistice
B10: 43824 | C10: noel
B11: 43577 | C11: pâques
B12: 43615 | C12: ascension
B13: 43626 | C13: pentecôte
B16: RTT obligatoire
B17: 43616 | C17: =IF(Tableau5[[#This Row],[RTT obligatoire]]<>"","RTT") -> RTT
B18: 43693 | C18: =IF(Tableau5[[#This Row],[RTT obligatoire]]<>"","RTT") -> RTT
