Workbook

Sheet 04
A4: N° | B4: Jour | C4: Code | D4: Désignation | E4: Quantité | F4: P.U. HT | G4: TVA % | H4: Montant HT
A5: 17 | B5: 1 | C5: 1-P0P90 | D5: =INDEX(ART!C:C,MATCH(C5,ART!B:B,0)) -> Papier A0 / 150 gr (914 mm x 50 m) Print | E5: 12 | F5: =INDEX(ART!E:E,MATCH(C5,ART!B:B,0)) -> 3647.0588 | G5: =INDEX(ART!F:F,MATCH(C5,ART!B:B,0)) -> 0.19 | H5: =_04[[#This Row],[Quantité]]*_04[[#This Row],[P.U. HT]] -> 43764.706
A6: 18 | B6: 1 | C6: 1-P0T150 | D6: =INDEX(ART!C:C,MATCH(C6,ART!B:B,0)) -> Papier A0 / 080 gr (914 mm x 150 m) Tirage | E6: 6 | F6: =INDEX(ART!E:E,MATCH(C6,ART!B:B,0)) -> 3336.1345 | G6: =INDEX(ART!F:F,MATCH(C6,ART!B:B,0)) -> 0.19 | H6: =_04[[#This Row],[Quantité]]*_04[[#This Row],[P.U. HT]] -> 20016.807
A7: 1 | B7: 1 | C7: C3 | D7: =INDEX(ART!C:C,MATCH(C7,ART!B:B,0)) -> Copie Noir & Blanc A3-R / Papier | E7: 240 | F7: =INDEX(ART!E:E,MATCH(C7,ART!B:B,0)) -> 8.4033613 | G7: =INDEX(ART!F:F,MATCH(C7,ART!B:B,0)) -> 0.19 | H7: =_04[[#This Row],[Quantité]]*_04[[#This Row],[P.U. HT]] -> 2016.8067 | J7: Colonne H
A8: 2 | B8: 1 | C8: C30 | D8: =INDEX(ART!C:C,MATCH(C8,ART!B:B,0)) -> Copie Couleur A3-R / Papier (aucun aplat) | E8: 36 | F8: =INDEX(ART!E:E,MATCH(C8,ART!B:B,0)) -> 67.226891 | G8: =INDEX(ART!F:F,MATCH(C8,ART!B:B,0)) -> 0.19 | H8: =_04[[#This Row],[Quantité]]*_04[[#This Row],[P.U. HT]] -> 2420.1681 | J8: Résultats faux
A9: 3 | B9: 1 | C9: C4 | D9: =INDEX(ART!C:C,MATCH(C9,ART!B:B,0)) -> Copie Noir & Blanc A4-R / Papier | E9: 360 | F9: =INDEX(ART!E:E,MATCH(C9,ART!B:B,0)) -> 4.2016807 | G9: =INDEX(ART!F:F,MATCH(C9,ART!B:B,0)) -> 0.19 | H9: =_04[[#This Row],[Quantité]]*_04[[#This Row],[P.U. HT]] -> 1512.605 | J9: Il faut les valider un à un pour que ça marche
A10: 5 | B10: 1 | C10: C6 | D10: =INDEX(ART!C:C,MATCH(C10,ART!B:B,0)) -> Copie Noir & Blanc A3-RV / Papier | E10: 24 | F10: =INDEX(ART!E:E,MATCH(C10,ART!B:B,0)) -> 16.806723 | G10: =INDEX(ART!F:F,MATCH(C10,ART!B:B,0)) -> 0.19 | H10: =_04[[#This Row],[Quantité]]*_04[[#This Row],[P.U. HT]] -> 403.36134 | J10: L'incrémentation aussi ne fonctionne pas
A11: 13 | B11: 1 | C11: PC | D11: =INDEX(ART!C:C,MATCH(C11,ART!B:B,0)) -> Traçage Noir & Blanc / Calque | E11: 3 | F11: =INDEX(ART!E:E,MATCH(C11,ART!B:B,0)) -> 369.7479 | G11: =INDEX(ART!F:F,MATCH(C11,ART!B:B,0)) -> 0.19 | H11: =_04[[#This Row],[Quantité]]*_04[[#This Row],[P.U. HT]] -> 1109.2437 | J11: POURQUOI ?
A12: 10 | B12: 1 | C12: PP | D12: =INDEX(ART!C:C,MATCH(C12,ART!B:B,0)) -> Traçage Noir & Blanc / Papier | E12: 21 | F12: =INDEX(ART!E:E,MATCH(C12,ART!B:B,0)) -> 226.89076 | G12: =INDEX(ART!F:F,MATCH(C12,ART!B:B,0)) -> 0.19 | H12: =_04[[#This Row],[Quantité]]*_04[[#This Row],[P.U. HT]] -> 4764.7059
A13: 8 | B13: 1 | C13: TP | D13: =INDEX(ART!C:C,MATCH(C13,ART!B:B,0)) -> Tirage Noir & Blanc / Papier | E13: 124 | F13: =INDEX(ART!E:E,MATCH(C13,ART!B:B,0)) -> 75.630252 | G13: =INDEX(ART!F:F,MATCH(C13,ART!B:B,0)) -> 0.19 | H13: =_04[[#This Row],[Quantité]]*_04[[#This Row],[P.U. HT]] -> 9378.1513
D14: TOTAL 01-03-2018 | H14: =SUM(H5:H13) -> 85386.555
A15: 22 | B15: 3 | C15: 1-P4XB | D15: =INDEX(ART!C:C,MATCH(C15,ART!B:B,0)) -> Papier A4 / 080 gr / 500 f. extra blanc Xeropap Bleu | E15: 45 | F15: =INDEX(ART!E:E,MATCH(C15,ART!B:B,0)) -> 470.58824 | G15: =INDEX(ART!F:F,MATCH(C15,ART!B:B,0)) -> 0.19 | H15: =_04[[#This Row],[Quantité]]*_04[[#This Row],[P.U. HT]] -> 21176.471
A16: 23 | B16: 3 | C16: 1-P4XR | D16: =INDEX(ART!C:C,MATCH(C16,ART!B:B,0)) -> Papier A4 / 080 gr / 500 f. extra blanc Xeropap Rouge | E16: 30 | F16: =INDEX(ART!E:E,MATCH(C16,ART!B:B,0)) -> 504.20168 | G16: =INDEX(ART!F:F,MATCH(C16,ART!B:B,0)) -> 0.19 | H16: =_04[[#This Row],[Quantité]]*_04[[#This Row],[P.U. HT]] -> 15126.05
A17: 27 | B17: 3 | C17: 2-SBT | D17: =INDEX(ART!C:C,MATCH(C17,ART!B:B,0)) -> Stylo à bille Techno | E17: 200 | F17: =INDEX(ART!E:E,MATCH(C17,ART!B:B,0)) -> 16.806723 | G17: =INDEX(ART!F:F,MATCH(C17,ART!B:B,0)) -> 0.19 | H17: =_04[[#This Row],[Quantité]]*_04[[#This Row],[P.U. HT]] -> 3361.3445
A18: 28 | B18: 3 | C18: 2-SF1 | D18: =INDEX(ART!C:C,MATCH(C18,ART!B:B,0)) -> Surligneur Fluo | E18: 80 | F18: =INDEX(ART!E:E,MATCH(C18,ART!B:B,0)) -> 92.436975 | G18: =INDEX(ART!F:F,MATCH(C18,ART!B:B,0)) -> 0.19 | H18: =_04[[#This Row],[Quantité]]*_04[[#This Row],[P.U. HT]] -> 7394.958
A19: 30 | B19: 3 | C19: 4-C3B180 | D19: =INDEX(ART!C:C,MATCH(C19,ART!B:B,0)) -> Couverture A3 Bristol 180 gr / 100 u | E19: 60 | F19: =INDEX(ART!E:E,MATCH(C19,ART!B:B,0)) -> 680.67227 | G19: =INDEX(ART!F:F,MATCH(C19,ART!B:B,0)) -> 0.19 | H19: =_04[[#This Row],[Quantité]]*_04[[#This Row],[P.U. HT]] -> 40840.336 | J19: Colonne F | K19: Colonne G
A20: 31 | B20: 3 | C20: 4-C4B180 | D20: =INDEX(ART!C:C,MATCH(C20,ART!B:B,0)) -> Couverture A4 Bristol 180 gr / 100 u | E20: 60 | F20: =INDEX(ART!E:E,MATCH(C20,ART!B:B,0)) -> 394.95798 | G20: =INDEX(ART!F:F,MATCH(C20,ART!B:B,0)) -> 0.19 | H20: =_04[[#This Row],[Quantité]]*_04[[#This Row],[P.U. HT]] -> 23697.479 | J20: =INDEX(ART!E:E;EQUIV(C21;ART!B:B;0)) | K20: =INDEX(ART!F:F;EQUIV(C21;ART!B:B;0))
A21: 37 | B21: 3 | C21: 9-AMN2 | D21: =INDEX(ART!C:C,MATCH(C21,ART!B:B,0)) -> Doc. Revue "Amenhis" 200 | E21: 10 | F21: =INDEX(ART!E:E,MATCH(C21,ART!B:B,0)) -> 192.66055 | G21: =INDEX(ART!F:F,MATCH(C21,ART!B:B,0)) -> 0.09 | H21: =_04[[#This Row],[Quantité]]*_04[[#This Row],[P.U. HT]] -> 1926.6055 | J21: L'incrémentation ne fonctionne pas | K21: L'incrémentation ne fonctionne pas
A22: 38 | B22: 3 | C22: 9-LOC | D22: =INDEX(ART!C:C,MATCH(C22,ART!B:B,0)) -> Doc. Logements collectifs | E22: 10 | F22: =INDEX(ART!E:E,MATCH(C22,ART!B:B,0)) -> 2990.8257 | G22: =INDEX(ART!F:F,MATCH(C22,ART!B:B,0)) -> 0.09 | H22: =_04[[#This Row],[Quantité]]*_04[[#This Row],[P.U. HT]] -> 29908.257
A23: 39 | B23: 3 | C23: 9-LPM | D23: =INDEX(ART!C:C,MATCH(C23,ART!B:B,0)) -> Doc. Les Petites Maisons | E23: 10 | F23: =INDEX(ART!E:E,MATCH(C23,ART!B:B,0)) -> 3743.1193 | G23: =INDEX(ART!F:F,MATCH(C23,ART!B:B,0)) -> 0.09 | H23: =_04[[#This Row],[Quantité]]*_04[[#This Row],[P.U. HT]] -> 37431.193
A24: 40 | B24: 3 | C24: 9-MSI | D24: =INDEX(ART!C:C,MATCH(C24,ART!B:B,0)) -> Doc. Maisons individuelles | E24: 10 | F24: =INDEX(ART!E:E,MATCH(C24,ART!B:B,0)) -> 2807.3394 | G24: =INDEX(ART!F:F,MATCH(C24,ART!B:B,0)) -> 0.09 | H24: =_04[[#This Row],[Quantité]]*_04[[#This Row],[P.U. HT]] -> 28073.394 | J24: Laquelle de ces deux formules est meilleure ?
A25: 43 | B25: 3 | C25: TP0 | D25: =INDEX(ART!C:C,MATCH(C25,ART!B:B,0)) -> Tirage Couleur / Papier (aucun aplat) | E25: 18 | F25: =INDEX(ART!E:E,MATCH(C25,ART!B:B,0)) -> 336.13445 | G25: =INDEX(ART!F:F,MATCH(C25,ART!B:B,0)) -> 0.19 | H25: =_04[[#This Row],[Quantité]]*_04[[#This Row],[P.U. HT]] -> 6050.4202
D26: TOTAL 03-03-2018 | H26: =SUM(H15:H25) -> 214986.51
A27: 51 | B27: 4 | C27: C40 | D27: =INDEX(ART!C:C,MATCH(C27,ART!B:B,0)) -> Copie Couleur A4-R / Papier (aucun aplat) | E27: 36 | F27: =VLOOKUP(C27,ART!B:E,4,0) -> 33.613445 | G27: =VLOOKUP(C27,ART!B:F,5,0) -> 0.19 | H27: =_04[[#This Row],[Quantité]]*_04[[#This Row],[P.U. HT]] -> 1210.084 | J27: Colonne F | K27: Colonne G
A28: 54 | B28: 4 | C28: C8 | D28: =INDEX(ART!C:C,MATCH(C28,ART!B:B,0)) -> Copie Noir & Blanc A4-RV / Papier | E28: 84 | F28: =VLOOKUP(C28,ART!B:E,4,0) -> 8.4033613 | G28: =VLOOKUP(C28,ART!B:F,5,0) -> 0.19 | H28: =_04[[#This Row],[Quantité]]*_04[[#This Row],[P.U. HT]] -> 705.88235 | J28: =RECHERCHEV(C29;ART!B:E;4;0) | K28: =RECHERCHEV(G29;ART!B:F;5;0)
A29: 63 | B29: 4 | C29: PP0 | D29: =INDEX(ART!C:C,MATCH(C29,ART!B:B,0)) -> Traçage Couleur / Papier (aucun aplat) | E29: 6 | F29: =VLOOKUP(C29,ART!B:E,4,0) -> 420.16807 | G29: =VLOOKUP(C29,ART!B:F,5,0) -> 0.19 | H29: =_04[[#This Row],[Quantité]]*_04[[#This Row],[P.U. HT]] -> 2521.0084 | J29: L'incrémentation ne fonctionne pas | K29: L'incrémentation ne fonctionne pas
D30: TOTAL 04-03-2018 | H30: =SUM(H27:H29) -> 4436.9748

Sheet ART
A2: N° Ordre | B2: Code | C2: Désignation Article | D2: Unité | E2: Prix HT Comptoir | F2: Taux TVA | G2: Prix TTC Comptoir
A3: 1 | C3: 1-PRESTATIONS
A4: 2 | C4: 11-COPIE (Petit Format)
A5: 3 | B5: C3 | C5: Copie Noir & Blanc A3-R / Papier | D5: U | E5: 8.4033613 | F5: 0.19 | G5: =E5*1.19 -> 10
A6: 19 | B6: C30 | C6: Copie Couleur A3-R / Papier (aucun aplat) | D6: U | E6: 67.226891 | F6: 0.19 | G6: =E6*1.19 -> 80
A7: 7 | B7: C4 | C7: Copie Noir & Blanc A4-R / Papier | D7: U | E7: 4.2016807 | F7: 0.19 | G7: =E7*1.19 -> 5
A8: 25 | B8: C40 | C8: Copie Couleur A4-R / Papier (aucun aplat) | D8: U | E8: 33.613445 | F8: 0.19 | G8: =E8*1.19 -> 40
A9: 12 | B9: C6 | C9: Copie Noir & Blanc A3-RV / Papier | D9: U | E9: 16.806723 | F9: 0.19 | G9: =E9*1.19 -> 20
A10: 15 | B10: C8 | C10: Copie Noir & Blanc A4-RV / Papier | D10: U | E10: 8.4033613 | F10: 0.19 | G10: =E10*1.19 -> 10
A11: 80 | C11: 13-TIRAGE (Grand Format)
A12: 83 | B12: TP | C12: Tirage Noir & Blanc / Papier | D12: ML | E12: 75.630252 | F12: 0.19 | G12: =E12*1.19 -> 90
A13: 88 | B13: TP0 | C13: Tirage Couleur / Papier (aucun aplat) | D13: ML | E13: 336.13445 | F13: 0.19 | G13: =E13*1.19 -> 400
A14: 98 | B14: PP | C14: Traçage Noir & Blanc / Papier | D14: ML | E14: 226.89076 | F14: 0.19 | G14: =E14*1.19 -> 270
A15: 103 | B15: PP0 | C15: Traçage Couleur / Papier (aucun aplat) | D15: ML | E15: 420.16807 | F15: 0.19 | G15: =E15*1.19 -> 500
A16: 81 | B16: TC | C16: Tirage Noir & Blanc / Calque | D16: ML | E16: 184.87395 | F16: 0.19 | G16: =E16*1.19 -> 220
A17: 96 | B17: PC | C17: Traçage Noir & Blanc / Calque | D17: ML | E17: 369.7479 | F17: 0.19 | G17: =E17*1.19 -> 440
A19: 1 | C19: 2-BUREAUTIQUE
A20: 2 | C20: 21-PAPIER
A21: 10 | B21: 1-P0P90 | C21: Papier A0 / 150 gr (914 mm x 50 m) Print | D21: U | E21: 3647.0588 | F21: 0.19 | G21: =E21*1.19 -> 4340
A22: 11 | B22: 1-P0T150 | C22: Papier A0 / 080 gr (914 mm x 150 m) Tirage | D22: U | E22: 3336.1345 | F22: 0.19 | G22: =E22*1.19 -> 3970
A23: 12 | B23: 1-P0T175 | C23: Papier A0 / 080 gr (914 mm x 175 m) Tirage | D23: U | E23: 3857.1429 | F23: 0.19 | G23: =E23*1.19 -> 4590
A24: 13 | B24: 1-P1T150 | C24: Papier A1 / 080 gr (625 mm x 150 m) Tirage | D24: U | E24: 2512.605 | F24: 0.19 | G24: =E24*1.19 -> 2990
A25: 19 | B25: 1-P3XP | C25: Papier A3 / 080 gr / 500 f. extra blanc Xeropap | D25: U | E25: 831.93277 | F25: 0.19 | G25: =E25*1.19 -> 990
A26: 24 | B26: 1-P4XB | C26: Papier A4 / 080 gr / 500 f. extra blanc Xeropap Bleu | D26: U | E26: 470.58824 | F26: 0.19 | G26: =E26*1.19 -> 560
A27: 25 | B27: 1-P4XR | C27: Papier A4 / 080 gr / 500 f. extra blanc Xeropap Rouge | D27: U | E27: 504.20168 | F27: 0.19 | G27: =E27*1.19 -> 600
A28: 27 | C28: 22-ENCRE
A29: 37 | B29: 2-MTB4 | C29: Marqueur tableau blanc / 4 u | D29: U | E29: 386.55462 | F29: 0.19 | G29: =E29*1.19 -> 460
A30: 45 | B30: 2-SBM | C30: Stylo à bille Medium | D30: U | E30: 16.806723 | F30: 0.19 | G30: =E30*1.19 -> 20
A31: 46 | B31: 2-SBT | C31: Stylo à bille Techno | D31: U | E31: 16.806723 | F31: 0.19 | G31: =E31*1.19 -> 20
A32: 49 | B32: 2-SF1 | C32: Surligneur Fluo | D32: U | E32: 92.436975 | F32: 0.19 | G32: =E32*1.19 -> 110
A33: 89 | C33: 24-COUVERTURE
A34: 90 | B34: 4-C3B180 | C34: Couverture A3 Bristol 180 gr / 100 u | D34: U | E34: 680.67227 | F34: 0.19 | G34: =E34*1.19 -> 810
A35: 92 | B35: 4-C4B180 | C35: Couverture A4 Bristol 180 gr / 100 u | D35: U | E35: 394.95798 | F35: 0.19 | G35: =E35*1.19 -> 470
A36: 105 | B36: 4-TN3 | C36: Transparent A3 neutre (feuille) | D36: U | E36: 25.210084 | F36: 0.19 | G36: =E36*1.19 -> 30
A37: 106 | B37: 4-TN4 | C37: Transparent A4 neutre (feuille) | D37: U | E37: 16.806723 | F37: 0.19 | G37: =E37*1.19 -> 20
A39: 1 | C39: 3-DOCUMENTATION
A40: 2 | C40: 31-AMENHIS
A41: 4 | B41: 9-AMN2 | C41: Doc. Revue "Amenhis" 200 | D41: U | E41: 192.66055 | F41: 0.09 | G41: =E41*1.09 -> 210
A42: 11 | B42: 9-LOC | C42: Doc. Logements collectifs | D42: U | E42: 2990.8257 | F42: 0.09 | G42: =E42*1.09 -> 3260
A43: 12 | B43: 9-LPM | C43: Doc. Les Petites Maisons | D43: U | E43: 3743.1193 | F43: 0.09 | G43: =E43*1.09 -> 4080
A44: 13 | B44: 9-MSI | C44: Doc. Maisons individuelles | D44: U | E44: 2807.3394 | F44: 0.09 | G44: =E44*1.09 -> 3060
