Workbook

Sheet Feuil1
A1: CALCULATEUR | S1: LISTING
A3: FORMAT ETIQUETTE (mm) | F3: QUANTITÉ | J3: 50 | K3: MARGE | S3: COMMANDE N°1 du
A4: Largeur | B4: 170 | C4: Hauteur | D4: 90 | F4: COUT AU m² non plastifié | J4: =$K$4*4.07 -> 5.4945 | K4: 1.35 | S4: DESIGNATIONS | T4: FORMAT | V4: QUANTITE | W4: COÛT € HT | AP4: cout dans le sens de la Largeur | AQ4: cout dans le sens de la hauteur
F5: COUT AU m² plastifié | J5: =$K$4*9.08 -> 12.258 | T5: Largeur mm | U5: Hauteur mm
A6: AVEC BORDS PERDUS Format étiquette (mm) | S6: AGRIPNET | T6: 190 | U6: 215 | V6: 50 | AP6: =ROUNDUP((((1600*(105+((ROUNDDOWN($L$11/(U6+6),0))*(U6+6)+105))/1000000)*$J$5)/((ROUNDDOWN($L$13/(T6+6),0))*(ROUNDDOWN($L$11/(U6+6),0))))*V6,0) -> 36 | AQ6: =ROUNDUP((((1600*(105+((ROUNDDOWN($L$11/(T6+6),0))*(T6+6)+105))/1000000)*$J$5)/((ROUNDDOWN($L$13/(U6+6),0))*(ROUNDDOWN($L$11/(T6+6),0))))*V6,0) -> 37
A7: L | B7: =B4+6 -> 176 | C7: H | D7: =D4+6 -> 96 | L7: Nombre poses sur LAIZE | M7: Nombre de poses sur Longueur | N7: POSES Nbre total | P7: Surface Impression (m²) | Q7: Coût d'impression | S7: CARNET | T7: 150 | U7: 210 | V7: 20 | AP7: =ROUNDUP((((1600*(105+((ROUNDDOWN($L$11/(U7+6),0))*(U7+6)+105))/1000000)*$J$5)/((ROUNDDOWN($L$13/(T7+6),0))*(ROUNDDOWN($L$11/(U7+6),0))))*V7,0) -> 11 | AQ7: =ROUNDUP((((1600*(105+((ROUNDDOWN($L$11/(T7+6),0))*(T7+6)+105))/1000000)*$J$5)/((ROUNDDOWN($L$13/(U7+6),0))*(ROUNDDOWN($L$11/(T7+6),0))))*V7,0) -> 11
E8: _ | J8: COUT D'IMPRESSION | L8: =ROUNDDOWN(L13/$B$7,0) -> 8 | M8: =ROUNDDOWN(L11/$D$7,0) -> 15 | N8: =L8*M8 -> 120 | P8: =(1600*(105+(M8*$D$7)+105))/1000000 -> 2.64 | Q8: =P8*$J$5 -> 32.36112 | S8: DEBOUCHFORT | T8: 190 | U8: 100 | V8: 50 | AP8: =ROUNDUP((((1600*(105+((ROUNDDOWN($L$11/(U8+6),0))*(U8+6)+105))/1000000)*$J$5)/((ROUNDDOWN($L$13/(T8+6),0))*(ROUNDDOWN($L$11/(U8+6),0))))*V8,0) -> 17 | AQ8: =ROUNDUP((((1600*(105+((ROUNDDOWN($L$11/(T8+6),0))*(T8+6)+105))/1000000)*$J$5)/((ROUNDDOWN($L$13/(U8+6),0))*(ROUNDDOWN($L$11/(T8+6),0))))*V8,0) -> 16
S9: DETARNET RECTO | T9: 90 | U9: 80 | V9: 100 | AP9: =ROUNDUP((((1600*(105+((ROUNDDOWN($L$11/(U9+6),0))*(U9+6)+105))/1000000)*$J$5)/((ROUNDDOWN($L$13/(T9+6),0))*(ROUNDDOWN($L$11/(U9+6),0))))*V9,0) -> 13 | AQ9: =ROUNDUP((((1600*(105+((ROUNDDOWN($L$11/(T9+6),0))*(T9+6)+105))/1000000)*$J$5)/((ROUNDDOWN($L$13/(U9+6),0))*(ROUNDDOWN($L$11/(T9+6),0))))*V9,0) -> 13
S10: DETARNET VERSO | T10: 90 | U10: 80 | V10: 100 | AP10: =ROUNDUP((((1600*(105+((ROUNDDOWN($L$11/(U10+6),0))*(U10+6)+105))/1000000)*$J$5)/((ROUNDDOWN($L$13/(T10+6),0))*(ROUNDDOWN($L$11/(U10+6),0))))*V10,0) -> 13 | AQ10: =ROUNDUP((((1600*(105+((ROUNDDOWN($L$11/(T10+6),0))*(T10+6)+105))/1000000)*$J$5)/((ROUNDDOWN($L$13/(U10+6),0))*(ROUNDDOWN($L$11/(T10+6),0))))*V10,0) -> 13
J11: Longueur d'impression (mm) | L11: 1500 | P11: COÛT UNITAIRE | Q11: =Q8/N8 -> 0.269676 | S11: DIFFAMBIANCE DAVANIA | T11: 90 | U11: 170 | V11: 100 | AP11: =ROUNDUP((((1600*(105+((ROUNDDOWN($L$11/(U11+6),0))*(U11+6)+105))/1000000)*$J$5)/((ROUNDDOWN($L$13/(T11+6),0))*(ROUNDDOWN($L$11/(U11+6),0))))*V11,0) -> 25 | AQ11: =ROUNDUP((((1600*(105+((ROUNDDOWN($L$11/(T11+6),0))*(T11+6)+105))/1000000)*$J$5)/((ROUNDDOWN($L$13/(U11+6),0))*(ROUNDDOWN($L$11/(T11+6),0))))*V11,0) -> 27
S12: DIFFAMBIANCE FRUITS ROUGES | T12: 90 | U12: 170 | V12: 50 | AP12: =ROUNDUP((((1600*(105+((ROUNDDOWN($L$11/(U12+6),0))*(U12+6)+105))/1000000)*$J$5)/((ROUNDDOWN($L$13/(T12+6),0))*(ROUNDDOWN($L$11/(U12+6),0))))*V12,0) -> 13 | AQ12: =ROUNDUP((((1600*(105+((ROUNDDOWN($L$11/(T12+6),0))*(T12+6)+105))/1000000)*$J$5)/((ROUNDDOWN($L$13/(U12+6),0))*(ROUNDDOWN($L$11/(T12+6),0))))*V12,0) -> 14
J13: Laize d'impression (mm) | L13: 1545 | P13: COÛT QUANTITÉ | Q13: =$J$3*Q11 -> 13.4838 | S13: DIFFAMBIANCE MENTHOL | T13: 90 | U13: 170 | V13: 50 | AP13: =ROUNDUP((((1600*(105+((ROUNDDOWN($L$11/(U13+6),0))*(U13+6)+105))/1000000)*$J$5)/((ROUNDDOWN($L$13/(T13+6),0))*(ROUNDDOWN($L$11/(U13+6),0))))*V13,0) -> 13 | AQ13: =ROUNDUP((((1600*(105+((ROUNDDOWN($L$11/(T13+6),0))*(T13+6)+105))/1000000)*$J$5)/((ROUNDDOWN($L$13/(U13+6),0))*(ROUNDDOWN($L$11/(T13+6),0))))*V13,0) -> 14
S14: DIFFAMBIANCE MISTRAL | T14: 90 | U14: 170 | V14: 50 | AP14: =ROUNDUP((((1600*(105+((ROUNDDOWN($L$11/(U14+6),0))*(U14+6)+105))/1000000)*$J$5)/((ROUNDDOWN($L$13/(T14+6),0))*(ROUNDDOWN($L$11/(U14+6),0))))*V14,0) -> 13 | AQ14: =ROUNDUP((((1600*(105+((ROUNDDOWN($L$11/(T14+6),0))*(T14+6)+105))/1000000)*$J$5)/((ROUNDDOWN($L$13/(U14+6),0))*(ROUNDDOWN($L$11/(T14+6),0))))*V14,0) -> 14
S15: DIFFAMBIANCE NOCTURNE | T15: 90 | U15: 170 | V15: 100 | AP15: =ROUNDUP((((1600*(105+((ROUNDDOWN($L$11/(U15+6),0))*(U15+6)+105))/1000000)*$J$5)/((ROUNDDOWN($L$13/(T15+6),0))*(ROUNDDOWN($L$11/(U15+6),0))))*V15,0) -> 25 | AQ15: =ROUNDUP((((1600*(105+((ROUNDDOWN($L$11/(T15+6),0))*(T15+6)+105))/1000000)*$J$5)/((ROUNDDOWN($L$13/(U15+6),0))*(ROUNDDOWN($L$11/(T15+6),0))))*V15,0) -> 27
S16: AIRNET ÉTÉ INDIEN | T16: 127 | U16: 160 | V16: 100 | AP16: =ROUNDUP((((1600*(105+((ROUNDDOWN($L$11/(U16+6),0))*(U16+6)+105))/1000000)*$J$5)/((ROUNDDOWN($L$13/(T16+6),0))*(ROUNDDOWN($L$11/(U16+6),0))))*V16,0) -> 34 | AQ16: =ROUNDUP((((1600*(105+((ROUNDDOWN($L$11/(T16+6),0))*(T16+6)+105))/1000000)*$J$5)/((ROUNDDOWN($L$13/(U16+6),0))*(ROUNDDOWN($L$11/(T16+6),0))))*V16,0) -> 34
S17: AIRNET METAL | T17: 127 | U17: 160 | V17: 100 | AP17: =ROUNDUP((((1600*(105+((ROUNDDOWN($L$11/(U17+6),0))*(U17+6)+105))/1000000)*$J$5)/((ROUNDDOWN($L$13/(T17+6),0))*(ROUNDDOWN($L$11/(U17+6),0))))*V17,0) -> 34 | AQ17: =ROUNDUP((((1600*(105+((ROUNDDOWN($L$11/(T17+6),0))*(T17+6)+105))/1000000)*$J$5)/((ROUNDDOWN($L$13/(U17+6),0))*(ROUNDDOWN($L$11/(T17+6),0))))*V17,0) -> 34
S18: MAGINET RECTO | T18: 90 | U18: 80 | V18: 100 | AP18: =ROUNDUP((((1600*(105+((ROUNDDOWN($L$11/(U18+6),0))*(U18+6)+105))/1000000)*$J$5)/((ROUNDDOWN($L$13/(T18+6),0))*(ROUNDDOWN($L$11/(U18+6),0))))*V18,0) -> 13 | AQ18: =ROUNDUP((((1600*(105+((ROUNDDOWN($L$11/(T18+6),0))*(T18+6)+105))/1000000)*$J$5)/((ROUNDDOWN($L$13/(U18+6),0))*(ROUNDDOWN($L$11/(T18+6),0))))*V18,0) -> 13
S19: MAGINET VERSO | T19: 90 | U19: 80 | V19: 100 | AP19: =ROUNDUP((((1600*(105+((ROUNDDOWN($L$11/(U19+6),0))*(U19+6)+105))/1000000)*$J$5)/((ROUNDDOWN($L$13/(T19+6),0))*(ROUNDDOWN($L$11/(U19+6),0))))*V19,0) -> 13 | AQ19: =ROUNDUP((((1600*(105+((ROUNDDOWN($L$11/(T19+6),0))*(T19+6)+105))/1000000)*$J$5)/((ROUNDDOWN($L$13/(U19+6),0))*(ROUNDDOWN($L$11/(T19+6),0))))*V19,0) -> 13
S20: DIFFAMBIANCE POUVOIR FRAIS | T20: 90 | U20: 170 | V20: 50 | AP20: =ROUNDUP((((1600*(105+((ROUNDDOWN($L$11/(U20+6),0))*(U20+6)+105))/1000000)*$J$5)/((ROUNDDOWN($L$13/(T20+6),0))*(ROUNDDOWN($L$11/(U20+6),0))))*V20,0) -> 13 | AQ20: =ROUNDUP((((1600*(105+((ROUNDDOWN($L$11/(T20+6),0))*(T20+6)+105))/1000000)*$J$5)/((ROUNDDOWN($L$13/(U20+6),0))*(ROUNDDOWN($L$11/(T20+6),0))))*V20,0) -> 14
S21: DIFFAMBIANCE FRUIDO | T21: 90 | U21: 170 | V21: 50 | AP21: =ROUNDUP((((1600*(105+((ROUNDDOWN($L$11/(U21+6),0))*(U21+6)+105))/1000000)*$J$5)/((ROUNDDOWN($L$13/(T21+6),0))*(ROUNDDOWN($L$11/(U21+6),0))))*V21,0) -> 13 | AQ21: =ROUNDUP((((1600*(105+((ROUNDDOWN($L$11/(T21+6),0))*(T21+6)+105))/1000000)*$J$5)/((ROUNDDOWN($L$13/(U21+6),0))*(ROUNDDOWN($L$11/(T21+6),0))))*V21,0) -> 14
S22: DIFFAMBIANCE TENTATION | T22: 90 | U22: 170 | V22: 100 | AP22: =ROUNDUP((((1600*(105+((ROUNDDOWN($L$11/(U22+6),0))*(U22+6)+105))/1000000)*$J$5)/((ROUNDDOWN($L$13/(T22+6),0))*(ROUNDDOWN($L$11/(U22+6),0))))*V22,0) -> 25 | AQ22: =ROUNDUP((((1600*(105+((ROUNDDOWN($L$11/(T22+6),0))*(T22+6)+105))/1000000)*$J$5)/((ROUNDDOWN($L$13/(U22+6),0))*(ROUNDDOWN($L$11/(T22+6),0))))*V22,0) -> 27
S23: DIFFAMBIANCE CARISSIMA | T23: 90 | U23: 170 | V23: 100 | AP23: =ROUNDUP((((1600*(105+((ROUNDDOWN($L$11/(U23+6),0))*(U23+6)+105))/1000000)*$J$5)/((ROUNDDOWN($L$13/(T23+6),0))*(ROUNDDOWN($L$11/(U23+6),0))))*V23,0) -> 25 | AQ23: =ROUNDUP((((1600*(105+((ROUNDDOWN($L$11/(T23+6),0))*(T23+6)+105))/1000000)*$J$5)/((ROUNDDOWN($L$13/(U23+6),0))*(ROUNDDOWN($L$11/(T23+6),0))))*V23,0) -> 27
S24: DIFFAMBIANCE INSECTICIDE | T24: 90 | U24: 170 | V24: 50 | AP24: =ROUNDUP((((1600*(105+((ROUNDDOWN($L$11/(U24+6),0))*(U24+6)+105))/1000000)*$J$5)/((ROUNDDOWN($L$13/(T24+6),0))*(ROUNDDOWN($L$11/(U24+6),0))))*V24,0) -> 13 | AQ24: =ROUNDUP((((1600*(105+((ROUNDDOWN($L$11/(T24+6),0))*(T24+6)+105))/1000000)*$J$5)/((ROUNDDOWN($L$13/(U24+6),0))*(ROUNDDOWN($L$11/(T24+6),0))))*V24,0) -> 14
S25: ENROVIT | T25: 90 | U25: 170 | V25: 50 | AP25: =ROUNDUP((((1600*(105+((ROUNDDOWN($L$11/(U25+6),0))*(U25+6)+105))/1000000)*$J$5)/((ROUNDDOWN($L$13/(T25+6),0))*(ROUNDDOWN($L$11/(U25+6),0))))*V25,0) -> 13 | AQ25: =ROUNDUP((((1600*(105+((ROUNDDOWN($L$11/(T25+6),0))*(T25+6)+105))/1000000)*$J$5)/((ROUNDDOWN($L$13/(U25+6),0))*(ROUNDDOWN($L$11/(T25+6),0))))*V25,0) -> 14
... S30: VITRONET SPRAY VERSO | T30: 90 | U30: 80 | V30: 100 | AP30: =ROUNDUP((((1600*(105+((ROUNDDOWN($L$11/(U30+6),0))*(U30+6)+105))/1000000)*$J$5)/((ROUNDDOWN($L$13/(T30+6),0))*(ROUNDDOWN($L$11/(U30+6),0))))*V30,0) -> 13 | AQ30: =ROUNDUP((((1600*(105+((ROUNDDOWN($L$11/(T30+6),0))*(T30+6)+105))/1000000)*$J$5)/((ROUNDDOWN($L$13/(U30+6),0))*(ROUNDDOWN($L$11/(T30+6),0))))*V30,0) -> 13
S31: Préparation des fichiers | W31: 45
S32: TOTAL | W32: =SUM(W6:W31) -> 45 | AP32: =SUM(AP6:AP31) -> 452 | AQ32: =SUM(AQ6:AQ31) -> 467

Sheet Feuil2
A1: CHIFFRAGE AUTOMATIQUE
A2: COMMANDE N°1 du
A3: DESIGNATIONS | B3: FORMAT | D3: QUANTITE | E3: COÛT € HT
B4: Largeur mm | C4: Hauteur mm
A5: AGRIPNET | B5: 190 | C5: 215 | D5: 50 | E5: =ROUNDUP((((1600*(105+((ROUNDDOWN((Feuil1!$L$11)/(C5+6),0))*(C5+6)+105))/1000000)*(Feuil1!$J$5))/((ROUNDDOWN((Feuil1!$L$13)/(B5+6),0))*(ROUNDDOWN((Feuil1!$L$11)/(C5+6),0))))*D5,0) -> 36
A6: CARNET | B6: 150 | C6: 210 | D6: 20 | E6: =ROUNDUP((((1600*(105+((ROUNDDOWN((Feuil1!$L$11)/(C6+6),0))*(C6+6)+105))/1000000)*(Feuil1!$J$5))/((ROUNDDOWN((Feuil1!$L$13)/(B6+6),0))*(ROUNDDOWN((Feuil1!$L$11)/(C6+6),0))))*D6,0) -> 11
A7: DEBOUCHFORT | B7: 190 | C7: 100 | D7: 50 | E7: =ROUNDUP((((1600*(105+((ROUNDDOWN((Feuil1!$L$11)/(C7+6),0))*(C7+6)+105))/1000000)*(Feuil1!$J$5))/((ROUNDDOWN((Feuil1!$L$13)/(B7+6),0))*(ROUNDDOWN((Feuil1!$L$11)/(C7+6),0))))*D7,0) -> 17
A8: DETARNET RECTO | B8: 90 | C8: 80 | D8: 100 | E8: =ROUNDUP((((1600*(105+((ROUNDDOWN((Feuil1!$L$11)/(C8+6),0))*(C8+6)+105))/1000000)*(Feuil1!$J$5))/((ROUNDDOWN((Feuil1!$L$13)/(B8+6),0))*(ROUNDDOWN((Feuil1!$L$11)/(C8+6),0))))*D8,0) -> 13
A9: DETARNET VERSO | B9: 90 | C9: 80 | D9: 100 | E9: =ROUNDUP((((1600*(105+((ROUNDDOWN((Feuil1!$L$11)/(C9+6),0))*(C9+6)+105))/1000000)*(Feuil1!$J$5))/((ROUNDDOWN((Feuil1!$L$13)/(B9+6),0))*(ROUNDDOWN((Feuil1!$L$11)/(C9+6),0))))*D9,0) -> 13
A10: DIFFAMBIANCE DAVANIA | B10: 90 | C10: 170 | D10: 100 | E10: =ROUNDUP((((1600*(105+((ROUNDDOWN((Feuil1!$L$11)/(C10+6),0))*(C10+6)+105))/1000000)*(Feuil1!$J$5))/((ROUNDDOWN((Feuil1!$L$13)/(B10+6),0))*(ROUNDDOWN((Feuil1!$L$11)/(C10+6),0))))*D10,0) -> 25
A11: DIFFAMBIANCE FRUITS ROUGES | B11: 90 | C11: 170 | D11: 50 | E11: =ROUNDUP((((1600*(105+((ROUNDDOWN((Feuil1!$L$11)/(C11+6),0))*(C11+6)+105))/1000000)*(Feuil1!$J$5))/((ROUNDDOWN((Feuil1!$L$13)/(B11+6),0))*(ROUNDDOWN((Feuil1!$L$11)/(C11+6),0))))*D11,0) -> 13
A12: DIFFAMBIANCE MENTHOL | B12: 90 | C12: 170 | D12: 50 | E12: =ROUNDUP((((1600*(105+((ROUNDDOWN((Feuil1!$L$11)/(C12+6),0))*(C12+6)+105))/1000000)*(Feuil1!$J$5))/((ROUNDDOWN((Feuil1!$L$13)/(B12+6),0))*(ROUNDDOWN((Feuil1!$L$11)/(C12+6),0))))*D12,0) -> 13
A13: DIFFAMBIANCE MISTRAL | B13: 90 | C13: 170 | D13: 50 | E13: =ROUNDUP((((1600*(105+((ROUNDDOWN((Feuil1!$L$11)/(C13+6),0))*(C13+6)+105))/1000000)*(Feuil1!$J$5))/((ROUNDDOWN((Feuil1!$L$13)/(B13+6),0))*(ROUNDDOWN((Feuil1!$L$11)/(C13+6),0))))*D13,0) -> 13
A14: DIFFAMBIANCE NOCTURNE | B14: 90 | C14: 170 | D14: 100 | E14: =ROUNDUP((((1600*(105+((ROUNDDOWN((Feuil1!$L$11)/(C14+6),0))*(C14+6)+105))/1000000)*(Feuil1!$J$5))/((ROUNDDOWN((Feuil1!$L$13)/(B14+6),0))*(ROUNDDOWN((Feuil1!$L$11)/(C14+6),0))))*D14,0) -> 25
A15: AIRNET ÉTÉ INDIEN | B15: 127 | C15: 160 | D15: 100 | E15: =ROUNDUP((((1600*(105+((ROUNDDOWN((Feuil1!$L$11)/(C15+6),0))*(C15+6)+105))/1000000)*(Feuil1!$J$5))/((ROUNDDOWN((Feuil1!$L$13)/(B15+6),0))*(ROUNDDOWN((Feuil1!$L$11)/(C15+6),0))))*D15,0) -> 34
A16: AIRNET METAL | B16: 127 | C16: 160 | D16: 100 | E16: =ROUNDUP((((1600*(105+((ROUNDDOWN((Feuil1!$L$11)/(C16+6),0))*(C16+6)+105))/1000000)*(Feuil1!$J$5))/((ROUNDDOWN((Feuil1!$L$13)/(B16+6),0))*(ROUNDDOWN((Feuil1!$L$11)/(C16+6),0))))*D16,0) -> 34
... A29: VITRONET SPRAY VERSO | B29: 90 | C29: 80 | D29: 100 | E29: =ROUNDUP((((1600*(105+((ROUNDDOWN((Feuil1!$L$11)/(C29+6),0))*(C29+6)+105))/1000000)*(Feuil1!$J$5))/((ROUNDDOWN((Feuil1!$L$13)/(B29+6),0))*(ROUNDDOWN((Feuil1!$L$11)/(C29+6),0))))*D29,0) -> 13
A30: Préparation des fichiers | E30: 45
A31: TOTAL | E31: =SUM(E5:E30) -> 497
A33: COMMANDE N°2 du 22/09/2015
A34: DESIGNATIONS | B34: FORMAT | D34: QUANTITE | E34: COÛT € HT
B35: Largeur mm | C35: Hauteur mm
A36: SOLNET 2 D : FRAISE 100 13X15 | B36: 130 | C36: 150 | D36: 100 | E36: =ROUNDUP((((1600*(105+((ROUNDDOWN((Feuil1!$L$11)/(C36+6),0))*(C36+6)+105))/1000000)*(Feuil1!$J$5))/((ROUNDDOWN((Feuil1!$L$13)/(B36+6),0))*(ROUNDDOWN((Feuil1!$L$11)/(C36+6),0))))*D36,0) -> 32
A37: SOLNET 2D PAMPLEMOUSSE 100 13X15 | B37: 130 | C37: 150 | D37: 100 | E37: =ROUNDUP((((1600*(105+((ROUNDDOWN((Feuil1!$L$11)/(C37+6),0))*(C37+6)+105))/1000000)*(Feuil1!$J$5))/((ROUNDDOWN((Feuil1!$L$13)/(B37+6),0))*(ROUNDDOWN((Feuil1!$L$11)/(C37+6),0))))*D37,0) -> 32
A38: SOLNET 2D POMME VERTE 100 13X15 | B38: 130 | C38: 150 | D38: 100 | E38: =ROUNDUP((((1600*(105+((ROUNDDOWN((Feuil1!$L$11)/(C38+6),0))*(C38+6)+105))/1000000)*(Feuil1!$J$5))/((ROUNDDOWN((Feuil1!$L$13)/(B38+6),0))*(ROUNDDOWN((Feuil1!$L$11)/(C38+6),0))))*D38,0) -> 32
A39: SOLNET 2D CITRON 100 13X15 | B39: 130 | C39: 150 | D39: 100 | E39: =ROUNDUP((((1600*(105+((ROUNDDOWN((Feuil1!$L$11)/(C39+6),0))*(C39+6)+105))/1000000)*(Feuil1!$J$5))/((ROUNDDOWN((Feuil1!$L$13)/(B39+6),0))*(ROUNDDOWN((Feuil1!$L$11)/(C39+6),0))))*D39,0) -> 32
A40: SOLNET 3D DAVANIA 100 13X15 | B40: 130 | C40: 150 | D40: 100 | E40: =ROUNDUP((((1600*(105+((ROUNDDOWN((Feuil1!$L$11)/(C40+6),0))*(C40+6)+105))/1000000)*(Feuil1!$J$5))/((ROUNDDOWN((Feuil1!$L$13)/(B40+6),0))*(ROUNDDOWN((Feuil1!$L$11)/(C40+6),0))))*D40,0) -> 32
A41: SOLNET 3D CARRISSIMA 50 13X15 | B41: 130 | C41: 150 | D41: 50 | E41: =ROUNDUP((((1600*(105+((ROUNDDOWN((Feuil1!$L$11)/(C41+6),0))*(C41+6)+105))/1000000)*(Feuil1!$J$5))/((ROUNDDOWN((Feuil1!$L$13)/(B41+6),0))*(ROUNDDOWN((Feuil1!$L$11)/(C41+6),0))))*D41,0) -> 16
A42: SOLNET 3D EAU ESSENTIELLE 50 13X15 | B42: 130 | C42: 150 | D42: 50 | E42: =ROUNDUP((((1600*(105+((ROUNDDOWN((Feuil1!$L$11)/(C42+6),0))*(C42+6)+105))/1000000)*(Feuil1!$J$5))/((ROUNDDOWN((Feuil1!$L$13)/(B42+6),0))*(ROUNDDOWN((Feuil1!$L$11)/(C42+6),0))))*D42,0) -> 16
A43: DOSENET AGRUMES 50 | B43: 170 | C43: 90 | D43: 50 | E43: =ROUNDUP((((1600*(105+((ROUNDDOWN((Feuil1!$L$11)/(C43+6),0))*(C43+6)+105))/1000000)*(Feuil1!$J$5))/((ROUNDDOWN((Feuil1!$L$13)/(B43+6),0))*(ROUNDDOWN((Feuil1!$L$11)/(C43+6),0))))*D43,0) -> 14
A44: DOSENET PROVENCE 50 | B44: 170 | C44: 90 | D44: 50 | E44: =ROUNDUP((((1600*(105+((ROUNDDOWN((Feuil1!$L$11)/(C44+6),0))*(C44+6)+105))/1000000)*(Feuil1!$J$5))/((ROUNDDOWN((Feuil1!$L$13)/(B44+6),0))*(ROUNDDOWN((Feuil1!$L$11)/(C44+6),0))))*D44,0) -> 14
A45: DOSENET AMBIANCE 50 | B45: 170 | C45: 90 | D45: 50 | E45: =ROUNDUP((((1600*(105+((ROUNDDOWN((Feuil1!$L$11)/(C45+6),0))*(C45+6)+105))/1000000)*(Feuil1!$J$5))/((ROUNDDOWN((Feuil1!$L$13)/(B45+6),0))*(ROUNDDOWN((Feuil1!$L$11)/(C45+6),0))))*D45,0) -> 14
A46: DOSENET CITRON VERT 50 | B46: 170 | C46: 90 | D46: 50 | E46: =ROUNDUP((((1600*(105+((ROUNDDOWN((Feuil1!$L$11)/(C46+6),0))*(C46+6)+105))/1000000)*(Feuil1!$J$5))/((ROUNDDOWN((Feuil1!$L$13)/(B46+6),0))*(ROUNDDOWN((Feuil1!$L$11)/(C46+6),0))))*D46,0) -> 14
A47: DOSENET FLORALE 50 | B47: 170 | C47: 90 | D47: 50 | E47: =ROUNDUP((((1600*(105+((ROUNDDOWN((Feuil1!$L$11)/(C47+6),0))*(C47+6)+105))/1000000)*(Feuil1!$J$5))/((ROUNDDOWN((Feuil1!$L$13)/(B47+6),0))*(ROUNDDOWN((Feuil1!$L$11)/(C47+6),0))))*D47,0) -> 14
A48: DETARNET | B48: 138 | C48: 126 | D48: 100 | E48: =ROUNDUP((((1600*(105+((ROUNDDOWN((Feuil1!$L$11)/(C48+6),0))*(C48+6)+105))/1000000)*(Feuil1!$J$5))/((ROUNDDOWN((Feuil1!$L$13)/(B48+6),0))*(ROUNDDOWN((Feuil1!$L$11)/(C48+6),0))))*D48,0) -> 30
A52: Préparation des fichiers | E52: 24
A53: TOTAL | E53: =SUM(E36:E52) -> 316

Sheet Feuil3
