Workbook
Name Mois: Feuil1!$AL$1:$AL$12

Sheet Feuil1
A1: 2015 | AL1: JANVIER | AN1: Jours fériés
A2: SEPTEMBRE | B2: =DATE(A1,MONTH(1&A2),1) -> 42248 | C2: =IF(B2="","",IF(MONTH(B2+1)<>MONTH($B$2),"",B2+1)) -> 42249 | D2: =IF(C2="","",IF(MONTH(C2+1)<>MONTH($B$2),"",C2+1)) -> 42250 | E2: =IF(D2="","",IF(MONTH(D2+1)<>MONTH($B$2),"",D2+1)) -> 42251 | F2: =IF(E2="","",IF(MONTH(E2+1)<>MONTH($B$2),"",E2+1)) -> 42252 | G2: =IF(F2="","",IF(MONTH(F2+1)<>MONTH($B$2),"",F2+1)) -> 42253 | H2: =IF(G2="","",IF(MONTH(G2+1)<>MONTH($B$2),"",G2+1)) -> 42254 | I2: =IF(H2="","",IF(MONTH(H2+1)<>MONTH($B$2),"",H2+1)) -> 42255 | J2: =IF(I2="","",IF(MONTH(I2+1)<>MONTH($B$2),"",I2+1)) -> 42256 | ... AF2: =IF(AE2="","",IF(MONTH(AE2+1)<>MONTH($B$2),"",AE2+1)) | AG2: Total Mois | AL2: FÉVRIER | AN2: =DATE(A1,1,1) -> 42005 | AO2: Jour de l'an
A3: xx | AG3: =SUM(B3:AF3) -> 0 | AL3: MARS | AN3: =ROUND(DATE(Feuil1!A1,4,MOD(234-11*MOD(Feuil1!A1,19),30))/7,0)*7-6 -> 42099 | AO3: Pâques
A4: xx | AG4: =SUM(B4:AF4) -> 0 | AL4: AVRIL | AN4: =DATE(Feuil1!A1,5,1) -> 42125
A5: xx | AG5: =SUM(B5:AF5) -> 0 | AL5: MAI | AN5: =DATE(Feuil1!A1,5,8) -> 42132
A6: xx | AG6: =SUM(B6:AF6) -> 0 | AL6: JUIN | AN6: =DATE(Feuil1!A1,7,14) -> 42199
A7: xx | AG7: =SUM(B7:AF7) -> 0 | AL7: JUILLET | AN7: =DATE(Feuil1!A1,8,15) -> 42231
A8: xx | AG8: =SUM(B8:AF8) -> 0 | AL8: AOÛT | AN8: =DATE(Feuil1!A1,11,1) -> 42309
A9: xx | AG9: =SUM(B9:AF9) -> 0 | AL9: SEPTEMBRE | AN9: =DATE(Feuil1!A1,11,11) -> 42319
A10: xx | AG10: =SUM(B10:AF10) -> 0 | AL10: OCTOBRE | AN10: =DATE(Feuil1!A1,12,25) -> 42363 | AO10: Noël
A11: xx | AG11: =SUM(B11:AF11) -> 0 | AL11: NOVEMBRE | AN11: =AN3+1 -> 42100 | AO11: Lundi de pâques
A12: xx | AG12: =SUM(B12:AF12) -> 0 | AL12: DÉCEMBRE | AN12: =AN3+39 -> 42138 | AO12: Ascension
A13: xx | AG13: =SUM(B13:AF13) -> 0 | AN13: =AN3+50 -> 42149 | AO13: Lundi de pentecôte
A14: xx | AG14: =SUM(B14:AF14) -> 0
A15: xx | AG15: =SUM(B15:AF15) -> 0
A16: xx | AG16: =SUM(B16:AF16) -> 0
A17: xx | AG17: =SUM(B17:AF17) -> 0
AG18: =SUM(AG3:AG17) -> 0
