Workbook

Sheet Feuil1
B5: Archive | C5: TYPE | D5: Numéro | E5: IDENTITE UTILISATEUR | F5: DATE DEBUT | G5: DATE CESSATION | H5: N° Dossier | I5: SERVICE
B6: 00123 | D6: 0667879045 | E6: Mr Duscmol | F6: 42370 | H6: 2016/001 | I6: Budget
B7: 123 | D7: 25478 | E7: M. DUPONT | F7: 42401 | G7: 42403 | H7: 2016/002 | I7: COMPTA
B8: 456 | D8: 987456 | E8: M. DUPRE | F8: 42430 | G8: 42463 | H8: 2016/003 | I8: TRSP

Sheet Feuil2
B2: RECHERCHE MULTICRITERES
B4: Recherche par date de début | D4: Recherche par date de cessation | F4: Recherche par N° Téléphone | H4: Recherche par Archive | J4: Recherche par Identité
B8: =IF(B6="",0,MATCH(B6,Tableau1[DATE DEBUT],0)) -> 0 | D8: =IF(D6="",0,MATCH(D6,Tableau1[DATE CESSATION],0)) -> 0 | F8: =IF(F6="",0,MATCH(F6,Tableau1[Numéro],0)) -> 0 | H8: =IF(H6="",0,MATCH(H6,Tableau1[Archive],0)) -> 0 | J8: =IF(J6="",0,MATCH(J6,Tableau1[IDENTITE UTILISATEUR],0)) -> 0
B10: =IF(B8=0,"---",INDEX(Tableau1[DATE DEBUT],Feuil2!B8)) -> --- | D10: =IF(B10="---","",INDEX(Tableau1[],MATCH(B10,Tableau1[DATE DEBUT],0),MATCH(Tableau1[[#Headers],[Archive]],Tableau1[#Headers],0)))
B11: =IF(D8=0,"---",INDEX(Tableau1[DATE CESSATION],Feuil2!D8)) -> --- | D11: =IF(B11="---","",INDEX(Tableau1[],MATCH(B11,Tableau1[DATE CESSATION],0),MATCH(Tableau1[[#Headers],[Archive]],Tableau1[#Headers],0)))
B12: =IF(F8=0,"---",INDEX(Tableau1[Numéro],Feuil2!F8)) -> --- | D12: =IF(B12="---","",INDEX(Tableau1[],MATCH(B12,Tableau1[Numéro],0),MATCH(Tableau1[[#Headers],[Archive]],Tableau1[#Headers],0)))
B13: =IF(H8=0,"---",INDEX(Tableau1[Archive],Feuil2!H8)) -> --- | D13: =IF(B13="---","",INDEX(Tableau1[],MATCH(B13,Tableau1[Archive],0),MATCH(Tableau1[[#Headers],[Archive]],Tableau1[#Headers],0)))
B14: =IF(J8=0,"---",INDEX(Tableau1[IDENTITE UTILISATEUR],Feuil2!J8)) -> --- | D14: =IF(B14="---","",INDEX(Tableau1[],MATCH(B14,Tableau1[IDENTITE UTILISATEUR],0),MATCH(Tableau1[[#Headers],[Archive]],Tableau1[#Headers],0)))
B16: RESULTAT
B18: Archive | D18: =IFERROR(VLOOKUP(IF($D$10="",IF($D$11="",IF($D$12="",IF($D$13="",IF($D$14="","",$D$14),$D$13),$D$12),$D$11),$D$10),Tableau1[],MATCH(B18,Tableau1[#Headers],0),FALSE),"Pas de Critère de Recherche") -> Pas de Critère de Recherche
B19: TYPE | D19: =IFERROR(VLOOKUP(IF($D$10="",IF($D$11="",IF($D$12="",IF($D$13="",IF($D$14="","",$D$14),$D$13),$D$12),$D$11),$D$10),Tableau1[],MATCH(B19,Tableau1[#Headers],0),FALSE),"Pas de Critère de Recherche") -> Pas de Critère de Recherche
B20: Numéro | D20: =IFERROR(VLOOKUP(IF($D$10="",IF($D$11="",IF($D$12="",IF($D$13="",IF($D$14="","",$D$14),$D$13),$D$12),$D$11),$D$10),Tableau1[],MATCH(B20,Tableau1[#Headers],0),FALSE),"Pas de Critère de Recherche") -> Pas de Critère de Recherche
B21: IDENTITE UTILISATEUR | D21: =IFERROR(VLOOKUP(IF($D$10="",IF($D$11="",IF($D$12="",IF($D$13="",IF($D$14="","",$D$14),$D$13),$D$12),$D$11),$D$10),Tableau1[],MATCH(B21,Tableau1[#Headers],0),FALSE),"Pas de Critère de Recherche") -> Pas de Critère de Recherche
B22: DATE DEBUT | D22: =IFERROR(VLOOKUP(IF($D$10="",IF($D$11="",IF($D$12="",IF($D$13="",IF($D$14="","",$D$14),$D$13),$D$12),$D$11),$D$10),Tableau1[],MATCH(B22,Tableau1[#Headers],0),FALSE),"Pas de Critère de Recherche") -> Pas de Critère de Recherche
B23: DATE CESSATION | D23: =IFERROR(VLOOKUP(IF($D$10="",IF($D$11="",IF($D$12="",IF($D$13="",IF($D$14="","",$D$14),$D$13),$D$12),$D$11),$D$10),Tableau1[],MATCH(B23,Tableau1[#Headers],0),FALSE),"Pas de Critère de Recherche") -> Pas de Critère de Recherche
B24: N° Dossier | D24: =IFERROR(VLOOKUP(IF($D$10="",IF($D$11="",IF($D$12="",IF($D$13="",IF($D$14="","",$D$14),$D$13),$D$12),$D$11),$D$10),Tableau1[],MATCH(B24,Tableau1[#Headers],0),FALSE),"Pas de Critère de Recherche") -> Pas de Critère de Recherche
B25: SERVICE | D25: =IFERROR(VLOOKUP(IF($D$10="",IF($D$11="",IF($D$12="",IF($D$13="",IF($D$14="","",$D$14),$D$13),$D$12),$D$11),$D$10),Tableau1[],MATCH(B25,Tableau1[#Headers],0),FALSE),"Pas de Critère de Recherche") -> Pas de Critère de Recherche
