Workbook
Name acteCol: OFFSET(Tableau4[],0,MATCH(Feuil1!$I1,Tableau4[#Headers],0)-1,,1)
Name acteNbr: COUNTA(acteCol)
Name Confort_1: Calculateur!$N$12:$N$32
Name Confort_2: Calculateur!$O$12:$O$32
Name Confort_3: Calculateur!$P$12:$P$32
Name Confort_4: Calculateur!$Q$10:$Q$32
Name Formule: Calculateur!$N$10:$Q$10

Sheet Calculateur
B5: C'est un calculateur de reste à charge suite à une dépense en santé en fonction du niveau de sa mutuelle : J'aimerais que lorsque je choisis la formule en G10, que les garanties correspondantes apparaissent (elles sont toutes répertoriées dans la 2eme feuille : formule, et la seconde chose serait de trouver la bonne fonction afin d'obtenir le reste à charge en I10 en fonction donc des honoraires que l'on saisit en C , de la formule en G ainsi que du remboursement qui vient en déduction qui est en F
B9: Régime Général et RSI
B10: Actes (Parcours de soins coordonné) | C10: Honoraires du praticien | D10: Base de remboursement SS | E10: Taux de rbt SS | F10: Remboursement Sécurité sociale | G10: Confort 4 | H10: Remboursement Mutuelle | I10: Reste à charge
A11: Médecine | B11: Généraliste secteur 1 ou 2 adhérent CAS | C11: 100 | D11: 23 | E11: 0.7 | F11: =D11*E11 -> 16.1 | G11: =INDEX(Tableau1[],MATCH(Calculateur!B11,Tableau1[ACTES],0),MATCH(Calculateur!$G$10,Tableau1[#Headers],0)) -> 300 | H11: =IF(C11="","",IF(L11="",IF((C11-F11)>(D11*(G11/100)-F11),(D11*(G11/100)-F11),(C11-F11)),L11)) -> 52.9 | I11: =IF(C11="","",C11-F11-H11) -> 31 | K11: =IF(ISNUMBER(G11),G11/100,"") -> 3 | L11: =IF(ISNUMBER(G11),"",VALUE(LEFT(RIGHT(G11,LEN(G11)-8),LEN(RIGHT(G11,LEN(G11)-8))-2)))
B12: Spécialiste conventionné secteur 1 ou 2 adhérent CAS | C12: 100 | D12: 25 | E12: 0.7 | F12: =D12*E12 -> 17.5 | G12: =INDEX(Tableau1[],MATCH(Calculateur!B12,Tableau1[ACTES],0),MATCH(Calculateur!$G$10,Tableau1[#Headers],0)) -> 300 | H12: =IF(C12="","",IF(L12="",IF((C12-F12)>(D12*(G12/100)-F12),(D12*(G12/100)-F12),(C12-F12)),L12)) -> 57.5 | I12: =IF(C12="","",C12-F12-H12) -> 25 | K12: =IF(ISNUMBER(G12),G12/100,"") -> 3 | L12: =IF(ISNUMBER(G12),"",VALUE(LEFT(RIGHT(G12,LEN(G12)-8),LEN(RIGHT(G12,LEN(G12)-8))-2)))
B13: Spécialistes conventionné secteur 2 | D13: 23 | E13: 0.7 | F13: =D13*E13 -> 16.1 | G13: =INDEX(Tableau1[],MATCH(Calculateur!B13,Tableau1[ACTES],0),MATCH(Calculateur!$G$10,Tableau1[#Headers],0)) -> 100 | H13: =IF(C13="","",IF(L13="",IF((C13-F13)>(D13*(G13/100)-F13),(D13*(G13/100)-F13),(C13-F13)),L13)) | I13: =IF(C13="","",C13-F13-H13) | K13: =IF(ISNUMBER(G13),G13/100,"") -> 1 | L13: =IF(ISNUMBER(G13),"",VALUE(LEFT(RIGHT(G13,LEN(G13)-8),LEN(RIGHT(G13,LEN(G13)-8))-2)))
B14: Cardiologue secteur 1 ou 2 adhérent CAS | D14: 49 | E14: 0.7 | F14: =D14*E14 -> 34.3 | G14: =INDEX(Tableau1[],MATCH(Calculateur!B14,Tableau1[ACTES],0),MATCH(Calculateur!$G$10,Tableau1[#Headers],0)) -> 300 | H14: =IF(C14="","",IF(L14="",IF((C14-F14)>(D14*(G14/100)-F14),(D14*(G14/100)-F14),(C14-F14)),L14)) | I14: =IF(C14="","",C14-F14-H14) | K14: =IF(ISNUMBER(G14),G14/100,"") -> 3 | L14: =IF(ISNUMBER(G14),"",VALUE(LEFT(RIGHT(G14,LEN(G14)-8),LEN(RIGHT(G14,LEN(G14)-8))-2)))
B15: Cardiologue secteur 2 | D15: 45.73 | E15: 0.7 | F15: =D15*E15 -> 32.011 | G15: =INDEX(Tableau1[],MATCH(Calculateur!B15,Tableau1[ACTES],0),MATCH(Calculateur!$G$10,Tableau1[#Headers],0)) -> 100 | H15: =IF(C15="","",IF(L15="",IF((C15-F15)>(D15*(G15/100)-F15),(D15*(G15/100)-F15),(C15-F15)),L15)) | I15: =IF(C15="","",C15-F15-H15) | K15: =IF(ISNUMBER(G15),G15/100,"") -> 1 | L15: =IF(ISNUMBER(G15),"",VALUE(LEFT(RIGHT(G15,LEN(G15)-8),LEN(RIGHT(G15,LEN(G15)-8))-2)))
B16: Psychiatre/neuropsychiatre secteur 1 ou 2 adhérent CAS | D16: 39.7 | E16: 0.7 | F16: =D16*E16 -> 27.79 | G16: =INDEX(Tableau1[],MATCH(Calculateur!B16,Tableau1[ACTES],0),MATCH(Calculateur!$G$10,Tableau1[#Headers],0)) -> 300 | H16: =IF(C16="","",IF(L16="",IF((C16-F16)>(D16*(G16/100)-F16),(D16*(G16/100)-F16),(C16-F16)),L16)) | I16: =IF(C16="","",C16-F16-H16) | K16: =IF(ISNUMBER(G16),G16/100,"") -> 3 | L16: =IF(ISNUMBER(G16),"",VALUE(LEFT(RIGHT(G16,LEN(G16)-8),LEN(RIGHT(G16,LEN(G16)-8))-2)))
B17: Psychiatre/neuropsychiatre secteur 2 | D17: 37 | E17: 0.7 | F17: =D17*E17 -> 25.9 | G17: =INDEX(Tableau1[],MATCH(Calculateur!B17,Tableau1[ACTES],0),MATCH(Calculateur!$G$10,Tableau1[#Headers],0)) -> 100 | H17: =IF(C17="","",IF(L17="",IF((C17-F17)>(D17*(G17/100)-F17),(D17*(G17/100)-F17),(C17-F17)),L17)) | I17: =IF(C17="","",C17-F17-H17) | K17: =IF(ISNUMBER(G17),G17/100,"") -> 1 | L17: =IF(ISNUMBER(G17),"",VALUE(LEFT(RIGHT(G17,LEN(G17)-8),LEN(RIGHT(G17,LEN(G17)-8))-2)))
B18: Gynécologue/Ophtalmologue secteur 1 ou 2 adhérent CAS | D18: 28 | E18: 0.7 | F18: =D18*E18 -> 19.6 | G18: =INDEX(Tableau1[],MATCH(Calculateur!B18,Tableau1[ACTES],0),MATCH(Calculateur!$G$10,Tableau1[#Headers],0)) -> 300 | H18: =IF(C18="","",IF(L18="",IF((C18-F18)>(D18*(G18/100)-F18),(D18*(G18/100)-F18),(C18-F18)),L18)) | I18: =IF(C18="","",C18-F18-H18) | K18: =IF(ISNUMBER(G18),G18/100,"") -> 3 | L18: =IF(ISNUMBER(G18),"",VALUE(LEFT(RIGHT(G18,LEN(G18)-8),LEN(RIGHT(G18,LEN(G18)-8))-2)))
B19: Gynécologue/ophtalmologue secteur 2 | D19: 23 | E19: 0.7 | F19: =D19*E19 -> 16.1 | G19: =INDEX(Tableau1[],MATCH(Calculateur!B19,Tableau1[ACTES],0),MATCH(Calculateur!$G$10,Tableau1[#Headers],0)) -> 100 | H19: =IF(C19="","",IF(L19="",IF((C19-F19)>(D19*(G19/100)-F19),(D19*(G19/100)-F19),(C19-F19)),L19)) | I19: =IF(C19="","",C19-F19-H19) | K19: =IF(ISNUMBER(G19),G19/100,"") -> 1 | L19: =IF(ISNUMBER(G19),"",VALUE(LEFT(RIGHT(G19,LEN(G19)-8),LEN(RIGHT(G19,LEN(G19)-8))-2)))
A21: Dentaire | B21: Chirurgien-dentiste | D21: 23 | E21: 0.7 | F21: =D21*E21 -> 16.1 | G21: =INDEX(Tableau1[],MATCH(Calculateur!B21,Tableau1[ACTES],0),MATCH(Calculateur!$G$10,Tableau1[#Headers],0)) -> 300 | H21: =IF(C21="","",IF(L21="",IF((C21-F21)>(D21*(G21/100)-F21),(D21*(G21/100)-F21),(C21-F21)),L21)) | I21: =IF(C21="","",C21-F21-H21) | K21: =IF(ISNUMBER(G21),G21/100,"") -> 3 | L21: =IF(ISNUMBER(G21),"",VALUE(LEFT(RIGHT(G21,LEN(G21)-8),LEN(RIGHT(G21,LEN(G21)-8))-2)))
B22: Détartrage | D22: 28.92 | E22: 0.7 | F22: =D22*E22 -> 20.244 | G22: =INDEX(Tableau1[],MATCH(Calculateur!B22,Tableau1[ACTES],0),MATCH(Calculateur!$G$10,Tableau1[#Headers],0)) -> 300 | H22: =IF(C22="","",IF(L22="",IF((C22-F22)>(D22*(G22/100)-F22),(D22*(G22/100)-F22),(C22-F22)),L22)) | I22: =IF(C22="","",C22-F22-H22) | K22: =IF(ISNUMBER(G22),G22/100,"") -> 3 | L22: =IF(ISNUMBER(G22),"",VALUE(LEFT(RIGHT(G22,LEN(G22)-8),LEN(RIGHT(G22,LEN(G22)-8))-2)))
B23: Couronne | D23: 107.5 | E23: 0.7 | F23: =D23*E23 -> 75.25 | G23: =INDEX(Tableau1[],MATCH(Calculateur!B23,Tableau1[ACTES],0),MATCH(Calculateur!$G$10,Tableau1[#Headers],0)) -> 400 | H23: =IF(C23="","",IF(L23="",IF((C23-F23)>(D23*(G23/100)-F23),(D23*(G23/100)-F23),(C23-F23)),L23)) | I23: =IF(C23="","",C23-F23-H23) | K23: =IF(ISNUMBER(G23),G23/100,"") -> 4 | L23: =IF(ISNUMBER(G23),"",VALUE(LEFT(RIGHT(G23,LEN(G23)-8),LEN(RIGHT(G23,LEN(G23)-8))-2)))
B24: Inlay-core | D24: 122.55 | E24: 0.7 | F24: =D24*E24 -> 85.785 | G24: =INDEX(Tableau1[],MATCH(Calculateur!B24,Tableau1[ACTES],0),MATCH(Calculateur!$G$10,Tableau1[#Headers],0)) -> 400 | H24: =IF(C24="","",IF(L24="",IF((C24-F24)>(D24*(G24/100)-F24),(D24*(G24/100)-F24),(C24-F24)),L24)) | I24: =IF(C24="","",C24-F24-H24) | K24: =IF(ISNUMBER(G24),G24/100,"") -> 4 | L24: =IF(ISNUMBER(G24),"",VALUE(LEFT(RIGHT(G24,LEN(G24)-8),LEN(RIGHT(G24,LEN(G24)-8))-2)))
B25: Orthodontie enfant / Semestre | D25: 193.5 | E25: 1 | F25: =D25*E25 -> 193.5 | G25: =INDEX(Tableau1[],MATCH(Calculateur!B25,Tableau1[ACTES],0),MATCH(Calculateur!$G$10,Tableau1[#Headers],0)) -> 300 | H25: =IF(C25="","",IF(L25="",IF((C25-F25)>(D25*(G25/100)-F25),(D25*(G25/100)-F25),(C25-F25)),L25)) | I25: =IF(C25="","",C25-F25-H25) | K25: =IF(ISNUMBER(G25),G25/100,"") -> 3 | L25: =IF(ISNUMBER(G25),"",VALUE(LEFT(RIGHT(G25,LEN(G25)-8),LEN(RIGHT(G25,LEN(G25)-8))-2)))
A27: Optique | B27: Monture adulte | D27: 2.84 | E27: 0.6 | F27: =D27*E27 -> 1.704 | G27: =INDEX(Tableau1[],MATCH(Calculateur!B27,Tableau1[ACTES],0),MATCH(Calculateur!$G$10,Tableau1[#Headers],0)) -> 100 | H27: =IF(C27="","",IF(L27="",IF((C27-F27)>(D27*(G27/100)-F27),(D27*(G27/100)-F27),(C27-F27)),L27)) | I27: =IF(C27="","",C27-F27-H27) | K27: =IF(ISNUMBER(G27),G27/100,"") -> 1 | L27: =IF(ISNUMBER(G27),"",VALUE(LEFT(RIGHT(G27,LEN(G27)-8),LEN(RIGHT(G27,LEN(G27)-8))-2)))
B28: Monture enfant | D28: 30.49 | E28: 0.6 | F28: =D28*E28 -> 18.294 | G28: =INDEX(Tableau1[],MATCH(Calculateur!B28,Tableau1[ACTES],0),MATCH(Calculateur!$G$10,Tableau1[#Headers],0)) -> 100 | H28: =IF(C28="","",IF(L28="",IF((C28-F28)>(D28*(G28/100)-F28),(D28*(G28/100)-F28),(C28-F28)),L28)) | I28: =IF(C28="","",C28-F28-H28) | K28: =IF(ISNUMBER(G28),G28/100,"") -> 1 | L28: =IF(ISNUMBER(G28),"",VALUE(LEFT(RIGHT(G28,LEN(G28)-8),LEN(RIGHT(G28,LEN(G28)-8))-2)))
B29: Lentilles | C29: 250 | D29: 39.48 | E29: 0.6 | F29: =D29*E29 -> 23.688 | G29: =INDEX(Tableau1[],MATCH(Calculateur!B29,Tableau1[ACTES],0),MATCH(Calculateur!$G$10,Tableau1[#Headers],0)) -> Forfait 180 € | H29: =IF(C29="","",IF(L29="",IF((C29-F29)>(D29*(G29/100)-F29),(D29*(G29/100)-F29),(C29-F29)),L29)) -> 180 | I29: =IF(C29="","",C29-F29-H29) -> 46.312 | K29: =IF(ISNUMBER(G29),G29/100,"") | L29: =IF(ISNUMBER(G29),"",VALUE(LEFT(RIGHT(G29,LEN(G29)-8),LEN(RIGHT(G29,LEN(G29)-8))-2))) -> 180
A31: Audition | B31: Prothèses auditives adultes (+20ans) | D31: 199.71 | E31: 0.6 | F31: =D31*E31 -> 119.826 | G31: =INDEX(Tableau1[],MATCH(Calculateur!B31,Tableau1[ACTES],0),MATCH(Calculateur!$G$10,Tableau1[#Headers],0)) -> 300 | H31: =IF(C31="","",IF(L31="",IF((C31-F31)>(D31*(G31/100)-F31),(D31*(G31/100)-F31),(C31-F31)),L31)) | I31: =IF(C31="","",C31-F31-H31) | K31: =IF(ISNUMBER(G31),G31/100,"") -> 3 | L31: =IF(ISNUMBER(G31),"",VALUE(LEFT(RIGHT(G31,LEN(G31)-8),LEN(RIGHT(G31,LEN(G31)-8))-2)))

Sheet Formule
B1: Les garanties sont exprimées en pourcentage et représentent un taux maximum de remboursement en fonction de la BRSS
B3: Formules | G3: Formules | L3: Formules
B4: Confort 1 | C4: Confort 2 | D4: Confort 3 | E4: Confort 4 | G4: Essentielle 1 | H4: Essentielle 2 | I4: Essentielle 3 | J4: Essentielle 4 | L4: Vitale 1 | M4: Vitale 2 | N4: Vitale 3 | O4: Vitale 4
A5: Médecine | B5: 125 | C5: 150 | D5: 200 | E5: 300 | G5: 100 | H5: 100 | I5: 150 | J5: 200 | L5: 100 | M5: 100 | N5: 125 | O5: 200
B6: 125 | C6: 150 | D6: 200 | E6: 300 | G6: 100 | H6: 100 | I6: 150 | J6: 200 | L6: 100 | M6: 100 | N6: 125 | O6: 200
B7: 100 | C7: 100 | D7: 100 | E7: 100 | G7: 100 | H7: 100 | I7: 100 | J7: 100 | L7: 100 | M7: 100 | N7: 100 | O7: 100
B8: 125 | C8: 150 | D8: 200 | E8: 300 | G8: 100 | H8: 100 | I8: 150 | J8: 200 | L8: 100 | M8: 100 | N8: 125 | O8: 200
B9: 100 | C9: 100 | D9: 100 | E9: 100 | G9: 100 | H9: 100 | I9: 100 | J9: 100 | L9: 100 | M9: 100 | N9: 100 | O9: 100
B10: 125 | C10: 150 | D10: 200 | E10: 300 | G10: 100 | H10: 100 | I10: 150 | J10: 200 | L10: 100 | M10: 100 | N10: 125 | O10: 200
B11: 100 | C11: 100 | D11: 100 | E11: 100 | G11: 100 | H11: 100 | I11: 100 | J11: 100 | L11: 100 | M11: 100 | N11: 100 | O11: 100
B12: 125 | C12: 150 | D12: 200 | E12: 300 | G12: 100 | H12: 100 | I12: 150 | J12: 200 | L12: 100 | M12: 100 | N12: 125 | O12: 200
B13: 100 | C13: 100 | D13: 100 | E13: 100 | G13: 100 | H13: 100 | I13: 100 | J13: 100 | L13: 100 | M13: 100 | N13: 100 | O13: 100
A15: Dentaire | B15: 125 | C15: 150 | D15: 200 | E15: 300 | G15: 100 | H15: 100 | I15: 150 | J15: 200 | L15: 0 | M15: 100 | N15: 100 | O15: 200
B16: 125 | C16: 150 | D16: 200 | E16: 300 | G16: 100 | H16: 100 | I16: 150 | J16: 200 | L16: 0 | M16: 100 | N16: 100 | O16: 200
B17: 100 | C17: 200 | D17: 300 | E17: 400 | G17: 100 | H17: 200 | I17: 300 | J17: 400 | L17: 0 | M17: 200 | N17: 150 | O17: 400
B18: 100 | C18: 200 | D18: 300 | E18: 400 | G18: 100 | H18: 200 | I18: 300 | J18: 400 | L18: 0 | M18: 200 | N18: 125 | O18: 400
B19: 125 | C19: 150 | D19: 200 | E19: 300 | G19: 100 | H19: 100 | I19: 150 | J19: 200 | L19: 0 | M19: 100 | N19: 150 | O19: 200
A21: Optique | B21: 100 | C21: 100 | D21: 100 | E21: 100 | G21: 100 | H21: 100 | I21: 100 | J21: 100 | L21: 0 | M21: 100 | N21: 100 | O21: 100
B22: 100 | C22: 100 | D22: 100 | E22: 100 | G22: 100 | H22: 100 | I22: 100 | J22: 100 | L22: 0 | M22: 100 | N22: 100 | O22: 100
B23: 100 | C23: Forfait 60 € | D23: Forfait 120 € | E23: Forfait 180 € | G23: 100 | H23: Forfait 50 € | I23: Forfait 100 € | J23: Forfait 150 € | L23: 0 | M23: 100 | N23: Forfait 50 € | O23: Forfait 100 €
A25: Audition | B25: 125 | C25: 150 | D25: 200 | E25: 300 | G25: 100 | H25: 100 | I25: 150 | J25: 200 | L25: 0 | M25: 100 | N25: 100 | O25: 150
B27: Formules | G27: Formules | L27: Vitale 1
B28: Famille 1 | C28: Famille 2 | D28: Famille 3 | E28: Famille 4 | G28: Sénior 1 | H28: Sénior 2 | I28: Sénior 3 | J28: Sénior 4 | L28: Vitale 2
A29: Médecine | B29: 100 | C29: 100 | D29: 150 | E29: 200 | G29: 100 | H29: 100 | I29: 150 | J29: 200 | L29: Vitale 3
B30: 100 | C30: 100 | D30: 150 | E30: 200 | G30: 100 | H30: 100 | I30: 150 | J30: 200 | L30: Vitale 4
B31: 100 | C31: 100 | D31: 100 | E31: 100 | G31: 100 | H31: 100 | I31: 100 | J31: 100 | L31: Essentielle 1
B32: 100 | C32: 100 | D32: 150 | E32: 200 | G32: 100 | H32: 100 | I32: 150 | J32: 200 | L32: Essentielle 2
B33: 100 | C33: 100 | D33: 100 | E33: 100 | G33: 100 | H33: 100 | I33: 100 | J33: 100 | L33: Essentielle 3
B34: 100 | C34: 100 | D34: 150 | E34: 200 | G34: 100 | H34: 100 | I34: 150 | J34: 200 | L34: Essentielle 4
B35: 100 | C35: 100 | D35: 100 | E35: 100 | G35: 100 | H35: 100 | I35: 100 | J35: 100 | L35: Famille 1
B36: 100 | C36: 100 | D36: 150 | E36: 200 | G36: 100 | H36: 100 | I36: 150 | J36: 200 | L36: Famille 2
B37: 100 | C37: 100 | D37: 100 | E37: 100 | G37: 100 | H37: 100 | I37: 100 | J37: 100 | L37: Famille 3
L38: Famille 4
A39: Dentaire | B39: 100 | C39: 100 | D39: 150 | E39: 200 | G39: 100 | H39: 100 | I39: 150 | J39: 200 | L39: Confort 1
B40: 100 | C40: 100 | D40: 150 | E40: 200 | G40: 100 | H40: 100 | I40: 150 | J40: 200 | L40: Confort 2
B41: 100 | C41: 200 | D41: 300 | E41: 400 | G41: 100 | H41: 200 | I41: 300 | J41: 400 | L41: Confort 3
B42: 100 | C42: 200 | D42: 300 | E42: 400 | G42: 100 | H42: 200 | I42: 300 | J42: 400 | L42: Confort 4
B43: 100 | C43: 200 | D43: 300 | E43: 400 | G43: 0 | H43: Forfait 100 € | I43: Forfait 150 € | J43: Forfait 250 € | L43: Sénior 1
L44: Sénior 2
A45: Optique | B45: 100 | C45: 100 | D45: 100 | E45: 100 | G45: 100 | H45: 100 | I45: 100 | J45: 100 | L45: Sénior 3
...

Sheet Feuil1
I2: Les garanties sont exprimées en pourcentage et représentent un taux maximum de remboursement en fonction de la BRSS
B8: FORMULES | D8: ACTES SELON CATEGORIES | I8: TARIFS DES ACTES SELON FORMULES
B10: LIBELLE | D10: MEDECINE | E10: DENTAIRE | F10: OPTIQUE | G10: AUDITION | I10: CATEGORIES | J10: ACTES | K10: Vitale 1 | L10: Vitale 2 | M10: Vitale 3 | N10: Vitale 4 | O10: Essentielle 1 | P10: Essentielle 2 | Q10: Essentielle 3 | R10: Essentielle 4 | S10: Famille 1 | T10: Famille 2 | U10: Famille 3 | V10: Famille 4 | W10: Confort 1 | X10: Confort 2 | Y10: Confort 3 | Z10: Confort 4 | AA10: Sénior 1 | AB10: Sénior 2 | AC10: Sénior 3 | AD10: Sénior 4
B11: Vitale 1 | D11: Généraliste secteur 1 ou 2 adhérent CAS | E11: Chirurgien-dentiste | F11: Monture adulte | G11: Prothèses auditives adultes (+20ans) | I11: MEDECINE | J11: Généraliste secteur 1 ou 2 adhérent CAS | K11: 100 | L11: 100 | M11: 125 | N11: 200 | O11: 100 | P11: 100 | Q11: 150 | R11: 200 | S11: 100 | T11: 100 | U11: 150 | V11: 200 | W11: 125 | X11: 150 | Y11: 200 | Z11: 300 | AA11: 100 | AB11: 100 | AC11: 150 | AD11: 200
B12: Vitale 2 | D12: Spécialiste conventionné secteur 1 ou 2 adhérent CAS | E12: Détartrage | F12: Monture enfant | I12: MEDECINE | J12: Spécialiste conventionné secteur 1 ou 2 adhérent CAS | K12: 100 | L12: 100 | M12: 125 | N12: 200 | O12: 100 | P12: 100 | Q12: 150 | R12: 200 | S12: 100 | T12: 100 | U12: 150 | V12: 200 | W12: 125 | X12: 150 | Y12: 200 | Z12: 300 | AA12: 100 | AB12: 100 | AC12: 150 | AD12: 200
B13: Vitale 3 | D13: Spécialistes conventionné secteur 2 | E13: Couronne | F13: Lentilles | I13: MEDECINE | J13: Spécialistes conventionné secteur 2 | K13: 100 | L13: 100 | M13: 100 | N13: 100 | O13: 100 | P13: 100 | Q13: 100 | R13: 100 | S13: 100 | T13: 100 | U13: 100 | V13: 100 | W13: 100 | X13: 100 | Y13: 100 | Z13: 100 | AA13: 100 | AB13: 100 | AC13: 100 | AD13: 100
B14: Vitale 4 | D14: Cardiologue secteur 1 ou 2 adhérent CAS | E14: Inlay-core | I14: MEDECINE | J14: Cardiologue secteur 1 ou 2 adhérent CAS | K14: 100 | L14: 100 | M14: 125 | N14: 200 | O14: 100 | P14: 100 | Q14: 150 | R14: 200 | S14: 100 | T14: 100 | U14: 150 | V14: 200 | W14: 125 | X14: 150 | Y14: 200 | Z14: 300 | AA14: 100 | AB14: 100 | AC14: 150 | AD14: 200
B15: Essentielle 1 | D15: Cardiologue secteur 2 | E15: Orthodontie enfant / Semestre | I15: MEDECINE | J15: Cardiologue secteur 2 | K15: 100 | L15: 100 | M15: 100 | N15: 100 | O15: 100 | P15: 100 | Q15: 100 | R15: 100 | S15: 100 | T15: 100 | U15: 100 | V15: 100 | W15: 100 | X15: 100 | Y15: 100 | Z15: 100 | AA15: 100 | AB15: 100 | AC15: 100 | AD15: 100
B16: Essentielle 2 | D16: Psychiatre/neuropsychiatre secteur 1 ou 2 adhérent CAS | I16: MEDECINE | J16: Psychiatre/neuropsychiatre secteur 1 ou 2 adhérent CAS | K16: 100 | L16: 100 | M16: 125 | N16: 200 | O16: 100 | P16: 100 | Q16: 150 | R16: 200 | S16: 100 | T16: 100 | U16: 150 | V16: 200 | W16: 125 | X16: 150 | Y16: 200 | Z16: 300 | AA16: 100 | AB16: 100 | AC16: 150 | AD16: 200
B17: Essentielle 3 | D17: Psychiatre/neuropsychiatre secteur 2 | I17: MEDECINE | J17: Psychiatre/neuropsychiatre secteur 2 | K17: 100 | L17: 100 | M17: 100 | N17: 100 | O17: 100 | P17: 100 | Q17: 100 | R17: 100 | S17: 100 | T17: 100 | U17: 100 | V17: 100 | W17: 100 | X17: 100 | Y17: 100 | Z17: 100 | AA17: 100 | AB17: 100 | AC17: 100 | AD17: 100
B18: Essentielle 4 | D18: Gynécologue/Ophtalmologue secteur 1 ou 2 adhérent CAS | I18: MEDECINE | J18: Gynécologue/Ophtalmologue secteur 1 ou 2 adhérent CAS | K18: 100 | L18: 100 | M18: 125 | N18: 200 | O18: 100 | P18: 100 | Q18: 150 | R18: 200 | S18: 100 | T18: 100 | U18: 150 | V18: 200 | W18: 125 | X18: 150 | Y18: 200 | Z18: 300 | AA18: 100 | AB18: 100 | AC18: 150 | AD18: 200
B19: Famille 1 | D19: Gynécologue/ophtalmologue secteur 2 | I19: MEDECINE | J19: Gynécologue/ophtalmologue secteur 2 | K19: 100 | L19: 100 | M19: 100 | N19: 100 | O19: 100 | P19: 100 | Q19: 100 | R19: 100 | S19: 100 | T19: 100 | U19: 100 | V19: 100 | W19: 100 | X19: 100 | Y19: 100 | Z19: 100 | AA19: 100 | AB19: 100 | AC19: 100 | AD19: 100
B20: Famille 2 | I20: DENTAIRE | J20: Chirurgien-dentiste | K20: 0 | L20: 100 | M20: 100 | N20: 200 | O20: 100 | P20: 100 | Q20: 150 | R20: 200 | S20: 100 | T20: 100 | U20: 150 | V20: 200 | W20: 125 | X20: 150 | Y20: 200 | Z20: 300 | AA20: 100 | AB20: 100 | AC20: 150 | AD20: 200
B21: Famille 3 | I21: DENTAIRE | J21: Détartrage | K21: 0 | L21: 100 | M21: 100 | N21: 200 | O21: 100 | P21: 100 | Q21: 150 | R21: 200 | S21: 100 | T21: 100 | U21: 150 | V21: 200 | W21: 125 | X21: 150 | Y21: 200 | Z21: 300 | AA21: 100 | AB21: 100 | AC21: 150 | AD21: 200
B22: Famille 4 | I22: DENTAIRE | J22: Couronne | K22: 0 | L22: 200 | M22: 150 | N22: 400 | O22: 100 | P22: 200 | Q22: 300 | R22: 400 | S22: 100 | T22: 200 | U22: 300 | V22: 400 | W22: 100 | X22: 200 | Y22: 300 | Z22: 400 | AA22: 100 | AB22: 200 | AC22: 300 | AD22: 400
B23: Confort 1 | I23: DENTAIRE | J23: Inlay-core | K23: 0 | L23: 200 | M23: 125 | N23: 400 | O23: 100 | P23: 200 | Q23: 300 | R23: 400 | S23: 100 | T23: 200 | U23: 300 | V23: 400 | W23: 100 | X23: 200 | Y23: 300 | Z23: 400 | AA23: 100 | AB23: 200 | AC23: 300 | AD23: 400
B24: Confort 2 | I24: DENTAIRE | J24: Orthodontie enfant / Semestre | K24: 0 | L24: 100 | M24: 150 | N24: 200 | O24: 100 | P24: 100 | Q24: 150 | R24: 200 | S24: 100 | T24: 200 | U24: 300 | V24: 400 | W24: 125 | X24: 150 | Y24: 200 | Z24: 300 | AA24: 0 | AB24: Forfait 100 € | AC24: Forfait 150 € | AD24: Forfait 250 €
B25: Confort 3 | I25: OPTIQUE | J25: Monture adulte | K25: 0 | L25: 100 | M25: 100 | N25: 100 | O25: 100 | P25: 100 | Q25: 100 | R25: 100 | S25: 100 | T25: 100 | U25: 100 | V25: 100 | W25: 100 | X25: 100 | Y25: 100 | Z25: 100 | AA25: 100 | AB25: 100 | AC25: 100 | AD25: 100
B26: Confort 4 | I26: OPTIQUE | J26: Monture enfant | K26: 0 | L26: 100 | M26: 100 | N26: 100 | O26: 100 | P26: 100 | Q26: 100 | R26: 100 | S26: 100 | T26: 100 | U26: 100 | V26: 100 | W26: 100 | X26: 100 | Y26: 100 | Z26: 100 | AA26: 100 | AB26: 100 | AC26: 100 | AD26: 100
B27: Sénior 1 | I27: OPTIQUE | J27: Lentilles | K27: 0 | L27: 100 | M27: Forfait 50 € | N27: Forfait 100 € | O27: 100 | P27: Forfait 50 € | Q27: Forfait 100 € | R27: Forfait 150 € | S27: 100 | T27: Frofait 50 € | U27: Frofait 100 € | V27: Frofait 150 € | W27: 100 | X27: Forfait 60 € | Y27: Forfait 120 € | Z27: Forfait 180 € | AA27: Forfait 40 € | AB27: Forfait 60 € | AC27: Forfait 120 € | AD27: Forfait 180 €
B28: Sénior 2 | I28: AUDITION | J28: Prothèses auditives adultes (+20ans) | K28: 0 | L28: 100 | M28: 100 | N28: 150 | O28: 100 | P28: 100 | Q28: 150 | R28: 200 | S28: 125 | T28: 150 | U28: 200 | V28: 300 | W28: 125 | X28: 150 | Y28: 200 | Z28: 300 | AA28: 125 | AB28: 150 | AC28: 200 | AD28: 300
B29: Sénior 3
B30: Sénior 4
