Workbook
Name md: OFFSET(Patients!$A$1,1,,COUNTA(Patients!$A:$A)-1)

Sheet Patients
A1: MÉDICAMENTS ET AUTRES | B1: TOTAL Utilisées le 15 août | C1: UNITÉS INJECTÉES | D1: UNITÉS JETÉES | E1: NOM
A2: Médicament 3 | B2: =C2+D2 -> 14 | C2: 9 | D2: 5 | E2: Patient 1
A3: Médicament 1 | B3: 2 | C3: 2 | D3: 0 | E3: Patient 1
A4: Médicament 2 | B4: =C4+D4 -> 5 | C4: 5 | D4: 0 | E4: Patient 1
A5: Médicament 1 | B5: =C5+D5 -> 2 | C5: 1 | D5: 1 | E5: Patient 2
A6: Médicament 3 | B6: =C6+D6 -> 10.5 | C6: 5.5 | D6: 5 | E6: Patient 2
A7: Médicament 2 | B7: =C7+D7 -> 5 | C7: 5 | D7: 0 | E7: Patient 2
A8: Médicament 1 | B8: =C8+D8 -> 2 | C8: 1 | D8: 1 | E8: Patient 3
A9: Médicament 3 | B9: =C9+D9 -> 15.5 | C9: 10 | D9: 5.5 | E9: Patient 3
A10: Médicament 2 | B10: =C10+D10 -> 5 | C10: 5 | D10: 0 | E10: Patient 3

Sheet INVENTAIRE MED 6-08-15
B1: UNITÉS COMMANDÉES | C1: Utilisées le 15 août | D1: Injectée | E1: Jetée | F1: UNITÉS RESTANTES
A2: Médicament 1 | B2: 20 | C2: =IF($A2<>"",SUMIF(md,'INVENTAIRE MED 6-08-15'!A2,OFFSET(md,,1)),"") -> 6 | D2: =IF($A2<>"",SUMIF(md,'INVENTAIRE MED 6-08-15'!A2,OFFSET(md,,2)),"") -> 4 | E2: =IF($A2<>"",SUMIF(md,'INVENTAIRE MED 6-08-15'!A2,OFFSET(md,,3)),"") -> 2 | F2: =IF(C2="","",IF(C2<>"",B2-C2,B2)) -> 14
A3: Médicament 2 | B3: 50 | C3: =IF($A3<>"",SUMIF(md,'INVENTAIRE MED 6-08-15'!A3,OFFSET(md,,1)),"") -> 15 | D3: =IF($A3<>"",SUMIF(md,'INVENTAIRE MED 6-08-15'!A3,OFFSET(md,,2)),"") -> 15 | E3: =IF($A3<>"",SUMIF(md,'INVENTAIRE MED 6-08-15'!A3,OFFSET(md,,3)),"") -> 0 | F3: =IF(C3="","",IF(C3<>"",B3-C3,B3)) -> 35
A4: Médicament 3 | B4: 100 | C4: =IF($A4<>"",SUMIF(md,'INVENTAIRE MED 6-08-15'!A4,OFFSET(md,,1)),"") -> 40 | D4: =IF($A4<>"",SUMIF(md,'INVENTAIRE MED 6-08-15'!A4,OFFSET(md,,2)),"") -> 24.5 | E4: =IF($A4<>"",SUMIF(md,'INVENTAIRE MED 6-08-15'!A4,OFFSET(md,,3)),"") -> 15.5 | F4: =IF(C4="","",IF(C4<>"",B4-C4,B4)) -> 60
C5: =IF($A5<>"",SUMIF(md,'INVENTAIRE MED 6-08-15'!A5,OFFSET(md,,1)),"") | D5: =IF($A5<>"",SUMIF(md,'INVENTAIRE MED 6-08-15'!A5,OFFSET(md,,2)),"") | E5: =IF($A5<>"",SUMIF(md,'INVENTAIRE MED 6-08-15'!A5,OFFSET(md,,3)),"") | F5: =IF(C5="","",IF(C5<>"",B5-C5,B5))
C6: =IF($A6<>"",SUMIF(md,'INVENTAIRE MED 6-08-15'!A6,OFFSET(md,,1)),"") | D6: =IF($A6<>"",SUMIF(md,'INVENTAIRE MED 6-08-15'!A6,OFFSET(md,,2)),"") | E6: =IF($A6<>"",SUMIF(md,'INVENTAIRE MED 6-08-15'!A6,OFFSET(md,,3)),"") | F6: =IF(C6="","",IF(C6<>"",B6-C6,B6))
C7: =IF($A7<>"",SUMIF(md,'INVENTAIRE MED 6-08-15'!A7,OFFSET(md,,1)),"") | D7: =IF($A7<>"",SUMIF(md,'INVENTAIRE MED 6-08-15'!A7,OFFSET(md,,2)),"") | E7: =IF($A7<>"",SUMIF(md,'INVENTAIRE MED 6-08-15'!A7,OFFSET(md,,3)),"") | F7: =IF(C7="","",IF(C7<>"",B7-C7,B7))
C8: =IF($A8<>"",SUMIF(md,'INVENTAIRE MED 6-08-15'!A8,OFFSET(md,,1)),"") | D8: =IF($A8<>"",SUMIF(md,'INVENTAIRE MED 6-08-15'!A8,OFFSET(md,,2)),"") | E8: =IF($A8<>"",SUMIF(md,'INVENTAIRE MED 6-08-15'!A8,OFFSET(md,,3)),"") | F8: =IF(C8="","",IF(C8<>"",B8-C8,B8))
C9: =IF($A9<>"",SUMIF(md,'INVENTAIRE MED 6-08-15'!A9,OFFSET(md,,1)),"") | D9: =IF($A9<>"",SUMIF(md,'INVENTAIRE MED 6-08-15'!A9,OFFSET(md,,2)),"") | E9: =IF($A9<>"",SUMIF(md,'INVENTAIRE MED 6-08-15'!A9,OFFSET(md,,3)),"") | F9: =IF(C9="","",IF(C9<>"",B9-C9,B9))
C10: =IF($A10<>"",SUMIF(md,'INVENTAIRE MED 6-08-15'!A10,OFFSET(md,,1)),"") | D10: =IF($A10<>"",SUMIF(md,'INVENTAIRE MED 6-08-15'!A10,OFFSET(md,,2)),"") | E10: =IF($A10<>"",SUMIF(md,'INVENTAIRE MED 6-08-15'!A10,OFFSET(md,,3)),"") | F10: =IF(C10="","",IF(C10<>"",B10-C10,B10))
C11: =IF($A11<>"",SUMIF(md,'INVENTAIRE MED 6-08-15'!A11,OFFSET(md,,1)),"") | D11: =IF($A11<>"",SUMIF(md,'INVENTAIRE MED 6-08-15'!A11,OFFSET(md,,2)),"") | E11: =IF($A11<>"",SUMIF(md,'INVENTAIRE MED 6-08-15'!A11,OFFSET(md,,3)),"") | F11: =IF(C11="","",IF(C11<>"",B11-C11,B11))
C12: =IF($A12<>"",SUMIF(md,'INVENTAIRE MED 6-08-15'!A12,OFFSET(md,,1)),"") | D12: =IF($A12<>"",SUMIF(md,'INVENTAIRE MED 6-08-15'!A12,OFFSET(md,,2)),"") | E12: =IF($A12<>"",SUMIF(md,'INVENTAIRE MED 6-08-15'!A12,OFFSET(md,,3)),"") | F12: =IF(C12="","",IF(C12<>"",B12-C12,B12))
C13: =IF($A13<>"",SUMIF(md,'INVENTAIRE MED 6-08-15'!A13,OFFSET(md,,1)),"") | D13: =IF($A13<>"",SUMIF(md,'INVENTAIRE MED 6-08-15'!A13,OFFSET(md,,2)),"") | E13: =IF($A13<>"",SUMIF(md,'INVENTAIRE MED 6-08-15'!A13,OFFSET(md,,3)),"") | F13: =IF(C13="","",IF(C13<>"",B13-C13,B13))
C14: =IF($A14<>"",SUMIF(md,'INVENTAIRE MED 6-08-15'!A14,OFFSET(md,,1)),"") | D14: =IF($A14<>"",SUMIF(md,'INVENTAIRE MED 6-08-15'!A14,OFFSET(md,,2)),"") | E14: =IF($A14<>"",SUMIF(md,'INVENTAIRE MED 6-08-15'!A14,OFFSET(md,,3)),"") | F14: =IF(C14="","",IF(C14<>"",B14-C14,B14))
C15: =IF($A15<>"",SUMIF(md,'INVENTAIRE MED 6-08-15'!A15,OFFSET(md,,1)),"") | D15: =IF($A15<>"",SUMIF(md,'INVENTAIRE MED 6-08-15'!A15,OFFSET(md,,2)),"") | E15: =IF($A15<>"",SUMIF(md,'INVENTAIRE MED 6-08-15'!A15,OFFSET(md,,3)),"") | F15: =IF(C15="","",IF(C15<>"",B15-C15,B15))
C16: =IF($A16<>"",SUMIF(md,'INVENTAIRE MED 6-08-15'!A16,OFFSET(md,,1)),"") | D16: =IF($A16<>"",SUMIF(md,'INVENTAIRE MED 6-08-15'!A16,OFFSET(md,,2)),"") | E16: =IF($A16<>"",SUMIF(md,'INVENTAIRE MED 6-08-15'!A16,OFFSET(md,,3)),"") | F16: =IF(C16="","",IF(C16<>"",B16-C16,B16))
... C20: =IF($A20<>"",SUMIF(md,'INVENTAIRE MED 6-08-15'!A20,OFFSET(md,,1)),"") | D20: =IF($A20<>"",SUMIF(md,'INVENTAIRE MED 6-08-15'!A20,OFFSET(md,,2)),"") | E20: =IF($A20<>"",SUMIF(md,'INVENTAIRE MED 6-08-15'!A20,OFFSET(md,,3)),"") | F20: =IF(C20="","",IF(C20<>"",B20-C20,B20))
