Workbook

Sheet Feuil1
A3: N°contrat | B3: Debut | C3: Fin | D3: Nom
A4: 1 | B4: 42257 | C4: 42313 | D4: toto | E4: =IF((B4>=Feuil2!$F$6)*(Feuil1!C4<=Feuil2!$H$6),"OK","NON") -> NON
A5: 2 | B5: 42292 | C5: 42292 | D5: juju | E5: =IF((B5>=Feuil2!$F$6)*(Feuil1!C5<=Feuil2!$H$6),"OK","NON") -> NON
A6: 3 | B6: 42128 | C6: 42129 | D6: toto | E6: =IF((B6>=Feuil2!$F$6)*(Feuil1!C6<=Feuil2!$H$6),"OK","NON") -> NON
A7: 4 | B7: 42257 | C7: 42262 | D7: paul | E7: =IF((B7>=Feuil2!$F$6)*(Feuil1!C7<=Feuil2!$H$6),"OK","NON") -> OK
A8: 5 | B8: 42257 | C8: 42261 | D8: paul | E8: =IF((B8>=Feuil2!$F$6)*(Feuil1!C8<=Feuil2!$H$6),"OK","NON") -> OK

Sheet Feuil2
E5: Resultats
E6: Periode du | F6: 42257 | G6: au | H6: 42264
C8: N°contrat | D8: Debut | E8: Fin | F8: Nom
C9: {=IFERROR(INDEX(Feuil1!$A$1:$A$8,SMALL(IF((Feuil1!$B$4:$B$8>=Feuil2!$F$6)*(Feuil1!$C$4:$C$8<=Feuil2!$H$6),ROW(Feuil1!$A$4:$A$8)),ROW(A1))),"")} -> 4 | D9: =IFERROR(VLOOKUP($C9,Feuil1!$A$4:$D$8,2,0),"") -> 42257 | E9: =IFERROR(VLOOKUP($C9,Feuil1!$A$4:$D$8,3,0),"") -> 42262 | F9: =IFERROR(VLOOKUP($C9,Feuil1!$A$4:$D$8,4,0),"") -> paul
C10: {=IFERROR(INDEX(Feuil1!$A$1:$A$8,SMALL(IF((Feuil1!$B$4:$B$8>=Feuil2!$F$6)*(Feuil1!$C$4:$C$8<=Feuil2!$H$6),ROW(Feuil1!$A$4:$A$8)),ROW(A2))),"")} -> 5 | D10: =IFERROR(VLOOKUP($C10,Feuil1!$A$4:$D$8,2,0),"") -> 42257 | E10: =IFERROR(VLOOKUP($C10,Feuil1!$A$4:$D$8,3,0),"") -> 42261 | F10: =IFERROR(VLOOKUP($C10,Feuil1!$A$4:$D$8,4,0),"") -> paul
C11: {=IFERROR(INDEX(Feuil1!$A$1:$A$8,SMALL(IF((Feuil1!$B$4:$B$8>=Feuil2!$F$6)*(Feuil1!$C$4:$C$8<=Feuil2!$H$6),ROW(Feuil1!$A$4:$A$8)),ROW(A3))),"")} | D11: =IFERROR(VLOOKUP($C11,Feuil1!$A$4:$D$8,2,0),"") | E11: =IFERROR(VLOOKUP($C11,Feuil1!$A$4:$D$8,3,0),"") | F11: =IFERROR(VLOOKUP($C11,Feuil1!$A$4:$D$8,4,0),"")
C12: {=IFERROR(INDEX(Feuil1!$A$1:$A$8,SMALL(IF((Feuil1!$B$4:$B$8>=Feuil2!$F$6)*(Feuil1!$C$4:$C$8<=Feuil2!$H$6),ROW(Feuil1!$A$4:$A$8)),ROW(A4))),"")} | D12: =IFERROR(VLOOKUP($C12,Feuil1!$A$4:$D$8,2,0),"") | E12: =IFERROR(VLOOKUP($C12,Feuil1!$A$4:$D$8,3,0),"") | F12: =IFERROR(VLOOKUP($C12,Feuil1!$A$4:$D$8,4,0),"")
C13: {=IFERROR(INDEX(Feuil1!$A$1:$A$8,SMALL(IF((Feuil1!$B$4:$B$8>=Feuil2!$F$6)*(Feuil1!$C$4:$C$8<=Feuil2!$H$6),ROW(Feuil1!$A$4:$A$8)),ROW(A5))),"")} | D13: =IFERROR(VLOOKUP($C13,Feuil1!$A$4:$D$8,2,0),"") | E13: =IFERROR(VLOOKUP($C13,Feuil1!$A$4:$D$8,3,0),"") | F13: =IFERROR(VLOOKUP($C13,Feuil1!$A$4:$D$8,4,0),"")
C14: {=IFERROR(INDEX(Feuil1!$A$1:$A$8,SMALL(IF((Feuil1!$B$4:$B$8>=Feuil2!$F$6)*(Feuil1!$C$4:$C$8<=Feuil2!$H$6),ROW(Feuil1!$A$4:$A$8)),ROW(A6))),"")} | D14: =IFERROR(VLOOKUP($C14,Feuil1!$A$4:$D$8,2,0),"") | E14: =IFERROR(VLOOKUP($C14,Feuil1!$A$4:$D$8,3,0),"") | F14: =IFERROR(VLOOKUP($C14,Feuil1!$A$4:$D$8,4,0),"")
C15: {=IFERROR(INDEX(Feuil1!$A$1:$A$8,SMALL(IF((Feuil1!$B$4:$B$8>=Feuil2!$F$6)*(Feuil1!$C$4:$C$8<=Feuil2!$H$6),ROW(Feuil1!$A$4:$A$8)),ROW(A7))),"")} | D15: =IFERROR(VLOOKUP($C15,Feuil1!$A$4:$D$8,2,0),"") | E15: =IFERROR(VLOOKUP($C15,Feuil1!$A$4:$D$8,3,0),"") | F15: =IFERROR(VLOOKUP($C15,Feuil1!$A$4:$D$8,4,0),"")
C16: {=IFERROR(INDEX(Feuil1!$A$1:$A$8,SMALL(IF((Feuil1!$B$4:$B$8>=Feuil2!$F$6)*(Feuil1!$C$4:$C$8<=Feuil2!$H$6),ROW(Feuil1!$A$4:$A$8)),ROW(A8))),"")} | D16: =IFERROR(VLOOKUP($C16,Feuil1!$A$4:$D$8,2,0),"") | E16: =IFERROR(VLOOKUP($C16,Feuil1!$A$4:$D$8,3,0),"") | F16: =IFERROR(VLOOKUP($C16,Feuil1!$A$4:$D$8,4,0),"")
C17: {=IFERROR(INDEX(Feuil1!$A$1:$A$8,SMALL(IF((Feuil1!$B$4:$B$8>=Feuil2!$F$6)*(Feuil1!$C$4:$C$8<=Feuil2!$H$6),ROW(Feuil1!$A$4:$A$8)),ROW(A9))),"")} | D17: =IFERROR(VLOOKUP($C17,Feuil1!$A$4:$D$8,2,0),"") | E17: =IFERROR(VLOOKUP($C17,Feuil1!$A$4:$D$8,3,0),"") | F17: =IFERROR(VLOOKUP($C17,Feuil1!$A$4:$D$8,4,0),"")
C18: {=IFERROR(INDEX(Feuil1!$A$1:$A$8,SMALL(IF((Feuil1!$B$4:$B$8>=Feuil2!$F$6)*(Feuil1!$C$4:$C$8<=Feuil2!$H$6),ROW(Feuil1!$A$4:$A$8)),ROW(A10))),"")} | D18: =IFERROR(VLOOKUP($C18,Feuil1!$A$4:$D$8,2,0),"") | E18: =IFERROR(VLOOKUP($C18,Feuil1!$A$4:$D$8,3,0),"") | F18: =IFERROR(VLOOKUP($C18,Feuil1!$A$4:$D$8,4,0),"")
C19: {=IFERROR(INDEX(Feuil1!$A$1:$A$8,SMALL(IF((Feuil1!$B$4:$B$8>=Feuil2!$F$6)*(Feuil1!$C$4:$C$8<=Feuil2!$H$6),ROW(Feuil1!$A$4:$A$8)),ROW(A11))),"")} | D19: =IFERROR(VLOOKUP($C19,Feuil1!$A$4:$D$8,2,0),"") | E19: =IFERROR(VLOOKUP($C19,Feuil1!$A$4:$D$8,3,0),"") | F19: =IFERROR(VLOOKUP($C19,Feuil1!$A$4:$D$8,4,0),"")
C20: {=IFERROR(INDEX(Feuil1!$A$1:$A$8,SMALL(IF((Feuil1!$B$4:$B$8>=Feuil2!$F$6)*(Feuil1!$C$4:$C$8<=Feuil2!$H$6),ROW(Feuil1!$A$4:$A$8)),ROW(A12))),"")} | D20: =IFERROR(VLOOKUP($C20,Feuil1!$A$4:$D$8,2,0),"") | E20: =IFERROR(VLOOKUP($C20,Feuil1!$A$4:$D$8,3,0),"") | F20: =IFERROR(VLOOKUP($C20,Feuil1!$A$4:$D$8,4,0),"")

Sheet Feuil3
