Workbook
Name _10H10_–_10H30: 'EMPLOI DU TEMPS'!$A$17
Name _10h30_–_11h00: 'EMPLOI DU TEMPS'!$A$21
Name _11h00_–_11h30: 'EMPLOI DU TEMPS'!$A$22
Name _11h30_–_11h50: 'EMPLOI DU TEMPS'!$A$27
Name _11h50: 'EMPLOI DU TEMPS'!$A$30
Name _13H50_–_14H00: 'EMPLOI DU TEMPS'!$A$34
Name _14h00_–_14h05: 'EMPLOI DU TEMPS'!$A$37
Name _14h05_–_14h20: 'EMPLOI DU TEMPS'!$A$38
Name _14H20_–_14h55: 'EMPLOI DU TEMPS'!$A$42
Name _14h55_–_15h25: 'EMPLOI DU TEMPS'!$A$46
Name _15h25_–_15h50: 'EMPLOI DU TEMPS'!$A$50
Name _16h00_–_16h05: 'EMPLOI DU TEMPS'!$A$51
Name _16h05: 'EMPLOI DU TEMPS'!$A$53
Name _8H50_–_9H10: 'EMPLOI DU TEMPS'!$A$4
Name _9h10_–_9h35: 'EMPLOI DU TEMPS'!$A$10
Name _9h35_–_10h10: 'EMPLOI DU TEMPS'!$A$15
Name Compétence1: 'CAHIER JOURNAL'!$F$15
Name Compétence10: 'CAHIER JOURNAL'!$F$69
Name Compétence11: 'CAHIER JOURNAL'!$F$73
Name Compétence12: 'CAHIER JOURNAL'!$F$79
Name Compétence13: 'CAHIER JOURNAL'!$F$83
Name Compétence2: 'CAHIER JOURNAL'!$F$19
Name Compétence3: 'CAHIER JOURNAL'!$F$23
Name Compétence4: 'CAHIER JOURNAL'!$F$27
Name Compétence5: 'CAHIER JOURNAL'!$F$31
Name Compétence6: 'CAHIER JOURNAL'!$F$37
Name Compétence7: 'CAHIER JOURNAL'!$F$41
Name Compétence8: 'CAHIER JOURNAL'!$F$45
Name Compétence9: 'CAHIER JOURNAL'!$F$49
Name COMPETENCES: COMPETENCES!$A$2:$A$71
Name DATE: 'CAHIER JOURNAL'!$A$2
Name Degré_Acquisition: NIVEAU!$A$1:$A$6
Name DISPOSITIF: DISPOSITIF!$A$1:$A$5
Name GROUPE: GROUPES!$A$1:$A$11
Name GROUPE_GS: ELEVES!$A$1:$A$20
Name GROUPE_MS: ELEVES!$B$1:$B$20
Name GROUPE_PS: ELEVES!$C$1:$C$20
Name GROUPE_TPS: ELEVES!$D$1:$D$20
Name GROUPES: GROUPES!$A$1:$A$9
Name mardi_1_septembre_2015: 'CAHIER JOURNAL'!$A$2
Name MOBILISER_LE_LANGAGE_DANS_TOUTES_SES_DIMENSIONS: 'EMPLOI DU TEMPS'!$B$4
Name MOBILISER_LE_LANGAGE_DANS_TOUTES_SES_DIMENSIONS_AGIR__S’EXPRIMER__COMPRENDRE_A_TRAVERS_LES_ACTIVITES_ARTISTIQUES_CONSTRUIRE_LES_PREMIERS_OUTILS_POUR_STRUCTURER_SA_PENSÉE_EXPLORER_LE_MONDE: 'EMPLOI DU TEMPS'!$B$22
Name MOBILISER_LE_LANGAGE_DANS_TOUTES_SES_DIMENSIONS_Agir__s’exprimer__comprendre_à_travers_les_activités_artistiques_Construire_les_premiers_outils_pour_structurer_sa_pensée_Explorer_le_monde: 'EMPLOI DU TEMPS'!$B$10
Name MOBILISER_LE_LANGAGE_DANS_TOUTES_SES_DIMENSIONS_Agir__s’exprimer__comprendre_à_travers_les_activités_artistiques_Explorer_le_monde: 'EMPLOI DU TEMPS'!$B$27
Name MOBILISER_LE_LANGAGE_DANS_TOUTES_SES_DIMENSIONS_CONSTRUIRE_LES_PREMIERS_OUTILS_POUR_STRUCTURER_SA_PENSÉE_EXPLORER_LE_MONDE: 'EMPLOI DU TEMPS'!$B$42
Name MOBILISER_LE_LANGAGE_DANS_TOUTES_SES_DIMENSIONS_DÉCOUVRIR_LE_MONDE: 'EMPLOI DU TEMPS'!$B$17
Name ORGANISATION: ORGANISATION!$A$1:$A$6
Name Temps_d’accueil___Choix_libre_d’activités_Activités_spécifiques_avec_un_petit_groupe_ou_individuelles_Rituels__Affichage_de_la_présence__Passage_aux_toilettes…__Objectifs___Favoriser_la_relation_duelle_Élève_Maître___Favoriser_les_relations_avec_les_famil: 'EMPLOI DU TEMPS'!$E$4

Sheet CAHIER JOURNAL
A1: CAHIER JOURNAL – CLASSE DE MATERNELLE – TPS PS MS GS – 2015-2016
A2: =DATE(2015,9,3) -> 42250
A3: HORAIRES | B3: DOMAINES D’ACTIVITÉS | D3: FORMES DE TRAVAIL ET/OU CONTENUS
A4: ='EMPLOI DU TEMPS'!$A$4 -> 8H50 – 9H10 | B4: ='EMPLOI DU TEMPS'!$B$4 -> MOBILISER LE LANGAGE DANS TOUTES SES DIMENSIONS | D4: Temps d’accueil : Choix libre d’activités Activités spécifiques avec un petit groupe ou individuelles Rituels (Affichage de la présence, Passage aux toilettes…) Objectifs : Favoriser la relation duelle Élève/Maître Favoriser les relations avec les familles
A9: ='EMPLOI DU TEMPS'!$A$10 -> 9h10 – 9h35 | B9: ='EMPLOI DU TEMPS'!$B$10 -> MOBILISER LE LANGAGE DANS TOUTES SES DIMENSIONS Agir, s’exprimer, comprendre à travers les activités artistiques Construire les premiers outils pour structurer sa pensée Explorer le monde | D9: Temps de recentrage et/ou de rupture, et des rituels : Date, Météo, Présences, Absences, Programme de la matinée...
A14: ='EMPLOI DU TEMPS'!$A$15 -> 9h35 – 10h10 | B14: ='EMPLOI DU TEMPS'!$B$15 -> AGIR, S’EXPRIMER, COMPRENDRE À TRAVERS L’ACTIVITÉ PHYSIQUE Mobiliser le langage dans toutes ses dimensions | D14: Activités Physique
D15: TPS PS MS GS | E15: Compétence: | F15: PARTICIPER VERBALEMENT A PRODUCTION ECRIT
E16: Objectifs:
E17: Activité: | M17: Matériels:
A19: ='EMPLOI DU TEMPS'!$A$17 -> 10H10 – 10H30 | B19: ='EMPLOI DU TEMPS'!$B$17 -> MOBILISER LE LANGAGE DANS TOUTES SES DIMENSIONS DÉCOUVRIR LE MONDE | D19: TPS | E19: Compétence: | F19: COMPRENDRE CARDINAL ≠ DISPOSITION
E20: Objectifs:
E21: Activité: | M21: Matériels:
D23: PS | E23: Compétence: | F23: REPRODUIRE ASSEMBLAGE AVEC MODELE
E24: Objectifs:
E25: Activité: | M25: Matériels:
D27: MS | E27: Compétence: | F27: IDENTIFIER ET POURSUIVRE UN ALGORITHME
E28: Objectifs:
E29: Activité: | M29: Matériels:
D31: GS | E31: Compétence: | F31: DIRE NOMBRES → 30 LIRE NOMBRES → 10
E32: Objectifs:
E33: Activité: | H33: Se repérer dans le temps et l’espace - Explorer le monde du vivant, des objets et de la matière | J33: L’oral | L33: L’oral | M33: Matériels:
A35: ='EMPLOI DU TEMPS'!$A$21 -> 10h30 – 11h00 | D35: Récréation et Passage aux toilettes
A36: ='EMPLOI DU TEMPS'!$A$22 -> 11h00 – 11h30 | B36: ='EMPLOI DU TEMPS'!$B$22 -> MOBILISER LE LANGAGE DANS TOUTES SES DIMENSIONS AGIR, S’EXPRIMER, COMPRENDRE A TRAVERS LES ACTIVITES ARTISTIQUES CONSTRUIRE LES PREMIERS OUTILS POUR STRUCTURER SA PENSÉE EXPLORER LE MONDE | D36: Activités individuelles ou en groupes selon les attentes institutionnelles, les projets, les besoins individuels et les compétences des enfants
D37: TPS | E37: Compétence: | F37: MOBILISER SYMBOLES ANALOGIQUESSUR QUANTITES
E38: Objectifs:
E39: Activité: | M39: Matériels:
D41: PS | E41: Compétence: | F41: ECRIRE PRENOM CURSIVE SANS MODELE
E42: Objectifs:
E43: Activité: | M43: Matériels:
D45: MS | E45: Compétence: | F45: IDENTIFIER ET POURSUIVRE UN ALGORITHME
E46: Objectifs:
E47: Activité: | M47: Matériels:
D49: GS | E49: Compétence: | F49: CHOISIR UTILISER ET DESIGNER OUTILS ET MATERIAUX
E50: Objectifs:
E51: Activité: | H51: Découvrir les nombres et leurs utilisations - Explorer des formes, des grandeurs, des suites organisées | J51: Les productions plastiques et visuelles – Les univers sonores - Le spectacle vivant | L51: L’écrit | M51: Matériels:
A53: ='EMPLOI DU TEMPS'!$A$27 -> 11h30 – 11h50 | B53: ='EMPLOI DU TEMPS'!$B$27 -> MOBILISER LE LANGAGE DANS TOUTES SES DIMENSIONS Agir, s’exprimer, comprendre à travers les activités artistiques Explorer le monde | D53: Temps de recentrage et/ou de rupture, et des rituels : Comptines, Jeux de doigts, Chants… Bilan de la matinée
A55: ='EMPLOI DU TEMPS'!$A$30 -> 11h50 | B55: Sortie ou Cantine
A56: CAHIER JOURNAL – CLASSE DE MATERNELLE – TPS PS MS GS – 2015-2016
A57: ='CAHIER JOURNAL'!$A$2 -> 42250
A58: HORAIRES | B58: DOMAINES D’ACTIVITÉS | D58: FORMES DE TRAVAIL ET/OU CONTENUS
...

Sheet EVALUATIONS
A1: EVALUATIONS JOURNALIERES
A2: {=DATE} -> 42250 | B2: {=ELEVES!$A$1} -> ABEL | C2: {=ELEVES!$A$2} -> ELIAN | D2: {=ELEVES!$A$3} -> EMY | E2: {=ELEVES!$A$4} -> EVY | F2: {=ELEVES!$A$5} -> MATEO | G2: {=ELEVES!$A$6} -> PAUL | H2: {=ELEVES!$A$7} -> POPPY | I2: {=ELEVES!$A$8} -> THIBAULT | J2: {=ELEVES!$A$9} -> TIMY | K2: {=ELEVES!$A$10} -> TOM | L2: {=ELEVES!$A$11} -> VALENTIN | M2: {=ELEVES!$A$12} -> VINCENT | P2: {=ELEVES!$B$1} -> ANTHONY | Q2: {=ELEVES!$B$2} -> JUAN | R2: {=ELEVES!$B$3} -> KYLIAN | U2: {=ELEVES!$C$1} -> CAMILLE | V2: {=ELEVES!$C$2} -> EVANGELINE | W2: {=ELEVES!$C$3} -> LOAN | X2: {=ELEVES!$C$4} -> TALIEN | AA2: {=ELEVES!$D$1} -> GUILLEM | AB2: {=ELEVES!$D$2} -> ZOE
A4: MATIN
A5: {=Compétence1} -> PARTICIPER VERBALEMENT A PRODUCTION ECRIT | B5: CA | C5: AR | D5: CA | E5: CA | F5: AA | G5: CA | H5: AR | I5: AA | J5: AA | K5: AA | L5: AR | M5: CA | P5: CA | Q5: AA | R5: AR | U5: AR | V5: CA | W5: Abs | X5: CA | AA5: AR | AB5: CA
A6: {=Compétence2} -> COMPRENDRE CARDINAL ≠ DISPOSITION | AA6: CA | AB6: A
A7: {=Compétence3} -> REPRODUIRE ASSEMBLAGE AVEC MODELE | U7: CA | V7: AR | W7: Abs | X7: AR
A8: {=Compétence4} -> IDENTIFIER ET POURSUIVRE UN ALGORITHME | P8: CA | Q8: A | R8: AA
A9: {=Compétence5} -> DIRE NOMBRES → 30 LIRE NOMBRES → 10 | B9: AA | C9: AR | D9: A | E9: AA | F9: CA | G9: CA | H9: CA | I9: CA | J9: CA | K9: AR | L9: AA | M9: AR
A10: {=Compétence6} -> MOBILISER SYMBOLES ANALOGIQUESSUR QUANTITES | AA10: AA | AB10: AA
A11: {=Compétence7} -> ECRIRE PRENOM CURSIVE SANS MODELE | U11: AA | V11: CA | W11: Abs | X11: AR
A12: {=Compétence8} -> IDENTIFIER ET POURSUIVRE UN ALGORITHME | P12: A | Q12: CA | R12: CA
A13: {=Compétence9} -> CHOISIR UTILISER ET DESIGNER OUTILS ET MATERIAUX | B13: CA | C13: AR | D13: CA | E13: CA | F13: CA | G13: AA | H13: CA | I13: CA | J13: AR | K13: A | L13: AA | M13: CA
A15: APRES - MIDI
A16: {=Compétence10} -> PRATIQUER DIVERS USAGE LANGAGE ORAL | P16: AR | Q16: CA | R16: A
A17: {=Compétence11} -> COMPRENDRE TEXTES ECRITS ENTENDUS | B17: CA | C17: AR | D17: CA | E17: AR | F17: CA | G17: CA | H17: CA | I17: CA | J17: AR | K17: AR | L17: AA | M17: CA
A18: {=Compétence12} -> ECRIRE SEUL UN MOT EN UTILISANT MOTS CONNUS | P18: AR | Q18: A | R18: AR
A19: {=Compétence13} -> COOPERER S'OPPOSER ET ELABORER DES STRATEGIES | B19: AA | C19: AR | D19: AA | E19: CA | F19: CA | G19: CA | H19: CA | I19: AR | J19: AR | K19: CA | L19: AR | M19: CA

Sheet EMPLOI DU TEMPS
A1: EMPLOI DU TEMPS – CLASSE DE MATERNELLE – TPS PS MS GS – 2015-2016
A2: HORAIRES | B2: DOMAINES D’ACTIVITÉS | F2: FORMES DE TRAVAIL ET/OU CONTENUS
F3: Lundi | H3: Mardi | J3: Mercredi | L3: Jeudi | N3: Vendredi
A4: 8H50 – 9H10 | B4: MOBILISER LE LANGAGE DANS TOUTES SES DIMENSIONS | E4: Temps d’accueil : Choix libre d’activités Activités spécifiques avec un petit groupe ou individuelles Rituels (Affichage de la présence, Passage aux toilettes…) Objectifs : Favoriser la relation duelle Élève/Maître - Favoriser les relations avec les familles
A10: 9h10 – 9h35 | B10: MOBILISER LE LANGAGE DANS TOUTES SES DIMENSIONS Agir, s’exprimer, comprendre à travers les activités artistiques Construire les premiers outils pour structurer sa pensée Explorer le monde | E10: Temps de recentrage et/ou de rupture, et des rituels : Date, Météo Présences, Absences Comptines, Jeux de doigts, Chants… Programme de la matinée
A15: 9h35 – 10h10 | B15: AGIR, S’EXPRIMER, COMPRENDRE À TRAVERS L’ACTIVITÉ PHYSIQUE Mobiliser le langage dans toutes ses dimensions | E15: Activités Physique
A17: 10H10 – 10H30 | B17: MOBILISER LE LANGAGE DANS TOUTES SES DIMENSIONS DÉCOUVRIR LE MONDE | E17: TPS | F17: L’oral | H17: L’oral | J17: Découvrir les nombres et leurs utilisations - Explorer des formes, des grandeurs, des suites organisées | L17: Se repérer dans le temps et l’espace - Explorer le monde du vivant, des objets et de la matière | N17: Se repérer dans le temps et l’espace - Explorer le monde du vivant, des objets et de la matière
E18: PS
E19: MS | F19: Se repérer dans le temps et l’espace - Explorer le monde du vivant, des objets et de la matière | H19: Se repérer dans le temps et l’espace - Explorer le monde du vivant, des objets et de la matière | L19: L’oral | N19: L’oral
E20: GS
A21: 10h30 – 11h00 | E21: Récréation et Passage aux toilettes
A22: 11h00 – 11h30 | B22: MOBILISER LE LANGAGE DANS TOUTES SES DIMENSIONS AGIR, S’EXPRIMER, COMPRENDRE A TRAVERS LES ACTIVITES ARTISTIQUES CONSTRUIRE LES PREMIERS OUTILS POUR STRUCTURER SA PENSÉE EXPLORER LE MONDE | E22: Activités individuelles ou en groupes selon les attentes institutionnelles, les projets, les besoins individuels et les compétences des enfants
E23: TPS | F23: Les productions plastiques et visuelles – Les univers sonores - Le spectacle vivant | H23: L’écrit | J23: Se repérer dans le temps et l’espace - Explorer le monde du vivant, des objets et de la matière | L23: Découvrir les nombres et leurs utilisations - Explorer des formes, des grandeurs, des suites organisées | N23: Découvrir les nombres et leurs utilisations - Explorer des formes, des grandeurs, des suites organisées
E24: PS | F24: L’écrit | H24: Les productions plastiques et visuelles – Les univers sonores - Le spectacle vivant
E25: MS | F25: Découvrir les nombres et leurs utilisations - Explorer des formes, des grandeurs, des suites organisées | H25: Découvrir les nombres et leurs utilisations - Explorer des formes, des grandeurs, des suites organisées | J25: Découvrir les nombres et leurs utilisations - Explorer des formes, des grandeurs, des suites organisées | L25: Les productions plastiques et visuelles – Les univers sonores - Le spectacle vivant | N25: L’écrit
E26: GS | L26: L’écrit | N26: Les productions plastiques et visuelles – Les univers sonores - Le spectacle vivant
A27: 11h30 – 11h50 | B27: MOBILISER LE LANGAGE DANS TOUTES SES DIMENSIONS Agir, s’exprimer, comprendre à travers les activités artistiques Explorer le monde | E27: Temps de recentrage et/ou de rupture, et des rituels : Comptines, Jeux de doigts, Chants… Bilan de la matinée
A30: 11h50 | B30: Sortie ou Cantine
A32: HORAIRES | B32: DOMAINES D’ACTIVITÉS | E32: FORMES DE TRAVAIL ET/OU CONTENUS
F33: Lundi | H33: Mardi | K33: Jeudi | N33: Vendredi
A34: 13H50 – 14H00 | B34: MOBILISER LE LANGAGE DANS TOUTES SES DIMENSIONS | E34: Temps d’accueil : Choix libre d’activités Activités spécifiques avec un petit groupe ou individuelles
A37: 14h00 – 14h05 | B37: Mobiliser le langage dans toutes ses dimensions | E37: Brossage de dents et Passage aux toilettes
A38: 14h05 – 14h20 | B38: MOBILISER LE LANGAGE DANS TOUTES SES DIMENSIONS Agir, s’exprimer, comprendre à travers les activités artistiques Explorer le monde | E38: Temps de recentrage et/ou de rupture, et des rituels : Date, Météo Présences, Absences Programme de l’après-midi
A42: 14H20 – 14h55 | B42: MOBILISER LE LANGAGE DANS TOUTES SES DIMENSIONS CONSTRUIRE LES PREMIERS OUTILS POUR STRUCTURER SA PENSÉE EXPLORER LE MONDE | E42: TPS | F42: Sieste
E43: PS
E44: MS | F44: Catalan | H44: Découvrir les nombres et leurs utilisations | K44: L’oral | N44: Découvrir les nombres et leurs utilisations
E45: GS | H45: L’écrit | K45: Explorer des formes, des grandeurs, des suites organisées | N45: L’écrit
A46: 14h55 – 15h25 | B46: MOBILISER LE LANGAGE DANS TOUTES SES DIMENSIONS CONSTRUIRE LES PREMIERS OUTILS POUR STRUCTURER SA PENSÉE EXPLORER LE MONDE | E46: TPS | F46: Sieste
E47: PS
E48: MS | F48: Catalan | H48: L’écrit | K48: Explorer des formes, des grandeurs, des suites organisées | N48: L’écrit
E49: GS | H49: Découvrir les nombres et leurs utilisations | K49: L’oral | N49: Découvrir les nombres et leurs utilisations
A50: 15h25 – 15h50 | E50: Récréation et Passage aux toilettes
A51: 16h00 – 16h05 | B51: MOBILISER LE LANGAGE DANS TOUTES SES DIMENSIONS Agir, s’exprimer, comprendre à travers les activités artistiques Explorer le monde | E51: Temps de recentrage et/ou de rupture, et des rituels : Comptines, Jeux de doigts, Chants… Lecture offerte Bilan de la journée
A53: 16h05 | B53: Sortie, Aide Personnalisée ou Garderie
A54: Les domaines d’activités en gras font l’objet de situations d’enseignements.
C56: Activités en groupe avec le maître | K56: Activités en groupe avec un(e) intervenant(e) extérieur(e)
C58: Activités en groupe avec l’ATSEM | K58: Activités en Groupe Classe avec le maître et/ou l’ATSEM
C60: Activités en groupe en Autonomie

Sheet COMPETENCES
D1: {=ELEVES!$A$1} -> ABEL | E1: {=ELEVES!$A$2} -> ELIAN | F1: {=ELEVES!$A$3} -> EMY | G1: {=ELEVES!$A$4} -> EVY | H1: {=ELEVES!$A$5} -> MATEO | I1: {=ELEVES!$A$6} -> PAUL | J1: {=ELEVES!$A$7} -> POPPY | K1: {=ELEVES!$A$8} -> THIBAULT | L1: {=ELEVES!$A$9} -> TIMY | M1: {=ELEVES!$A$10} -> TOM | N1: {=ELEVES!$A$11} -> VALENTIN | O1: {=ELEVES!$A$12} -> VINCENT | R1: {=ELEVES!$B$1} -> ANTHONY | S1: {=ELEVES!$B$2} -> JUAN | T1: {=ELEVES!$B$3} -> KYLIAN | W1: {=ELEVES!$C$1} -> CAMILLE | X1: {=ELEVES!$C$2} -> EVANGELINE | Y1: {=ELEVES!$C$3} -> LOAN | Z1: {=ELEVES!$C$4} -> TALIEN | AC1: {=ELEVES!$D$1} -> GUILLEM | AD1: {=ELEVES!$D$2} -> ZOE
B2: 1. Mobiliser le langage dans toutes ses dimensions
A3: COMMUNIQUER PAR LANGAGE POUR COMPREHENSION | B3: Communiquer avec les adultes et avec les autres enfants par le langage, en se faisant comprendre.
A4: S'EXPRIMER LANGAGE CORRECT ET PRECIS | B4: S'exprimer dans un langage syntaxiquement correct et précis. Reformuler pour se faire mieux comprendre.
A5: PRATIQUER DIVERS USAGE LANGAGE ORAL | B5: Pratiquer divers usages du langage oral : raconter, décrire, évoquer, expliquer, questionner, proposer des solutions, discuter un point de vue.
A6: DIRE COMPTINES ET POESIES | B6: Dire de mémoire et de manière expressive plusieurs comptines et poésies.
A7: COMPRENDRE TEXTES ECRITS ENTENDUS | B7: Comprendre des textes écrits sans autre aide que le langage entendu.
A8: MANIFESTER CURIOSITE ECRIT | B8: Manifester de la curiosité par rapport à l'écrit. Pouvoir redire les mots d'une phrase écrite après sa lecture par l'adulte, les mots du titre connu d'un livre ou d'un texte.
A9: PARTICIPER VERBALEMENT A PRODUCTION ECRIT | B9: Participer verbalement à la production d'un écrit. Savoir qu'on n'écrit pas comme on parle.
A10: REPERER REGULARITES LANGUES A L'ORAL | B10: Repérer des régularités dans la langue à l'oral en français (éventuellement dans une autre langue).
A11: MANIPULER DES SYLLABES | B11: Manipuler des syllabes.
A12: DISCRIMINER DES SONS | B12: Discriminer des sons (syllabes, sons-voyelles ; quelques sons-consonnes hors des consonnes occlusives).
A13: RECONNAITRE LETTRES ET CORRESPONDANCES | B13: Reconnaître les lettres de l'alphabet et connaître les correspondances entre les trois manières de les écrire : cursive, script, capitales d'imprimerie. Copier à l'aide d'un clavier.
A14: ECRIRE PRENOM CURSIVE SANS MODELE | B14: Écrire son prénom en écriture cursive, sans modèle.
A15: ECRIRE SEUL UN MOT EN UTILISANT MOTS CONNUS | B15: Écrire seul un mot en utilisant des lettres ou groupes de lettres empruntés aux mots connus.
B16: 2. Agir, s'exprimer, comprendre à travers l'activité physique
A17: COURIR SAUTER LANCER AVEC UN BUT PRECIS | B17: Courir, sauter, lancer de différentes façons, dans des espaces et avec des matériels variés, dans un but précis.
A18: AJUSTER ET ENCHAINER ACTIONS ET DEPLACEMENTS | B18: Ajuster et enchaîner ses actions et ses déplacements en fonction d'obstacles à franchir ou de la trajectoire d'objets sur lesquels agir.
A19: SE DEPLACER AVEC AISANCE ≠ ENVIRONNEMENTS | B19: Se déplacer avec aisance dans des environnements variés, naturels ou aménagés.
A20: CONSTRUIRE ET CONSERVER ACTIONS AVEC D'AUTRES | B20: Construire et conserver une séquence d'actions et de déplacements, en relation avec d'autres partenaires, avec ou sans support musical.
A21: COORDONNER GESTES ET DEPLACEMENTS AVEC AUTRES | B21: Coordonner ses gestes et ses déplacements avec ceux des autres, lors de rondes et jeux chantés.
A22: COOPERER S'OPPOSER ET ELABORER DES STRATEGIES | B22: Coopérer, exercer des rôles différents complémentaires, s'opposer, élaborer des stratégies pour viser un but ou un effet commun.
B23: 3. Agir, s'exprimer, comprendre à travers les activités artistiques
A24: CHOISIR OUTILS MEDIUMS ET SUPPORTS | B24: Choisir différents outils, médiums, supports en fonction d'un projet ou d'une consigne et les utiliser en adaptant son geste.
A25: PRATIQUER DESSIN POUR REPRESENTER OU ILLUSTRER | B25: Pratiquer le dessin pour représenter ou illustrer, en étant fidèle au réel ou à un modèle, ou en inventant.
A26: REALISER COMPOSITION PERSONNELLE AVEC GRAPHISME | B26: Réaliser une composition personnelle en reproduisant des graphismes. Créer des graphismes nouveaux.
A27: REALISER COMPOSITION PLASTIQUE | B27: Réaliser des compositions plastiques, seul ou en petit groupe, en choisissant et combinant des matériaux, en réinvestissant des techniques et des procédés.
A28: MEMORISER ET INTERPRETER COMPTINES ET CHANSONS | B28: Avoir mémorisé un répertoire varié de comptines et de chansons et les interpréter de manière expressive.
A29: JOUER AVEC SA VOIX POUR EXPLORER | B29: Jouer avec sa voix pour explorer des variantes de timbre, d'intensité, de hauteur, de nuance.
A30: REPERER ET REPRODUIRE DES RYTHMES | B30: Repérer et reproduire, corporellement ou avec des instruments, des formules rythmiques simples.
A31: DECRIRE IMAGE PARLER MUSIQUE EXPRIMER RESSENTI | B31: Décrire une image, parler d'un extrait musical et exprimer son ressenti ou sa compréhension en utilisant un vocabulaire adapté.
A32: PROPOSER SOLUTION DE PROJET DE CREATION | B32: Proposer des solutions dans des situations de projet, de création, de résolution de problèmes, avec son corps, sa voix ou des objets sonores.
B33: 4. Construire les premiers outils pour structurer sa pensée
B34: 4.1. Découvrir les nombres et leurs utilisations
B35: Utiliser les nombres
A36: EVALUER ET COMPARER COLLECTIONS | B36: Évaluer et comparer des collections d'objets avec des procédures numériques ou non numériques.
A37: REALISER UNE COLLECTION AVEC CARDINAL DONNE | B37: Réaliser une collection dont le cardinal est donné. Utiliser le dénombrement pour comparer deux quantités, pour constituer une collection d'une taille donnée ou pour réaliser une collection de quantité égale à la collection proposée.
A38: UTILISER LE NOMBRE POUR POSITIONNER | B38: Utiliser le nombre pour exprimer la position d'un objet ou d'une personne dans un jeu, dans une situation organisée, sur un rang ou pour comparer des positions.
A39: MOBILISER SYMBOLES ANALOGIQUESSUR QUANTITES | B39: Mobiliser des symboles analogiques, verbaux ou écrits, conventionnels ou non conventionnels pour communiquer des informations orales et écrites sur une quantité.
B40: Étudier les nombres
...

Sheet ELEVES
A1: ABEL | B1: ANTHONY | C1: CAMILLE | D1: GUILLEM
A2: ELIAN | B2: JUAN | C2: EVANGELINE | D2: ZOE
A3: EMY | B3: KYLIAN | C3: LOAN
A4: EVY | C4: TALIEN
A5: MATEO
A6: PAUL
A7: POPPY
A8: THIBAULT
A9: TIMY
A10: TOM
A11: VALENTIN
A12: VINCENT

Sheet NIVEAU
A2: A | B2: Acquis
A3: AR | B3: A renforcer
A4: CA | B4: en Cours d'Acquisition
A5: AA | B5: A Acquérir
A6: Abs | B6: Absent-e

Sheet GROUPES
A2: TPS
A3: PS
A4: MS
A5: GS
A6: TPS/PS
A7: MS/GS
A8: TPS/PS puis MS/GS
A9: MS/GS puis TPS/PS
A10: GROUPE CLASSE
A11: GROUPES DE NIVEAUX

Sheet ORGANISATION
A2: Autonomie
A3: Maître
A4: Atsem
A5: Maître + ATSEM
A6: Intervenant

Sheet DISPOSITIF
A2: Collectif
A3: Individuel
A4: Par 2
A5: Par 3
