Workbook
Name Achats: paramètres!$A:$A
Name Magasin: paramètres!$B:$B
Name Nom: paramètres!$C:$C

Sheet Actions
A1: Pierre | B1: Auchan | C1: Prune
A2: Pierre | B2: Leclerc | C2: Tomate
A3: Pierre | B3: Leclerc | C3: Carrotte
A4: Pierre | B4: Leclerc | C4: Pomme
A5: Karim | B5: Leclerc | C5: Pomme
A6: Ouana | B6: Leclerc | C6: Carrotte
A7: Ouana | B7: Monoprix | C7: Pomme
A8: Ouana | B8: Monoprix | C8: Tomate
A9: Ouana | B9: Monoprix | C9: Prune
A10: Karim | B10: Monoprix | C10: Tomate
A11: Karim | B11: Monoprix | C11: Tomate
A12: Marine | B12: Monoprix | C12: Pomme
... A128: Pierre | B128: Leclerc | C128: Poire

Sheet Actions Tab
A1: Colonne1 | B1: Colonne2 | C1: Colonne3
A2: Pierre | B2: Auchan | C2: Prune
A3: Pierre | B3: Leclerc | C3: Tomate
A4: Pierre | B4: Leclerc | C4: Carrotte
A5: Pierre | B5: Leclerc | C5: Pomme
A6: Karim | B6: Leclerc | C6: Pomme
A7: Ouana | B7: Leclerc | C7: Carrotte
A8: Ouana | B8: Monoprix | C8: Pomme
A9: Ouana | B9: Monoprix | C9: Tomate
A10: Ouana | B10: Monoprix | C10: Prune
A11: Karim | B11: Monoprix | C11: Tomate
A12: Karim | B12: Monoprix | C12: Tomate
... A33: Pierre | B33: Leclerc | C33: Poire
A34: =Actions!A33 -> Pierre | B34: =Actions!B33 -> Auchan | C34: =Actions!C33 -> Prune
A35: =Actions!A34 -> Pierre | B35: =Actions!B34 -> Leclerc | C35: =Actions!C34 -> Tomate
A36: =Actions!A35 -> Pierre | B36: =Actions!B35 -> Leclerc | C36: =Actions!C35 -> Carrotte
A37: =Actions!A36 -> Pierre | B37: =Actions!B36 -> Leclerc | C37: =Actions!C36 -> Pomme
A38: =Actions!A37 -> Karim | B38: =Actions!B37 -> Leclerc | C38: =Actions!C37 -> Pomme
A39: =Actions!A38 -> Ouana | B39: =Actions!B38 -> Leclerc | C39: =Actions!C38 -> Carrotte
A40: =Actions!A39 -> Ouana | B40: =Actions!B39 -> Monoprix | C40: =Actions!C39 -> Pomme
A41: =Actions!A40 -> Ouana | B41: =Actions!B40 -> Monoprix | C41: =Actions!C40 -> Tomate
A42: =Actions!A41 -> Ouana | B42: =Actions!B41 -> Monoprix | C42: =Actions!C41 -> Prune
A43: =Actions!A42 -> Karim | B43: =Actions!B42 -> Monoprix | C43: =Actions!C42 -> Tomate
A44: =Actions!A43 -> Karim | B44: =Actions!B43 -> Monoprix | C44: =Actions!C43 -> Tomate
A45: =Actions!A44 -> Marine | B45: =Actions!B44 -> Monoprix | C45: =Actions!C44 -> Pomme
... A2352: =Actions!A2351 -> 0 | B2352: =Actions!B2351 -> 0 | C2352: =Actions!C2351 -> 0

Sheet Stats
B5: Nombre de Emplettes | C5: Étiquettes de colonnes
B6: Étiquettes de lignes | C6: Auchan | D6: Franprix | E6: Intermarché | F6: Leclerc | G6: Monoprix | H6: Total général
B7: Gilles | C7: 8 | D7: 0 | E7: 8 | F7: 0 | G7: 8 | H7: 24
B8: Achats | C8: 0 | D8: 0 | E8: 0 | F8: 0 | G8: 4 | H8: 4
B9: Carrotte | C9: 0 | D9: 0 | E9: 4 | F9: 0 | G9: 0 | H9: 4
B10: Poire | C10: 8 | D10: 0 | E10: 0 | F10: 0 | G10: 0 | H10: 8
B11: Prune | C11: 0 | D11: 0 | E11: 4 | F11: 0 | G11: 4 | H11: 8
B12: Karim | C12: 4 | D12: 4 | E12: 0 | F12: 4 | G12: 8 | H12: 20
B13: Pomme | C13: 4 | D13: 0 | E13: 0 | F13: 4 | G13: 0 | H13: 8
B14: Tomate | C14: 0 | D14: 4 | E14: 0 | F14: 0 | G14: 8 | H14: 12
B15: Marine | C15: 0 | D15: 0 | E15: 8 | F15: 8 | G15: 8 | H15: 24
B16: Achats | C16: 0 | D16: 0 | E16: 0 | F16: 4 | G16: 0 | H16: 4
B17: Carrotte | C17: 0 | D17: 0 | E17: 4 | F17: 0 | G17: 4 | H17: 8
B18: Poire | C18: 0 | D18: 0 | E18: 4 | F18: 0 | G18: 0 | H18: 4
... B36: Total général | C36: 20 | D36: 12 | E36: 20 | F36: 36 | G36: 40 | H36: 128

Sheet paramètres
A1: Achats | B1: Auchan | C1: Pierre
A2: Carrotte | B2: Leclerc | C2: Karim
A3: Pomme | B3: Intermarché | C3: Gilles
A4: Poire | B4: Monoprix | C4: Ouana
A5: Tomate | B5: Franprix | C5: Marine
A6: Prune | C6: Marion
