Workbook

Sheet 2015
A1: Heures prestées - 2015
A3: Horaire régulier | C3: 0.33333333 | D3: 0.70833333 | F3: Heures en banque
A5: Semaine | B5: Date | C5: Code absence | D5: Arrivée | E5: Sortie | F5: Pause midi | G5: Total jour | H5: Total mois | I5: Surplus | K5: Résumé pour feuille de prestations
A6: 35 | B6: 40778 | D6: 0 | E6: 0 | F6: 0 | G6: =Tableau1[[#This Row],[Sortie]]-Tableau1[[#This Row],[Arrivée]]-Tableau1[[#This Row],[Pause midi]] -> 0 | I6: =IF(G6>D6,"-","")&TEXT(ABS(G6-D6),"hh:mm") -> 00:00 | K6: Sem | L6: Lundi | M6: mardi | N6: mercredi | O6: jeudi | P6: vendredi | Q6: total
B7: 40779 | D7: 0 | E7: 0 | F7: 0 | G7: =Tableau1[[#This Row],[Sortie]]-Tableau1[[#This Row],[Arrivée]]-Tableau1[[#This Row],[Pause midi]] -> 0 | I7: =IF(G7>D7,"-","")&TEXT(ABS(G7-D7),"hh:mm") -> 00:00 | K7: 36 | L7: =G13 -> 0.36458333 | M7: =G14 -> 0.36458333 | N7: =G15 -> 0.35416667 | O7: =G16 -> 0.35416667 | P7: =G17 -> 0.36458333 | Q7: =SUM(L7:P7) -> 1.8020833
B8: 40780 | D8: 0.33333333 | E8: 0.70833333 | F8: 0.041666667 | G8: =Tableau1[[#This Row],[Sortie]]-Tableau1[[#This Row],[Arrivée]]-Tableau1[[#This Row],[Pause midi]] -> 0.33333333 | I8: =IF(G8>D8,"-","")&TEXT(ABS(G8-D8),"hh:mm") -> 00:00 | K8: 37 | L8: =G20 -> 0 | M8: =G21 -> 0 | N8: =G22 -> 0.36458333 | O8: =G23 -> 0.375 | P8: =G24 -> 0.375 | Q8: =SUM(L8:P8) -> 1.1145833
B9: 40781 | D9: 0.33333333 | E9: 0.70833333 | F9: 0.041666667 | G9: =Tableau1[[#This Row],[Sortie]]-Tableau1[[#This Row],[Arrivée]]-Tableau1[[#This Row],[Pause midi]] -> 0.33333333 | I9: =Tableau1[[#This Row],[Total jour]]-$C$3 -> 0 | K9: 38 | L9: =G27 -> 0 | M9: =G28 -> 0 | N9: =G29 -> 0 | O9: =G30 -> 0 | P9: =G31 -> 0 | Q9: =SUM(L9:P9) -> 0
B10: 40782 | D10: 0.33333333 | E10: 0.70833333 | F10: 0.041666667 | G10: =Tableau1[[#This Row],[Sortie]]-Tableau1[[#This Row],[Arrivée]]-Tableau1[[#This Row],[Pause midi]] -> 0.33333333 | I10: =Tableau1[[#This Row],[Total jour]]-$C$3 -> 0 | K10: 39 | L10: =G34 -> 0 | M10: =G35 -> 0 | N10: =G36 -> 0 | O10: =G37 -> 0 | P10: =G38 -> 0 | Q10: =SUM(L10:P10) -> 0
B11: 40783 | E11: Total heures prestées: | G11: =SUBTOTAL(109,G6:G10) -> 1 | I11: =SUBTOTAL(109,I6:I10) -> 0 | K11: 40 | L11: =G41 -> 0 | M11: =G42 -> 0 | N11: =G43 -> 0 | O11: =G44 -> 0 | P11: =G45 -> 0 | Q11: =SUM(L11:P11) -> 0
B12: 40784 | K12: 41 | L12: =G48 -> 0 | M12: =G49 -> 0 | N12: =G50 -> 0 | O12: =G51 -> 0 | P12: =G52 -> 0 | Q12: =SUM(L12:P12) -> 0
A13: 36 | B13: 40785 | D13: 0.32291667 | E13: 0.70833333 | F13: 0.020833333 | G13: =Tableau1[[#This Row],[Sortie]]-Tableau1[[#This Row],[Arrivée]]-Tableau1[[#This Row],[Pause midi]] -> 0.36458333 | I13: =Tableau1[[#This Row],[Total jour]]-$C$3 -> 0.03125 | K13: 42 | L13: =G55 -> 0 | M13: =G56 -> 0 | N13: =G57 -> 0 | O13: =G58 -> 0 | P13: =G59 -> 0 | Q13: =SUM(L13:P13) -> 0
B14: 40786 | D14: 0.32291667 | E14: 0.70833333 | F14: 0.020833333 | G14: =Tableau1[[#This Row],[Sortie]]-Tableau1[[#This Row],[Arrivée]]-Tableau1[[#This Row],[Pause midi]] -> 0.36458333 | I14: =Tableau1[[#This Row],[Total jour]]-$C$3 -> 0.03125 | K14: 43 | L14: =G62 -> 0 | M14: =G63 -> 0 | N14: =G64 -> 0 | O14: =G65 -> 0 | P14: =G66 -> 0 | Q14: =SUM(L14:P14) -> 0
B15: 40787 | D15: 0.32291667 | E15: 0.70833333 | F15: 0.03125 | G15: =Tableau1[[#This Row],[Sortie]]-Tableau1[[#This Row],[Arrivée]]-Tableau1[[#This Row],[Pause midi]] -> 0.35416667 | I15: =Tableau1[[#This Row],[Total jour]]-$C$3 -> 0.020833333 | K15: 44 | L15: =G69 -> 0 | M15: =G70 -> 0 | N15: =G71 -> 0 | O15: =G72 -> 0 | P15: =G73 -> 0 | Q15: =SUM(L15:P15) -> 0
B16: 40788 | D16: 0.32291667 | E16: 0.70833333 | F16: 0.03125 | G16: =Tableau1[[#This Row],[Sortie]]-Tableau1[[#This Row],[Arrivée]]-Tableau1[[#This Row],[Pause midi]] -> 0.35416667 | I16: =Tableau1[[#This Row],[Total jour]]-$C$3 -> 0.020833333 | K16: 45 | L16: =G76 -> 0 | M16: =G77 -> 0 | N16: =G78 -> 0 | O16: =G79 -> 0 | P16: =G80 -> 0 | Q16: =SUM(L16:P16) -> 0
B17: 40789 | D17: 0.32291667 | E17: 0.70833333 | F17: 0.020833333 | G17: =Tableau1[[#This Row],[Sortie]]-Tableau1[[#This Row],[Arrivée]]-Tableau1[[#This Row],[Pause midi]] -> 0.36458333 | I17: =Tableau1[[#This Row],[Total jour]]-$C$3 -> 0.03125 | K17: 46 | L17: =G83 -> 0 | M17: =G84 -> 0 | N17: =G85 -> 0 | O17: =G86 -> 0 | P17: =G87 -> 0 | Q17: =SUM(L17:P17) -> 0
B18: 40790 | E18: Total heures prestées: | G18: =SUBTOTAL(109,G13:G17) -> 1.8020833 | I18: =SUBTOTAL(109,I13:I17) -> 0.13541667 | K18: 47 | L18: =G90 -> 0 | M18: =G91 -> 0 | N18: =G92 -> 0 | O18: =G93 -> 0 | P18: =G94 -> 0 | Q18: =SUM(L18:P18) -> 0
B19: 40791 | K19: 48 | L19: =G97 -> 0 | M19: =G98 -> 0 | N19: =G99 -> 0 | O19: =G100 -> 0 | P19: =G101 -> 0 | Q19: =SUM(L19:P19) -> 0
A20: 37 | B20: 40792 | C20: Férié | D20: 0 | E20: 0 | F20: 0 | G20: =Tableau1[[#This Row],[Sortie]]-Tableau1[[#This Row],[Arrivée]]-Tableau1[[#This Row],[Pause midi]] -> 0 | I20: 0 | K20: 49 | L20: =G104 -> 0 | M20: =G105 -> 0 | N20: =G106 -> 0 | O20: =G107 -> 0 | P20: =G108 -> 0 | Q20: =SUM(L20:P20) -> 0
B21: 40793 | C21: Maladie | D21: 0 | E21: 0 | F21: 0 | G21: =Tableau1[[#This Row],[Sortie]]-Tableau1[[#This Row],[Arrivée]]-Tableau1[[#This Row],[Pause midi]] -> 0 | I21: =Tableau1[[#This Row],[Total jour]]-$C$3 -> -0.33333333 | K21: 50 | L21: =G111 -> 0 | M21: =G112 -> 0 | N21: =G113 -> 0 | O21: =G114 -> 0 | P21: =G115 -> 0 | Q21: =SUM(L21:P21) -> 0
B22: 40794 | D22: 0.32291667 | E22: 0.70833333 | F22: 0.020833333 | G22: =Tableau1[[#This Row],[Sortie]]-Tableau1[[#This Row],[Arrivée]]-Tableau1[[#This Row],[Pause midi]] -> 0.36458333 | I22: =Tableau1[[#This Row],[Total jour]]-$C$3 -> 0.03125 | K22: 51 | L22: =G118 -> 0 | M22: =G119 -> 0 | N22: =G120 -> 0 | O22: =G121 -> 0 | P22: =G122 -> 0 | Q22: =SUM(L22:P22) -> 0
B23: 40795 | D23: 0.3125 | E23: 0.70833333 | F23: 0.020833333 | G23: =Tableau1[[#This Row],[Sortie]]-Tableau1[[#This Row],[Arrivée]]-Tableau1[[#This Row],[Pause midi]] -> 0.375 | I23: =Tableau1[[#This Row],[Total jour]]-$C$3 -> 0.041666667 | K23: 52 | L23: =G125 -> 0 | M23: =G126 -> 0 | N23: =G127 -> 0 | O23: =G128 -> 0 | P23: =G129 -> 0 | Q23: =SUM(L23:P23) -> 0
B24: 40796 | D24: 0.3125 | E24: 0.70833333 | F24: 0.020833333 | G24: =Tableau1[[#This Row],[Sortie]]-Tableau1[[#This Row],[Arrivée]]-Tableau1[[#This Row],[Pause midi]] -> 0.375 | I24: =Tableau1[[#This Row],[Total jour]]-$C$3 -> 0.041666667 | K24: 53 | L24: =G132 -> 0 | M24: =G133 -> 0 | N24: =G134 -> 0 | O24: =G135 -> 0 | P24: =G136 -> 0 | Q24: =SUM(L24:P24) -> 0
B25: 40797 | E25: Total heures prestées: | G25: =SUBTOTAL(109,G20:G24) -> 1.1145833 | I25: =SUBTOTAL(109,I20:I24) -> -0.21875
B26: 40798
A27: 38 | B27: 40799 | G27: =Tableau1[[#This Row],[Sortie]]-Tableau1[[#This Row],[Arrivée]]-Tableau1[[#This Row],[Pause midi]] -> 0 | I27: =Tableau1[[#This Row],[Total jour]]-$C$3 -> -0.33333333
B28: 40800 | G28: =Tableau1[[#This Row],[Sortie]]-Tableau1[[#This Row],[Arrivée]]-Tableau1[[#This Row],[Pause midi]] -> 0 | I28: =Tableau1[[#This Row],[Total jour]]-$C$3 -> -0.33333333
B29: 40801 | G29: =Tableau1[[#This Row],[Sortie]]-Tableau1[[#This Row],[Arrivée]]-Tableau1[[#This Row],[Pause midi]] -> 0 | I29: =Tableau1[[#This Row],[Total jour]]-$C$3 -> -0.33333333
B30: 40802 | G30: =Tableau1[[#This Row],[Sortie]]-Tableau1[[#This Row],[Arrivée]]-Tableau1[[#This Row],[Pause midi]] -> 0 | I30: =Tableau1[[#This Row],[Total jour]]-$C$3 -> -0.33333333
B31: 40803 | G31: =Tableau1[[#This Row],[Sortie]]-Tableau1[[#This Row],[Arrivée]]-Tableau1[[#This Row],[Pause midi]] -> 0 | I31: =Tableau1[[#This Row],[Total jour]]-$C$3 -> -0.33333333
B32: 40804 | E32: Total heures prestées: | G32: =SUBTOTAL(109,G27:G31) -> 0 | I32: =SUBTOTAL(109,I27:I31) -> -1.6666667
B33: 40805
A34: 39 | B34: 40806 | G34: =Tableau1[[#This Row],[Sortie]]-Tableau1[[#This Row],[Arrivée]]-Tableau1[[#This Row],[Pause midi]] -> 0 | I34: =Tableau1[[#This Row],[Total jour]]-$C$3 -> -0.33333333
B35: 40807 | G35: =Tableau1[[#This Row],[Sortie]]-Tableau1[[#This Row],[Arrivée]]-Tableau1[[#This Row],[Pause midi]] -> 0 | I35: =Tableau1[[#This Row],[Total jour]]-$C$3 -> -0.33333333
B36: 40808 | G36: =Tableau1[[#This Row],[Sortie]]-Tableau1[[#This Row],[Arrivée]]-Tableau1[[#This Row],[Pause midi]] -> 0 | I36: =Tableau1[[#This Row],[Total jour]]-$C$3 -> -0.33333333
B37: 40809 | G37: =Tableau1[[#This Row],[Sortie]]-Tableau1[[#This Row],[Arrivée]]-Tableau1[[#This Row],[Pause midi]] -> 0 | I37: =Tableau1[[#This Row],[Total jour]]-$C$3 -> -0.33333333
B38: 40810 | G38: =Tableau1[[#This Row],[Sortie]]-Tableau1[[#This Row],[Arrivée]]-Tableau1[[#This Row],[Pause midi]] -> 0 | I38: =Tableau1[[#This Row],[Total jour]]-$C$3 -> -0.33333333
B39: 40811 | E39: Total heures prestées: | G39: =SUBTOTAL(109,G34:G38) -> 0 | I39: =SUBTOTAL(109,I34:I38) -> -1.6666667
B40: 40812
A41: 40 | B41: 40813 | G41: =Tableau1[[#This Row],[Sortie]]-Tableau1[[#This Row],[Arrivée]]-Tableau1[[#This Row],[Pause midi]] -> 0 | I41: =Tableau1[[#This Row],[Total jour]]-$C$3 -> -0.33333333
B42: 40814 | G42: =Tableau1[[#This Row],[Sortie]]-Tableau1[[#This Row],[Arrivée]]-Tableau1[[#This Row],[Pause midi]] -> 0 | I42: =Tableau1[[#This Row],[Total jour]]-$C$3 -> -0.33333333
B43: 40815 | G43: =Tableau1[[#This Row],[Sortie]]-Tableau1[[#This Row],[Arrivée]]-Tableau1[[#This Row],[Pause midi]] -> 0 | H43: =G14+G15+G16+G17+G25+G32+G39+G41+G42+G43 -> 2.5520833 | I43: =Tableau1[[#This Row],[Total jour]]-$C$3 -> -0.33333333
B44: 40816 | G44: =Tableau1[[#This Row],[Sortie]]-Tableau1[[#This Row],[Arrivée]]-Tableau1[[#This Row],[Pause midi]] -> 0 | I44: =Tableau1[[#This Row],[Total jour]]-$C$3 -> -0.33333333
B45: 40817 | G45: =Tableau1[[#This Row],[Sortie]]-Tableau1[[#This Row],[Arrivée]]-Tableau1[[#This Row],[Pause midi]] -> 0 | I45: =Tableau1[[#This Row],[Total jour]]-$C$3 -> -0.33333333
B46: 40818 | E46: Total heures prestées: | G46: =SUBTOTAL(109,G41:G45) -> 0 | I46: =SUBTOTAL(109,I41:I45) -> -1.6666667
B47: 40819
A48: 41 | B48: 40820 | G48: =Tableau1[[#This Row],[Sortie]]-Tableau1[[#This Row],[Arrivée]]-Tableau1[[#This Row],[Pause midi]] -> 0 | I48: =Tableau1[[#This Row],[Total jour]]-$C$3 -> -0.33333333
B49: 40821 | G49: =Tableau1[[#This Row],[Sortie]]-Tableau1[[#This Row],[Arrivée]]-Tableau1[[#This Row],[Pause midi]] -> 0 | I49: =Tableau1[[#This Row],[Total jour]]-$C$3 -> -0.33333333
B50: 40822 | G50: =Tableau1[[#This Row],[Sortie]]-Tableau1[[#This Row],[Arrivée]]-Tableau1[[#This Row],[Pause midi]] -> 0 | I50: =Tableau1[[#This Row],[Total jour]]-$C$3 -> -0.33333333
B51: 40823 | G51: =Tableau1[[#This Row],[Sortie]]-Tableau1[[#This Row],[Arrivée]]-Tableau1[[#This Row],[Pause midi]] -> 0 | I51: =Tableau1[[#This Row],[Total jour]]-$C$3 -> -0.33333333
B52: 40824 | G52: =Tableau1[[#This Row],[Sortie]]-Tableau1[[#This Row],[Arrivée]]-Tableau1[[#This Row],[Pause midi]] -> 0 | I52: =Tableau1[[#This Row],[Total jour]]-$C$3 -> -0.33333333
B53: 40825 | E53: Total heures prestées: | G53: =SUBTOTAL(109,G48:G52) -> 0 | I53: =SUBTOTAL(109,I48:I52) -> -1.6666667
B54: 40826
A55: 42 | B55: 40827 | C55: Férié | D55: 0 | E55: 0 | F55: 0 | G55: =Tableau1[[#This Row],[Sortie]]-Tableau1[[#This Row],[Arrivée]]-Tableau1[[#This Row],[Pause midi]] -> 0 | I55: =Tableau1[[#This Row],[Total jour]]-$C$3 -> -0.33333333
B56: 40828 | G56: =Tableau1[[#This Row],[Sortie]]-Tableau1[[#This Row],[Arrivée]]-Tableau1[[#This Row],[Pause midi]] -> 0 | I56: =Tableau1[[#This Row],[Total jour]]-$C$3 -> -0.33333333
B57: 40829 | G57: =Tableau1[[#This Row],[Sortie]]-Tableau1[[#This Row],[Arrivée]]-Tableau1[[#This Row],[Pause midi]] -> 0 | I57: =Tableau1[[#This Row],[Total jour]]-$C$3 -> -0.33333333
B58: 40830 | G58: =Tableau1[[#This Row],[Sortie]]-Tableau1[[#This Row],[Arrivée]]-Tableau1[[#This Row],[Pause midi]] -> 0 | I58: =Tableau1[[#This Row],[Total jour]]-$C$3 -> -0.33333333
B59: 40831 | G59: =Tableau1[[#This Row],[Sortie]]-Tableau1[[#This Row],[Arrivée]]-Tableau1[[#This Row],[Pause midi]] -> 0 | I59: =Tableau1[[#This Row],[Total jour]]-$C$3 -> -0.33333333
B60: 40832 | E60: Total heures prestées: | G60: =SUBTOTAL(109,G55:G59) -> 0 | I60: =SUBTOTAL(109,I55:I59) -> -1.6666667
B61: 40833
A62: 43 | B62: 40834 | G62: =Tableau1[[#This Row],[Sortie]]-Tableau1[[#This Row],[Arrivée]]-Tableau1[[#This Row],[Pause midi]] -> 0 | I62: =Tableau1[[#This Row],[Total jour]]-$C$3 -> -0.33333333
B63: 40835 | G63: =Tableau1[[#This Row],[Sortie]]-Tableau1[[#This Row],[Arrivée]]-Tableau1[[#This Row],[Pause midi]] -> 0 | I63: =Tableau1[[#This Row],[Total jour]]-$C$3 -> -0.33333333
B64: 40836 | G64: =Tableau1[[#This Row],[Sortie]]-Tableau1[[#This Row],[Arrivée]]-Tableau1[[#This Row],[Pause midi]] -> 0 | I64: =Tableau1[[#This Row],[Total jour]]-$C$3 -> -0.33333333
B65: 40837 | G65: =Tableau1[[#This Row],[Sortie]]-Tableau1[[#This Row],[Arrivée]]-Tableau1[[#This Row],[Pause midi]] -> 0 | I65: =Tableau1[[#This Row],[Total jour]]-$C$3 -> -0.33333333
B66: 40838 | G66: =Tableau1[[#This Row],[Sortie]]-Tableau1[[#This Row],[Arrivée]]-Tableau1[[#This Row],[Pause midi]] -> 0 | I66: =Tableau1[[#This Row],[Total jour]]-$C$3 -> -0.33333333
B67: 40839 | E67: Total heures prestées: | G67: =SUBTOTAL(109,G62:G66) -> 0 | I67: =SUBTOTAL(109,I62:I66) -> -1.6666667
B68: 40840
A69: 44 | B69: 40841 | G69: =Tableau1[[#This Row],[Sortie]]-Tableau1[[#This Row],[Arrivée]]-Tableau1[[#This Row],[Pause midi]] -> 0 | I69: =Tableau1[[#This Row],[Total jour]]-$C$3 -> -0.33333333
B70: 40842 | G70: =Tableau1[[#This Row],[Sortie]]-Tableau1[[#This Row],[Arrivée]]-Tableau1[[#This Row],[Pause midi]] -> 0 | I70: =Tableau1[[#This Row],[Total jour]]-$C$3 -> -0.33333333
B71: 40843 | G71: =Tableau1[[#This Row],[Sortie]]-Tableau1[[#This Row],[Arrivée]]-Tableau1[[#This Row],[Pause midi]] -> 0 | I71: =Tableau1[[#This Row],[Total jour]]-$C$3 -> -0.33333333
B72: 40844 | G72: =Tableau1[[#This Row],[Sortie]]-Tableau1[[#This Row],[Arrivée]]-Tableau1[[#This Row],[Pause midi]] -> 0 | I72: =Tableau1[[#This Row],[Total jour]]-$C$3 -> -0.33333333
B73: 40845 | G73: =Tableau1[[#This Row],[Sortie]]-Tableau1[[#This Row],[Arrivée]]-Tableau1[[#This Row],[Pause midi]] -> 0 | I73: =Tableau1[[#This Row],[Total jour]]-$C$3 -> -0.33333333
B74: 40846 | E74: Total heures prestées: | G74: =SUBTOTAL(109,G69:G73) -> 0 | H74: =G44+G45+G53+G60+G67+G74 -> 0 | I74: =SUBTOTAL(109,I69:I73) -> -1.6666667
B75: 40847
A76: 45 | B76: 40848 | G76: =Tableau1[[#This Row],[Sortie]]-Tableau1[[#This Row],[Arrivée]]-Tableau1[[#This Row],[Pause midi]] -> 0 | I76: =Tableau1[[#This Row],[Total jour]]-$C$3 -> -0.33333333
B77: 40849 | G77: =Tableau1[[#This Row],[Sortie]]-Tableau1[[#This Row],[Arrivée]]-Tableau1[[#This Row],[Pause midi]] -> 0 | I77: =Tableau1[[#This Row],[Total jour]]-$C$3 -> -0.33333333
B78: 40850 | G78: =Tableau1[[#This Row],[Sortie]]-Tableau1[[#This Row],[Arrivée]]-Tableau1[[#This Row],[Pause midi]] -> 0 | I78: =Tableau1[[#This Row],[Total jour]]-$C$3 -> -0.33333333
B79: 40851 | G79: =Tableau1[[#This Row],[Sortie]]-Tableau1[[#This Row],[Arrivée]]-Tableau1[[#This Row],[Pause midi]] -> 0 | I79: =Tableau1[[#This Row],[Total jour]]-$C$3 -> -0.33333333
B80: 40852 | G80: =Tableau1[[#This Row],[Sortie]]-Tableau1[[#This Row],[Arrivée]]-Tableau1[[#This Row],[Pause midi]] -> 0 | I80: =Tableau1[[#This Row],[Total jour]]-$C$3 -> -0.33333333
B81: 40853 | E81: Total heures prestées: | G81: =SUBTOTAL(109,G76:G80) -> 0 | I81: =SUBTOTAL(109,I76:I80) -> -1.6666667
B82: 40854
A83: 46 | B83: 40855 | C83: Férié | D83: 0 | E83: 0 | F83: 0 | G83: =Tableau1[[#This Row],[Sortie]]-Tableau1[[#This Row],[Arrivée]]-Tableau1[[#This Row],[Pause midi]] -> 0 | I83: =Tableau1[[#This Row],[Total jour]]-$C$3 -> -0.33333333
B84: 40856 | G84: =Tableau1[[#This Row],[Sortie]]-Tableau1[[#This Row],[Arrivée]]-Tableau1[[#This Row],[Pause midi]] -> 0 | I84: =Tableau1[[#This Row],[Total jour]]-$C$3 -> -0.33333333
B85: 40857 | G85: =Tableau1[[#This Row],[Sortie]]-Tableau1[[#This Row],[Arrivée]]-Tableau1[[#This Row],[Pause midi]] -> 0 | I85: =Tableau1[[#This Row],[Total jour]]-$C$3 -> -0.33333333
B86: 40858 | G86: =Tableau1[[#This Row],[Sortie]]-Tableau1[[#This Row],[Arrivée]]-Tableau1[[#This Row],[Pause midi]] -> 0 | I86: =Tableau1[[#This Row],[Total jour]]-$C$3 -> -0.33333333
B87: 40859 | G87: =Tableau1[[#This Row],[Sortie]]-Tableau1[[#This Row],[Arrivée]]-Tableau1[[#This Row],[Pause midi]] -> 0 | I87: =Tableau1[[#This Row],[Total jour]]-$C$3 -> -0.33333333
B88: 40860 | E88: Total heures prestées: | G88: =SUBTOTAL(109,G83:G87) -> 0 | I88: =SUBTOTAL(109,I83:I87) -> -1.6666667
B89: 40861
A90: 47 | B90: 40862 | G90: =Tableau1[[#This Row],[Sortie]]-Tableau1[[#This Row],[Arrivée]]-Tableau1[[#This Row],[Pause midi]] -> 0 | I90: =Tableau1[[#This Row],[Total jour]]-$C$3 -> -0.33333333
B91: 40863 | G91: =Tableau1[[#This Row],[Sortie]]-Tableau1[[#This Row],[Arrivée]]-Tableau1[[#This Row],[Pause midi]] -> 0 | I91: =Tableau1[[#This Row],[Total jour]]-$C$3 -> -0.33333333
B92: 40864 | G92: =Tableau1[[#This Row],[Sortie]]-Tableau1[[#This Row],[Arrivée]]-Tableau1[[#This Row],[Pause midi]] -> 0 | I92: =Tableau1[[#This Row],[Total jour]]-$C$3 -> -0.33333333
B93: 40865 | G93: =Tableau1[[#This Row],[Sortie]]-Tableau1[[#This Row],[Arrivée]]-Tableau1[[#This Row],[Pause midi]] -> 0 | I93: =Tableau1[[#This Row],[Total jour]]-$C$3 -> -0.33333333
B94: 40866 | G94: =Tableau1[[#This Row],[Sortie]]-Tableau1[[#This Row],[Arrivée]]-Tableau1[[#This Row],[Pause midi]] -> 0 | I94: =Tableau1[[#This Row],[Total jour]]-$C$3 -> -0.33333333
B95: 40867 | E95: Total heures prestées: | G95: =SUBTOTAL(109,G90:G94) -> 0 | I95: =SUBTOTAL(109,I90:I94) -> -1.6666667
B96: 40868
A97: 48 | B97: 40869 | G97: =Tableau1[[#This Row],[Sortie]]-Tableau1[[#This Row],[Arrivée]]-Tableau1[[#This Row],[Pause midi]] -> 0 | I97: =Tableau1[[#This Row],[Total jour]]-$C$3 -> -0.33333333
B98: 40870 | G98: =Tableau1[[#This Row],[Sortie]]-Tableau1[[#This Row],[Arrivée]]-Tableau1[[#This Row],[Pause midi]] -> 0 | I98: =Tableau1[[#This Row],[Total jour]]-$C$3 -> -0.33333333
B99: 40871 | G99: =Tableau1[[#This Row],[Sortie]]-Tableau1[[#This Row],[Arrivée]]-Tableau1[[#This Row],[Pause midi]] -> 0 | I99: =Tableau1[[#This Row],[Total jour]]-$C$3 -> -0.33333333
B100: 40872 | G100: =Tableau1[[#This Row],[Sortie]]-Tableau1[[#This Row],[Arrivée]]-Tableau1[[#This Row],[Pause midi]] -> 0 | I100: =Tableau1[[#This Row],[Total jour]]-$C$3 -> -0.33333333
B101: 40873 | G101: =Tableau1[[#This Row],[Sortie]]-Tableau1[[#This Row],[Arrivée]]-Tableau1[[#This Row],[Pause midi]] -> 0 | I101: =Tableau1[[#This Row],[Total jour]]-$C$3 -> -0.33333333
B102: 40874 | E102: Total heures prestées: | G102: =SUBTOTAL(109,G97:G101) -> 0 | I102: =SUBTOTAL(109,I97:I101) -> -1.6666667
...

Sheet Codes absence
A1: Codes absence
A3: Vac. AM
A4: Vac. PM
A5: Vac. Jour
A6: Maladie
A7: Férié

Sheet Feuille de prestations
A1: Feuille de temps - Paie
A3: Nom: | B3: Fanny Conserière | E3: Semaine # : | F3: 37
A4: Fonction: | B4: Adjointe administrative
B6: Lundi | C6: Mardi | D6: Mercredi | E6: Jeudi | F6: Vendredi | G6: Total
A7: Heures prestées | B7: =VLOOKUP($F$3,'2015'!$K$7:$Q$24,2) -> 0 | C7: =VLOOKUP($F$3,'2015'!$K$7:$Q$24,3) -> 0 | D7: =VLOOKUP($F$3,'2015'!$K$7:$Q$24,4) -> 0.36458333 | E7: =VLOOKUP($F$3,'2015'!$K$7:$Q$24,5) -> 0.375 | F7: =VLOOKUP($F$3,'2015'!$K$7:$Q$24,6) -> 0.375 | G7: =VLOOKUP($F$3,'2015'!$K$7:$Q$24,7) -> 1.1145833
A8: Vacances
A9: Heures en banque pour la semaine | B9: 0 | C9: =C7-'2015'!$C$3 -> -0.33333333 | D9: =D7-'2015'!$C$3 -> 0.03125 | E9: =E7-'2015'!$C$3 -> 0.041666667 | F9: =F7-'2015'!$C$3 -> 0.041666667 | G9: =SUM(B9:F9) -> -0.21875
A10: Notes
A12: Préparé par (employé): | E12: Approuvé par (contremaître):
A14: Fanny Conserière | E14: Mélanie Turgeon

Sheet Blanco
A1: Heures prestées Fanny Conserière - 2016
A3: Horaire régulier | C3: 0.33333333 | D3: 0.70833333
A5: Semaine | B5: Date | C5: Code absence | D5: Arrivée | E5: Sortie | F5: Pause midi | G5: Total jour | H5: Total mois | I5: Surplus | K5: Résumé pour feuille de prestations
A6: 1 | B6: 40911 | G6: =Tableau135[[#This Row],[Sortie]]-Tableau135[[#This Row],[Arrivée]]-Tableau135[[#This Row],[Pause midi]] -> 0 | I6: =Tableau135[[#This Row],[Total jour]]-$C$3 -> -0.33333333 | K6: Sem | L6: Lundi | M6: mardi | N6: mercredi | O6: jeudi | P6: vendredi | Q6: total
B7: 40912 | G7: =Tableau135[[#This Row],[Sortie]]-Tableau135[[#This Row],[Arrivée]]-Tableau135[[#This Row],[Pause midi]] -> 0 | I7: =Tableau135[[#This Row],[Total jour]]-$C$3 -> -0.33333333 | K7: 1 | L7: =G6 -> 0 | M7: =Tableau135[[#This Row],[Total jour]] -> 0 | N7: =G8 -> 0 | O7: =G9 -> 0 | P7: =G10 -> 0 | Q7: =SUM(L7:P7) -> 0
B8: 40913 | G8: =Tableau135[[#This Row],[Sortie]]-Tableau135[[#This Row],[Arrivée]]-Tableau135[[#This Row],[Pause midi]] -> 0 | I8: =Tableau135[[#This Row],[Total jour]]-$C$3 -> -0.33333333 | K8: 2 | L8: =G13 -> 0 | M8: =G14 -> 0 | N8: =G15 -> 0 | O8: =G16 -> 0 | P8: =G17 -> 0 | Q8: =SUM(L8:P8) -> 0
B9: 40914 | G9: =Tableau135[[#This Row],[Sortie]]-Tableau135[[#This Row],[Arrivée]]-Tableau135[[#This Row],[Pause midi]] -> 0 | I9: =Tableau135[[#This Row],[Total jour]]-$C$3 -> -0.33333333 | K9: 3 | L9: =G20 -> 0 | M9: =G21 -> 0 | N9: =G22 -> 0 | O9: =G23 -> 0 | P9: =G24 -> 0 | Q9: =SUM(L9:P9) -> 0
B10: 40915 | G10: =Tableau135[[#This Row],[Sortie]]-Tableau135[[#This Row],[Arrivée]]-Tableau135[[#This Row],[Pause midi]] -> 0 | I10: =Tableau135[[#This Row],[Total jour]]-$C$3 -> -0.33333333 | K10: 4 | L10: =G27 -> 0 | M10: =G28 -> 0 | N10: =G29 -> 0 | O10: =G30 -> 0 | P10: =G31 -> 0 | Q10: =SUM(L10:P10) -> 0
B11: 40916 | E11: Total heures prestées: | G11: =SUBTOTAL(109,G6:G10) -> 0 | I11: =SUBTOTAL(109,I6:I10) -> -1.6666667 | K11: 5 | L11: =G34 -> 0 | M11: =G35 -> 0 | N11: =G36 -> 0 | O11: =G37 -> 0 | P11: =G38 -> 0 | Q11: =SUM(L11:P11) -> 0
B12: 40917 | K12: 6 | L12: =G41 -> 0 | M12: =G42 -> 0 | N12: =G43 -> 0 | O12: =G44 -> 0 | P12: =G45 -> 0 | Q12: =SUM(L12:P12) -> 0
A13: 2 | B13: 40918 | G13: =Tableau135[[#This Row],[Sortie]]-Tableau135[[#This Row],[Arrivée]]-Tableau135[[#This Row],[Pause midi]] -> 0 | I13: =Tableau135[[#This Row],[Total jour]]-$C$3 -> -0.33333333 | K13: 7 | L13: =G48 -> 0 | M13: =G49 -> 0 | N13: =G50 -> 0 | O13: =G51 -> 0 | P13: =G52 -> 0 | Q13: =SUM(L13:P13) -> 0
B14: 40919 | G14: =Tableau135[[#This Row],[Sortie]]-Tableau135[[#This Row],[Arrivée]]-Tableau135[[#This Row],[Pause midi]] -> 0 | I14: =Tableau135[[#This Row],[Total jour]]-$C$3 -> -0.33333333 | K14: 8 | L14: =G55 -> 0 | M14: =G56 -> 0 | N14: =G57 -> 0 | O14: =G58 -> 0 | P14: =G59 -> 0 | Q14: =SUM(L14:P14) -> 0
B15: 40920 | G15: =Tableau135[[#This Row],[Sortie]]-Tableau135[[#This Row],[Arrivée]]-Tableau135[[#This Row],[Pause midi]] -> 0 | I15: =Tableau135[[#This Row],[Total jour]]-$C$3 -> -0.33333333 | K15: 9 | L15: =G62 -> 0 | M15: =G63 -> 0 | N15: =G64 -> 0 | O15: =G65 -> 0 | P15: =G66 -> 0 | Q15: =SUM(L15:P15) -> 0
B16: 40921 | G16: =Tableau135[[#This Row],[Sortie]]-Tableau135[[#This Row],[Arrivée]]-Tableau135[[#This Row],[Pause midi]] -> 0 | I16: =Tableau135[[#This Row],[Total jour]]-$C$3 -> -0.33333333 | K16: 10 | L16: =G69 -> 0 | M16: =G70 -> 0 | N16: =G71 -> 0 | O16: =G72 -> 0 | P16: =G73 -> 0 | Q16: =SUM(L16:P16) -> 0
B17: 40922 | G17: =Tableau135[[#This Row],[Sortie]]-Tableau135[[#This Row],[Arrivée]]-Tableau135[[#This Row],[Pause midi]] -> 0 | I17: =Tableau135[[#This Row],[Total jour]]-$C$3 -> -0.33333333 | K17: 11 | L17: =G76 -> 0 | M17: =G77 -> 0 | N17: =G78 -> 0 | O17: =G79 -> 0 | P17: =G80 -> 0 | Q17: =SUM(L17:P17) -> 0
B18: 40923 | E18: Total heures prestées: | G18: =SUBTOTAL(109,G13:G17) -> 0 | I18: =SUBTOTAL(109,I13:I17) -> -1.6666667 | K18: 12 | L18: =G83 -> 0 | M18: =G84 -> 0 | N18: =G85 -> 0 | O18: =G86 -> 0 | P18: =G87 -> 0 | Q18: =SUM(L18:P18) -> 0
B19: 40924 | K19: 13 | L19: =G90 -> 0 | M19: =G91 -> 0 | N19: =G92 -> 0 | O19: =G93 -> 0 | P19: =G94 -> 0 | Q19: =SUM(L19:P19) -> 0
A20: 3 | B20: 40925 | G20: =Tableau135[[#This Row],[Sortie]]-Tableau135[[#This Row],[Arrivée]]-Tableau135[[#This Row],[Pause midi]] -> 0 | I20: =Tableau135[[#This Row],[Total jour]]-$C$3 -> -0.33333333 | K20: 14 | L20: =G97 -> 0 | M20: =G98 -> 0 | N20: =G99 -> 0 | O20: =G100 -> 0 | P20: =G101 -> 0 | Q20: =SUM(L20:P20) -> 0
B21: 40926 | G21: =Tableau135[[#This Row],[Sortie]]-Tableau135[[#This Row],[Arrivée]]-Tableau135[[#This Row],[Pause midi]] -> 0 | I21: =Tableau135[[#This Row],[Total jour]]-$C$3 -> -0.33333333 | K21: 15 | L21: =G104 -> 0 | M21: =G105 -> 0 | N21: =G106 -> 0 | O21: =G107 -> 0 | P21: =G108 -> 0 | Q21: =SUM(L21:P21) -> 0
B22: 40927 | G22: =Tableau135[[#This Row],[Sortie]]-Tableau135[[#This Row],[Arrivée]]-Tableau135[[#This Row],[Pause midi]] -> 0 | I22: =Tableau135[[#This Row],[Total jour]]-$C$3 -> -0.33333333 | K22: 16 | L22: =G111 -> 0 | M22: =G112 -> 0 | N22: =G113 -> 0 | O22: =G114 -> 0 | P22: =G115 -> 0 | Q22: =SUM(L22:P22) -> 0
B23: 40928 | G23: =Tableau135[[#This Row],[Sortie]]-Tableau135[[#This Row],[Arrivée]]-Tableau135[[#This Row],[Pause midi]] -> 0 | I23: =Tableau135[[#This Row],[Total jour]]-$C$3 -> -0.33333333 | K23: 17 | L23: =G118 -> 0 | M23: =G119 -> 0 | N23: =G120 -> 0 | O23: =G121 -> 0 | P23: =G122 -> 0 | Q23: =SUM(L23:P23) -> 0
B24: 40929 | G24: =Tableau135[[#This Row],[Sortie]]-Tableau135[[#This Row],[Arrivée]]-Tableau135[[#This Row],[Pause midi]] -> 0 | I24: =Tableau135[[#This Row],[Total jour]]-$C$3 -> -0.33333333 | K24: 18 | L24: =G125 -> 0 | M24: =G126 -> 0 | N24: =G127 -> 0 | O24: =G128 -> 0 | P24: =G129 -> 0 | Q24: =SUM(L24:P24) -> 0
B25: 40930 | E25: Total heures prestées: | G25: =SUBTOTAL(109,G20:G24) -> 0 | I25: =SUBTOTAL(109,I20:I24) -> -1.6666667 | K25: 19 | L25: =G132 -> 0 | M25: =G133 -> 0 | N25: =G134 -> 0 | O25: =G135 -> 0 | P25: =G136 -> 0 | Q25: =SUM(L25:P25) -> 0
B26: 40931 | K26: 20 | L26: =G139 -> 0 | M26: =G140 -> 0 | N26: =G141 -> 0 | O26: =G142 -> 0 | P26: =G143 -> 0 | Q26: =SUM(L26:P26) -> 0
A27: 4 | B27: 40932 | G27: =Tableau135[[#This Row],[Sortie]]-Tableau135[[#This Row],[Arrivée]]-Tableau135[[#This Row],[Pause midi]] -> 0 | I27: =Tableau135[[#This Row],[Total jour]]-$C$3 -> -0.33333333 | K27: 21 | L27: =G146 -> 0 | M27: =G147 -> 0 | N27: =G148 -> 0 | O27: =G149 -> 0 | P27: =G150 -> 0 | Q27: =SUM(L27:P27) -> 0
B28: 40933 | G28: =Tableau135[[#This Row],[Sortie]]-Tableau135[[#This Row],[Arrivée]]-Tableau135[[#This Row],[Pause midi]] -> 0 | I28: =Tableau135[[#This Row],[Total jour]]-$C$3 -> -0.33333333 | K28: 22 | L28: =G153 -> 0 | M28: =G154 -> 0 | N28: =G155 -> 0 | O28: =G156 -> 0 | P28: =G157 -> 0 | Q28: =SUM(L28:P28) -> 0
B29: 40934 | G29: =Tableau135[[#This Row],[Sortie]]-Tableau135[[#This Row],[Arrivée]]-Tableau135[[#This Row],[Pause midi]] -> 0 | I29: =Tableau135[[#This Row],[Total jour]]-$C$3 -> -0.33333333 | K29: 23 | L29: =G160 -> 0 | M29: =G161 -> 0 | N29: =G162 -> 0 | O29: =G163 -> 0 | P29: =G164 -> 0 | Q29: =SUM(L29:P29) -> 0
B30: 40935 | G30: =Tableau135[[#This Row],[Sortie]]-Tableau135[[#This Row],[Arrivée]]-Tableau135[[#This Row],[Pause midi]] -> 0 | I30: =Tableau135[[#This Row],[Total jour]]-$C$3 -> -0.33333333 | K30: 24 | L30: =G167 -> 0 | M30: =G168 -> 0 | N30: =G169 -> 0 | O30: =G170 -> 0 | P30: =G171 -> 0 | Q30: =SUM(L30:P30) -> 0
B31: 40936 | G31: =Tableau135[[#This Row],[Sortie]]-Tableau135[[#This Row],[Arrivée]]-Tableau135[[#This Row],[Pause midi]] -> 0 | I31: =Tableau135[[#This Row],[Total jour]]-$C$3 -> -0.33333333 | K31: 25 | L31: =G174 -> 0 | M31: =G175 -> 0 | N31: =G176 -> 0 | O31: =G177 -> 0 | P31: =G178 -> 0 | Q31: =SUM(L31:P31) -> 0
B32: 40937 | E32: Total heures prestées: | G32: =SUBTOTAL(109,G27:G31) -> 0 | I32: =SUBTOTAL(109,I27:I31) -> -1.6666667 | K32: 26 | L32: =G181 -> 0 | M32: =G182 -> 0 | N32: =G183 -> 0 | O32: =G184 -> 0 | P32: =G185 -> 0 | Q32: =SUM(L32:P32) -> 0
B33: 40938 | K33: 27 | L33: =G188 -> 0 | M33: =G189 -> 0 | N33: =G190 -> 0 | O33: =G191 -> 0 | P33: =G192 -> 0 | Q33: =SUM(L33:P33) -> 0
A34: 5 | B34: 40939 | G34: =Tableau135[[#This Row],[Sortie]]-Tableau135[[#This Row],[Arrivée]]-Tableau135[[#This Row],[Pause midi]] -> 0 | I34: =Tableau135[[#This Row],[Total jour]]-$C$3 -> -0.33333333 | K34: 28 | L34: =G195 -> 0 | M34: =G196 -> 0 | N34: =G197 -> 0 | O34: =G198 -> 0 | P34: =G199 -> 0 | Q34: =SUM(L34:P34) -> 0
B35: 40940 | G35: =Tableau135[[#This Row],[Sortie]]-Tableau135[[#This Row],[Arrivée]]-Tableau135[[#This Row],[Pause midi]] -> 0 | I35: =Tableau135[[#This Row],[Total jour]]-$C$3 -> -0.33333333 | K35: 29 | L35: =G202 -> 0 | M35: =G203 -> 0 | N35: =G204 -> 0 | O35: =G205 -> 0 | P35: =G206 -> 0 | Q35: =SUM(L35:P35) -> 0
B36: 40941 | G36: =Tableau135[[#This Row],[Sortie]]-Tableau135[[#This Row],[Arrivée]]-Tableau135[[#This Row],[Pause midi]] -> 0 | I36: =Tableau135[[#This Row],[Total jour]]-$C$3 -> -0.33333333 | K36: 30 | L36: =G209 -> 0 | M36: =G210 -> 0 | N36: =G211 -> 0 | O36: =G212 -> 0 | P36: =G213 -> 0 | Q36: =SUM(L36:P36) -> 0
B37: 40942 | G37: =Tableau135[[#This Row],[Sortie]]-Tableau135[[#This Row],[Arrivée]]-Tableau135[[#This Row],[Pause midi]] -> 0 | I37: =Tableau135[[#This Row],[Total jour]]-$C$3 -> -0.33333333 | K37: 31 | L37: =G216 -> 0 | M37: =G217 -> 0 | N37: =G218 -> 0 | O37: =G219 -> 0 | P37: =G220 -> 0 | Q37: =SUM(L37:P37) -> 0
B38: 40943 | G38: =Tableau135[[#This Row],[Sortie]]-Tableau135[[#This Row],[Arrivée]]-Tableau135[[#This Row],[Pause midi]] -> 0 | I38: =Tableau135[[#This Row],[Total jour]]-$C$3 -> -0.33333333 | K38: 32 | L38: =G223 -> 0 | M38: =G224 -> 0 | N38: =G225 -> 0 | O38: =G226 -> 0 | P38: =G227 -> 0 | Q38: =SUM(L38:P38) -> 0
B39: 40944 | E39: Total heures prestées: | G39: =SUBTOTAL(109,G34:G38) -> 0 | I39: =SUBTOTAL(109,I34:I38) -> -1.6666667 | K39: 33 | L39: =G230 -> 0 | M39: =G231 -> 0 | N39: =G232 -> 0 | O39: =G233 -> 0 | P39: =G234 -> 0 | Q39: =SUM(L39:P39) -> 0
B40: 40945 | K40: 34 | L40: =G237 -> 0 | M40: =G238 -> 0 | N40: =G239 -> 0 | O40: =G240 -> 0 | P40: =G241 -> 0 | Q40: =SUM(L40:P40) -> 0
A41: 6 | B41: 40946 | G41: =Tableau135[[#This Row],[Sortie]]-Tableau135[[#This Row],[Arrivée]]-Tableau135[[#This Row],[Pause midi]] -> 0 | I41: =Tableau135[[#This Row],[Total jour]]-$C$3 -> -0.33333333 | K41: 35 | L41: =G244 -> 0 | M41: =G245 -> 0 | N41: =G246 -> 0 | O41: =G247 -> 0 | P41: =G248 -> 0 | Q41: =SUM(L41:P41) -> 0
B42: 40947 | G42: =Tableau135[[#This Row],[Sortie]]-Tableau135[[#This Row],[Arrivée]]-Tableau135[[#This Row],[Pause midi]] -> 0 | I42: =Tableau135[[#This Row],[Total jour]]-$C$3 -> -0.33333333 | K42: 36 | L42: =G251 -> 0 | M42: =G252 -> 0 | N42: =G253 -> 0 | O42: =G254 -> 0 | P42: =G255 -> 0 | Q42: =SUM(L42:P42) -> 0
B43: 40948 | G43: =Tableau135[[#This Row],[Sortie]]-Tableau135[[#This Row],[Arrivée]]-Tableau135[[#This Row],[Pause midi]] -> 0 | H43: =G18+G25+G32+G39+G41+G42+G43 -> 0 | I43: =Tableau135[[#This Row],[Total jour]]-$C$3 -> -0.33333333 | K43: 37 | L43: =G258 -> 0 | M43: =G259 -> 0 | N43: =G260 -> 0 | O43: =G261 -> 0 | P43: =G262 -> 0 | Q43: =SUM(L43:P43) -> 0
B44: 40949 | G44: =Tableau135[[#This Row],[Sortie]]-Tableau135[[#This Row],[Arrivée]]-Tableau135[[#This Row],[Pause midi]] -> 0 | I44: =Tableau135[[#This Row],[Total jour]]-$C$3 -> -0.33333333 | K44: 38 | L44: =G265 -> 0 | M44: =G266 -> 0 | N44: =G267 -> 0 | O44: =G268 -> 0 | P44: =G269 -> 0 | Q44: =SUM(L44:P44) -> 0
B45: 40950 | G45: =Tableau135[[#This Row],[Sortie]]-Tableau135[[#This Row],[Arrivée]]-Tableau135[[#This Row],[Pause midi]] -> 0 | H45: =SUM(G44+G45) -> 0 | I45: =Tableau135[[#This Row],[Total jour]]-$C$3 -> -0.33333333 | K45: 39 | L45: =G272 -> 0 | M45: =G273 -> 0 | N45: =G274 -> 0 | O45: =G275 -> 0 | P45: =G276 -> 0 | Q45: =SUM(L45:P45) -> 0
B46: 40951 | E46: Total heures prestées: | G46: =SUBTOTAL(109,G41:G45) -> 0 | I46: =SUBTOTAL(109,I41:I45) -> -1.6666667 | K46: 40 | L46: =G279 -> 0 | M46: =G280 -> 0 | N46: =G281 -> 0 | O46: =G282 -> 0 | P46: =G283 -> 0 | Q46: =SUM(L46:P46) -> 0
B47: 40952 | K47: 41 | L47: =G286 -> 0 | M47: =G287 -> 0 | N47: =G288 -> 0 | O47: =G289 -> 0 | P47: =G290 -> 0 | Q47: =SUM(L47:P47) -> 0
A48: 7 | B48: 40953 | G48: =Tableau135[[#This Row],[Sortie]]-Tableau135[[#This Row],[Arrivée]]-Tableau135[[#This Row],[Pause midi]] -> 0 | I48: =Tableau135[[#This Row],[Total jour]]-$C$3 -> -0.33333333 | K48: 42 | L48: =G293 -> 0 | M48: =G294 -> 0 | N48: =G295 -> 0 | O48: =G296 -> 0 | P48: =G297 -> 0 | Q48: =SUM(L48:P48) -> 0
B49: 40954 | G49: =Tableau135[[#This Row],[Sortie]]-Tableau135[[#This Row],[Arrivée]]-Tableau135[[#This Row],[Pause midi]] -> 0 | I49: =Tableau135[[#This Row],[Total jour]]-$C$3 -> -0.33333333 | K49: 43 | L49: =G300 -> 0 | M49: =G301 -> 0 | N49: =G302 -> 0 | O49: =G303 -> 0 | P49: =G304 -> 0 | Q49: =SUM(L49:P49) -> 0
B50: 40955 | G50: =Tableau135[[#This Row],[Sortie]]-Tableau135[[#This Row],[Arrivée]]-Tableau135[[#This Row],[Pause midi]] -> 0 | I50: =Tableau135[[#This Row],[Total jour]]-$C$3 -> -0.33333333 | K50: 44 | L50: =G307 -> 0 | M50: =G308 -> 0 | N50: =G309 -> 0 | O50: =G310 -> 0 | P50: =G311 -> 0 | Q50: =SUM(L50:P50) -> 0
B51: 40956 | G51: =Tableau135[[#This Row],[Sortie]]-Tableau135[[#This Row],[Arrivée]]-Tableau135[[#This Row],[Pause midi]] -> 0 | I51: =Tableau135[[#This Row],[Total jour]]-$C$3 -> -0.33333333 | K51: 45 | L51: =G314 -> 0 | M51: =G315 -> 0 | N51: =G316 -> 0 | O51: =G317 -> 0 | P51: =G318 -> 0 | Q51: =SUM(L51:P51) -> 0
B52: 40957 | G52: =Tableau135[[#This Row],[Sortie]]-Tableau135[[#This Row],[Arrivée]]-Tableau135[[#This Row],[Pause midi]] -> 0 | I52: =Tableau135[[#This Row],[Total jour]]-$C$3 -> -0.33333333 | K52: 46 | L52: =G321 -> 0 | M52: =G322 -> 0 | N52: =G323 -> 0 | O52: =G324 -> 0 | P52: =G325 -> 0 | Q52: =SUM(L52:P52) -> 0
B53: 40958 | E53: Total heures prestées: | G53: =SUBTOTAL(109,G48:G52) -> 0 | I53: =SUBTOTAL(109,I48:I52) -> -1.6666667 | K53: 47 | L53: =G328 -> 0 | M53: =G329 -> 0 | N53: =G330 -> 0 | O53: =G331 -> 0 | P53: =G332 -> 0 | Q53: =SUM(L53:P53) -> 0
B54: 40959 | K54: 48 | L54: =G335 -> 0 | M54: =G336 -> 0 | N54: =G337 -> 0 | O54: =G338 -> 0 | P54: =G339 -> 0 | Q54: =SUM(L54:P54) -> 0
A55: 8 | B55: 40960 | G55: =Tableau135[[#This Row],[Sortie]]-Tableau135[[#This Row],[Arrivée]]-Tableau135[[#This Row],[Pause midi]] -> 0 | I55: =Tableau135[[#This Row],[Total jour]]-$C$3 -> -0.33333333 | K55: 49 | L55: =G342 -> 0 | M55: =G343 -> 0 | N55: =G344 -> 0 | O55: =G345 -> 0 | P55: =G346 -> 0 | Q55: =SUM(L55:P55) -> 0
B56: 40961 | G56: =Tableau135[[#This Row],[Sortie]]-Tableau135[[#This Row],[Arrivée]]-Tableau135[[#This Row],[Pause midi]] -> 0 | I56: =Tableau135[[#This Row],[Total jour]]-$C$3 -> -0.33333333 | K56: 50 | L56: =G349 -> 0 | M56: =G350 -> 0 | N56: =G351 -> 0 | O56: =G352 -> 0 | P56: =G353 -> 0 | Q56: =SUM(L56:P56) -> 0
B57: 40962 | G57: =Tableau135[[#This Row],[Sortie]]-Tableau135[[#This Row],[Arrivée]]-Tableau135[[#This Row],[Pause midi]] -> 0 | I57: =Tableau135[[#This Row],[Total jour]]-$C$3 -> -0.33333333 | K57: 51 | L57: =G356 -> 0 | M57: =G357 -> 0 | N57: =G358 -> 0 | O57: =G359 -> 0 | P57: =G360 -> 0 | Q57: =SUM(L57:P57) -> 0
B58: 40963 | G58: =Tableau135[[#This Row],[Sortie]]-Tableau135[[#This Row],[Arrivée]]-Tableau135[[#This Row],[Pause midi]] -> 0 | I58: =Tableau135[[#This Row],[Total jour]]-$C$3 -> -0.33333333 | K58: 52 | L58: =G363 -> 0 | M58: =G364 -> 0 | N58: =G365 -> 0 | O58: =G366 -> 0 | P58: =G367 -> 0 | Q58: =SUM(L58:P58) -> 0
B59: 40964 | G59: =Tableau135[[#This Row],[Sortie]]-Tableau135[[#This Row],[Arrivée]]-Tableau135[[#This Row],[Pause midi]] -> 0 | I59: =Tableau135[[#This Row],[Total jour]]-$C$3 -> -0.33333333
B60: 40965 | E60: Total heures prestées: | G60: =SUBTOTAL(109,G55:G59) -> 0 | I60: =SUBTOTAL(109,I55:I59) -> -1.6666667
B61: 40966
A62: 9 | B62: 40967 | G62: =Tableau135[[#This Row],[Sortie]]-Tableau135[[#This Row],[Arrivée]]-Tableau135[[#This Row],[Pause midi]] -> 0 | I62: =Tableau135[[#This Row],[Total jour]]-$C$3 -> -0.33333333
B63: 40968 | G63: =Tableau135[[#This Row],[Sortie]]-Tableau135[[#This Row],[Arrivée]]-Tableau135[[#This Row],[Pause midi]] -> 0 | I63: =Tableau135[[#This Row],[Total jour]]-$C$3 -> -0.33333333
B64: 40969 | G64: =Tableau135[[#This Row],[Sortie]]-Tableau135[[#This Row],[Arrivée]]-Tableau135[[#This Row],[Pause midi]] -> 0 | I64: =Tableau135[[#This Row],[Total jour]]-$C$3 -> -0.33333333
B65: 40970 | G65: =Tableau135[[#This Row],[Sortie]]-Tableau135[[#This Row],[Arrivée]]-Tableau135[[#This Row],[Pause midi]] -> 0 | I65: =Tableau135[[#This Row],[Total jour]]-$C$3 -> -0.33333333
B66: 40971 | G66: =Tableau135[[#This Row],[Sortie]]-Tableau135[[#This Row],[Arrivée]]-Tableau135[[#This Row],[Pause midi]] -> 0 | I66: =Tableau135[[#This Row],[Total jour]]-$C$3 -> -0.33333333
B67: 40972 | E67: Total heures prestées: | G67: =SUBTOTAL(109,G62:G66) -> 0 | I67: =SUBTOTAL(109,I62:I66) -> -1.6666667
B68: 40973
A69: 10 | B69: 40974 | G69: =Tableau135[[#This Row],[Sortie]]-Tableau135[[#This Row],[Arrivée]]-Tableau135[[#This Row],[Pause midi]] -> 0 | I69: =Tableau135[[#This Row],[Total jour]]-$C$3 -> -0.33333333
B70: 40975 | G70: =Tableau135[[#This Row],[Sortie]]-Tableau135[[#This Row],[Arrivée]]-Tableau135[[#This Row],[Pause midi]] -> 0 | I70: =Tableau135[[#This Row],[Total jour]]-$C$3 -> -0.33333333
B71: 40976 | G71: =Tableau135[[#This Row],[Sortie]]-Tableau135[[#This Row],[Arrivée]]-Tableau135[[#This Row],[Pause midi]] -> 0 | I71: =Tableau135[[#This Row],[Total jour]]-$C$3 -> -0.33333333
B72: 40977 | G72: =Tableau135[[#This Row],[Sortie]]-Tableau135[[#This Row],[Arrivée]]-Tableau135[[#This Row],[Pause midi]] -> 0 | I72: =Tableau135[[#This Row],[Total jour]]-$C$3 -> -0.33333333
B73: 40978 | G73: =Tableau135[[#This Row],[Sortie]]-Tableau135[[#This Row],[Arrivée]]-Tableau135[[#This Row],[Pause midi]] -> 0 | I73: =Tableau135[[#This Row],[Total jour]]-$C$3 -> -0.33333333
B74: 40979 | E74: Total heures prestées: | G74: =SUBTOTAL(109,G69:G73) -> 0 | I74: =SUBTOTAL(109,I69:I73) -> -1.6666667
B75: 40980
A76: 11 | B76: 40981 | G76: =Tableau135[[#This Row],[Sortie]]-Tableau135[[#This Row],[Arrivée]]-Tableau135[[#This Row],[Pause midi]] -> 0 | I76: =Tableau135[[#This Row],[Total jour]]-$C$3 -> -0.33333333
B77: 40982 | G77: =Tableau135[[#This Row],[Sortie]]-Tableau135[[#This Row],[Arrivée]]-Tableau135[[#This Row],[Pause midi]] -> 0 | I77: =Tableau135[[#This Row],[Total jour]]-$C$3 -> -0.33333333
B78: 40983 | G78: =Tableau135[[#This Row],[Sortie]]-Tableau135[[#This Row],[Arrivée]]-Tableau135[[#This Row],[Pause midi]] -> 0 | I78: =Tableau135[[#This Row],[Total jour]]-$C$3 -> -0.33333333
B79: 40984 | G79: =Tableau135[[#This Row],[Sortie]]-Tableau135[[#This Row],[Arrivée]]-Tableau135[[#This Row],[Pause midi]] -> 0 | I79: =Tableau135[[#This Row],[Total jour]]-$C$3 -> -0.33333333
B80: 40985 | G80: =Tableau135[[#This Row],[Sortie]]-Tableau135[[#This Row],[Arrivée]]-Tableau135[[#This Row],[Pause midi]] -> 0 | I80: =Tableau135[[#This Row],[Total jour]]-$C$3 -> -0.33333333
B81: 40986 | E81: Total heures prestées: | G81: =SUBTOTAL(109,G76:G80) -> 0 | I81: =SUBTOTAL(109,I76:I80) -> -1.6666667
B82: 40987
A83: 12 | B83: 40988 | G83: =Tableau135[[#This Row],[Sortie]]-Tableau135[[#This Row],[Arrivée]]-Tableau135[[#This Row],[Pause midi]] -> 0 | I83: =Tableau135[[#This Row],[Total jour]]-$C$3 -> -0.33333333
B84: 40989 | G84: =Tableau135[[#This Row],[Sortie]]-Tableau135[[#This Row],[Arrivée]]-Tableau135[[#This Row],[Pause midi]] -> 0 | I84: =Tableau135[[#This Row],[Total jour]]-$C$3 -> -0.33333333
B85: 40990 | G85: =Tableau135[[#This Row],[Sortie]]-Tableau135[[#This Row],[Arrivée]]-Tableau135[[#This Row],[Pause midi]] -> 0 | I85: =Tableau135[[#This Row],[Total jour]]-$C$3 -> -0.33333333
B86: 40991 | G86: =Tableau135[[#This Row],[Sortie]]-Tableau135[[#This Row],[Arrivée]]-Tableau135[[#This Row],[Pause midi]] -> 0 | I86: =Tableau135[[#This Row],[Total jour]]-$C$3 -> -0.33333333
B87: 40992 | G87: =Tableau135[[#This Row],[Sortie]]-Tableau135[[#This Row],[Arrivée]]-Tableau135[[#This Row],[Pause midi]] -> 0 | I87: =Tableau135[[#This Row],[Total jour]]-$C$3 -> -0.33333333
B88: 40993 | E88: Total heures prestées: | G88: =SUBTOTAL(109,G83:G87) -> 0 | I88: =SUBTOTAL(109,I83:I87) -> -1.6666667
B89: 40994
A90: 13 | B90: 40995 | G90: =Tableau135[[#This Row],[Sortie]]-Tableau135[[#This Row],[Arrivée]]-Tableau135[[#This Row],[Pause midi]] -> 0 | I90: =Tableau135[[#This Row],[Total jour]]-$C$3 -> -0.33333333
B91: 40996 | G91: =Tableau135[[#This Row],[Sortie]]-Tableau135[[#This Row],[Arrivée]]-Tableau135[[#This Row],[Pause midi]] -> 0 | I91: =Tableau135[[#This Row],[Total jour]]-$C$3 -> -0.33333333
B92: 40997 | G92: =Tableau135[[#This Row],[Sortie]]-Tableau135[[#This Row],[Arrivée]]-Tableau135[[#This Row],[Pause midi]] -> 0 | I92: =Tableau135[[#This Row],[Total jour]]-$C$3 -> -0.33333333
B93: 40998 | G93: =Tableau135[[#This Row],[Sortie]]-Tableau135[[#This Row],[Arrivée]]-Tableau135[[#This Row],[Pause midi]] -> 0 | I93: =Tableau135[[#This Row],[Total jour]]-$C$3 -> -0.33333333
B94: 40999 | G94: =Tableau135[[#This Row],[Sortie]]-Tableau135[[#This Row],[Arrivée]]-Tableau135[[#This Row],[Pause midi]] -> 0 | I94: =Tableau135[[#This Row],[Total jour]]-$C$3 -> -0.33333333
B95: 41000 | E95: Total heures prestées: | G95: =SUBTOTAL(109,G90:G94) -> 0 | I95: =SUBTOTAL(109,I90:I94) -> -1.6666667
B96: 41001
A97: 14 | B97: 41002 | G97: =Tableau135[[#This Row],[Sortie]]-Tableau135[[#This Row],[Arrivée]]-Tableau135[[#This Row],[Pause midi]] -> 0 | I97: =Tableau135[[#This Row],[Total jour]]-$C$3 -> -0.33333333
B98: 41003 | G98: =Tableau135[[#This Row],[Sortie]]-Tableau135[[#This Row],[Arrivée]]-Tableau135[[#This Row],[Pause midi]] -> 0 | I98: =Tableau135[[#This Row],[Total jour]]-$C$3 -> -0.33333333
B99: 41004 | G99: =Tableau135[[#This Row],[Sortie]]-Tableau135[[#This Row],[Arrivée]]-Tableau135[[#This Row],[Pause midi]] -> 0 | I99: =Tableau135[[#This Row],[Total jour]]-$C$3 -> -0.33333333
B100: 41005 | G100: =Tableau135[[#This Row],[Sortie]]-Tableau135[[#This Row],[Arrivée]]-Tableau135[[#This Row],[Pause midi]] -> 0 | I100: =Tableau135[[#This Row],[Total jour]]-$C$3 -> -0.33333333
B101: 41006 | G101: =Tableau135[[#This Row],[Sortie]]-Tableau135[[#This Row],[Arrivée]]-Tableau135[[#This Row],[Pause midi]] -> 0 | I101: =Tableau135[[#This Row],[Total jour]]-$C$3 -> -0.33333333
B102: 41007 | E102: Total heures prestées: | G102: =SUBTOTAL(109,G97:G101) -> 0 | I102: =SUBTOTAL(109,I97:I101) -> -1.6666667
...
