Workbook
Name Activites: activités!$A$2:$C$2085
Name activités: activités!$A$2:$C$35
Name activitesA: activités!$A$2:$A$35
Name ActivitesB: activités!$B$2:$B$35
Name ActivitesC: activités!$C$2:$C$35
Name année: #REF!
Name avocats: 'Gestion du personnel'!$A$2:$G$19
Name Choix: #REF!
Name experiencepassée: #REF!
Name Lieuducabinet: #REF!
Name Nombredheuresdecollaborations: #REF!
Name Nombresdediplomes: #REF!
Name Nombresdedoctorat: #REF!
Name Nombresdelicences: #REF!
Name Nombresdemaster: #REF!
Name pourc.bonus: #REF!

Sheet resultats
A2: Année choisie pour l'étude | B2: 2015
A4: Liste des avocats | B4: Date d'entrée | C4: Date de sortie | D4: Régime horaire sur l'année étudiée | E4: Nb de diplomes
A5: {=IFERROR(INDEX(activités!$A$1:$A$35,SMALL(IF(activités!$B$3:$B$35=$B$2,ROW($3:$35)),ROWS($1:1)),1),"")} -> Avocat01 | B5: =IF(A5="","",VLOOKUP(A5,avocats,5)) -> 42248 | C5: =IF(A5="","",IF(VLOOKUP(A5,avocats,7)="","",VLOOKUP(A5,avocats,7))) | D5: =IF(A5="","",INDEX(ActivitesC,SUMPRODUCT(ROW(activitesA)*(activitesA=A5)*(ActivitesB=$B$2)) -1,0)) -> 1600 | H5: Dans la liste, j'aimerai mettre les avocats présents dans l'année choisie
A6: {=IFERROR(INDEX(activités!$A$1:$A$35,SMALL(IF(activités!$B$3:$B$35=$B$2,ROW($3:$35)),ROWS($1:2)),1),"")} -> Avocat02 | B6: =IF(A6="","",VLOOKUP(A6,avocats,5)) -> 42248 | C6: =IF(A6="","",IF(VLOOKUP(A6,avocats,7)="","",VLOOKUP(A6,avocats,7))) | D6: =IF(A6="","",INDEX(ActivitesC,SUMPRODUCT(ROW(activitesA)*(activitesA=A6)*(ActivitesB=$B$2)) -1,0)) -> 1800 | H6: Actuellement, je saisis chaque nom d'avocat (avocat01, avocat02, …)
A7: {=IFERROR(INDEX(activités!$A$1:$A$35,SMALL(IF(activités!$B$3:$B$35=$B$2,ROW($3:$35)),ROWS($1:3)),1),"")} -> Avocat03 | B7: =IF(A7="","",VLOOKUP(A7,avocats,5)) -> 42129 | C7: =IF(A7="","",IF(VLOOKUP(A7,avocats,7)="","",VLOOKUP(A7,avocats,7))) -> 42460 | D7: =IF(A7="","",INDEX(ActivitesC,SUMPRODUCT(ROW(activitesA)*(activitesA=A7)*(ActivitesB=$B$2)) -1,0)) -> 1400 | H7: Si l'année choisie en B2 est 2013, avocat02 n'était pas présent et donc ne devrait pas se trouver dans la liste
A8: {=IFERROR(INDEX(activités!$A$1:$A$35,SMALL(IF(activités!$B$3:$B$35=$B$2,ROW($3:$35)),ROWS($1:4)),1),"")} -> Avocat04 | B8: =IF(A8="","",VLOOKUP(A8,avocats,5)) -> 41764 | C8: =IF(A8="","",IF(VLOOKUP(A8,avocats,7)="","",VLOOKUP(A8,avocats,7))) | D8: =IF(A8="","",INDEX(ActivitesC,SUMPRODUCT(ROW(activitesA)*(activitesA=A8)*(ActivitesB=$B$2)) -1,0)) -> 1600
A9: {=IFERROR(INDEX(activités!$A$1:$A$35,SMALL(IF(activités!$B$3:$B$35=$B$2,ROW($3:$35)),ROWS($1:5)),1),"")} -> Avocat05 | B9: =IF(A9="","",VLOOKUP(A9,avocats,5)) -> 42066 | C9: =IF(A9="","",IF(VLOOKUP(A9,avocats,7)="","",VLOOKUP(A9,avocats,7))) | D9: =IF(A9="","",INDEX(ActivitesC,SUMPRODUCT(ROW(activitesA)*(activitesA=A9)*(ActivitesB=$B$2)) -1,0)) -> 1600 | H9: Pour savoir quels avocats étaient présents, il faut la ligne "avocat nn"/année dans l'onglet activités
A10: {=IFERROR(INDEX(activités!$A$1:$A$35,SMALL(IF(activités!$B$3:$B$35=$B$2,ROW($3:$35)),ROWS($1:6)),1),"")} -> Avocat06 | B10: =IF(A10="","",VLOOKUP(A10,avocats,5)) -> 42007 | C10: =IF(A10="","",IF(VLOOKUP(A10,avocats,7)="","",VLOOKUP(A10,avocats,7))) | D10: =IF(A10="","",INDEX(ActivitesC,SUMPRODUCT(ROW(activitesA)*(activitesA=A10)*(ActivitesB=$B$2)) -1,0)) -> 1600 | H10: en 2013, il n'y avait que 4 avocats
A11: {=IFERROR(INDEX(activités!$A$1:$A$35,SMALL(IF(activités!$B$3:$B$35=$B$2,ROW($3:$35)),ROWS($1:7)),1),"")} -> Avocat07 | B11: =IF(A11="","",VLOOKUP(A11,avocats,5)) -> 42007 | C11: =IF(A11="","",IF(VLOOKUP(A11,avocats,7)="","",VLOOKUP(A11,avocats,7))) | D11: =IF(A11="","",INDEX(ActivitesC,SUMPRODUCT(ROW(activitesA)*(activitesA=A11)*(ActivitesB=$B$2)) -1,0)) -> 1600
A12: {=IFERROR(INDEX(activités!$A$1:$A$35,SMALL(IF(activités!$B$3:$B$35=$B$2,ROW($3:$35)),ROWS($1:8)),1),"")} -> Avocat09 | B12: =IF(A12="","",VLOOKUP(A12,avocats,5)) -> 40846 | C12: =IF(A12="","",IF(VLOOKUP(A12,avocats,7)="","",VLOOKUP(A12,avocats,7))) | D12: =IF(A12="","",INDEX(ActivitesC,SUMPRODUCT(ROW(activitesA)*(activitesA=A12)*(ActivitesB=$B$2)) -1,0)) -> 1600
A13: {=IFERROR(INDEX(activités!$A$1:$A$35,SMALL(IF(activités!$B$3:$B$35=$B$2,ROW($3:$35)),ROWS($1:9)),1),"")} -> Avocat14 | B13: =IF(A13="","",VLOOKUP(A13,avocats,5)) -> 42007 | C13: =IF(A13="","",IF(VLOOKUP(A13,avocats,7)="","",VLOOKUP(A13,avocats,7))) | D13: =IF(A13="","",INDEX(ActivitesC,SUMPRODUCT(ROW(activitesA)*(activitesA=A13)*(ActivitesB=$B$2)) -1,0)) -> 1600
A14: {=IFERROR(INDEX(activités!$A$1:$A$35,SMALL(IF(activités!$B$3:$B$35=$B$2,ROW($3:$35)),ROWS($1:10)),1),"")} -> Avocat15 | B14: =IF(A14="","",VLOOKUP(A14,avocats,5)) -> 41426 | C14: =IF(A14="","",IF(VLOOKUP(A14,avocats,7)="","",VLOOKUP(A14,avocats,7))) | D14: =IF(A14="","",INDEX(ActivitesC,SUMPRODUCT(ROW(activitesA)*(activitesA=A14)*(ActivitesB=$B$2)) -1,0)) -> 1600
A15: {=IFERROR(INDEX(activités!$A$1:$A$35,SMALL(IF(activités!$B$3:$B$35=$B$2,ROW($3:$35)),ROWS($1:11)),1),"")} -> Avocat16 | B15: =IF(A15="","",VLOOKUP(A15,avocats,5)) -> 39938 | C15: =IF(A15="","",IF(VLOOKUP(A15,avocats,7)="","",VLOOKUP(A15,avocats,7))) | D15: =IF(A15="","",INDEX(ActivitesC,SUMPRODUCT(ROW(activitesA)*(activitesA=A15)*(ActivitesB=$B$2)) -1,0)) -> 1600
A16: {=IFERROR(INDEX(activités!$A$1:$A$35,SMALL(IF(activités!$B$3:$B$35=$B$2,ROW($3:$35)),ROWS($1:12)),1),"")} -> Avocat17 | B16: =IF(A16="","",VLOOKUP(A16,avocats,5)) -> 40911 | C16: =IF(A16="","",IF(VLOOKUP(A16,avocats,7)="","",VLOOKUP(A16,avocats,7))) | D16: =IF(A16="","",INDEX(ActivitesC,SUMPRODUCT(ROW(activitesA)*(activitesA=A16)*(ActivitesB=$B$2)) -1,0)) -> 1600
A17: {=IFERROR(INDEX(activités!$A$1:$A$35,SMALL(IF(activités!$B$3:$B$35=$B$2,ROW($3:$35)),ROWS($1:13)),1),"")} -> Avocat18 | B17: =IF(A17="","",VLOOKUP(A17,avocats,5)) -> 40911 | C17: =IF(A17="","",IF(VLOOKUP(A17,avocats,7)="","",VLOOKUP(A17,avocats,7))) | D17: =IF(A17="","",INDEX(ActivitesC,SUMPRODUCT(ROW(activitesA)*(activitesA=A17)*(ActivitesB=$B$2)) -1,0)) -> 1600
A18: {=IFERROR(INDEX(activités!$A$1:$A$35,SMALL(IF(activités!$B$3:$B$35=$B$2,ROW($3:$35)),ROWS($1:14)),1),"")} -> Avocat19 | B18: =IF(A18="","",VLOOKUP(A18,avocats,5)) -> 40911 | C18: =IF(A18="","",IF(VLOOKUP(A18,avocats,7)="","",VLOOKUP(A18,avocats,7))) | D18: =IF(A18="","",INDEX(ActivitesC,SUMPRODUCT(ROW(activitesA)*(activitesA=A18)*(ActivitesB=$B$2)) -1,0)) -> 1600
A19: {=IFERROR(INDEX(activités!$A$1:$A$35,SMALL(IF(activités!$B$3:$B$35=$B$2,ROW($3:$35)),ROWS($1:15)),1),"")} -> Avocat22 | B19: =IF(A19="","",VLOOKUP(A19,avocats,5)) -> 40911 | C19: =IF(A19="","",IF(VLOOKUP(A19,avocats,7)="","",VLOOKUP(A19,avocats,7))) | D19: =IF(A19="","",INDEX(ActivitesC,SUMPRODUCT(ROW(activitesA)*(activitesA=A19)*(ActivitesB=$B$2)) -1,0)) -> 1600
A20: {=IFERROR(INDEX(activités!$A$1:$A$35,SMALL(IF(activités!$B$3:$B$35=$B$2,ROW($3:$35)),ROWS($1:16)),1),"")} -> Avocat29 | B20: =IF(A20="","",VLOOKUP(A20,avocats,5)) -> 40911 | C20: =IF(A20="","",IF(VLOOKUP(A20,avocats,7)="","",VLOOKUP(A20,avocats,7))) | D20: =IF(A20="","",INDEX(ActivitesC,SUMPRODUCT(ROW(activitesA)*(activitesA=A20)*(ActivitesB=$B$2)) -1,0)) -> 1600
A21: {=IFERROR(INDEX(activités!$A$1:$A$35,SMALL(IF(activités!$B$3:$B$35=$B$2,ROW($3:$35)),ROWS($1:17)),1),"")} -> Avocat33 | B21: =IF(A21="","",VLOOKUP(A21,avocats,5)) -> 40911 | C21: =IF(A21="","",IF(VLOOKUP(A21,avocats,7)="","",VLOOKUP(A21,avocats,7))) | D21: =IF(A21="","",INDEX(ActivitesC,SUMPRODUCT(ROW(activitesA)*(activitesA=A21)*(ActivitesB=$B$2)) -1,0)) -> 1600
A22: {=IFERROR(INDEX(activités!$A$1:$A$35,SMALL(IF(activités!$B$3:$B$35=$B$2,ROW($3:$35)),ROWS($1:18)),1),"")} | B22: =IF(A22="","",VLOOKUP(A22,avocats,5)) | C22: =IF(A22="","",IF(VLOOKUP(A22,avocats,7)="","",VLOOKUP(A22,avocats,7))) | D22: =IF(A22="","",INDEX(ActivitesC,SUMPRODUCT(ROW(activitesA)*(activitesA=A22)*(ActivitesB=$B$2)) -1,0))
A23: {=IFERROR(INDEX(activités!$A$1:$A$35,SMALL(IF(activités!$B$3:$B$35=$B$2,ROW($3:$35)),ROWS($1:19)),1),"")} | B23: =IF(A23="","",VLOOKUP(A23,avocats,5)) | C23: =IF(A23="","",IF(VLOOKUP(A23,avocats,7)="","",VLOOKUP(A23,avocats,7))) | D23: =IF(A23="","",INDEX(ActivitesC,SUMPRODUCT(ROW(activitesA)*(activitesA=A23)*(ActivitesB=$B$2)) -1,0))
A24: {=IFERROR(INDEX(activités!$A$1:$A$35,SMALL(IF(activités!$B$3:$B$35=$B$2,ROW($3:$35)),ROWS($1:20)),1),"")} | B24: =IF(A24="","",VLOOKUP(A24,avocats,5)) | C24: =IF(A24="","",IF(VLOOKUP(A24,avocats,7)="","",VLOOKUP(A24,avocats,7))) | D24: =IF(A24="","",INDEX(ActivitesC,SUMPRODUCT(ROW(activitesA)*(activitesA=A24)*(ActivitesB=$B$2)) -1,0))
A25: {=IFERROR(INDEX(activités!$A$1:$A$35,SMALL(IF(activités!$B$3:$B$35=$B$2,ROW($3:$35)),ROWS($1:21)),1),"")} | B25: =IF(A25="","",VLOOKUP(A25,avocats,5)) | C25: =IF(A25="","",IF(VLOOKUP(A25,avocats,7)="","",VLOOKUP(A25,avocats,7))) | D25: =IF(A25="","",INDEX(ActivitesC,SUMPRODUCT(ROW(activitesA)*(activitesA=A25)*(ActivitesB=$B$2)) -1,0))
A26: {=IFERROR(INDEX(activités!$A$1:$A$35,SMALL(IF(activités!$B$3:$B$35=$B$2,ROW($3:$35)),ROWS($1:22)),1),"")} | B26: =IF(A26="","",VLOOKUP(A26,avocats,5)) | C26: =IF(A26="","",IF(VLOOKUP(A26,avocats,7)="","",VLOOKUP(A26,avocats,7))) | D26: =IF(A26="","",INDEX(ActivitesC,SUMPRODUCT(ROW(activitesA)*(activitesA=A26)*(ActivitesB=$B$2)) -1,0))
A27: {=IFERROR(INDEX(activités!$A$1:$A$35,SMALL(IF(activités!$B$3:$B$35=$B$2,ROW($3:$35)),ROWS($1:23)),1),"")} | B27: =IF(A27="","",VLOOKUP(A27,avocats,5)) | C27: =IF(A27="","",IF(VLOOKUP(A27,avocats,7)="","",VLOOKUP(A27,avocats,7))) | D27: =IF(A27="","",INDEX(ActivitesC,SUMPRODUCT(ROW(activitesA)*(activitesA=A27)*(ActivitesB=$B$2)) -1,0))
A28: {=IFERROR(INDEX(activités!$A$1:$A$35,SMALL(IF(activités!$B$3:$B$35=$B$2,ROW($3:$35)),ROWS($1:24)),1),"")} | B28: =IF(A28="","",VLOOKUP(A28,avocats,5)) | C28: =IF(A28="","",IF(VLOOKUP(A28,avocats,7)="","",VLOOKUP(A28,avocats,7))) | D28: =IF(A28="","",INDEX(ActivitesC,SUMPRODUCT(ROW(activitesA)*(activitesA=A28)*(ActivitesB=$B$2)) -1,0))
A29: {=IFERROR(INDEX(activités!$A$1:$A$35,SMALL(IF(activités!$B$3:$B$35=$B$2,ROW($3:$35)),ROWS($1:25)),1),"")} | B29: =IF(A29="","",VLOOKUP(A29,avocats,5)) | C29: =IF(A29="","",IF(VLOOKUP(A29,avocats,7)="","",VLOOKUP(A29,avocats,7))) | D29: =IF(A29="","",INDEX(ActivitesC,SUMPRODUCT(ROW(activitesA)*(activitesA=A29)*(ActivitesB=$B$2)) -1,0))
A30: {=IFERROR(INDEX(activités!$A$1:$A$35,SMALL(IF(activités!$B$3:$B$35=$B$2,ROW($3:$35)),ROWS($1:26)),1),"")} | B30: =IF(A30="","",VLOOKUP(A30,avocats,5)) | C30: =IF(A30="","",IF(VLOOKUP(A30,avocats,7)="","",VLOOKUP(A30,avocats,7))) | D30: =IF(A30="","",INDEX(ActivitesC,SUMPRODUCT(ROW(activitesA)*(activitesA=A30)*(ActivitesB=$B$2)) -1,0))
A31: {=IFERROR(INDEX(activités!$A$1:$A$35,SMALL(IF(activités!$B$3:$B$35=$B$2,ROW($3:$35)),ROWS($1:27)),1),"")} | B31: =IF(A31="","",VLOOKUP(A31,avocats,5)) | C31: =IF(A31="","",IF(VLOOKUP(A31,avocats,7)="","",VLOOKUP(A31,avocats,7))) | D31: =IF(A31="","",INDEX(ActivitesC,SUMPRODUCT(ROW(activitesA)*(activitesA=A31)*(ActivitesB=$B$2)) -1,0))
A32: {=IFERROR(INDEX(activités!$A$1:$A$35,SMALL(IF(activités!$B$3:$B$35=$B$2,ROW($3:$35)),ROWS($1:28)),1),"")} | B32: =IF(A32="","",VLOOKUP(A32,avocats,5)) | C32: =IF(A32="","",IF(VLOOKUP(A32,avocats,7)="","",VLOOKUP(A32,avocats,7))) | D32: =IF(A32="","",INDEX(ActivitesC,SUMPRODUCT(ROW(activitesA)*(activitesA=A32)*(ActivitesB=$B$2)) -1,0))
A33: {=IFERROR(INDEX(activités!$A$1:$A$35,SMALL(IF(activités!$B$3:$B$35=$B$2,ROW($3:$35)),ROWS($1:29)),1),"")} | B33: =IF(A33="","",VLOOKUP(A33,avocats,5)) | C33: =IF(A33="","",IF(VLOOKUP(A33,avocats,7)="","",VLOOKUP(A33,avocats,7))) | D33: =IF(A33="","",INDEX(ActivitesC,SUMPRODUCT(ROW(activitesA)*(activitesA=A33)*(ActivitesB=$B$2)) -1,0))
A34: {=IFERROR(INDEX(activités!$A$1:$A$35,SMALL(IF(activités!$B$3:$B$35=$B$2,ROW($3:$35)),ROWS($1:30)),1),"")} | B34: =IF(A34="","",VLOOKUP(A34,avocats,5)) | C34: =IF(A34="","",IF(VLOOKUP(A34,avocats,7)="","",VLOOKUP(A34,avocats,7))) | D34: =IF(A34="","",INDEX(ActivitesC,SUMPRODUCT(ROW(activitesA)*(activitesA=A34)*(ActivitesB=$B$2)) -1,0))
A35: {=IFERROR(INDEX(activités!$A$1:$A$35,SMALL(IF(activités!$B$3:$B$35=$B$2,ROW($3:$35)),ROWS($1:31)),1),"")} | B35: =IF(A35="","",VLOOKUP(A35,avocats,5)) | C35: =IF(A35="","",IF(VLOOKUP(A35,avocats,7)="","",VLOOKUP(A35,avocats,7))) | D35: =IF(A35="","",INDEX(ActivitesC,SUMPRODUCT(ROW(activitesA)*(activitesA=A35)*(ActivitesB=$B$2)) -1,0))

Sheet activités
A1: Activités par année | D1: Diplôme
A2: Identifiant | B2: Année | C2: Régime horaire du contrat | D2: licence | E2: master | F2: doctorat | G2: ENA
A3: Avocat01 | B3: 2015 | C3: 1600 | D3: 1 | E3: 1 | F3: 0 | G3: 0
A4: Avocat02 | B4: 2015 | C4: 1800 | D4: 2 | E4: 2 | F4: 0 | G4: 0
A5: Avocat03 | B5: 2015 | C5: 1400 | D5: 2 | E5: 1 | F5: 0 | G5: 0
A6: Avocat04 | B6: 2015 | C6: 1600 | D6: 2 | E6: 1 | F6: 0 | G6: 0
A7: Avocat05 | B7: 2015 | C7: 1600 | D7: 2 | E7: 1 | F7: 0 | G7: 0
A8: Avocat06 | B8: 2015 | C8: 1600 | D8: 2 | E8: 2 | F8: 0 | G8: 0
A9: Avocat07 | B9: 2015 | C9: 1600 | D9: 2 | E9: 2 | F9: 0 | G9: 0
A10: Avocat08 | B10: 2014 | C10: 1600 | D10: 1 | E10: 1 | F10: 1 | G10: 0
A11: Avocat09 | B11: 2015 | C11: 1600 | D11: 1 | E11: 1 | F11: 1 | G11: 0
A12: Avocat10 | B12: 2011 | C12: 1600 | D12: 1 | E12: 2 | F12: 0 | G12: 0
A13: Avocat11 | B13: 2012 | C13: 1600 | D13: 1 | E13: 2 | F13: 0 | G13: 0
A14: Avocat12 | B14: 2013 | C14: 1600 | D14: 1 | E14: 2 | F14: 0 | G14: 0
... A35: Avocat33 | B35: 2015 | C35: 1600 | D35: 1 | E35: 1 | F35: 1 | G35: 0

Sheet Gestion du personnel
B2: Nom | C2: Prenom | D2: adresse | E2: date de recrutement | F2: date de serment | G2: Date de sortie
A3: Avocat01 | E3: 42248 | F3: 42248
A4: Avocat02 | E4: 42248 | F4: 42248
A5: Avocat03 | E5: 42129 | F5: 42100 | G5: 42460
A6: Avocat04 | E6: 41764 | F6: 41764
A7: Avocat05 | E7: 42066 | F7: 42064
A8: Avocat06 | E8: 42007 | F8: 41609
A9: Avocat07 | E9: 42007 | F9: 41609
A10: Avocat08 | E10: 41764 | F10: 41548
A11: Avocat09 | E11: 40846 | F11: 40816
A12: Avocat10 | E12: 42007 | F12: 40714
A13: Avocat11 | E13: 42007 | F13: 40356
A14: Avocat12 | E14: 42007 | F14: 40299 | G14: 41852
A15: Avocat13 | E15: 42007 | F15: 40197
A16: Avocat14 | E16: 42007 | F16: 40188
A17: Avocat15 | E17: 41426 | F17: 39825
A18: Avocat16 | E18: 39938 | F18: 39573
A19: Avocat17 | E19: 40911 | F19: 39519
