Workbook
Name MATIERES: GRILLE!$A$3:$A$72
Name N_SEM: '1A_2015_1SEM'!$D$4
Name O_SYNTHESE: '1A_2015_1SEM'!$K$1

Sheet Emploi-1A-2015-1SEM
E1: EMPLOI | F1: 1ERE ANNEE | G1: 2015-2016 | H1: 1 SEM. | P1: =E1 -> EMPLOI | Q1: =F1 -> 1ERE ANNEE | R1: =G1 -> 2015-2016 | S1: =H1 -> 1 SEM. | AA1: =P1 -> EMPLOI | AB1: =Q1 -> 1ERE ANNEE | AC1: =R1 -> 2015-2016 | AD1: =S1 -> 1 SEM.
B2: Semaine | C2: 0 | D2: 9-11 Sep | E2: =C2+1 -> 1 | F2: 14-18 Sep | G2: =E2+1 -> 2 | H2: 28 Sep -2 Oct | I2: =G2+1 -> 3 | J2: 5 - 13 Oct | K2: =I2+1 -> 4 | L2: 12 - 16 Oct | M2: =K2+1 -> 5 | N2: 19- 23 Oct | O2: =M2+1 -> 6 | P2: 26 - 30 Oct | Q2: =O2+1 -> 7 | R2: 2 - 5 Nov | S2: =Q2+1 -> 8 | T2: 9 - 13 Nov | U2: =S2+1 -> 9 | V2: 16 - 20 Nov | W2: =U2+1 -> 10 | X2: 23 - 28 Nov | Y2: =W2+1 -> 11 | Z2: 30 Nov - 4 Déc | AA2: =Y2+1 -> 12 | AB2: 7 - 12 Déc | AC2: =AA2+1 -> 13 | AD2: 14 - 18 Déc | AE2: =AC2+1 -> 14 | AF2: 23 - 25 Déc | AG2: =AE2+1 -> 15 | AH2: 28 - 31 Déc | AI2: =AG2+1 -> 16 | AJ2: 4 - 8 Jan | AK2: =AI2+1 -> 17 | AL2: 4 - 8 Jan | AM2: =AK2+1 -> 18 | AN2: 4 - 8 Jan | AO2: =AM2+1 -> 19 | AP2: 4 - 8 Jan | AQ2: =AO2+1 -> 20 | AR2: 4 - 8 Jan
A3: Jours | B3: horaire | C3: Sect A | D3: Sect B | E3: Sect A | F3: Sect B | G3: Sect A | H3: Sect B | I3: Sect A | J3: Sect B | K3: Sect A | L3: Sect B | M3: Sect A | N3: Sect B | O3: Sect A | P3: Sect B | Q3: Sect A | R3: Sect B | S3: Sect A | T3: Sect B | U3: Sect A | V3: Sect B | W3: Sect A | X3: Sect B | Y3: Sect A | Z3: Sect B | AA3: Sect A | AB3: Sect B | AC3: Sect A | AD3: Sect B | AE3: Sect A | AF3: Sect B | AG3: Sect A | AH3: Sect B | AI3: Sect A | AJ3: Sect B | AK3: Sect A | AL3: Sect B | AM3: Sect A | AN3: Sect B | AO3: Sect A | AP3: Sect B | AQ3: Sect A | AR3: Sect B
A4: lundi | B4: 8 h 30 - 10 h 15' | E4: Analyse Numérique | F4: Dessin & Technologie | G4: Analyse Numérique | H4: Dessin & Technologie | I4: Analyse Numérique | J4: Dessin & Technologie | K4: Analyse Numérique | L4: Dessin & Technologie | M4: Analyse Numérique | N4: TP/TD | O4: TP/TD | P4: Analyse Numérique | Q4: Analyse Numérique | R4: TP/TD | S4: TP/TD | T4: Analyse Numérique | U4: Analyse Numérique | V4: TP/TD | W4: C.MATH. | X4: C.MATH. | Y4: Automatique | Z4: Dessin & Technologie | AA4: Automatique | AB4: Dessin & Technologie | AC4: Automatique | AD4: Dessin & Technologie | AE4: Automatique | AF4: Dessin & Technologie | AG4: Automatique | AH4: Dessin & Technologie | AI4: Automatique | AJ4: Dessin & Technologie | AK4: Automatique | AL4: Dessin & Technologie | AM4: Automatique | AN4: Dessin & Technologie | AO4: Automatique | AP4: Dessin & Technologie | AQ4: Automatique | AR4: Dessin & Technologie
B5: 10 h 30 - 12 h 15' | E5: Dessin & Technologie | F5: Analyse Numérique | G5: Dessin & Technologie | H5: Analyse Numérique | I5: Dessin & Technologie | J5: Analyse Numérique | K5: Dessin & Technologie | L5: Analyse Numérique | M5: Dessin & Technologie | N5: TP/TD | O5: TP/TD | P5: Dessin & Technologie | Q5: Dessin & Technologie | R5: TP/TD | S5: TP/TD | T5: Dessin & Technologie | U5: Dessin & Technologie | V5: TP/TD | W5: C.MATH. | X5: C.MATH. | Y5: Electronique | Z5: Analyse Numérique | AA5: Electronique | AB5: Analyse Numérique | AC5: Electronique | AD5: Analyse Numérique | AE5: Electronique | AF5: Analyse Numérique | AG5: Electronique | AH5: Analyse Numérique | AI5: Electronique | AJ5: Analyse Numérique | AK5: Electronique | AL5: Analyse Numérique | AM5: Electronique | AN5: Analyse Numérique | AO5: Electronique | AP5: Analyse Numérique | AQ5: Electronique | AR5: Analyse Numérique
B7: 14 h 30' - 16 h 15' | E7: Langues & communication | F7: Langues & communication | G7: Langues & communication | H7: Langues & communication | I7: Langues & communication | J7: Langues & communication | K7: Langues & communication | L7: Langues & communication | M7: Langues & communication | N7: Langues & communication | O7: Langues & communication | P7: Langues & communication | Q7: Langues & communication | R7: Langues & communication | S7: Langues & communication | T7: Langues & communication | U7: Langues & communication | V7: Langues & communication | W7: C.AUTOMATIQUE | X7: C.AUTOMATIQUE | Y7: Langues & communication | Z7: Langues & communication | AA7: Langues & communication | AB7: Langues & communication | AC7: Langues & communication | AD7: Langues & communication | AE7: Langues & communication | AF7: Langues & communication | AG7: Langues & communication | AH7: Langues & communication | AI7: Langues & communication | AJ7: Langues & communication | AK7: Langues & communication | AL7: Langues & communication | AM7: Langues & communication | AN7: Langues & communication | AO7: Langues & communication | AP7: Langues & communication | AQ7: Langues & communication | AR7: Langues & communication
B8: 16 h 30' - 18 h 15' | E8: Langues & communication | F8: Langues & communication | G8: Langues & communication | H8: Langues & communication | I8: Langues & communication | J8: Langues & communication | K8: Langues & communication | L8: Langues & communication | M8: Langues & communication | N8: Langues & communication | O8: Langues & communication | P8: Langues & communication | Q8: Langues & communication | R8: Langues & communication | S8: Langues & communication | T8: Langues & communication | U8: Langues & communication | V8: Langues & communication | W8: C.AUTOMATIQUE | X8: C.AUTOMATIQUE | Y8: Langues & communication | Z8: Langues & communication | AA8: Langues & communication | AB8: Langues & communication | AC8: Langues & communication | AD8: Langues & communication | AE8: Langues & communication | AF8: Langues & communication | AG8: Langues & communication | AH8: Langues & communication | AI8: Langues & communication | AJ8: Langues & communication | AK8: Langues & communication | AL8: Langues & communication | AM8: Langues & communication | AN8: Langues & communication | AO8: Langues & communication | AP8: Langues & communication | AQ8: Langues & communication | AR8: Langues & communication
A10: Mardi | B10: 8 h 30 - 10 h 15' | C10: INSCRIPTIONS | D10: INSCRIPTIONS | E10: Analyse Numérique | F10: Electrotechnique | G10: Automatique | H10: Electrotechnique | I10: Automatique | J10: Electrotechnique | K10: Automatique | L10: Electrotechnique | M10: Automatismes | N10: Electrotechnique | O10: Algorithmique & C | P10: Electrotechnique | Q10: Automatique | R10: Automatismes | S10: Automatique | T10: Electrotechnique | U10: Automatique | V10: Electrotechnique | Y10: Automatique | Z10: Electrotechnique | AA10: Automatique | AB10: Electrotechnique | AC10: Automatique | AD10: Electrotechnique | AE10: Automatique | AF10: Electrotechnique | AG10: Automatique | AH10: Electrotechnique | AI10: Automatique | AJ10: Electrotechnique | AK10: Automatique | AL10: Electrotechnique | AM10: Automatique | AN10: Electrotechnique | AO10: Automatique | AP10: Electrotechnique | AQ10: Automatique | AR10: Electrotechnique
B11: 10 h 30 - 12 h 15' | C11: INSCRIPTIONS | D11: INSCRIPTIONS | E11: Electrotechnique | F11: Analyse Numérique | G11: Electrotechnique | H11: Automatique | I11: Electrotechnique | J11: Automatique | K11: Electrotechnique | L11: Automatique | M11: Electrotechnique | N11: Automatismes | O11: Electrotechnique | P11: Algorithmique & C | Q11: Automatismes | R11: Automatique | S11: Electrotechnique | T11: Automatique | U11: Electrotechnique | V11: Automatique | Y11: Electrotechnique | Z11: Automatique | AA11: Electrotechnique | AB11: Automatique | AC11: Electrotechnique | AD11: Automatique | AE11: Electrotechnique | AF11: Automatique | AG11: Electrotechnique | AH11: Automatique | AI11: Electrotechnique | AJ11: Automatique | AK11: Electrotechnique | AL11: Automatique | AM11: Electrotechnique | AN11: Automatique | AO11: Electrotechnique | AP11: Automatique | AQ11: Electrotechnique | AR11: Automatique
B13: 14 h 30' - 16 h 15' | C13: INSCRIPTIONS | D13: INSCRIPTIONS | E13: Dessin & Technologie | F13: Economie | G13: Dessin & Technologie | H13: Economie | I13: Dessin & Technologie | J13: Economie | K13: Dessin & Technologie | L13: Economie | M13: TP/TD | N13: Economie | O13: Economie | P13: TP/TD | Q13: TP/TD | R13: Economie | S13: Economie | T13: TP/TD | U13: TP/TD | V13: Comptabilité | Y13: Dessin & Technologie | Z13: Ingénierie | AA13: Dessin & Technologie | AB13: Ingénierie | AC13: Dessin & Technologie | AD13: Ingénierie | AE13: Dessin & Technologie | AF13: Ingénierie | AG13: Dessin & Technologie | AH13: Ingénierie | AI13: Dessin & Technologie | AJ13: Ingénierie | AK13: Dessin & Technologie | AL13: Ingénierie | AM13: Dessin & Technologie | AN13: Ingénierie | AO13: Dessin & Technologie | AP13: Ingénierie | AQ13: Dessin & Technologie | AR13: Ingénierie
B14: 16 h 30' - 18 h 15' | C14: INSCRIPTIONS | D14: INSCRIPTIONS | E14: Economie | F14: Dessin & Technologie | G14: Economie | H14: Dessin & Technologie | I14: Economie | J14: Dessin & Technologie | K14: Economie | L14: Dessin & Technologie | M14: TP/TD | N14: Dessin & Technologie | O14: Dessin & Technologie | P14: TP/TD | Q14: TP/TD | R14: Dessin & Technologie | S14: Dessin & Technologie | T14: TP/TD | U14: TP/TD | V14: Dessin & Technologie | Y14: Economie | Z14: Dessin & Technologie | AA14: Economie | AB14: Dessin & Technologie | AC14: Economie | AD14: Dessin & Technologie | AE14: Economie | AF14: Dessin & Technologie | AG14: Economie | AH14: Dessin & Technologie | AI14: Economie | AJ14: Dessin & Technologie | AK14: Economie | AL14: Dessin & Technologie | AM14: Economie | AN14: Dessin & Technologie | AO14: Economie | AP14: Dessin & Technologie | AQ14: Economie | AR14: Dessin & Technologie
A16: Mercredi | B16: 8 h 30 - 10 h 15' | C16: Mathématiques | D16: Algorithmique & C | E16: Analyse Numérique | F16: Algorithmique & C | G16: Mathématiques | H16: Algorithmique & C | I16: Mathématiques | J16: Algorithmique & C | K16: Mathématiques | L16: Automatique | M16: Algorithmique & C | N16: TP/TD | O16: TP/TD | P16: Algorithmique & C | Q16: Algorithmique & C | R16: TP/TD | S16: TP/TD | T16: Mathématiques | W16: C.ALG.& C | X16: C.ALG.& C | Y16: Mathématiques | Z16: Automatique | AA16: Mathématiques | AB16: Automatique | AC16: Mathématiques | AD16: Automatique | AE16: Mathématiques | AF16: Automatique | AG16: Mathématiques | AH16: Automatique | AI16: Mathématiques | AJ16: Automatique | AK16: Mathématiques | AL16: Automatique | AM16: Mathématiques | AN16: Automatique | AO16: Mathématiques | AP16: Automatique | AQ16: Mathématiques | AR16: Automatique
B17: 10 h 30 - 12 h 15' | C17: Algorithmique & C | D17: Mathématiques | E17: Algorithmique & C | F17: Analyse Numérique | G17: Algorithmique & C | H17: Mathématiques | I17: Algorithmique & C | J17: Mathématiques | K17: Automatique | L17: Mathématiques | M17: Mathématiques | N17: TP/TD | O17: TP/TD | P17: Mathématiques | Q17: Mathématiques | R17: TP/TD | S17: TP/TD | T17: Algorithmique & C | W17: C.ALG.& C | X17: C.ALG.& C | Y17: Metrologie | Z17: Mathématiques | AA17: Metrologie | AB17: Mathématiques | AC17: Metrologie | AD17: Mathématiques | AE17: Metrologie | AF17: Mathématiques | AG17: Metrologie | AH17: Mathématiques | AI17: Metrologie | AJ17: Mathématiques | AK17: Metrologie | AL17: Mathématiques | AM17: Metrologie | AN17: Mathématiques | AO17: Metrologie | AP17: Mathématiques | AQ17: Metrologie | AR17: Mathématiques
B19: 14 h 30' - 16 h 15'
B20: 16 h 30' - 18 h 15'
A22: Jeudi | B22: 8 h 30 - 10 h 15' | C22: Mathématiques | D22: Analyse Numérique | E22: Electronique | F22: Automatique | G22: Electronique | H22: Automatismes | I22: Electronique | J22: Automatismes | K22: Electronique | L22: Automatismes | M22: Electronique | N22: Automatismes | O22: Electronique | P22: Automatique | Q22: Examen Ingenerie | R22: Examen Ingenerie | S22: Electronique | T22: Examen Economie | U22: Examen Economie | V22: Examen Economie | W22: C.ELECTROTECH. | X22: C.ELECTROTECH. | Y22: Electronique | Z22: Automatismes | AA22: Electronique | AB22: Automatismes | AC22: Electronique | AD22: Automatismes | AE22: Electronique | AF22: Automatismes | AG22: Electronique | AH22: Automatismes | AI22: Electronique | AJ22: Automatismes | AK22: Electronique | AL22: Automatismes | AM22: Electronique | AN22: Automatismes | AO22: Electronique | AP22: Automatismes | AQ22: Electronique | AR22: Automatismes
B23: 10 h 30 - 12 h 15' | C23: Analyse Numérique | D23: Mathématiques | E23: Automatique | F23: Electronique | G23: Automatismes | H23: Electronique | I23: Automatismes | J23: Electronique | K23: Automatismes | L23: Electronique | M23: Automatismes | N23: Electronique | O23: Automatique | P23: Electronique | Q23: Examen Ingenerie | R23: Examen Ingenerie | S23: Automatismes | T23: Examen Economie | U23: Examen Economie | V23: Examen Economie | W23: C.ELECTROTECH. | X23: C.ELECTROTECH. | Y23: Dessin & Technologie | Z23: Electronique | AA23: Dessin & Technologie | AB23: Electronique | AC23: Dessin & Technologie | AD23: Electronique | AE23: Dessin & Technologie | AF23: Electronique | AG23: Dessin & Technologie | AH23: Electronique | AI23: Dessin & Technologie | AJ23: Electronique | AK23: Dessin & Technologie | AL23: Electronique | AM23: Dessin & Technologie | AN23: Electronique | AO23: Dessin & Technologie | AP23: Electronique | AQ23: Dessin & Technologie | AR23: Electronique
B25: 14 h 30' - 16 h 15' | C25: Economie | D25: Ingénierie | E25: Economie | F25: Ingénierie | G25: Economie | H25: Ingénierie | I25: Economie | J25: Ingénierie | K25: Metrologie | L25: Automatique | M25: TP/TD | N25: Metrologie | O25: Metrologie | P25: TP/TD | Q25: TP/TD | R25: Metrologie | S25: Metrologie | T25: TP/TD | U25: TP/TD | V25: Metrologie | Y25: Metrologie | Z25: Automatique | AA25: Metrologie | AB25: Automatique | AC25: Metrologie | AD25: Automatique | AE25: Metrologie | AF25: Automatique | AG25: Metrologie | AH25: Automatique | AI25: Metrologie | AJ25: Automatique | AK25: Metrologie | AL25: Automatique | AM25: Metrologie | AN25: Automatique | AO25: Metrologie | AP25: Automatique | AQ25: Metrologie | AR25: Automatique
B26: 16 h 30' - 18 h 15' | C26: Ingénierie | D26: Economie | E26: Ingénierie | F26: Economie | G26: Ingénierie | H26: Economie | I26: Ingénierie | J26: Economie | K26: Automatique | L26: Economie | M26: TP/TD | N26: Economie | O26: Economie | P26: TP/TD | Q26: TP/TD | R26: Comptabilité | S26: Economie | T26: TP/TD | U26: TP/TD | V26: Comptabilité | Y26: Automatique | Z26: Economie | AA26: Automatique | AB26: Economie | AC26: Automatique | AD26: Economie | AE26: Automatique | AF26: Economie | AG26: Automatique | AH26: Economie | AI26: Automatique | AJ26: Economie | AK26: Automatique | AL26: Economie | AM26: Automatique | AN26: Economie | AO26: Automatique | AP26: Economie | AQ26: Automatique | AR26: Economie
A28: Vendredi | B28: 8 h 30 - 10 h 15' | C28: Algorithmique & C | D28: Electronique | E28: Algorithmique & C | F28: Electrotechnique | G28: Algorithmique & C | H28: Mathématiques | I28: Algorithmique & C | J28: Mathématiques | K28: Algorithmique & C | L28: Mathématiques | M28: TP/TD | N28: Algorithmique & C | O28: Algorithmique & C | P28: TP/TD | S28: Algorithmique & C | T28: TP/TD | U28: TP/TD | V28: Algorithmique & C | W28: C.ELECTRONIQUE | X28: C.ELECTRONIQUE | Y28: Algorithmique & C | Z28: Mathématiques | AA28: Algorithmique & C | AB28: Mathématiques | AC28: Algorithmique & C | AD28: Mathématiques | AE28: Algorithmique & C | AF28: Mathématiques | AG28: Algorithmique & C | AH28: Mathématiques | AI28: Algorithmique & C | AJ28: Mathématiques | AK28: Algorithmique & C | AL28: Mathématiques | AM28: Algorithmique & C | AN28: Mathématiques | AO28: Algorithmique & C | AP28: Mathématiques | AQ28: Algorithmique & C | AR28: Mathématiques
B29: 10 h 30 - 12 h 15' | C29: Electronique | D29: Algorithmique & C | E29: Electrotechnique | F29: Algorithmique & C | G29: Mathématiques | H29: Algorithmique & C | I29: Mathématiques | J29: Algorithmique & C | K29: Mathématiques | L29: Algorithmique & C | M29: TP/TD | N29: Mathématiques | O29: Mathématiques | P29: TP/TD | S29: Mathématiques | T29: TP/TD | U29: TP/TD | V29: Mathématiques | W29: C.ELECTRONIQUE | X29: C.ELECTRONIQUE | Y29: Mathématiques | Z29: Algorithmique & C | AA29: Mathématiques | AB29: Algorithmique & C | AC29: Mathématiques | AD29: Algorithmique & C | AE29: Mathématiques | AF29: Algorithmique & C | AG29: Mathématiques | AH29: Algorithmique & C | AI29: Mathématiques | AJ29: Algorithmique & C | AK29: Mathématiques | AL29: Algorithmique & C | AM29: Mathématiques | AN29: Algorithmique & C | AO29: Mathématiques | AP29: Algorithmique & C | AQ29: Mathématiques | AR29: Algorithmique & C
B31: 14 h 30' - 16 h 15' | C31: Economie | D31: Ingénierie | E31: Economie | F31: Ingénierie | G31: Analyse Numérique | H31: Ingénierie | I31: Automatismes | J31: Ingénierie | K31: Ingénierie | L31: Ingénierie | M31: Metrologie | N31: TP/TD | O31: TP/TD | P31: Metrologie | S31: TP/TD | T31: Metrologie | U31: Metrologie | V31: TP/TD | Y31: Examen Ingenerie | Z31: Examen Ingenerie | AA31: Examen Ingenerie | AB31: Examen Ingenerie | AC31: Examen Ingenerie | AD31: Examen Ingenerie | AE31: Examen Ingenerie | AF31: Examen Ingenerie | AG31: Examen Ingenerie | AH31: Examen Ingenerie | AI31: Examen Ingenerie | AJ31: Examen Ingenerie | AK31: Examen Ingenerie | AL31: Examen Ingenerie | AM31: Examen Ingenerie | AN31: Examen Ingenerie | AO31: Examen Ingenerie | AP31: Examen Ingenerie | AQ31: Examen Ingenerie | AR31: Examen Ingenerie
B32: 16 h 30' - 18 h 15' | C32: Ingénierie | D32: Economie | E32: Ingénierie | F32: Economie | G32: Ingénierie | H32: Analyse Numérique | I32: Ingénierie | J32: Automatismes | K32: Ingénierie | L32: Ingénierie | M32: Economie | N32: TP/TD | O32: TP/TD | P32: Economie | S32: TP/TD | T32: Comptabilité | U32: Comptabilité | V32: TP/TD | Y32: Examen Ingenerie | Z32: Examen Ingenerie | AA32: Examen Ingenerie | AB32: Examen Ingenerie | AC32: Examen Ingenerie | AD32: Examen Ingenerie | AE32: Examen Ingenerie | AF32: Examen Ingenerie | AG32: Examen Ingenerie | AH32: Examen Ingenerie | AI32: Examen Ingenerie | AJ32: Examen Ingenerie | AK32: Examen Ingenerie | AL32: Examen Ingenerie | AM32: Examen Ingenerie | AN32: Examen Ingenerie | AO32: Examen Ingenerie | AP32: Examen Ingenerie | AQ32: Examen Ingenerie | AR32: Examen Ingenerie
A34: Samedi | B34: 8 h 30 - 10 h 15' | W34: C.AN.NUMERIQUE | X34: C.AN.NUMERIQUE
B35: 10 h 30 - 12 h 15' | W35: C.AN.NUMERIQUE | X35: C.AN.NUMERIQUE
B37: 14 h 30' - 16 h 15'
B38: 16 h 30' - 18 h 15'

Sheet 1A_2015_1SEM
K1: =CONCATENATE(MID(CELL("filename",'Emploi-1A-2015-1SEM'!A1),SEARCH("]",CELL("filename",'Emploi-1A-2015-1SEM'!A1),1)+1,200)) -> Emploi-1A-2015-1SEM
B3: =CONCATENATE("HORAIRE HEBDOMADAIRE ",'Emploi-1A-2015-1SEM'!F1) -> HORAIRE HEBDOMADAIRE 1ERE ANNEE
C4: Semaine : | D4: 5 | E4: =VLOOKUP(N_SEM,GRILLE!D3:E23,2,FALSE) -> 19- 23 Oct
B6: Jours/séances | C6: Sections | D6: =CONCATENATE("Séance 1 ",'Emploi-1A-2015-1SEM'!$B4) -> Séance 1 8 h 30 - 10 h 15' | E6: =CONCATENATE("Séance 2 ",'Emploi-1A-2015-1SEM'!$B5) -> Séance 2 10 h 30 - 12 h 15' | G6: =CONCATENATE("Séance 3 ",'Emploi-1A-2015-1SEM'!$B7) -> Séance 3 14 h 30' - 16 h 15' | H6: =CONCATENATE("Séance 4 ",'Emploi-1A-2015-1SEM'!$B8) -> Séance 4 16 h 30' - 18 h 15'
A7: 0 | B7: Lundi | C7: SecA | D7: =INDIRECT(ADDRESS(COLUMN()+($A7*6),3+IF($C7="SecA",0,1)+(2*N_SEM),2,1,O_SYNTHESE)) -> Analyse Numérique | E7: =INDIRECT(ADDRESS(COLUMN()+($A7*6),3+IF($C7="SecA",0,1)+(2*N_SEM),2,1,O_SYNTHESE)) -> Dessin & Technologie | G7: =INDIRECT(ADDRESS(COLUMN()+($A7*6),3+IF($C7="SecA",0,1)+(2*N_SEM),2,1,O_SYNTHESE)) -> Langues & communication | H7: =INDIRECT(ADDRESS(COLUMN()+($A7*6),3+IF($C7="SecA",0,1)+(2*N_SEM),2,1,O_SYNTHESE)) -> Langues & communication
D8: =IF(D7=0,"",VLOOKUP(D7,GRILLE!$A$3:$B$72,2,FALSE)) -> M. ZAOUI | E8: =IF(E7=0,"",VLOOKUP(E7,GRILLE!$A$3:$B$72,2,FALSE)) -> M. LASRI | G8: =IF(G7=0,"",VLOOKUP(G7,GRILLE!$A$3:$B$72,2,FALSE)) -> Voir emploi ctre des langues | H8: =IF(H7=0,"",VLOOKUP(H7,GRILLE!$A$3:$B$72,2,FALSE)) -> Voir emploi ctre des langues
A9: =A7 -> 0 | C9: SecB | D9: =INDIRECT(ADDRESS(COLUMN()+($A9*6),3+IF($C9="SecA",0,1)+(2*N_SEM),2,1,O_SYNTHESE)) -> TP/TD | E9: =INDIRECT(ADDRESS(COLUMN()+($A9*6),3+IF($C9="SecA",0,1)+(2*N_SEM),2,1,O_SYNTHESE)) -> TP/TD | G9: =INDIRECT(ADDRESS(COLUMN()+($A9*6),3+IF($C9="SecA",0,1)+(2*N_SEM),2,1,O_SYNTHESE)) -> Langues & communication | H9: =INDIRECT(ADDRESS(COLUMN()+($A9*6),3+IF($C9="SecA",0,1)+(2*N_SEM),2,1,O_SYNTHESE)) -> Langues & communication
D10: =IF(D9=0,"",VLOOKUP(D9,GRILLE!$A$3:$B$72,2,FALSE)) | E10: =IF(E9=0,"",VLOOKUP(E9,GRILLE!$A$3:$B$72,2,FALSE)) | G10: =IF(G9=0,"",VLOOKUP(G9,GRILLE!$A$3:$B$72,2,FALSE)) -> Voir emploi ctre des langues | H10: =IF(H9=0,"",VLOOKUP(H9,GRILLE!$A$3:$B$72,2,FALSE)) -> Voir emploi ctre des langues
A11: 1 | B11: Mardi | C11: SecA | D11: =INDIRECT(ADDRESS(COLUMN()+($A11*6),3+IF($C11="SecA",0,1)+(2*N_SEM),2,1,O_SYNTHESE)) -> Automatismes | E11: =INDIRECT(ADDRESS(COLUMN()+($A11*6),3+IF($C11="SecA",0,1)+(2*N_SEM),2,1,O_SYNTHESE)) -> Electrotechnique | G11: =INDIRECT(ADDRESS(COLUMN()+($A11*6),3+IF($C11="SecA",0,1)+(2*N_SEM),2,1,O_SYNTHESE)) -> TP/TD | H11: =INDIRECT(ADDRESS(COLUMN()+($A11*6),3+IF($C11="SecA",0,1)+(2*N_SEM),2,1,O_SYNTHESE)) -> TP/TD
D12: =IF(D11=0,"",VLOOKUP(D11,GRILLE!$A$3:$B$72,2,FALSE)) -> M. TAHIRI | E12: =IF(E11=0,"",VLOOKUP(E11,GRILLE!$A$3:$B$72,2,FALSE)) -> M. NGOTE | G12: =IF(G11=0,"",VLOOKUP(G11,GRILLE!$A$3:$B$72,2,FALSE)) | H12: =IF(H11=0,"",VLOOKUP(H11,GRILLE!$A$3:$B$72,2,FALSE))
A13: =A11 -> 1 | C13: SecB | D13: =INDIRECT(ADDRESS(COLUMN()+($A13*6),3+IF($C13="SecA",0,1)+(2*N_SEM),2,1,O_SYNTHESE)) -> Electrotechnique | E13: =INDIRECT(ADDRESS(COLUMN()+($A13*6),3+IF($C13="SecA",0,1)+(2*N_SEM),2,1,O_SYNTHESE)) -> Automatismes | G13: =INDIRECT(ADDRESS(COLUMN()+($A13*6),3+IF($C13="SecA",0,1)+(2*N_SEM),2,1,O_SYNTHESE)) -> Economie | H13: =INDIRECT(ADDRESS(COLUMN()+($A13*6),3+IF($C13="SecA",0,1)+(2*N_SEM),2,1,O_SYNTHESE)) -> Dessin & Technologie
D14: =IF(D13=0,"",VLOOKUP(D13,GRILLE!$A$3:$B$72,2,FALSE)) -> M. NGOTE | E14: =IF(E13=0,"",VLOOKUP(E13,GRILLE!$A$3:$B$72,2,FALSE)) -> M. TAHIRI | G14: =IF(G13=0,"",VLOOKUP(G13,GRILLE!$A$3:$B$72,2,FALSE)) -> M. EL OUADI | H14: =IF(H13=0,"",VLOOKUP(H13,GRILLE!$A$3:$B$72,2,FALSE)) -> M. LASRI
A15: 2 | C15: SecA | D15: =INDIRECT(ADDRESS(COLUMN()+($A15*6),3+IF($C15="SecA",0,1)+(2*N_SEM),2,1,O_SYNTHESE)) -> Algorithmique & C | E15: =INDIRECT(ADDRESS(COLUMN()+($A15*6),3+IF($C15="SecA",0,1)+(2*N_SEM),2,1,O_SYNTHESE)) -> Mathématiques | G15: =INDIRECT(ADDRESS(COLUMN()+($A15*6),3+IF($C15="SecA",0,1)+(2*N_SEM),2,1,O_SYNTHESE)) -> 0 | H15: =INDIRECT(ADDRESS(COLUMN()+($A15*6),3+IF($C15="SecA",0,1)+(2*N_SEM),2,1,O_SYNTHESE)) -> 0
B16: Mercredi | D16: =IF(D15=0,"",VLOOKUP(D15,GRILLE!$A$3:$B$72,2,FALSE)) -> M. EL GAMAH | E16: =IF(E15=0,"",VLOOKUP(E15,GRILLE!$A$3:$B$72,2,FALSE)) -> M. NAJIB | G16: =IF(G15=0,"",VLOOKUP(G15,GRILLE!$A$3:$B$72,2,FALSE)) | H16: =IF(H15=0,"",VLOOKUP(H15,GRILLE!$A$3:$B$72,2,FALSE))
A17: =A15 -> 2 | C17: SecB | D17: =INDIRECT(ADDRESS(COLUMN()+($A17*6),3+IF($C17="SecA",0,1)+(2*N_SEM),2,1,O_SYNTHESE)) -> TP/TD | E17: =INDIRECT(ADDRESS(COLUMN()+($A17*6),3+IF($C17="SecA",0,1)+(2*N_SEM),2,1,O_SYNTHESE)) -> TP/TD | G17: =INDIRECT(ADDRESS(COLUMN()+($A17*6),3+IF($C17="SecA",0,1)+(2*N_SEM),2,1,O_SYNTHESE)) -> 0 | H17: =INDIRECT(ADDRESS(COLUMN()+($A17*6),3+IF($C17="SecA",0,1)+(2*N_SEM),2,1,O_SYNTHESE)) -> 0
D18: =IF(D17=0,"",VLOOKUP(D17,GRILLE!$A$3:$B$72,2,FALSE)) | E18: =IF(E17=0,"",VLOOKUP(E17,GRILLE!$A$3:$B$72,2,FALSE)) | G18: =IF(G17=0,"",VLOOKUP(G17,GRILLE!$A$3:$B$72,2,FALSE)) | H18: =IF(H17=0,"",VLOOKUP(H17,GRILLE!$A$3:$B$72,2,FALSE))
A19: 3 | D19: =INDIRECT(ADDRESS(COLUMN()+($A19*6),3+IF($C19="SecA",0,1)+(2*N_SEM),2,1,O_SYNTHESE)) -> Automatismes | E19: =INDIRECT(ADDRESS(COLUMN()+($A19*6),3+IF($C19="SecA",0,1)+(2*N_SEM),2,1,O_SYNTHESE)) -> Electronique | G19: =INDIRECT(ADDRESS(COLUMN()+($A19*6),3+IF($C19="SecA",0,1)+(2*N_SEM),2,1,O_SYNTHESE)) -> Metrologie | H19: =INDIRECT(ADDRESS(COLUMN()+($A19*6),3+IF($C19="SecA",0,1)+(2*N_SEM),2,1,O_SYNTHESE)) -> Economie
C20: SecA | D20: =IF(D19=0,"",VLOOKUP(D19,GRILLE!$A$3:$B$72,2,FALSE)) -> M. TAHIRI | E20: =IF(E19=0,"",VLOOKUP(E19,GRILLE!$A$3:$B$72,2,FALSE)) -> M. NGOTE | G20: =IF(G19=0,"",VLOOKUP(G19,GRILLE!$A$3:$B$72,2,FALSE)) -> M. MOUBAKER | H20: =IF(H19=0,"",VLOOKUP(H19,GRILLE!$A$3:$B$72,2,FALSE)) -> M. EL OUADI
A21: =A19 -> 3 | B21: Jeudi | C21: SecB | D21: =INDIRECT(ADDRESS(COLUMN()+($A21*6),3+IF($C21="SecA",0,1)+(2*N_SEM),2,1,O_SYNTHESE)) -> Automatismes | E21: =INDIRECT(ADDRESS(COLUMN()+($A21*6),3+IF($C21="SecA",0,1)+(2*N_SEM),2,1,O_SYNTHESE)) -> Electronique | G21: =INDIRECT(ADDRESS(COLUMN()+($A21*6),3+IF($C21="SecA",0,1)+(2*N_SEM),2,1,O_SYNTHESE)) -> Metrologie | H21: =INDIRECT(ADDRESS(COLUMN()+($A21*6),3+IF($C21="SecA",0,1)+(2*N_SEM),2,1,O_SYNTHESE)) -> Economie
D22: =IF(D21=0,"",VLOOKUP(D21,GRILLE!$A$3:$B$72,2,FALSE)) -> M. TAHIRI | E22: =IF(E21=0,"",VLOOKUP(E21,GRILLE!$A$3:$B$72,2,FALSE)) -> M. NGOTE | G22: =IF(G21=0,"",VLOOKUP(G21,GRILLE!$A$3:$B$72,2,FALSE)) -> M. MOUBAKER | H22: =IF(H21=0,"",VLOOKUP(H21,GRILLE!$A$3:$B$72,2,FALSE)) -> M. EL OUADI
A23: 4 | C23: SecA | D23: =INDIRECT(ADDRESS(COLUMN()+($A23*6),3+IF($C23="SecA",0,1)+(2*N_SEM),2,1,O_SYNTHESE)) -> TP/TD | E23: =INDIRECT(ADDRESS(COLUMN()+($A23*6),3+IF($C23="SecA",0,1)+(2*N_SEM),2,1,O_SYNTHESE)) -> TP/TD | G23: =INDIRECT(ADDRESS(COLUMN()+($A23*6),3+IF($C23="SecA",0,1)+(2*N_SEM),2,1,O_SYNTHESE)) -> Metrologie | H23: =INDIRECT(ADDRESS(COLUMN()+($A23*6),3+IF($C23="SecA",0,1)+(2*N_SEM),2,1,O_SYNTHESE)) -> Economie
B24: Vendredi | D24: =IF(D23=0,"",VLOOKUP(D23,GRILLE!$A$3:$B$72,2,FALSE)) | E24: =IF(E23=0,"",VLOOKUP(E23,GRILLE!$A$3:$B$72,2,FALSE)) | G24: =IF(G23=0,"",VLOOKUP(G23,GRILLE!$A$3:$B$72,2,FALSE)) -> M. MOUBAKER | H24: =IF(H23=0,"",VLOOKUP(H23,GRILLE!$A$3:$B$72,2,FALSE)) -> M. EL OUADI
A25: =A23 -> 4 | C25: SecB | D25: =INDIRECT(ADDRESS(COLUMN()+($A25*6),3+IF($C25="SecA",0,1)+(2*N_SEM),2,1,O_SYNTHESE)) -> Algorithmique & C | E25: =INDIRECT(ADDRESS(COLUMN()+($A25*6),3+IF($C25="SecA",0,1)+(2*N_SEM),2,1,O_SYNTHESE)) -> Mathématiques | G25: =INDIRECT(ADDRESS(COLUMN()+($A25*6),3+IF($C25="SecA",0,1)+(2*N_SEM),2,1,O_SYNTHESE)) -> TP/TD | H25: =INDIRECT(ADDRESS(COLUMN()+($A25*6),3+IF($C25="SecA",0,1)+(2*N_SEM),2,1,O_SYNTHESE)) -> TP/TD
D26: =IF(D25=0,"",VLOOKUP(D25,GRILLE!$A$3:$B$72,2,FALSE)) -> M. EL GAMAH | E26: =IF(E25=0,"",VLOOKUP(E25,GRILLE!$A$3:$B$72,2,FALSE)) -> M. NAJIB | G26: =IF(G25=0,"",VLOOKUP(G25,GRILLE!$A$3:$B$72,2,FALSE)) | H26: =IF(H25=0,"",VLOOKUP(H25,GRILLE!$A$3:$B$72,2,FALSE))
A27: 5 | B27: Samedi | C27: SecA | D27: =INDIRECT(ADDRESS(COLUMN()+($A27*6),3+IF($C27="SecA",0,1)+(2*N_SEM),2,1,O_SYNTHESE)) -> 0 | E27: =INDIRECT(ADDRESS(COLUMN()+($A27*6),3+IF($C27="SecA",0,1)+(2*N_SEM),2,1,O_SYNTHESE)) -> 0 | G27: =INDIRECT(ADDRESS(COLUMN()+($A27*6),3+IF($C27="SecA",0,1)+(2*N_SEM),2,1,O_SYNTHESE)) -> 0 | H27: =INDIRECT(ADDRESS(COLUMN()+($A27*6),3+IF($C27="SecA",0,1)+(2*N_SEM),2,1,O_SYNTHESE)) -> 0
D28: =IF(D27=0,"",VLOOKUP(D27,GRILLE!$A$3:$B$72,2,FALSE)) | E28: =IF(E27=0,"",VLOOKUP(E27,GRILLE!$A$3:$B$72,2,FALSE)) | G28: =IF(G27=0,"",VLOOKUP(G27,GRILLE!$A$3:$B$72,2,FALSE)) | H28: =IF(H27=0,"",VLOOKUP(H27,GRILLE!$A$3:$B$72,2,FALSE))
A29: =A27 -> 5 | C29: SecB | D29: =INDIRECT(ADDRESS(COLUMN()+($A29*6),3+IF($C29="SecA",0,1)+(2*N_SEM),2,1,O_SYNTHESE)) -> 0 | E29: =INDIRECT(ADDRESS(COLUMN()+($A29*6),3+IF($C29="SecA",0,1)+(2*N_SEM),2,1,O_SYNTHESE)) -> 0 | G29: =INDIRECT(ADDRESS(COLUMN()+($A29*6),3+IF($C29="SecA",0,1)+(2*N_SEM),2,1,O_SYNTHESE)) -> 0 | H29: =INDIRECT(ADDRESS(COLUMN()+($A29*6),3+IF($C29="SecA",0,1)+(2*N_SEM),2,1,O_SYNTHESE)) -> 0
D30: =IF(D29=0,"",VLOOKUP(D29,GRILLE!$A$3:$B$72,2,FALSE)) | E30: =IF(E29=0,"",VLOOKUP(E29,GRILLE!$A$3:$B$72,2,FALSE)) | G30: =IF(G29=0,"",VLOOKUP(G29,GRILLE!$A$3:$B$72,2,FALSE)) | H30: =IF(H29=0,"",VLOOKUP(H29,GRILLE!$A$3:$B$72,2,FALSE))
B31: AMPHI : | D31: Sec A | E31: Amphi 1A | G31: Sec B | H31: Amphi 2A

Sheet GRILLE
A1: GRILLE MATIERES / ENSEIGNANTS
A2: Matières | B2: Enseignants | D2: N.SEMAINE | E2: DATE
A3: Algorithmique & C | B3: M. EL GAMAH | D3: ='Emploi-1A-2015-1SEM'!C2 -> 0 | E3: ='Emploi-1A-2015-1SEM'!D2 -> 9-11 Sep
A4: Analyse Numérique | B4: M. ZAOUI | D4: ='Emploi-1A-2015-1SEM'!E2 -> 1 | E4: ='Emploi-1A-2015-1SEM'!F2 -> 14-18 Sep
A5: Automatique | B5: M. OUADGHIRI | D5: ='Emploi-1A-2015-1SEM'!G2 -> 2 | E5: ='Emploi-1A-2015-1SEM'!H2 -> 28 Sep -2 Oct
D6: ='Emploi-1A-2015-1SEM'!I2 -> 3 | E6: ='Emploi-1A-2015-1SEM'!J2 -> 5 - 13 Oct
A7: Automatismes | B7: M. TAHIRI | D7: ='Emploi-1A-2015-1SEM'!K2 -> 4 | E7: ='Emploi-1A-2015-1SEM'!L2 -> 12 - 16 Oct
A8: Comptabilité | B8: M. EL OUADIH | D8: ='Emploi-1A-2015-1SEM'!M2 -> 5 | E8: ='Emploi-1A-2015-1SEM'!N2 -> 19- 23 Oct
A9: Dessin & Technologie | B9: M. LASRI | D9: ='Emploi-1A-2015-1SEM'!O2 -> 6 | E9: ='Emploi-1A-2015-1SEM'!P2 -> 26 - 30 Oct
A10: Economie | B10: M. EL OUADI | D10: ='Emploi-1A-2015-1SEM'!Q2 -> 7 | E10: ='Emploi-1A-2015-1SEM'!R2 -> 2 - 5 Nov
A11: Electronique | B11: M. NGOTE | D11: ='Emploi-1A-2015-1SEM'!S2 -> 8 | E11: ='Emploi-1A-2015-1SEM'!T2 -> 9 - 13 Nov
D12: ='Emploi-1A-2015-1SEM'!U2 -> 9 | E12: ='Emploi-1A-2015-1SEM'!V2 -> 16 - 20 Nov
A13: Electrotechnique | B13: M. NGOTE | D13: ='Emploi-1A-2015-1SEM'!W2 -> 10 | E13: ='Emploi-1A-2015-1SEM'!X2 -> 23 - 28 Nov
A14: Ingénierie | B14: M. HAMIDI | D14: ='Emploi-1A-2015-1SEM'!Y2 -> 11 | E14: ='Emploi-1A-2015-1SEM'!Z2 -> 30 Nov - 4 Déc
D15: ='Emploi-1A-2015-1SEM'!AA2 -> 12 | E15: ='Emploi-1A-2015-1SEM'!AB2 -> 7 - 12 Déc
A16: Mathématiques | B16: M. NAJIB | D16: ='Emploi-1A-2015-1SEM'!AC2 -> 13 | E16: ='Emploi-1A-2015-1SEM'!AD2 -> 14 - 18 Déc
A17: Metrologie | B17: M. MOUBAKER | D17: ='Emploi-1A-2015-1SEM'!AE2 -> 14 | E17: ='Emploi-1A-2015-1SEM'!AF2 -> 23 - 25 Déc
A18: Programmation Evènementielle | B18: M. BENMILOUD | D18: ='Emploi-1A-2015-1SEM'!AG2 -> 15 | E18: ='Emploi-1A-2015-1SEM'!AH2 -> 28 - 31 Déc
D19: ='Emploi-1A-2015-1SEM'!AI2 -> 16 | E19: ='Emploi-1A-2015-1SEM'!AJ2 -> 4 - 8 Jan
D20: ='Emploi-1A-2015-1SEM'!AK2 -> 17 | E20: ='Emploi-1A-2015-1SEM'!AL2 -> 4 - 8 Jan
D21: ='Emploi-1A-2015-1SEM'!AM2 -> 18 | E21: ='Emploi-1A-2015-1SEM'!AN2 -> 4 - 8 Jan
D22: ='Emploi-1A-2015-1SEM'!AO2 -> 19 | E22: ='Emploi-1A-2015-1SEM'!AP2 -> 4 - 8 Jan
D23: ='Emploi-1A-2015-1SEM'!AQ2 -> 20 | E23: ='Emploi-1A-2015-1SEM'!AR2 -> 4 - 8 Jan
A29: Langues & communication | B29: Voir emploi ctre des langues
A31: TP/TD
A32: TD Electrotechnique 1 | B32: M. MAJIDI
A33: TD Electrotechnique 2 | B33: M. AMARTINI
A34: TD Electronique 1 | B34: M. MAJIDI
A35: TD Electronique 2 | B35: M. SAHBANI
A36: TD AUTOMATIQUE | B36: M. KCHIKCH
A37: TD AUTOMATISMES | B37: M. LICER
A38: TD ANALYSE NUMERIQUE | B38: M. ZAOUI
A39: TD MATHEMATIQUES | B39: M. MEDRARI
A40: TD DESSIN 1 | B40: M. ZAKI
A41: TD DESSIN 2 | B41: M. VACATAIRE
A42: TD/TP INFORMATIQUE 1 | B42: M. ZAYDI
A43: TD/TP INFORMATIQUE 2 | B43: M. EL BARAKA
... A50: TP AUTOMATISMES 2 | B50: M;VACATAIRE
A54: C.MATH.
A55: C.AUTOMATIQUE
A56: C.ALG.& C
A57: C.ELECTROTECH.
A58: C.ELECTRONIQUE
A59: C.AN.NUMERIQUE
A63: Examen Ingenerie
A64: Examen Economie
A69: INSCRIPTIONS

Sheet OCCUPATION
I3: O C C U P A T I O N C O R P S E N S E I G N A N T
I5: ='Emploi-1A-2015-1SEM'!E1 -> EMPLOI | K5: ='Emploi-1A-2015-1SEM'!F1 -> 1ERE ANNEE | N5: ='Emploi-1A-2015-1SEM'!G1 -> 2015-2016 | Q5: ='Emploi-1A-2015-1SEM'!S1 -> 1 SEM.
C7: S E M A I N E S
A8: MATIERES | B8: ENSEIGNANTS | C8: 0 | D8: 1 | E8: 2 | F8: 3 | G8: 4 | H8: 5 | I8: 6 | J8: 7 | K8: 8 | L8: 9 | M8: 10 | N8: 11 | O8: 12 | P8: 13 | Q8: 14 | R8: 15 | S8: 16 | T8: 17 | U8: 18 | V8: 19 | W8: 20 | X8: TOT.SEM.
A9: =GRILLE!A3 -> Algorithmique & C | B9: =GRILLE!B3 -> M. EL GAMAH | C9: =COUNTIF(INDIRECT(ADDRESS(4,3+(C$8*2),1,2,O_SYNTHESE)):INDIRECT(ADDRESS(38,4+(C$8*2),1,2,O_SYNTHESE)),$A9)*2 -> 8 | D9: =COUNTIF(INDIRECT(ADDRESS(4,3+(D$8*2),1,2,O_SYNTHESE)):INDIRECT(ADDRESS(38,4+(D$8*2),1,2,O_SYNTHESE)),$A9)*2 -> 8 | E9: =COUNTIF(INDIRECT(ADDRESS(4,3+(E$8*2),1,2,O_SYNTHESE)):INDIRECT(ADDRESS(38,4+(E$8*2),1,2,O_SYNTHESE)),$A9)*2 -> 8 | F9: =COUNTIF(INDIRECT(ADDRESS(4,3+(F$8*2),1,2,O_SYNTHESE)):INDIRECT(ADDRESS(38,4+(F$8*2),1,2,O_SYNTHESE)),$A9)*2 -> 8 | G9: =COUNTIF(INDIRECT(ADDRESS(4,3+(G$8*2),1,2,O_SYNTHESE)):INDIRECT(ADDRESS(38,4+(G$8*2),1,2,O_SYNTHESE)),$A9)*2 -> 4 | H9: =COUNTIF(INDIRECT(ADDRESS(4,3+(H$8*2),1,2,O_SYNTHESE)):INDIRECT(ADDRESS(38,4+(H$8*2),1,2,O_SYNTHESE)),$A9)*2 -> 4 | I9: =COUNTIF(INDIRECT(ADDRESS(4,3+(I$8*2),1,2,O_SYNTHESE)):INDIRECT(ADDRESS(38,4+(I$8*2),1,2,O_SYNTHESE)),$A9)*2 -> 8 | J9: =COUNTIF(INDIRECT(ADDRESS(4,3+(J$8*2),1,2,O_SYNTHESE)):INDIRECT(ADDRESS(38,4+(J$8*2),1,2,O_SYNTHESE)),$A9)*2 -> 2 | ... W9: =COUNTIF(INDIRECT(ADDRESS(4,3+(W$8*2),1,2,O_SYNTHESE)):INDIRECT(ADDRESS(38,4+(W$8*2),1,2,O_SYNTHESE)),$A9)*2 -> 4 | X9: =SUM(C9:W9) -> 94
A10: =GRILLE!A4 -> Analyse Numérique | B10: =GRILLE!B4 -> M. ZAOUI | C10: =COUNTIF(INDIRECT(ADDRESS(4,3+(C$8*2),1,2,O_SYNTHESE)):INDIRECT(ADDRESS(38,4+(C$8*2),1,2,O_SYNTHESE)),$A10)*2 -> 4 | D10: =COUNTIF(INDIRECT(ADDRESS(4,3+(D$8*2),1,2,O_SYNTHESE)):INDIRECT(ADDRESS(38,4+(D$8*2),1,2,O_SYNTHESE)),$A10)*2 -> 12 | E10: =COUNTIF(INDIRECT(ADDRESS(4,3+(E$8*2),1,2,O_SYNTHESE)):INDIRECT(ADDRESS(38,4+(E$8*2),1,2,O_SYNTHESE)),$A10)*2 -> 8 | F10: =COUNTIF(INDIRECT(ADDRESS(4,3+(F$8*2),1,2,O_SYNTHESE)):INDIRECT(ADDRESS(38,4+(F$8*2),1,2,O_SYNTHESE)),$A10)*2 -> 4 | G10: =COUNTIF(INDIRECT(ADDRESS(4,3+(G$8*2),1,2,O_SYNTHESE)):INDIRECT(ADDRESS(38,4+(G$8*2),1,2,O_SYNTHESE)),$A10)*2 -> 4 | H10: =COUNTIF(INDIRECT(ADDRESS(4,3+(H$8*2),1,2,O_SYNTHESE)):INDIRECT(ADDRESS(38,4+(H$8*2),1,2,O_SYNTHESE)),$A10)*2 -> 2 | I10: =COUNTIF(INDIRECT(ADDRESS(4,3+(I$8*2),1,2,O_SYNTHESE)):INDIRECT(ADDRESS(38,4+(I$8*2),1,2,O_SYNTHESE)),$A10)*2 -> 2 | J10: =COUNTIF(INDIRECT(ADDRESS(4,3+(J$8*2),1,2,O_SYNTHESE)):INDIRECT(ADDRESS(38,4+(J$8*2),1,2,O_SYNTHESE)),$A10)*2 -> 2 | ... W10: =COUNTIF(INDIRECT(ADDRESS(4,3+(W$8*2),1,2,O_SYNTHESE)):INDIRECT(ADDRESS(38,4+(W$8*2),1,2,O_SYNTHESE)),$A10)*2 -> 2 | X10: =SUM(C10:W10) -> 62
A11: =GRILLE!A5 -> Automatique | B11: =GRILLE!B5 -> M. OUADGHIRI | C11: =COUNTIF(INDIRECT(ADDRESS(4,3+(C$8*2),1,2,O_SYNTHESE)):INDIRECT(ADDRESS(38,4+(C$8*2),1,2,O_SYNTHESE)),$A11)*2 -> 0 | D11: =COUNTIF(INDIRECT(ADDRESS(4,3+(D$8*2),1,2,O_SYNTHESE)):INDIRECT(ADDRESS(38,4+(D$8*2),1,2,O_SYNTHESE)),$A11)*2 -> 4 | E11: =COUNTIF(INDIRECT(ADDRESS(4,3+(E$8*2),1,2,O_SYNTHESE)):INDIRECT(ADDRESS(38,4+(E$8*2),1,2,O_SYNTHESE)),$A11)*2 -> 4 | F11: =COUNTIF(INDIRECT(ADDRESS(4,3+(F$8*2),1,2,O_SYNTHESE)):INDIRECT(ADDRESS(38,4+(F$8*2),1,2,O_SYNTHESE)),$A11)*2 -> 4 | G11: =COUNTIF(INDIRECT(ADDRESS(4,3+(G$8*2),1,2,O_SYNTHESE)):INDIRECT(ADDRESS(38,4+(G$8*2),1,2,O_SYNTHESE)),$A11)*2 -> 12 | H11: =COUNTIF(INDIRECT(ADDRESS(4,3+(H$8*2),1,2,O_SYNTHESE)):INDIRECT(ADDRESS(38,4+(H$8*2),1,2,O_SYNTHESE)),$A11)*2 -> 0 | I11: =COUNTIF(INDIRECT(ADDRESS(4,3+(I$8*2),1,2,O_SYNTHESE)):INDIRECT(ADDRESS(38,4+(I$8*2),1,2,O_SYNTHESE)),$A11)*2 -> 4 | J11: =COUNTIF(INDIRECT(ADDRESS(4,3+(J$8*2),1,2,O_SYNTHESE)):INDIRECT(ADDRESS(38,4+(J$8*2),1,2,O_SYNTHESE)),$A11)*2 -> 4 | ... W11: =COUNTIF(INDIRECT(ADDRESS(4,3+(W$8*2),1,2,O_SYNTHESE)):INDIRECT(ADDRESS(38,4+(W$8*2),1,2,O_SYNTHESE)),$A11)*2 -> 12 | X11: =SUM(C11:W11) -> 160
A12: =GRILLE!A6 -> 0 | B12: =GRILLE!B6 -> 0 | C12: =COUNTIF(INDIRECT(ADDRESS(4,3+(C$8*2),1,2,O_SYNTHESE)):INDIRECT(ADDRESS(38,4+(C$8*2),1,2,O_SYNTHESE)),$A12)*2 -> 0 | D12: =COUNTIF(INDIRECT(ADDRESS(4,3+(D$8*2),1,2,O_SYNTHESE)):INDIRECT(ADDRESS(38,4+(D$8*2),1,2,O_SYNTHESE)),$A12)*2 -> 0 | E12: =COUNTIF(INDIRECT(ADDRESS(4,3+(E$8*2),1,2,O_SYNTHESE)):INDIRECT(ADDRESS(38,4+(E$8*2),1,2,O_SYNTHESE)),$A12)*2 -> 0 | F12: =COUNTIF(INDIRECT(ADDRESS(4,3+(F$8*2),1,2,O_SYNTHESE)):INDIRECT(ADDRESS(38,4+(F$8*2),1,2,O_SYNTHESE)),$A12)*2 -> 0 | G12: =COUNTIF(INDIRECT(ADDRESS(4,3+(G$8*2),1,2,O_SYNTHESE)):INDIRECT(ADDRESS(38,4+(G$8*2),1,2,O_SYNTHESE)),$A12)*2 -> 0 | H12: =COUNTIF(INDIRECT(ADDRESS(4,3+(H$8*2),1,2,O_SYNTHESE)):INDIRECT(ADDRESS(38,4+(H$8*2),1,2,O_SYNTHESE)),$A12)*2 -> 0 | I12: =COUNTIF(INDIRECT(ADDRESS(4,3+(I$8*2),1,2,O_SYNTHESE)):INDIRECT(ADDRESS(38,4+(I$8*2),1,2,O_SYNTHESE)),$A12)*2 -> 0 | J12: =COUNTIF(INDIRECT(ADDRESS(4,3+(J$8*2),1,2,O_SYNTHESE)):INDIRECT(ADDRESS(38,4+(J$8*2),1,2,O_SYNTHESE)),$A12)*2 -> 0 | ... W12: =COUNTIF(INDIRECT(ADDRESS(4,3+(W$8*2),1,2,O_SYNTHESE)):INDIRECT(ADDRESS(38,4+(W$8*2),1,2,O_SYNTHESE)),$A12)*2 -> 0 | X12: =SUM(C12:W12) -> 0
A13: =GRILLE!A7 -> Automatismes | B13: =GRILLE!B7 -> M. TAHIRI | C13: =COUNTIF(INDIRECT(ADDRESS(4,3+(C$8*2),1,2,O_SYNTHESE)):INDIRECT(ADDRESS(38,4+(C$8*2),1,2,O_SYNTHESE)),$A13)*2 -> 0 | D13: =COUNTIF(INDIRECT(ADDRESS(4,3+(D$8*2),1,2,O_SYNTHESE)):INDIRECT(ADDRESS(38,4+(D$8*2),1,2,O_SYNTHESE)),$A13)*2 -> 0 | E13: =COUNTIF(INDIRECT(ADDRESS(4,3+(E$8*2),1,2,O_SYNTHESE)):INDIRECT(ADDRESS(38,4+(E$8*2),1,2,O_SYNTHESE)),$A13)*2 -> 4 | F13: =COUNTIF(INDIRECT(ADDRESS(4,3+(F$8*2),1,2,O_SYNTHESE)):INDIRECT(ADDRESS(38,4+(F$8*2),1,2,O_SYNTHESE)),$A13)*2 -> 8 | G13: =COUNTIF(INDIRECT(ADDRESS(4,3+(G$8*2),1,2,O_SYNTHESE)):INDIRECT(ADDRESS(38,4+(G$8*2),1,2,O_SYNTHESE)),$A13)*2 -> 4 | H13: =COUNTIF(INDIRECT(ADDRESS(4,3+(H$8*2),1,2,O_SYNTHESE)):INDIRECT(ADDRESS(38,4+(H$8*2),1,2,O_SYNTHESE)),$A13)*2 -> 8 | I13: =COUNTIF(INDIRECT(ADDRESS(4,3+(I$8*2),1,2,O_SYNTHESE)):INDIRECT(ADDRESS(38,4+(I$8*2),1,2,O_SYNTHESE)),$A13)*2 -> 0 | J13: =COUNTIF(INDIRECT(ADDRESS(4,3+(J$8*2),1,2,O_SYNTHESE)):INDIRECT(ADDRESS(38,4+(J$8*2),1,2,O_SYNTHESE)),$A13)*2 -> 4 | ... W13: =COUNTIF(INDIRECT(ADDRESS(4,3+(W$8*2),1,2,O_SYNTHESE)):INDIRECT(ADDRESS(38,4+(W$8*2),1,2,O_SYNTHESE)),$A13)*2 -> 2 | X13: =SUM(C13:W13) -> 50
A14: =GRILLE!A8 -> Comptabilité | B14: =GRILLE!B8 -> M. EL OUADIH | C14: =COUNTIF(INDIRECT(ADDRESS(4,3+(C$8*2),1,2,O_SYNTHESE)):INDIRECT(ADDRESS(38,4+(C$8*2),1,2,O_SYNTHESE)),$A14)*2 -> 0 | D14: =COUNTIF(INDIRECT(ADDRESS(4,3+(D$8*2),1,2,O_SYNTHESE)):INDIRECT(ADDRESS(38,4+(D$8*2),1,2,O_SYNTHESE)),$A14)*2 -> 0 | E14: =COUNTIF(INDIRECT(ADDRESS(4,3+(E$8*2),1,2,O_SYNTHESE)):INDIRECT(ADDRESS(38,4+(E$8*2),1,2,O_SYNTHESE)),$A14)*2 -> 0 | F14: =COUNTIF(INDIRECT(ADDRESS(4,3+(F$8*2),1,2,O_SYNTHESE)):INDIRECT(ADDRESS(38,4+(F$8*2),1,2,O_SYNTHESE)),$A14)*2 -> 0 | G14: =COUNTIF(INDIRECT(ADDRESS(4,3+(G$8*2),1,2,O_SYNTHESE)):INDIRECT(ADDRESS(38,4+(G$8*2),1,2,O_SYNTHESE)),$A14)*2 -> 0 | H14: =COUNTIF(INDIRECT(ADDRESS(4,3+(H$8*2),1,2,O_SYNTHESE)):INDIRECT(ADDRESS(38,4+(H$8*2),1,2,O_SYNTHESE)),$A14)*2 -> 0 | I14: =COUNTIF(INDIRECT(ADDRESS(4,3+(I$8*2),1,2,O_SYNTHESE)):INDIRECT(ADDRESS(38,4+(I$8*2),1,2,O_SYNTHESE)),$A14)*2 -> 0 | J14: =COUNTIF(INDIRECT(ADDRESS(4,3+(J$8*2),1,2,O_SYNTHESE)):INDIRECT(ADDRESS(38,4+(J$8*2),1,2,O_SYNTHESE)),$A14)*2 -> 2 | ... W14: =COUNTIF(INDIRECT(ADDRESS(4,3+(W$8*2),1,2,O_SYNTHESE)):INDIRECT(ADDRESS(38,4+(W$8*2),1,2,O_SYNTHESE)),$A14)*2 -> 0 | X14: =SUM(C14:W14) -> 10
A15: =GRILLE!A9 -> Dessin & Technologie | B15: =GRILLE!B9 -> M. LASRI | C15: =COUNTIF(INDIRECT(ADDRESS(4,3+(C$8*2),1,2,O_SYNTHESE)):INDIRECT(ADDRESS(38,4+(C$8*2),1,2,O_SYNTHESE)),$A15)*2 -> 0 | D15: =COUNTIF(INDIRECT(ADDRESS(4,3+(D$8*2),1,2,O_SYNTHESE)):INDIRECT(ADDRESS(38,4+(D$8*2),1,2,O_SYNTHESE)),$A15)*2 -> 8 | E15: =COUNTIF(INDIRECT(ADDRESS(4,3+(E$8*2),1,2,O_SYNTHESE)):INDIRECT(ADDRESS(38,4+(E$8*2),1,2,O_SYNTHESE)),$A15)*2 -> 8 | F15: =COUNTIF(INDIRECT(ADDRESS(4,3+(F$8*2),1,2,O_SYNTHESE)):INDIRECT(ADDRESS(38,4+(F$8*2),1,2,O_SYNTHESE)),$A15)*2 -> 8 | G15: =COUNTIF(INDIRECT(ADDRESS(4,3+(G$8*2),1,2,O_SYNTHESE)):INDIRECT(ADDRESS(38,4+(G$8*2),1,2,O_SYNTHESE)),$A15)*2 -> 8 | H15: =COUNTIF(INDIRECT(ADDRESS(4,3+(H$8*2),1,2,O_SYNTHESE)):INDIRECT(ADDRESS(38,4+(H$8*2),1,2,O_SYNTHESE)),$A15)*2 -> 4 | I15: =COUNTIF(INDIRECT(ADDRESS(4,3+(I$8*2),1,2,O_SYNTHESE)):INDIRECT(ADDRESS(38,4+(I$8*2),1,2,O_SYNTHESE)),$A15)*2 -> 4 | J15: =COUNTIF(INDIRECT(ADDRESS(4,3+(J$8*2),1,2,O_SYNTHESE)):INDIRECT(ADDRESS(38,4+(J$8*2),1,2,O_SYNTHESE)),$A15)*2 -> 4 | ... W15: =COUNTIF(INDIRECT(ADDRESS(4,3+(W$8*2),1,2,O_SYNTHESE)):INDIRECT(ADDRESS(38,4+(W$8*2),1,2,O_SYNTHESE)),$A15)*2 -> 8 | X15: =SUM(C15:W15) -> 132
A16: =GRILLE!A10 -> Economie | B16: =GRILLE!B10 -> M. EL OUADI | C16: =COUNTIF(INDIRECT(ADDRESS(4,3+(C$8*2),1,2,O_SYNTHESE)):INDIRECT(ADDRESS(38,4+(C$8*2),1,2,O_SYNTHESE)),$A16)*2 -> 8 | D16: =COUNTIF(INDIRECT(ADDRESS(4,3+(D$8*2),1,2,O_SYNTHESE)):INDIRECT(ADDRESS(38,4+(D$8*2),1,2,O_SYNTHESE)),$A16)*2 -> 12 | E16: =COUNTIF(INDIRECT(ADDRESS(4,3+(E$8*2),1,2,O_SYNTHESE)):INDIRECT(ADDRESS(38,4+(E$8*2),1,2,O_SYNTHESE)),$A16)*2 -> 8 | F16: =COUNTIF(INDIRECT(ADDRESS(4,3+(F$8*2),1,2,O_SYNTHESE)):INDIRECT(ADDRESS(38,4+(F$8*2),1,2,O_SYNTHESE)),$A16)*2 -> 8 | G16: =COUNTIF(INDIRECT(ADDRESS(4,3+(G$8*2),1,2,O_SYNTHESE)):INDIRECT(ADDRESS(38,4+(G$8*2),1,2,O_SYNTHESE)),$A16)*2 -> 6 | H16: =COUNTIF(INDIRECT(ADDRESS(4,3+(H$8*2),1,2,O_SYNTHESE)):INDIRECT(ADDRESS(38,4+(H$8*2),1,2,O_SYNTHESE)),$A16)*2 -> 6 | I16: =COUNTIF(INDIRECT(ADDRESS(4,3+(I$8*2),1,2,O_SYNTHESE)):INDIRECT(ADDRESS(38,4+(I$8*2),1,2,O_SYNTHESE)),$A16)*2 -> 6 | J16: =COUNTIF(INDIRECT(ADDRESS(4,3+(J$8*2),1,2,O_SYNTHESE)):INDIRECT(ADDRESS(38,4+(J$8*2),1,2,O_SYNTHESE)),$A16)*2 -> 2 | ... W16: =COUNTIF(INDIRECT(ADDRESS(4,3+(W$8*2),1,2,O_SYNTHESE)):INDIRECT(ADDRESS(38,4+(W$8*2),1,2,O_SYNTHESE)),$A16)*2 -> 4 | X16: =SUM(C16:W16) -> 100
A17: =GRILLE!A11 -> Electronique | B17: =GRILLE!B11 -> M. NGOTE | C17: =COUNTIF(INDIRECT(ADDRESS(4,3+(C$8*2),1,2,O_SYNTHESE)):INDIRECT(ADDRESS(38,4+(C$8*2),1,2,O_SYNTHESE)),$A17)*2 -> 4 | D17: =COUNTIF(INDIRECT(ADDRESS(4,3+(D$8*2),1,2,O_SYNTHESE)):INDIRECT(ADDRESS(38,4+(D$8*2),1,2,O_SYNTHESE)),$A17)*2 -> 4 | E17: =COUNTIF(INDIRECT(ADDRESS(4,3+(E$8*2),1,2,O_SYNTHESE)):INDIRECT(ADDRESS(38,4+(E$8*2),1,2,O_SYNTHESE)),$A17)*2 -> 4 | F17: =COUNTIF(INDIRECT(ADDRESS(4,3+(F$8*2),1,2,O_SYNTHESE)):INDIRECT(ADDRESS(38,4+(F$8*2),1,2,O_SYNTHESE)),$A17)*2 -> 4 | G17: =COUNTIF(INDIRECT(ADDRESS(4,3+(G$8*2),1,2,O_SYNTHESE)):INDIRECT(ADDRESS(38,4+(G$8*2),1,2,O_SYNTHESE)),$A17)*2 -> 4 | H17: =COUNTIF(INDIRECT(ADDRESS(4,3+(H$8*2),1,2,O_SYNTHESE)):INDIRECT(ADDRESS(38,4+(H$8*2),1,2,O_SYNTHESE)),$A17)*2 -> 4 | I17: =COUNTIF(INDIRECT(ADDRESS(4,3+(I$8*2),1,2,O_SYNTHESE)):INDIRECT(ADDRESS(38,4+(I$8*2),1,2,O_SYNTHESE)),$A17)*2 -> 4 | J17: =COUNTIF(INDIRECT(ADDRESS(4,3+(J$8*2),1,2,O_SYNTHESE)):INDIRECT(ADDRESS(38,4+(J$8*2),1,2,O_SYNTHESE)),$A17)*2 -> 0 | ... W17: =COUNTIF(INDIRECT(ADDRESS(4,3+(W$8*2),1,2,O_SYNTHESE)):INDIRECT(ADDRESS(38,4+(W$8*2),1,2,O_SYNTHESE)),$A17)*2 -> 6 | X17: =SUM(C17:W17) -> 90
A18: =GRILLE!A12 -> 0 | B18: =GRILLE!B12 -> 0 | C18: =COUNTIF(INDIRECT(ADDRESS(4,3+(C$8*2),1,2,O_SYNTHESE)):INDIRECT(ADDRESS(38,4+(C$8*2),1,2,O_SYNTHESE)),$A18)*2 -> 0 | D18: =COUNTIF(INDIRECT(ADDRESS(4,3+(D$8*2),1,2,O_SYNTHESE)):INDIRECT(ADDRESS(38,4+(D$8*2),1,2,O_SYNTHESE)),$A18)*2 -> 0 | E18: =COUNTIF(INDIRECT(ADDRESS(4,3+(E$8*2),1,2,O_SYNTHESE)):INDIRECT(ADDRESS(38,4+(E$8*2),1,2,O_SYNTHESE)),$A18)*2 -> 0 | F18: =COUNTIF(INDIRECT(ADDRESS(4,3+(F$8*2),1,2,O_SYNTHESE)):INDIRECT(ADDRESS(38,4+(F$8*2),1,2,O_SYNTHESE)),$A18)*2 -> 0 | G18: =COUNTIF(INDIRECT(ADDRESS(4,3+(G$8*2),1,2,O_SYNTHESE)):INDIRECT(ADDRESS(38,4+(G$8*2),1,2,O_SYNTHESE)),$A18)*2 -> 0 | H18: =COUNTIF(INDIRECT(ADDRESS(4,3+(H$8*2),1,2,O_SYNTHESE)):INDIRECT(ADDRESS(38,4+(H$8*2),1,2,O_SYNTHESE)),$A18)*2 -> 0 | I18: =COUNTIF(INDIRECT(ADDRESS(4,3+(I$8*2),1,2,O_SYNTHESE)):INDIRECT(ADDRESS(38,4+(I$8*2),1,2,O_SYNTHESE)),$A18)*2 -> 0 | J18: =COUNTIF(INDIRECT(ADDRESS(4,3+(J$8*2),1,2,O_SYNTHESE)):INDIRECT(ADDRESS(38,4+(J$8*2),1,2,O_SYNTHESE)),$A18)*2 -> 0 | ... W18: =COUNTIF(INDIRECT(ADDRESS(4,3+(W$8*2),1,2,O_SYNTHESE)):INDIRECT(ADDRESS(38,4+(W$8*2),1,2,O_SYNTHESE)),$A18)*2 -> 0 | X18: =SUM(C18:W18) -> 0
A19: =GRILLE!A13 -> Electrotechnique | B19: =GRILLE!B13 -> M. NGOTE | C19: =COUNTIF(INDIRECT(ADDRESS(4,3+(C$8*2),1,2,O_SYNTHESE)):INDIRECT(ADDRESS(38,4+(C$8*2),1,2,O_SYNTHESE)),$A19)*2 -> 0 | D19: =COUNTIF(INDIRECT(ADDRESS(4,3+(D$8*2),1,2,O_SYNTHESE)):INDIRECT(ADDRESS(38,4+(D$8*2),1,2,O_SYNTHESE)),$A19)*2 -> 8 | E19: =COUNTIF(INDIRECT(ADDRESS(4,3+(E$8*2),1,2,O_SYNTHESE)):INDIRECT(ADDRESS(38,4+(E$8*2),1,2,O_SYNTHESE)),$A19)*2 -> 4 | F19: =COUNTIF(INDIRECT(ADDRESS(4,3+(F$8*2),1,2,O_SYNTHESE)):INDIRECT(ADDRESS(38,4+(F$8*2),1,2,O_SYNTHESE)),$A19)*2 -> 4 | G19: =COUNTIF(INDIRECT(ADDRESS(4,3+(G$8*2),1,2,O_SYNTHESE)):INDIRECT(ADDRESS(38,4+(G$8*2),1,2,O_SYNTHESE)),$A19)*2 -> 4 | H19: =COUNTIF(INDIRECT(ADDRESS(4,3+(H$8*2),1,2,O_SYNTHESE)):INDIRECT(ADDRESS(38,4+(H$8*2),1,2,O_SYNTHESE)),$A19)*2 -> 4 | I19: =COUNTIF(INDIRECT(ADDRESS(4,3+(I$8*2),1,2,O_SYNTHESE)):INDIRECT(ADDRESS(38,4+(I$8*2),1,2,O_SYNTHESE)),$A19)*2 -> 4 | J19: =COUNTIF(INDIRECT(ADDRESS(4,3+(J$8*2),1,2,O_SYNTHESE)):INDIRECT(ADDRESS(38,4+(J$8*2),1,2,O_SYNTHESE)),$A19)*2 -> 0 | ... W19: =COUNTIF(INDIRECT(ADDRESS(4,3+(W$8*2),1,2,O_SYNTHESE)):INDIRECT(ADDRESS(38,4+(W$8*2),1,2,O_SYNTHESE)),$A19)*2 -> 4 | X19: =SUM(C19:W19) -> 76
A20: =GRILLE!A14 -> Ingénierie | B20: =GRILLE!B14 -> M. HAMIDI | C20: =COUNTIF(INDIRECT(ADDRESS(4,3+(C$8*2),1,2,O_SYNTHESE)):INDIRECT(ADDRESS(38,4+(C$8*2),1,2,O_SYNTHESE)),$A20)*2 -> 8 | D20: =COUNTIF(INDIRECT(ADDRESS(4,3+(D$8*2),1,2,O_SYNTHESE)):INDIRECT(ADDRESS(38,4+(D$8*2),1,2,O_SYNTHESE)),$A20)*2 -> 8 | E20: =COUNTIF(INDIRECT(ADDRESS(4,3+(E$8*2),1,2,O_SYNTHESE)):INDIRECT(ADDRESS(38,4+(E$8*2),1,2,O_SYNTHESE)),$A20)*2 -> 8 | F20: =COUNTIF(INDIRECT(ADDRESS(4,3+(F$8*2),1,2,O_SYNTHESE)):INDIRECT(ADDRESS(38,4+(F$8*2),1,2,O_SYNTHESE)),$A20)*2 -> 8 | G20: =COUNTIF(INDIRECT(ADDRESS(4,3+(G$8*2),1,2,O_SYNTHESE)):INDIRECT(ADDRESS(38,4+(G$8*2),1,2,O_SYNTHESE)),$A20)*2 -> 8 | H20: =COUNTIF(INDIRECT(ADDRESS(4,3+(H$8*2),1,2,O_SYNTHESE)):INDIRECT(ADDRESS(38,4+(H$8*2),1,2,O_SYNTHESE)),$A20)*2 -> 0 | I20: =COUNTIF(INDIRECT(ADDRESS(4,3+(I$8*2),1,2,O_SYNTHESE)):INDIRECT(ADDRESS(38,4+(I$8*2),1,2,O_SYNTHESE)),$A20)*2 -> 0 | J20: =COUNTIF(INDIRECT(ADDRESS(4,3+(J$8*2),1,2,O_SYNTHESE)):INDIRECT(ADDRESS(38,4+(J$8*2),1,2,O_SYNTHESE)),$A20)*2 -> 0 | ... W20: =COUNTIF(INDIRECT(ADDRESS(4,3+(W$8*2),1,2,O_SYNTHESE)):INDIRECT(ADDRESS(38,4+(W$8*2),1,2,O_SYNTHESE)),$A20)*2 -> 2 | X20: =SUM(C20:W20) -> 60
... A28: =GRILLE!A22 -> 0 | B28: =GRILLE!B22 -> 0 | C28: =COUNTIF(INDIRECT(ADDRESS(4,3+(C$8*2),1,2,O_SYNTHESE)):INDIRECT(ADDRESS(38,4+(C$8*2),1,2,O_SYNTHESE)),$A28)*2 -> 0 | D28: =COUNTIF(INDIRECT(ADDRESS(4,3+(D$8*2),1,2,O_SYNTHESE)):INDIRECT(ADDRESS(38,4+(D$8*2),1,2,O_SYNTHESE)),$A28)*2 -> 0 | E28: =COUNTIF(INDIRECT(ADDRESS(4,3+(E$8*2),1,2,O_SYNTHESE)):INDIRECT(ADDRESS(38,4+(E$8*2),1,2,O_SYNTHESE)),$A28)*2 -> 0 | F28: =COUNTIF(INDIRECT(ADDRESS(4,3+(F$8*2),1,2,O_SYNTHESE)):INDIRECT(ADDRESS(38,4+(F$8*2),1,2,O_SYNTHESE)),$A28)*2 -> 0 | G28: =COUNTIF(INDIRECT(ADDRESS(4,3+(G$8*2),1,2,O_SYNTHESE)):INDIRECT(ADDRESS(38,4+(G$8*2),1,2,O_SYNTHESE)),$A28)*2 -> 0 | H28: =COUNTIF(INDIRECT(ADDRESS(4,3+(H$8*2),1,2,O_SYNTHESE)):INDIRECT(ADDRESS(38,4+(H$8*2),1,2,O_SYNTHESE)),$A28)*2 -> 0 | I28: =COUNTIF(INDIRECT(ADDRESS(4,3+(I$8*2),1,2,O_SYNTHESE)):INDIRECT(ADDRESS(38,4+(I$8*2),1,2,O_SYNTHESE)),$A28)*2 -> 0 | J28: =COUNTIF(INDIRECT(ADDRESS(4,3+(J$8*2),1,2,O_SYNTHESE)):INDIRECT(ADDRESS(38,4+(J$8*2),1,2,O_SYNTHESE)),$A28)*2 -> 0 | ... W28: =COUNTIF(INDIRECT(ADDRESS(4,3+(W$8*2),1,2,O_SYNTHESE)):INDIRECT(ADDRESS(38,4+(W$8*2),1,2,O_SYNTHESE)),$A28)*2 -> 0 | X28: =SUM(C28:W28) -> 0
A29: TOTAUX | C29: =SUM(C9:C28) -> 40 | D29: =SUM(D9:D28) -> 64 | E29: =SUM(E9:E28) -> 64 | F29: =SUM(F9:F28) -> 64 | G29: =SUM(G9:G28) -> 64 | H29: =SUM(H9:H28) -> 40 | I29: =SUM(I9:I28) -> 40 | J29: =SUM(J9:J28) -> 24 | ... X29: =SUM(X9:X28) -> 1022

Sheet MODE D'EMPLOI
B1: MODE D'EMPLOI
A2: 0 | B2: Buts :
B3: - ce tableur est destiné à élaborer l'horaire hebdomadaire pour les deux sections d'une année scolaire et ce pour un semestre. Un semestre peut contenir 20 semaines.
B4: - il permet, à partir de cette grille horaire semestriel, d'éditer le planning d'une semaine en spécifiant l'enseignant en charge de la formation
A5: 1 | B5: Le Classeur sera nommé de la manière suivante : EMPLOI_XX_AAAA_NSEM où XX et l"année scolaire ; AAAA est l'année et N le numéro du semestre.
A6: 2 | B6: L'onglet d'encodage sera nommé de la même manière que le nom du classeur
A7: 3 | B7: Cet onglet devra être mis à jour à l'aide des listes déroulantes se trouvant au niveau de chaque cellule de la grille horaire
B8: En outre il faudra mettre à jour également l'année scolaire concernée et les années civiles concernées ainsi que le semestre (ce classeur pouvant être dupliqué pour servir pour toutes les années scolaires et toutes les années civiles).
B9: Comme le tableau dépasse la largeur d'un écran, cette information a été dupliquée automatiquement 2 autres fois sur la largeur du tableau.
B10: Cette mise à jour ce fait en F1 et G1.
B11: D'autre part, et toujours pour la raison de largeur, le tableur a été "figé" en C4 de manière à pouvoir dérouler verticalement et horizontalement en gardant les titres des lignes et des colonnes visibles
B12: La protection peut naturellement être enlevée pour modifications éventuelles. Notamment une fois par an, pour modifier les dates de semaines et les années.
B13: Comme cela ne doit être fait qu'une fois par an, il vaut mieux les laisser protégées durant l'année pour éviter les erreurs d'encodage.
B14: Ne pas oublier de remettre la protection et il est prudent de faire une copie du classeur AVANT de modifier.
A15: 4 | B15: Onglet GRILLE : cet onglet contient 2 grilles :
B16: - Grille Matières / Enseignants : cette grille permet de : . Constituer la liste déroulante permettant d'alimenter l'onglet d'encodage de la grille semestriel
B17: . Lier les enseignants aux matières de manière à permettre de compléter l'onglet d'impression hebdomadaire
B18: Cette Grille permet d'encoder 70 Matières et possède une réserve disponible en cas de besoin.
B19: Il faut laisser au moins une ligne blanche pour les heures non occupées. Il n'est pas obligatoire de mettre un enseignant mais, bien entendu, la grille horaire semestriel ne pourra pas dans ce cas présenter de nom d'enseignant.
B20: - Grille numéro de semaine : cette grille se constirue automatiquement sur base des informations encodées en ligne 2 de l'onglet d'encodage semestriel.
B21: Elle sert à alimenter l'onglet d'impression hebdomadaire (ligne titre donnant la date du numéro de semaine choisie)
A22: 5 | B22: Onglet d'édition du planning de la semaine :
B23: cet onglet sera dénommé CA_AAAA_NSEM où A est le numéro de la classe ; AAAA est l'année et N le numéro du semestre
B24: Cet onglet permet d'éditer TOUTES les semaines du semestre : il suffit de spécifier en C4 le numéro de la semaine désirée et l'onglet se mettra à jour automatiquement
B25: Si pour des raisons pratiques il s'avère qu'il est préférable d'avoir un onglet par semaine en permanence en visualisation dans le classeur, il suffit de dupliquer cet onglet autant de fois que désiré et de demander les semaines voulues.
B26: L'impression de l'onglet a été définies dans les paramètres d'impression : il a été cadré horizontalement et verticalement et la plage d'impression a été définie :
B27: il fallait éviter d'imprimer divers éléments techniques (colonne A contient des paramètres permettant l'automatisme de la mise à jour en fonction de la semaine demandée
B28: et la celule K1 contient une formule permettant de reconnaître le nom de l'onglet semestriel (celui-ci pouvant changer selon les années. Cet élément sert également à constituer les adresses de recherches pour alimenter l'onglet d'impression
A29: 6 | B29: L'onglet OCCUPATION détermine le nombre d'heures de cours par matière/enseignant à raison de 2 heures par session. Cet onglet est complètement automatique.
A30: 7 | B30: Réflexions :
B31: - il serait peut être utile de "colorier" automatiquement en fonction des matières : c'est fait : si couleur pas bonne changer dans Misen en forme conditionnelle.
B32: - j'ai remarqué qu'il existait 2 onglets contenant me semble t il un calcul d'heures. Je n'en ai pas compris la signification exacte, mais, s'il y a lieu d'incorporer des calculs d'occupation horaire, il serait intérressant de les lier à la Grille.
B33: C'est fait : OCCUPATION
B34: -J'ai remarqué que dans l'onglet semestriel, il était souvent utiliser TP/TD sans préciser la matière alors que dans la grille, il existe des TP et TD avec la matière : pourquoi ne pas mettre le TP ou TD convenanble ? A toi de voir
B35: - J'ai mis à jour le tableau semestriel jusqu'à la semaine 10. Après ce sont des copies de semaines précédentes et donc NE SONT PAS LES BONNES INFORMATIONS. Il faut les mettre à jour.
B36: - Je remarque que la premère semaine de Janvier 2016 apparaît : est ce normal ? Fait elle partie du 1 semestre ? Le tableur a été calibré pour travailler sur 1 semestre et pas une année ! Le classeur a été adapté pour 20 semaines par semestre
A37: 7 | B37: Technique :
B38: Par rapport aux diverses explications déjà communiquées, la nouveauté dans ce classeur est la mise à jour automatique de l'onglet d'impression en ce qui concerne la recherche dans l'onglet semestriel en fonction de la semaine demandée.
B39: La formule magique est :
B40: INDIRECT(ADRESSE(COLONNE()+($A7*6);3+SI($C7="SecA";0;1)+(2*N_SEM);2;1;O_SYNTHESE))
B41: La fonction INDIRECT est un outil permettant de rechercher le contenu d'une cellule dont on détermine l'adresse en la calculant.
B42: Je constitue donc l'adresse de la cellule se trouvant dans l'onglet semestriel en me basant sur des points de repères et en fonction de l'endroit où se trouve la formule.
B43: Ainsi, la formule est parfaitement identique dans toutes les cellules et peut donc être dupliquée : elle s'adapte automatiquement.
B44: La fonction Adresse demande qu'on lui désigne la ligne ; la colonne; le type d'adresse ; la forme; et l'onglet.
B45: Pour trouver la ligne : on part de la colonne() càd le numéro de colonne où se trouve la formule auquel ou ajote 6* le numéro du jour de la seamine qui se trouve dans la colonne A (masquée) et où le lundi est = à 0.
B46: Pour trouver la colonne : on part de 3 (éviter les colonnes tires) auquel on ajoute 0 ou 1 en fonction que nous nous trouvons dans la Section A ou B et enfin on ajoute 2* numéro de semaine (2 colonnes par semaine)
B47: Attention : ne pas changer l'orthographe du nom des sections car la formule ne fonctionnerait plus !
B48: le 2 dis que l'on désire une adresse fixe
B49: le 1 dis que l'on veut une adresse sous la forme A1 (par opposition au système L1C1 que tu connais peut-être)
... B54: C'est fait
