Workbook
Name AN_1: 'Planning 2015-2016'!$B$1
Name AN_2: 'Planning 2015-2016'!$C$1
Name date: 'Planning 2015-2016'!$F$2:$NG$2
Name début: 'Planning 2015-2016'!$C$2:$C$50
Name F: 'Planning 2015-2016'!$A$3:$NG$3
Name fin: 'Planning 2015-2016'!$D$2:$D$50

Sheet Planning 2015-2016
A1: CONGES | B1: 2015 | C1: 2016 | F1: =DATE(AN_1,6,1) -> 42156 | G1: =+F1+1 -> 42157 | H1: =+G1+1 -> 42158 | I1: =+H1+1 -> 42159 | J1: =+I1+1 -> 42160 | K1: =+J1+1 -> 42161 | L1: =+K1+1 -> 42162 | M1: =+L1+1 -> 42163 | N1: =+M1+1 -> 42164 | ... NG1: =+NF1+1 -> 42521
A2: NOM Prénom | B2: TOTAL | C2: début | D2: fin | E2: JO | F2: =F1 -> 42156 | G2: =G1 -> 42157 | H2: =H1 -> 42158 | I2: =I1 -> 42159 | J2: =J1 -> 42160 | K2: =K1 -> 42161 | L2: =L1 -> 42162 | M2: =M1 -> 42163 | ... NG2: =NG1 -> 42521
F3: =IF(ISNA(VLOOKUP(F$1,IF(YEAR(F$1)=AN_1,PARAMETRE!$B$3:$B$13,PARAMETRE!$C$3:$C$13),2,FALSE))=TRUE,IF(WEEKDAY(1:1,2)>5,"WE",""),"FER") | G3: =IF(ISNA(VLOOKUP(G$1,IF(YEAR(G$1)=AN_1,PARAMETRE!$B$3:$B$13,PARAMETRE!$C$3:$C$13),2,FALSE))=TRUE,IF(WEEKDAY(1:1,2)>5,"WE",""),"FER") | H3: =IF(ISNA(VLOOKUP(H$1,IF(YEAR(H$1)=AN_1,PARAMETRE!$B$3:$B$13,PARAMETRE!$C$3:$C$13),2,FALSE))=TRUE,IF(WEEKDAY(1:1,2)>5,"WE",""),"FER") | I3: =IF(ISNA(VLOOKUP(I$1,IF(YEAR(I$1)=AN_1,PARAMETRE!$B$3:$B$13,PARAMETRE!$C$3:$C$13),2,FALSE))=TRUE,IF(WEEKDAY(1:1,2)>5,"WE",""),"FER") | J3: =IF(ISNA(VLOOKUP(J$1,IF(YEAR(J$1)=AN_1,PARAMETRE!$B$3:$B$13,PARAMETRE!$C$3:$C$13),2,FALSE))=TRUE,IF(WEEKDAY(1:1,2)>5,"WE",""),"FER") | K3: =IF(ISNA(VLOOKUP(K$1,IF(YEAR(K$1)=AN_1,PARAMETRE!$B$3:$B$13,PARAMETRE!$C$3:$C$13),2,FALSE))=TRUE,IF(WEEKDAY(1:1,2)>5,"WE",""),"FER") -> WE | L3: =IF(ISNA(VLOOKUP(L$1,IF(YEAR(L$1)=AN_1,PARAMETRE!$B$3:$B$13,PARAMETRE!$C$3:$C$13),2,FALSE))=TRUE,IF(WEEKDAY(1:1,2)>5,"WE",""),"FER") -> WE | M3: =IF(ISNA(VLOOKUP(M$1,IF(YEAR(M$1)=AN_1,PARAMETRE!$B$3:$B$13,PARAMETRE!$C$3:$C$13),2,FALSE))=TRUE,IF(WEEKDAY(1:1,2)>5,"WE",""),"FER") | ... NG3: =IF(ISNA(VLOOKUP(NG$1,IF(YEAR(NG$1)=AN_1,PARAMETRE!$B$3:$B$13,PARAMETRE!$C$3:$C$13),2,FALSE))=TRUE,IF(WEEKDAY(1:1,2)>5,"WE",""),"FER")
F4: =IF(AND(date>=début, date<=fin,NOT(F="F")),"C","") | G4: =IF(AND(date>=début, date<=fin,NOT(F="F")),"C","") | H4: =IF(AND(date>=début, date<=fin,NOT(F="F")),"C","") | I4: =IF(AND(date>=début, date<=fin,NOT(F="F")),"C","") | J4: =IF(AND(date>=début, date<=fin,NOT(F="F")),"C","") | K4: =IF(AND(date>=début, date<=fin,NOT(F="F")),"C","") | L4: =IF(AND(date>=début, date<=fin,NOT(F="F")),"C","") | M4: =IF(AND(date>=début, date<=fin,NOT(F="F")),"C","") | ... NG4: =IF(AND(date>=début, date<=fin,NOT(F="F")),"C","")
A5: CONGES | B5: =SUM(E5:E9) -> 24 | C5: 42219 | D5: 42242 | E5: =COUNTIF(F5:NG5,"C") -> 24 | F5: =IF(AND(date>=début, date<=fin,NOT(F="F")),"C","") | G5: =IF(AND(date>=début, date<=fin,NOT(F="F")),"C","") | H5: =IF(AND(date>=début, date<=fin,NOT(F="F")),"C","") | I5: =IF(AND(date>=début, date<=fin,NOT(F="F")),"C","") | J5: =IF(AND(date>=début, date<=fin,NOT(F="F")),"C","") | K5: =IF(AND(date>=début, date<=fin,NOT(F="F")),"C","") | L5: =IF(AND(date>=début, date<=fin,NOT(F="F")),"C","") | M5: =IF(AND(date>=début, date<=fin,NOT(F="F")),"C","") | ... NG5: =IF(AND(date>=début, date<=fin,NOT(F="F")),"C","")
A6: CONGES | E6: =COUNTIF(F6:NG6,"C") -> 0 | F6: =IF(AND(date>=début, date<=fin,NOT(F="F")),"C","") | G6: =IF(AND(date>=début, date<=fin,NOT(F="F")),"C","") | H6: =IF(AND(date>=début, date<=fin,NOT(F="F")),"C","") | I6: =IF(AND(date>=début, date<=fin,NOT(F="F")),"C","") | J6: =IF(AND(date>=début, date<=fin,NOT(F="F")),"C","") | K6: =IF(AND(date>=début, date<=fin,NOT(F="F")),"C","") | L6: =IF(AND(date>=début, date<=fin,NOT(F="F")),"C","") | M6: =IF(AND(date>=début, date<=fin,NOT(F="F")),"C","") | ... NG6: =IF(AND(date>=début, date<=fin,NOT(F="F")),"C","")
A7: CONGES | E7: =COUNTIF(F7:NG7,"C") -> 0 | F7: =IF(AND(date>=début, date<=fin,NOT(F="F")),"C","") | G7: =IF(AND(date>=début, date<=fin,NOT(F="F")),"C","") | H7: =IF(AND(date>=début, date<=fin,NOT(F="F")),"C","") | I7: =IF(AND(date>=début, date<=fin,NOT(F="F")),"C","") | J7: =IF(AND(date>=début, date<=fin,NOT(F="F")),"C","") | K7: =IF(AND(date>=début, date<=fin,NOT(F="F")),"C","") | L7: =IF(AND(date>=début, date<=fin,NOT(F="F")),"C","") | M7: =IF(AND(date>=début, date<=fin,NOT(F="F")),"C","") | ... NG7: =IF(AND(date>=début, date<=fin,NOT(F="F")),"C","")
A8: CONGES | E8: =COUNTIF(F8:NG8,"C") -> 0 | F8: =IF(AND(date>=début, date<=fin,NOT(F="F")),"C","") | G8: =IF(AND(date>=début, date<=fin,NOT(F="F")),"C","") | H8: =IF(AND(date>=début, date<=fin,NOT(F="F")),"C","") | I8: =IF(AND(date>=début, date<=fin,NOT(F="F")),"C","") | J8: =IF(AND(date>=début, date<=fin,NOT(F="F")),"C","") | K8: =IF(AND(date>=début, date<=fin,NOT(F="F")),"C","") | L8: =IF(AND(date>=début, date<=fin,NOT(F="F")),"C","") | M8: =IF(AND(date>=début, date<=fin,NOT(F="F")),"C","") | ... NG8: =IF(AND(date>=début, date<=fin,NOT(F="F")),"C","")
A9: CONGES | E9: =COUNTIF(F9:NG9,"C") -> 0 | F9: =IF(AND(date>=début, date<=fin,NOT(F="F")),"C","") | G9: =IF(AND(date>=début, date<=fin,NOT(F="F")),"C","") | H9: =IF(AND(date>=début, date<=fin,NOT(F="F")),"C","") | I9: =IF(AND(date>=début, date<=fin,NOT(F="F")),"C","") | J9: =IF(AND(date>=début, date<=fin,NOT(F="F")),"C","") | K9: =IF(AND(date>=début, date<=fin,NOT(F="F")),"C","") | L9: =IF(AND(date>=début, date<=fin,NOT(F="F")),"C","") | M9: =IF(AND(date>=début, date<=fin,NOT(F="F")),"C","") | ... NG9: =IF(AND(date>=début, date<=fin,NOT(F="F")),"C","")
A10: CONGES SANS SOLDE | B10: =E10+E11 -> 0 | E10: =SUM(F10:NG10) -> 0
A11: CONGES EXCEPTIONNELS | E11: =SUM(F11:NG11) -> 0
A12: ABSENCE | B12: =SUM(E12:E19) -> 0 | E12: =COUNTIF(F12:NG12,"ABS") -> 0 | F12: =IF(AND(date>=début, date<=fin,NOT(F="F")),"ABS","") | G12: =IF(AND(date>=début, date<=fin,NOT(F="F")),"ABS","") | H12: =IF(AND(date>=début, date<=fin,NOT(F="F")),"ABS","") | I12: =IF(AND(date>=début, date<=fin,NOT(F="F")),"ABS","") | J12: =IF(AND(date>=début, date<=fin,NOT(F="F")),"ABS","") | K12: =IF(AND(date>=début, date<=fin,NOT(F="F")),"ABS","") | L12: =IF(AND(date>=début, date<=fin,NOT(F="F")),"ABS","") | M12: =IF(AND(date>=début, date<=fin,NOT(F="F")),"ABS","") | ... NG12: =IF(AND(date>=début, date<=fin,NOT(F="F")),"ABS","")
A13: ABSENCE | E13: =COUNTIF(F13:NG13,"ABS") -> 0 | F13: =IF(AND(date>=début, date<=fin,NOT(F="F")),"ABS","") | G13: =IF(AND(date>=début, date<=fin,NOT(F="F")),"ABS","") | H13: =IF(AND(date>=début, date<=fin,NOT(F="F")),"ABS","") | I13: =IF(AND(date>=début, date<=fin,NOT(F="F")),"ABS","") | J13: =IF(AND(date>=début, date<=fin,NOT(F="F")),"ABS","") | K13: =IF(AND(date>=début, date<=fin,NOT(F="F")),"ABS","") | L13: =IF(AND(date>=début, date<=fin,NOT(F="F")),"ABS","") | M13: =IF(AND(date>=début, date<=fin,NOT(F="F")),"ABS","") | ... NG13: =IF(AND(date>=début, date<=fin,NOT(F="F")),"ABS","")
A14: ABSENCE | E14: =COUNTIF(F14:NG14,"ABS") -> 0 | F14: =IF(AND(date>=début, date<=fin,NOT(F="F")),"ABS","") | G14: =IF(AND(date>=début, date<=fin,NOT(F="F")),"ABS","") | H14: =IF(AND(date>=début, date<=fin,NOT(F="F")),"ABS","") | I14: =IF(AND(date>=début, date<=fin,NOT(F="F")),"ABS","") | J14: =IF(AND(date>=début, date<=fin,NOT(F="F")),"ABS","") | K14: =IF(AND(date>=début, date<=fin,NOT(F="F")),"ABS","") | L14: =IF(AND(date>=début, date<=fin,NOT(F="F")),"ABS","") | M14: =IF(AND(date>=début, date<=fin,NOT(F="F")),"ABS","") | ... NG14: =IF(AND(date>=début, date<=fin,NOT(F="F")),"ABS","")
A15: ABSENCE | E15: =COUNTIF(F15:NG15,"ABS") -> 0 | F15: =IF(AND(date>=début, date<=fin,NOT(F="F")),"ABS","") | G15: =IF(AND(date>=début, date<=fin,NOT(F="F")),"ABS","") | H15: =IF(AND(date>=début, date<=fin,NOT(F="F")),"ABS","") | I15: =IF(AND(date>=début, date<=fin,NOT(F="F")),"ABS","") | J15: =IF(AND(date>=début, date<=fin,NOT(F="F")),"ABS","") | K15: =IF(AND(date>=début, date<=fin,NOT(F="F")),"ABS","") | L15: =IF(AND(date>=début, date<=fin,NOT(F="F")),"ABS","") | M15: =IF(AND(date>=début, date<=fin,NOT(F="F")),"ABS","") | ... NG15: =IF(AND(date>=début, date<=fin,NOT(F="F")),"ABS","")
A16: ABSENCE | E16: =COUNTIF(F16:NG16,"ABS") -> 0 | F16: =IF(AND(date>=début, date<=fin,NOT(F="F")),"ABS","") | G16: =IF(AND(date>=début, date<=fin,NOT(F="F")),"ABS","") | H16: =IF(AND(date>=début, date<=fin,NOT(F="F")),"ABS","") | I16: =IF(AND(date>=début, date<=fin,NOT(F="F")),"ABS","") | J16: =IF(AND(date>=début, date<=fin,NOT(F="F")),"ABS","") | K16: =IF(AND(date>=début, date<=fin,NOT(F="F")),"ABS","") | L16: =IF(AND(date>=début, date<=fin,NOT(F="F")),"ABS","") | M16: =IF(AND(date>=début, date<=fin,NOT(F="F")),"ABS","") | ... NG16: =IF(AND(date>=début, date<=fin,NOT(F="F")),"ABS","")
A17: ABSENCE | E17: =COUNTIF(F17:NG17,"ABS") -> 0 | F17: =IF(AND(date>=début, date<=fin,NOT(F="F")),"ABS","") | G17: =IF(AND(date>=début, date<=fin,NOT(F="F")),"ABS","") | H17: =IF(AND(date>=début, date<=fin,NOT(F="F")),"ABS","") | I17: =IF(AND(date>=début, date<=fin,NOT(F="F")),"ABS","") | J17: =IF(AND(date>=début, date<=fin,NOT(F="F")),"ABS","") | K17: =IF(AND(date>=début, date<=fin,NOT(F="F")),"ABS","") | L17: =IF(AND(date>=début, date<=fin,NOT(F="F")),"ABS","") | M17: =IF(AND(date>=début, date<=fin,NOT(F="F")),"ABS","") | ... NG17: =IF(AND(date>=début, date<=fin,NOT(F="F")),"ABS","")
A18: ABSENCE | E18: =COUNTIF(F18:NG18,"ABS") -> 0 | F18: =IF(AND(date>=début, date<=fin,NOT(F="F")),"ABS","") | G18: =IF(AND(date>=début, date<=fin,NOT(F="F")),"ABS","") | H18: =IF(AND(date>=début, date<=fin,NOT(F="F")),"ABS","") | I18: =IF(AND(date>=début, date<=fin,NOT(F="F")),"ABS","") | J18: =IF(AND(date>=début, date<=fin,NOT(F="F")),"ABS","") | K18: =IF(AND(date>=début, date<=fin,NOT(F="F")),"ABS","") | L18: =IF(AND(date>=début, date<=fin,NOT(F="F")),"ABS","") | M18: =IF(AND(date>=début, date<=fin,NOT(F="F")),"ABS","") | ... NG18: =IF(AND(date>=début, date<=fin,NOT(F="F")),"ABS","")
A19: ABSENCE | E19: =COUNTIF(F19:NG19,"ABS") -> 0 | F19: =IF(AND(date>=début, date<=fin,NOT(F="F")),"ABS","") | G19: =IF(AND(date>=début, date<=fin,NOT(F="F")),"ABS","") | H19: =IF(AND(date>=début, date<=fin,NOT(F="F")),"ABS","") | I19: =IF(AND(date>=début, date<=fin,NOT(F="F")),"ABS","") | J19: =IF(AND(date>=début, date<=fin,NOT(F="F")),"ABS","") | K19: =IF(AND(date>=début, date<=fin,NOT(F="F")),"ABS","") | L19: =IF(AND(date>=début, date<=fin,NOT(F="F")),"ABS","") | M19: =IF(AND(date>=début, date<=fin,NOT(F="F")),"ABS","") | ... NG19: =IF(AND(date>=début, date<=fin,NOT(F="F")),"ABS","")
A20: MALADIE | B20: =SUM(E20:E22) -> 0 | E20: =COUNTIF(F20:NG20,"M") -> 0 | F20: =IF(AND(date>=début, date<=fin,NOT(F="F")),"M","") | G20: =IF(AND(date>=début, date<=fin,NOT(F="F")),"M","") | H20: =IF(AND(date>=début, date<=fin,NOT(F="F")),"M","") | I20: =IF(AND(date>=début, date<=fin,NOT(F="F")),"M","") | J20: =IF(AND(date>=début, date<=fin,NOT(F="F")),"M","") | K20: =IF(AND(date>=début, date<=fin,NOT(F="F")),"M","") | L20: =IF(AND(date>=début, date<=fin,NOT(F="F")),"M","") | M20: =IF(AND(date>=début, date<=fin,NOT(F="F")),"M","") | ... NG20: =IF(AND(date>=début, date<=fin,NOT(F="F")),"M","")
A21: MALADIE | E21: =COUNTIF(F21:NG21,"M") -> 0 | F21: =IF(AND(date>=début, date<=fin,NOT(F="F")),"M","") | G21: =IF(AND(date>=début, date<=fin,NOT(F="F")),"M","") | H21: =IF(AND(date>=début, date<=fin,NOT(F="F")),"M","") | I21: =IF(AND(date>=début, date<=fin,NOT(F="F")),"M","") | J21: =IF(AND(date>=début, date<=fin,NOT(F="F")),"M","") | K21: =IF(AND(date>=début, date<=fin,NOT(F="F")),"M","") | L21: =IF(AND(date>=début, date<=fin,NOT(F="F")),"M","") | M21: =IF(AND(date>=début, date<=fin,NOT(F="F")),"M","") | ... NG21: =IF(AND(date>=début, date<=fin,NOT(F="F")),"M","")
A22: MALADIE | E22: =COUNTIF(F22:NG22,"M") -> 0 | F22: =IF(AND(date>=début, date<=fin,NOT(F="F")),"M","") | G22: =IF(AND(date>=début, date<=fin,NOT(F="F")),"M","") | H22: =IF(AND(date>=début, date<=fin,NOT(F="F")),"M","") | I22: =IF(AND(date>=début, date<=fin,NOT(F="F")),"M","") | J22: =IF(AND(date>=début, date<=fin,NOT(F="F")),"M","") | K22: =IF(AND(date>=début, date<=fin,NOT(F="F")),"M","") | L22: =IF(AND(date>=début, date<=fin,NOT(F="F")),"M","") | M22: =IF(AND(date>=début, date<=fin,NOT(F="F")),"M","") | ... NG22: =IF(AND(date>=début, date<=fin,NOT(F="F")),"M","")
A23: RTT | B23: =E23+E24 -> 3 | E23: =SUM(F23:NG23) -> 3 | AV23: 1 | CO23: 1 | CP23: 1
A24: RTT RECUP | E24: =SUM(F24:NG24) -> 0
E25: =COUNTIF(F25:NG25,"ABS") -> 0 | F25: =IF(AND(date>=début, date<=fin,NOT(F="F")),"ABS","") | G25: =IF(AND(date>=début, date<=fin,NOT(F="F")),"C","") | H25: =IF(AND(date>=début, date<=fin,NOT(F="F")),"C","") | I25: =IF(AND(date>=début, date<=fin,NOT(F="F")),"C","") | J25: =IF(AND(date>=début, date<=fin,NOT(F="F")),"C","") | K25: =IF(AND(date>=début, date<=fin,NOT(F="F")),"C","") | L25: =IF(AND(date>=début, date<=fin,NOT(F="F")),"C","") | M25: =IF(AND(date>=début, date<=fin,NOT(F="F")),"C","") | N25: =IF(AND(date>=début, date<=fin,NOT(F="F")),"C","") | ... NG25: =IF(AND(date>=début, date<=fin,NOT(F="F")),"C","")
F26: =IF(AND(date>=début, date<=fin,NOT(F="F")),"C","") | G26: =IF(AND(date>=début, date<=fin,NOT(F="F")),"C","") | H26: =IF(AND(date>=début, date<=fin,NOT(F="F")),"C","") | I26: =IF(AND(date>=début, date<=fin,NOT(F="F")),"C","") | J26: =IF(AND(date>=début, date<=fin,NOT(F="F")),"C","") | K26: =IF(AND(date>=début, date<=fin,NOT(F="F")),"C","") | L26: =IF(AND(date>=début, date<=fin,NOT(F="F")),"C","") | M26: =IF(AND(date>=début, date<=fin,NOT(F="F")),"C","") | ... NG26: =IF(AND(date>=début, date<=fin,NOT(F="F")),"C","")
A27: CONGES | B27: =SUM(E27:E31) -> 20 | C27: 42212 | D27: 42223 | E27: =COUNTIF(F27:NG27,"C") -> 12 | F27: =IF(AND(date>=début, date<=fin,NOT(F="F")),"C","") | G27: =IF(AND(date>=début, date<=fin,NOT(F="F")),"C","") | H27: =IF(AND(date>=début, date<=fin,NOT(F="F")),"C","") | I27: =IF(AND(date>=début, date<=fin,NOT(F="F")),"C","") | J27: =IF(AND(date>=début, date<=fin,NOT(F="F")),"C","") | K27: =IF(AND(date>=début, date<=fin,NOT(F="F")),"C","") | L27: =IF(AND(date>=début, date<=fin,NOT(F="F")),"C","") | M27: =IF(AND(date>=début, date<=fin,NOT(F="F")),"C","") | ... NG27: =IF(AND(date>=début, date<=fin,NOT(F="F")),"C","")
A28: CONGES | C28: 42233 | D28: 42237 | E28: =COUNTIF(F28:NG28,"C") -> 5 | F28: =IF(AND(date>=début, date<=fin,NOT(F="F")),"C","") | G28: =IF(AND(date>=début, date<=fin,NOT(F="F")),"C","") | H28: =IF(AND(date>=début, date<=fin,NOT(F="F")),"C","") | I28: =IF(AND(date>=début, date<=fin,NOT(F="F")),"C","") | J28: =IF(AND(date>=début, date<=fin,NOT(F="F")),"C","") | K28: =IF(AND(date>=début, date<=fin,NOT(F="F")),"C","") | L28: =IF(AND(date>=début, date<=fin,NOT(F="F")),"C","") | M28: =IF(AND(date>=début, date<=fin,NOT(F="F")),"C","") | ... NG28: =IF(AND(date>=début, date<=fin,NOT(F="F")),"C","")
A29: CONGES | C29: 42366 | D29: 42368 | E29: =COUNTIF(F29:NG29,"C") -> 3 | F29: =IF(AND(date>=début, date<=fin,NOT(F="F")),"C","") | G29: =IF(AND(date>=début, date<=fin,NOT(F="F")),"C","") | H29: =IF(AND(date>=début, date<=fin,NOT(F="F")),"C","") | I29: =IF(AND(date>=début, date<=fin,NOT(F="F")),"C","") | J29: =IF(AND(date>=début, date<=fin,NOT(F="F")),"C","") | K29: =IF(AND(date>=début, date<=fin,NOT(F="F")),"C","") | L29: =IF(AND(date>=début, date<=fin,NOT(F="F")),"C","") | M29: =IF(AND(date>=début, date<=fin,NOT(F="F")),"C","") | ... NG29: =IF(AND(date>=début, date<=fin,NOT(F="F")),"C","")
A30: CONGES | E30: =COUNTIF(F30:NG30,"C") -> 0 | F30: =IF(AND(date>=début, date<=fin,NOT(F="F")),"C","") | G30: =IF(AND(date>=début, date<=fin,NOT(F="F")),"C","") | H30: =IF(AND(date>=début, date<=fin,NOT(F="F")),"C","") | I30: =IF(AND(date>=début, date<=fin,NOT(F="F")),"C","") | J30: =IF(AND(date>=début, date<=fin,NOT(F="F")),"C","") | K30: =IF(AND(date>=début, date<=fin,NOT(F="F")),"C","") | L30: =IF(AND(date>=début, date<=fin,NOT(F="F")),"C","") | M30: =IF(AND(date>=début, date<=fin,NOT(F="F")),"C","") | ... NG30: =IF(AND(date>=début, date<=fin,NOT(F="F")),"C","")
A31: CONGES | E31: =COUNTIF(F31:NG31,"C") -> 0 | F31: =IF(AND(date>=début, date<=fin,NOT(F="F")),"C","") | G31: =IF(AND(date>=début, date<=fin,NOT(F="F")),"C","") | H31: =IF(AND(date>=début, date<=fin,NOT(F="F")),"C","") | I31: =IF(AND(date>=début, date<=fin,NOT(F="F")),"C","") | J31: =IF(AND(date>=début, date<=fin,NOT(F="F")),"C","") | K31: =IF(AND(date>=début, date<=fin,NOT(F="F")),"C","") | L31: =IF(AND(date>=début, date<=fin,NOT(F="F")),"C","") | M31: =IF(AND(date>=début, date<=fin,NOT(F="F")),"C","") | ... NG31: =IF(AND(date>=début, date<=fin,NOT(F="F")),"C","")
A32: CONGES SANS SOLDE | B32: =E32+E33 -> 0 | E32: =SUM(F32:NG32) -> 0
A33: CONGES EXCEPTIONNELS | E33: =SUM(F33:NG33) -> 0
A34: ABSENCE | B34: =SUM(E34:E44) -> 7 | C34: 42188 | D34: 42188 | E34: =COUNTIF(F34:NG34,"ABS") -> 1 | F34: =IF(AND(date>=début, date<=fin,NOT(F="F")),"ABS","") | G34: =IF(AND(date>=début, date<=fin,NOT(F="F")),"ABS","") | H34: =IF(AND(date>=début, date<=fin,NOT(F="F")),"ABS","") | I34: =IF(AND(date>=début, date<=fin,NOT(F="F")),"ABS","") | J34: =IF(AND(date>=début, date<=fin,NOT(F="F")),"ABS","") | K34: =IF(AND(date>=début, date<=fin,NOT(F="F")),"ABS","") | L34: =IF(AND(date>=début, date<=fin,NOT(F="F")),"ABS","") | M34: =IF(AND(date>=début, date<=fin,NOT(F="F")),"ABS","") | ... NG34: =IF(AND(date>=début, date<=fin,NOT(F="F")),"ABS","")
A35: ABSENCE | C35: 42194 | D35: 42194 | E35: =COUNTIF(F35:NG35,"ABS") -> 1 | F35: =IF(AND(date>=début, date<=fin,NOT(F="F")),"ABS","") | G35: =IF(AND(date>=début, date<=fin,NOT(F="F")),"ABS","") | H35: =IF(AND(date>=début, date<=fin,NOT(F="F")),"ABS","") | I35: =IF(AND(date>=début, date<=fin,NOT(F="F")),"ABS","") | J35: =IF(AND(date>=début, date<=fin,NOT(F="F")),"ABS","") | K35: =IF(AND(date>=début, date<=fin,NOT(F="F")),"ABS","") | L35: =IF(AND(date>=début, date<=fin,NOT(F="F")),"ABS","") | M35: =IF(AND(date>=début, date<=fin,NOT(F="F")),"ABS","") | ... NG35: =IF(AND(date>=début, date<=fin,NOT(F="F")),"ABS","")
A36: ABSENCE | C36: 42198 | D36: 42198 | E36: =COUNTIF(F36:NG36,"ABS") -> 1 | F36: =IF(AND(date>=début, date<=fin,NOT(F="F")),"ABS","") | G36: =IF(AND(date>=début, date<=fin,NOT(F="F")),"ABS","") | H36: =IF(AND(date>=début, date<=fin,NOT(F="F")),"ABS","") | I36: =IF(AND(date>=début, date<=fin,NOT(F="F")),"ABS","") | J36: =IF(AND(date>=début, date<=fin,NOT(F="F")),"ABS","") | K36: =IF(AND(date>=début, date<=fin,NOT(F="F")),"ABS","") | L36: =IF(AND(date>=début, date<=fin,NOT(F="F")),"ABS","") | M36: =IF(AND(date>=début, date<=fin,NOT(F="F")),"ABS","") | ... NG36: =IF(AND(date>=début, date<=fin,NOT(F="F")),"ABS","")
A37: ABSENCE | C37: 42257 | D37: 42257 | E37: =COUNTIF(F37:NG37,"ABS") -> 1 | F37: =IF(AND(date>=début, date<=fin,NOT(F="F")),"ABS","") | G37: =IF(AND(date>=début, date<=fin,NOT(F="F")),"ABS","") | H37: =IF(AND(date>=début, date<=fin,NOT(F="F")),"ABS","") | I37: =IF(AND(date>=début, date<=fin,NOT(F="F")),"ABS","") | J37: =IF(AND(date>=début, date<=fin,NOT(F="F")),"ABS","") | K37: =IF(AND(date>=début, date<=fin,NOT(F="F")),"ABS","") | L37: =IF(AND(date>=début, date<=fin,NOT(F="F")),"ABS","") | M37: =IF(AND(date>=début, date<=fin,NOT(F="F")),"ABS","") | ... NG37: =IF(AND(date>=début, date<=fin,NOT(F="F")),"ABS","")
A38: ABSENCE | C38: 42305 | D38: 42305 | E38: =COUNTIF(F38:NG38,"ABS") -> 1 | F38: =IF(AND(date>=début, date<=fin,NOT(F="F")),"ABS","") | G38: =IF(AND(date>=début, date<=fin,NOT(F="F")),"ABS","") | H38: =IF(AND(date>=début, date<=fin,NOT(F="F")),"ABS","") | I38: =IF(AND(date>=début, date<=fin,NOT(F="F")),"ABS","") | J38: =IF(AND(date>=début, date<=fin,NOT(F="F")),"ABS","") | K38: =IF(AND(date>=début, date<=fin,NOT(F="F")),"ABS","") | L38: =IF(AND(date>=début, date<=fin,NOT(F="F")),"ABS","") | M38: =IF(AND(date>=début, date<=fin,NOT(F="F")),"ABS","") | ... NG38: =IF(AND(date>=début, date<=fin,NOT(F="F")),"ABS","")
A39: ABSENCE | C39: 42279 | D39: 42279 | E39: =COUNTIF(F39:NG39,"ABS") -> 1 | F39: =IF(AND(date>=début, date<=fin,NOT(F="F")),"ABS","") | G39: =IF(AND(date>=début, date<=fin,NOT(F="F")),"ABS","") | H39: =IF(AND(date>=début, date<=fin,NOT(F="F")),"ABS","") | I39: =IF(AND(date>=début, date<=fin,NOT(F="F")),"ABS","") | J39: =IF(AND(date>=début, date<=fin,NOT(F="F")),"ABS","") | K39: =IF(AND(date>=début, date<=fin,NOT(F="F")),"ABS","") | L39: =IF(AND(date>=début, date<=fin,NOT(F="F")),"ABS","") | M39: =IF(AND(date>=début, date<=fin,NOT(F="F")),"ABS","") | ... NG39: =IF(AND(date>=début, date<=fin,NOT(F="F")),"ABS","")
A40: ABSENCE | C40: 42285 | D40: 42285 | E40: =COUNTIF(F40:NG40,"ABS") -> 1 | F40: =IF(AND(date>=début, date<=fin,NOT(F="F")),"ABS","") | G40: =IF(AND(date>=début, date<=fin,NOT(F="F")),"ABS","") | H40: =IF(AND(date>=début, date<=fin,NOT(F="F")),"ABS","") | I40: =IF(AND(date>=début, date<=fin,NOT(F="F")),"ABS","") | J40: =IF(AND(date>=début, date<=fin,NOT(F="F")),"ABS","") | K40: =IF(AND(date>=début, date<=fin,NOT(F="F")),"ABS","") | L40: =IF(AND(date>=début, date<=fin,NOT(F="F")),"ABS","") | M40: =IF(AND(date>=début, date<=fin,NOT(F="F")),"ABS","") | ... NG40: =IF(AND(date>=début, date<=fin,NOT(F="F")),"ABS","")
A41: ABSENCE | E41: =COUNTIF(F41:NG41,"ABS") -> 0 | F41: =IF(AND(date>=début, date<=fin,NOT(F="F")),"ABS","") | G41: =IF(AND(date>=début, date<=fin,NOT(F="F")),"ABS","") | H41: =IF(AND(date>=début, date<=fin,NOT(F="F")),"ABS","") | I41: =IF(AND(date>=début, date<=fin,NOT(F="F")),"ABS","") | J41: =IF(AND(date>=début, date<=fin,NOT(F="F")),"ABS","") | K41: =IF(AND(date>=début, date<=fin,NOT(F="F")),"ABS","") | L41: =IF(AND(date>=début, date<=fin,NOT(F="F")),"ABS","") | M41: =IF(AND(date>=début, date<=fin,NOT(F="F")),"ABS","") | ... NG41: =IF(AND(date>=début, date<=fin,NOT(F="F")),"ABS","")
A42: ABSENCE | E42: =COUNTIF(F42:NG42,"ABS") -> 0 | F42: =IF(AND(date>=début, date<=fin,NOT(F="F")),"ABS","") | G42: =IF(AND(date>=début, date<=fin,NOT(F="F")),"ABS","") | H42: =IF(AND(date>=début, date<=fin,NOT(F="F")),"ABS","") | I42: =IF(AND(date>=début, date<=fin,NOT(F="F")),"ABS","") | J42: =IF(AND(date>=début, date<=fin,NOT(F="F")),"ABS","") | K42: =IF(AND(date>=début, date<=fin,NOT(F="F")),"ABS","") | L42: =IF(AND(date>=début, date<=fin,NOT(F="F")),"ABS","") | M42: =IF(AND(date>=début, date<=fin,NOT(F="F")),"ABS","") | ... NG42: =IF(AND(date>=début, date<=fin,NOT(F="F")),"ABS","")
A43: ABSENCE | E43: =COUNTIF(F43:NG43,"ABS") -> 0 | F43: =IF(AND(date>=début, date<=fin,NOT(F="F")),"ABS","") | G43: =IF(AND(date>=début, date<=fin,NOT(F="F")),"ABS","") | H43: =IF(AND(date>=début, date<=fin,NOT(F="F")),"ABS","") | I43: =IF(AND(date>=début, date<=fin,NOT(F="F")),"ABS","") | J43: =IF(AND(date>=début, date<=fin,NOT(F="F")),"ABS","") | K43: =IF(AND(date>=début, date<=fin,NOT(F="F")),"ABS","") | L43: =IF(AND(date>=début, date<=fin,NOT(F="F")),"ABS","") | M43: =IF(AND(date>=début, date<=fin,NOT(F="F")),"ABS","") | ... NG43: =IF(AND(date>=début, date<=fin,NOT(F="F")),"ABS","")
A44: ABSENCE | E44: =COUNTIF(F44:NG44,"ABS") -> 0 | F44: =IF(AND(date>=début, date<=fin,NOT(F="F")),"ABS","") | G44: =IF(AND(date>=début, date<=fin,NOT(F="F")),"ABS","") | H44: =IF(AND(date>=début, date<=fin,NOT(F="F")),"ABS","") | I44: =IF(AND(date>=début, date<=fin,NOT(F="F")),"ABS","") | J44: =IF(AND(date>=début, date<=fin,NOT(F="F")),"ABS","") | K44: =IF(AND(date>=début, date<=fin,NOT(F="F")),"ABS","") | L44: =IF(AND(date>=début, date<=fin,NOT(F="F")),"ABS","") | M44: =IF(AND(date>=début, date<=fin,NOT(F="F")),"ABS","") | ... NG44: =IF(AND(date>=début, date<=fin,NOT(F="F")),"ABS","")
A45: MALADIE | B45: =SUM(E45:E47) -> 0 | E45: =COUNTIF(F45:NG45,"M") -> 0 | F45: =IF(AND(date>=début, date<=fin,NOT(F="F")),"M","") | G45: =IF(AND(date>=début, date<=fin,NOT(F="F")),"M","") | H45: =IF(AND(date>=début, date<=fin,NOT(F="F")),"M","") | I45: =IF(AND(date>=début, date<=fin,NOT(F="F")),"M","") | J45: =IF(AND(date>=début, date<=fin,NOT(F="F")),"M","") | K45: =IF(AND(date>=début, date<=fin,NOT(F="F")),"M","") | L45: =IF(AND(date>=début, date<=fin,NOT(F="F")),"M","") | M45: =IF(AND(date>=début, date<=fin,NOT(F="F")),"M","") | ... NG45: =IF(AND(date>=début, date<=fin,NOT(F="F")),"M","")
A46: MALADIE | E46: =COUNTIF(F46:NG46,"M") -> 0 | F46: =IF(AND(date>=début, date<=fin,NOT(F="F")),"M","") | G46: =IF(AND(date>=début, date<=fin,NOT(F="F")),"M","") | H46: =IF(AND(date>=début, date<=fin,NOT(F="F")),"M","") | I46: =IF(AND(date>=début, date<=fin,NOT(F="F")),"M","") | J46: =IF(AND(date>=début, date<=fin,NOT(F="F")),"M","") | K46: =IF(AND(date>=début, date<=fin,NOT(F="F")),"M","") | L46: =IF(AND(date>=début, date<=fin,NOT(F="F")),"M","") | M46: =IF(AND(date>=début, date<=fin,NOT(F="F")),"M","") | ... NG46: =IF(AND(date>=début, date<=fin,NOT(F="F")),"M","")
A47: MALADIE | E47: =COUNTIF(F47:NG47,"M") -> 0 | F47: =IF(AND(date>=début, date<=fin,NOT(F="F")),"M","") | G47: =IF(AND(date>=début, date<=fin,NOT(F="F")),"M","") | H47: =IF(AND(date>=début, date<=fin,NOT(F="F")),"M","") | I47: =IF(AND(date>=début, date<=fin,NOT(F="F")),"M","") | J47: =IF(AND(date>=début, date<=fin,NOT(F="F")),"M","") | K47: =IF(AND(date>=début, date<=fin,NOT(F="F")),"M","") | L47: =IF(AND(date>=début, date<=fin,NOT(F="F")),"M","") | M47: =IF(AND(date>=début, date<=fin,NOT(F="F")),"M","") | ... NG47: =IF(AND(date>=début, date<=fin,NOT(F="F")),"M","")
A48: RTT | B48: =E48+E49 -> 2.5 | E48: =SUM(F48:NG48) -> 2.5 | HD48: 1 | HJ48: 0.5 | HK48: 1
A49: RTT RECUP | B49: =E49 -> 0 | E49: =SUM(F49:NG49) -> 0
E50: =COUNTIF(F50:NG50,"ABS") -> 0 | F50: =IF(AND(date>=début, date<=fin,NOT(F="F")),"ABS","") | G50: =IF(AND(date>=début, date<=fin,NOT(F="F")),"C","") | H50: =IF(AND(date>=début, date<=fin,NOT(F="F")),"C","") | I50: =IF(AND(date>=début, date<=fin,NOT(F="F")),"C","") | J50: =IF(AND(date>=début, date<=fin,NOT(F="F")),"C","") | K50: =IF(AND(date>=début, date<=fin,NOT(F="F")),"C","") | L50: =IF(AND(date>=début, date<=fin,NOT(F="F")),"C","") | M50: =IF(AND(date>=début, date<=fin,NOT(F="F")),"C","") | N50: =IF(AND(date>=début, date<=fin,NOT(F="F")),"C","") | ... NG50: =IF(AND(date>=début, date<=fin,NOT(F="F")),"C","")

Sheet Données
B1: Type congés | C1: Date de départ | D1: Date de retour
A2: Stéphanos | B2: CP
A3: Stéphanos | B3: ABS
A4: Stéphanos | B4: MALADIE
A5: Stéphanos | B5: RTT
A6: Claire | B6: CP
A7: Claire | B7: ABS
A8: Claire | B8: MALADIE
A9: Claire | B9: RTT
A10: Frédéric | B10: CP
A11: Frédéric | B11: ABS
A12: Frédéric | B12: MALADIE
A13: Frédéric | B13: RTT
... A50: XXX | B50: CP
B51: ABS
B52: MALADIE
B53: RTT
A54: XXX | B54: CP
B55: ABS
B56: MALADIE
B57: RTT

Sheet PARAMETRE
A1: TABLE DES JOURS FERIES
B2: ='Planning 2015-2016'!B1 -> 2015 | C2: =B2+1 -> 2016
A3: Premier de l'an | B3: =DATE(B2,1,1) -> 42005 | C3: =DATE(C2,1,1) -> 42370
A4: Lundi de Pâques | B4: =B14+1 -> 42100 | C4: =C14+1 -> 42457
A5: Fête du travail | B5: =DATE(B2,5,1) -> 42125 | C5: =DATE(C2,5,1) -> 42491
A6: Victoire de 1945 | B6: =DATE(B2,5,8) -> 42132 | C6: =DATE(C2,5,8) -> 42498
A7: Ascension | B7: =B14+39 -> 42138 | C7: =C14+39 -> 42495
A8: Pentecôte | B8: =B14+50 -> 42149 | C8: =C14+50 -> 42506
A9: Fête nationale | B9: =DATE(B2,7,14) -> 42199 | C9: =DATE(C2,7,14) -> 42565
A10: Assomption | B10: =DATE(B2,8,15) -> 42231 | C10: =DATE(C2,8,15) -> 42597
A11: Toussaint | B11: =DATE(B2,11,1) -> 42309 | C11: =DATE(C2,11,1) -> 42675
A12: Armistice | B12: =DATE(B2,11,11) -> 42319 | C12: =DATE(C2,11,11) -> 42685
A13: Noël | B13: =DATE(B2,12,25) -> 42363 | C13: =DATE(C2,12,25) -> 42729
A14: Pâques | B14: =DATE(B2,IF((25-MOD((11*MOD(B2-1900,19)+4-INT((7*MOD(B2-1900,19)+1)/19)),29)-MOD(B2-1900+INT((B2-1900)/4)+31-MOD((11*MOD(B2-1900,19)+4-INT((7*MOD(B2-1900,19)+1)/19)),29),7))>0,4,3),IF((25-MOD((11*MOD(B2-1900,19)+4-INT((7*MOD(B2-1900,19)+1)/19)),29)-MOD(B2-1900+INT((B2-1900)/4)+31-MOD((11*MOD(B2-1900,19)+4-INT((7*MOD(B2-1900,19)+1)/19)),29),7))>0,(25-MOD((11*MOD(B2-1900,19)+4-INT((7*MOD(B2-1900,19)+1)/19)),29)-MOD(B2-1900+INT((B2-1900)/4)+31-MOD((11*MOD(B2-1900,19)+4-INT((7*MOD(B2-1900,19)+1)/19)),29),7)),31+(25-MOD((11*MOD(B2-1900,19)+4-INT((7*MOD(B2-1900,19)+1)/19)),29)-MOD(B2-1900+INT((B2-1900)/4)+31-MOD((11*MOD(B2-1900,19)+4-INT((7*MOD(B2-1900,19)+1)/19)),29),7)))) -> 42099 | C14: =DATE(C2,IF((25-MOD((11*MOD(C2-1900,19)+4-INT((7*MOD(C2-1900,19)+1)/19)),29)-MOD(C2-1900+INT((C2-1900)/4)+31-MOD((11*MOD(C2-1900,19)+4-INT((7*MOD(C2-1900,19)+1)/19)),29),7))>0,4,3),IF((25-MOD((11*MOD(C2-1900,19)+4-INT((7*MOD(C2-1900,19)+1)/19)),29)-MOD(C2-1900+INT((C2-1900)/4)+31-MOD((11*MOD(C2-1900,19)+4-INT((7*MOD(C2-1900,19)+1)/19)),29),7))>0,(25-MOD((11*MOD(C2-1900,19)+4-INT((7*MOD(C2-1900,19)+1)/19)),29)-MOD(C2-1900+INT((C2-1900)/4)+31-MOD((11*MOD(C2-1900,19)+4-INT((7*MOD(C2-1900,19)+1)/19)),29),7)),31+(25-MOD((11*MOD(C2-1900,19)+4-INT((7*MOD(C2-1900,19)+1)/19)),29)-MOD(C2-1900+INT((C2-1900)/4)+31-MOD((11*MOD(C2-1900,19)+4-INT((7*MOD(C2-1900,19)+1)/19)),29),7)))) -> 42456
