Workbook
Name DATE: TABLES!$B$1:$B$733

Sheet DONNEES
A2: D.DEPART | D2: PR.DATE
A3: 43049 | D3: 43055

Sheet TABLES
A1: 2017
A2: =+DATE(A1,1,1) -> 42736 | B2: {=IFERROR(INDEX($A$1:$A$733,SMALL(IF($A$2:$A$733>=DONNEES!$A$3+3,ROW($2:$733)),ROWS($1:1)),1),"")} -> 43052
A3: =A2+1 -> 42737 | B3: {=IFERROR(INDEX($A$1:$A$733,SMALL(IF($A$2:$A$733>=DONNEES!$A$3+3,ROW($2:$733)),ROWS($1:2)),1),"")} -> 43053
A4: =A3+1 -> 42738 | B4: {=IFERROR(INDEX($A$1:$A$733,SMALL(IF($A$2:$A$733>=DONNEES!$A$3+3,ROW($2:$733)),ROWS($1:3)),1),"")} -> 43054
A5: =A4+1 -> 42739 | B5: {=IFERROR(INDEX($A$1:$A$733,SMALL(IF($A$2:$A$733>=DONNEES!$A$3+3,ROW($2:$733)),ROWS($1:4)),1),"")} -> 43055
A6: =A5+1 -> 42740 | B6: {=IFERROR(INDEX($A$1:$A$733,SMALL(IF($A$2:$A$733>=DONNEES!$A$3+3,ROW($2:$733)),ROWS($1:5)),1),"")} -> 43056
A7: =A6+1 -> 42741 | B7: {=IFERROR(INDEX($A$1:$A$733,SMALL(IF($A$2:$A$733>=DONNEES!$A$3+3,ROW($2:$733)),ROWS($1:6)),1),"")} -> 43057
A8: =A7+1 -> 42742 | B8: {=IFERROR(INDEX($A$1:$A$733,SMALL(IF($A$2:$A$733>=DONNEES!$A$3+3,ROW($2:$733)),ROWS($1:7)),1),"")} -> 43058
A9: =A8+1 -> 42743 | B9: {=IFERROR(INDEX($A$1:$A$733,SMALL(IF($A$2:$A$733>=DONNEES!$A$3+3,ROW($2:$733)),ROWS($1:8)),1),"")} -> 43059
A10: =A9+1 -> 42744 | B10: {=IFERROR(INDEX($A$1:$A$733,SMALL(IF($A$2:$A$733>=DONNEES!$A$3+3,ROW($2:$733)),ROWS($1:9)),1),"")} -> 43060
A11: =A10+1 -> 42745 | B11: {=IFERROR(INDEX($A$1:$A$733,SMALL(IF($A$2:$A$733>=DONNEES!$A$3+3,ROW($2:$733)),ROWS($1:10)),1),"")} -> 43061
A12: =A11+1 -> 42746 | B12: {=IFERROR(INDEX($A$1:$A$733,SMALL(IF($A$2:$A$733>=DONNEES!$A$3+3,ROW($2:$733)),ROWS($1:11)),1),"")} -> 43062
A13: =A12+1 -> 42747 | B13: {=IFERROR(INDEX($A$1:$A$733,SMALL(IF($A$2:$A$733>=DONNEES!$A$3+3,ROW($2:$733)),ROWS($1:12)),1),"")} -> 43063
A14: =A13+1 -> 42748 | B14: {=IFERROR(INDEX($A$1:$A$733,SMALL(IF($A$2:$A$733>=DONNEES!$A$3+3,ROW($2:$733)),ROWS($1:13)),1),"")} -> 43064
A15: =A14+1 -> 42749 | B15: {=IFERROR(INDEX($A$1:$A$733,SMALL(IF($A$2:$A$733>=DONNEES!$A$3+3,ROW($2:$733)),ROWS($1:14)),1),"")} -> 43065
A16: =A15+1 -> 42750 | B16: {=IFERROR(INDEX($A$1:$A$733,SMALL(IF($A$2:$A$733>=DONNEES!$A$3+3,ROW($2:$733)),ROWS($1:15)),1),"")} -> 43066
A17: =A16+1 -> 42751 | B17: {=IFERROR(INDEX($A$1:$A$733,SMALL(IF($A$2:$A$733>=DONNEES!$A$3+3,ROW($2:$733)),ROWS($1:16)),1),"")} -> 43067
A18: =A17+1 -> 42752 | B18: {=IFERROR(INDEX($A$1:$A$733,SMALL(IF($A$2:$A$733>=DONNEES!$A$3+3,ROW($2:$733)),ROWS($1:17)),1),"")} -> 43068
A19: =A18+1 -> 42753 | B19: {=IFERROR(INDEX($A$1:$A$733,SMALL(IF($A$2:$A$733>=DONNEES!$A$3+3,ROW($2:$733)),ROWS($1:18)),1),"")} -> 43069
A20: =A19+1 -> 42754 | B20: {=IFERROR(INDEX($A$1:$A$733,SMALL(IF($A$2:$A$733>=DONNEES!$A$3+3,ROW($2:$733)),ROWS($1:19)),1),"")} -> 43070
A21: =A20+1 -> 42755 | B21: {=IFERROR(INDEX($A$1:$A$733,SMALL(IF($A$2:$A$733>=DONNEES!$A$3+3,ROW($2:$733)),ROWS($1:20)),1),"")} -> 43071
A22: =A21+1 -> 42756 | B22: {=IFERROR(INDEX($A$1:$A$733,SMALL(IF($A$2:$A$733>=DONNEES!$A$3+3,ROW($2:$733)),ROWS($1:21)),1),"")} -> 43072
A23: =A22+1 -> 42757 | B23: {=IFERROR(INDEX($A$1:$A$733,SMALL(IF($A$2:$A$733>=DONNEES!$A$3+3,ROW($2:$733)),ROWS($1:22)),1),"")} -> 43073
A24: =A23+1 -> 42758 | B24: {=IFERROR(INDEX($A$1:$A$733,SMALL(IF($A$2:$A$733>=DONNEES!$A$3+3,ROW($2:$733)),ROWS($1:23)),1),"")} -> 43074
A25: =A24+1 -> 42759 | B25: {=IFERROR(INDEX($A$1:$A$733,SMALL(IF($A$2:$A$733>=DONNEES!$A$3+3,ROW($2:$733)),ROWS($1:24)),1),"")} -> 43075
A26: =A25+1 -> 42760 | B26: {=IFERROR(INDEX($A$1:$A$733,SMALL(IF($A$2:$A$733>=DONNEES!$A$3+3,ROW($2:$733)),ROWS($1:25)),1),"")} -> 43076
A27: =A26+1 -> 42761 | B27: {=IFERROR(INDEX($A$1:$A$733,SMALL(IF($A$2:$A$733>=DONNEES!$A$3+3,ROW($2:$733)),ROWS($1:26)),1),"")} -> 43077
A28: =A27+1 -> 42762 | B28: {=IFERROR(INDEX($A$1:$A$733,SMALL(IF($A$2:$A$733>=DONNEES!$A$3+3,ROW($2:$733)),ROWS($1:27)),1),"")} -> 43078
A29: =A28+1 -> 42763 | B29: {=IFERROR(INDEX($A$1:$A$733,SMALL(IF($A$2:$A$733>=DONNEES!$A$3+3,ROW($2:$733)),ROWS($1:28)),1),"")} -> 43079
A30: =A29+1 -> 42764 | B30: {=IFERROR(INDEX($A$1:$A$733,SMALL(IF($A$2:$A$733>=DONNEES!$A$3+3,ROW($2:$733)),ROWS($1:29)),1),"")} -> 43080
A31: =A30+1 -> 42765 | B31: {=IFERROR(INDEX($A$1:$A$733,SMALL(IF($A$2:$A$733>=DONNEES!$A$3+3,ROW($2:$733)),ROWS($1:30)),1),"")} -> 43081
A32: =A31+1 -> 42766 | B32: {=IFERROR(INDEX($A$1:$A$733,SMALL(IF($A$2:$A$733>=DONNEES!$A$3+3,ROW($2:$733)),ROWS($1:31)),1),"")} -> 43082
A33: =A32+1 -> 42767 | B33: {=IFERROR(INDEX($A$1:$A$733,SMALL(IF($A$2:$A$733>=DONNEES!$A$3+3,ROW($2:$733)),ROWS($1:32)),1),"")} -> 43083
A34: =A33+1 -> 42768 | B34: {=IFERROR(INDEX($A$1:$A$733,SMALL(IF($A$2:$A$733>=DONNEES!$A$3+3,ROW($2:$733)),ROWS($1:33)),1),"")} -> 43084
A35: =A34+1 -> 42769 | B35: {=IFERROR(INDEX($A$1:$A$733,SMALL(IF($A$2:$A$733>=DONNEES!$A$3+3,ROW($2:$733)),ROWS($1:34)),1),"")} -> 43085
A36: =A35+1 -> 42770 | B36: {=IFERROR(INDEX($A$1:$A$733,SMALL(IF($A$2:$A$733>=DONNEES!$A$3+3,ROW($2:$733)),ROWS($1:35)),1),"")} -> 43086
A37: =A36+1 -> 42771 | B37: {=IFERROR(INDEX($A$1:$A$733,SMALL(IF($A$2:$A$733>=DONNEES!$A$3+3,ROW($2:$733)),ROWS($1:36)),1),"")} -> 43087
A38: =A37+1 -> 42772 | B38: {=IFERROR(INDEX($A$1:$A$733,SMALL(IF($A$2:$A$733>=DONNEES!$A$3+3,ROW($2:$733)),ROWS($1:37)),1),"")} -> 43088
A39: =A38+1 -> 42773 | B39: {=IFERROR(INDEX($A$1:$A$733,SMALL(IF($A$2:$A$733>=DONNEES!$A$3+3,ROW($2:$733)),ROWS($1:38)),1),"")} -> 43089
A40: =A39+1 -> 42774 | B40: {=IFERROR(INDEX($A$1:$A$733,SMALL(IF($A$2:$A$733>=DONNEES!$A$3+3,ROW($2:$733)),ROWS($1:39)),1),"")} -> 43090
...

Sheet Mode d'emploi
A1: Mode d'emploi
A2: 1 | B2: Ne connaissant pas le contexte, l'application propose 2 ans de dates possibles. Il faut préciser dans l'onglet TABLES en A1 l'année de départ. Ici 2017
A3: 2 | B3: Encoder en A3 la date d'origine
A4: 3 | B4: Choisir, à l'aide de la liste déroulante, la date désirée. La liste déroulante élimine toutes les dates inférieures à date d'origine +3
A6: Comment cela marche
A7: 1 | B7: Dans l'onglet TABLES se trouve en colonne A les dates potentielles sur 2 ans à partir de l'année infiquée en A1
A8: 2 | B8: Dans la colonne B on élimine toutes les dates inférieures à la date d'origine indiquée dans l'onglet DONNEES en A3 +3. Cette colonne a été nommée DATE et est utilisée pour déterminer la liste déroulante.
B9: Pour faire cela on utilise la formule matricielle (à introduire avec CTRL / MAJ / ENTER : =SIERREUR(INDEX($A$1:$A$733;PETITE.VALEUR(SI($A$2:$A$733>=DONNEES!$A$3+3;LIGNE($2:$733));LIGNES($1:1));1);"")
B10: Lorsque nous intoduisons cette formule en encodant en même temps CTRL/MAJ/ENTER, des { } viendront se mettre devant et derrière indiquant qu'il s'agit d'une formule matricielle.
B11: Il suffit ensuite de "tirer" vers le bas la formule jusqu'en B733. La formule s'adaptera en fonction des signes $ ou pas.
A12: 3 | B12: L'onglet TABLE est PROTEGE pour éviter de détruire les formules par maladresse. Seul la cellule A1 est accessiblepour l'introduction de la date.
A13: 4 | B13: La MEFC n'a plus été implantée car elle n'est plus nécessaire.
