Workbook
Name DATE: TABLES!$B$1:$B$733

Sheet DONNEES
A2: D.DEPART | D2: PR.DATE
A3: 43049 | D3: 43055

Sheet TABLES
A1: 2017
A2: =+DATE(A1,1,1) -> 42736 | B2: {=IFERROR(INDEX($A$1:$A$733,SMALL(IF($A$2:$A$733>=DONNEES!$A$3+3,ROW($2:$733)),ROWS($1:1)),1),"")} -> 43052
A3: =A2+1 -> 42737 | B3: {=IFERROR(INDEX($A$1:$A$733,SMALL(IF($A$2:$A$733>=DONNEES!$A$3+3,ROW($2:$733)),ROWS($1:2)),1),"")} -> 43053
A4: =A3+1 -> 42738 | B4: {=IFERROR(INDEX($A$1:$A$733,SMALL(IF($A$2:$A$733>=DONNEES!$A$3+3,ROW($2:$733)),ROWS($1:3)),1),"")} -> 43054
A5: =A4+1 -> 42739 | B5: {=IFERROR(INDEX($A$1:$A$733,SMALL(IF($A$2:$A$733>=DONNEES!$A$3+3,ROW($2:$733)),ROWS($1:4)),1),"")} -> 43055
A6: =A5+1 -> 42740 | B6: {=IFERROR(INDEX($A$1:$A$733,SMALL(IF($A$2:$A$733>=DONNEES!$A$3+3,ROW($2:$733)),ROWS($1:5)),1),"")} -> 43056
A7: =A6+1 -> 42741 | B7: {=IFERROR(INDEX($A$1:$A$733,SMALL(IF($A$2:$A$733>=DONNEES!$A$3+3,ROW($2:$733)),ROWS($1:6)),1),"")} -> 43057
A8: =A7+1 -> 42742 | B8: {=IFERROR(INDEX($A$1:$A$733,SMALL(IF($A$2:$A$733>=DONNEES!$A$3+3,ROW($2:$733)),ROWS($1:7)),1),"")} -> 43058
A9: =A8+1 -> 42743 | B9: {=IFERROR(INDEX($A$1:$A$733,SMALL(IF($A$2:$A$733>=DONNEES!$A$3+3,ROW($2:$733)),ROWS($1:8)),1),"")} -> 43059
A10: =A9+1 -> 42744 | B10: {=IFERROR(INDEX($A$1:$A$733,SMALL(IF($A$2:$A$733>=DONNEES!$A$3+3,ROW($2:$733)),ROWS($1:9)),1),"")} -> 43060
A11: =A10+1 -> 42745 | B11: {=IFERROR(INDEX($A$1:$A$733,SMALL(IF($A$2:$A$733>=DONNEES!$A$3+3,ROW($2:$733)),ROWS($1:10)),1),"")} -> 43061
A12: =A11+1 -> 42746 | B12: {=IFERROR(INDEX($A$1:$A$733,SMALL(IF($A$2:$A$733>=DONNEES!$A$3+3,ROW($2:$733)),ROWS($1:11)),1),"")} -> 43062
A13: =A12+1 -> 42747 | B13: {=IFERROR(INDEX($A$1:$A$733,SMALL(IF($A$2:$A$733>=DONNEES!$A$3+3,ROW($2:$733)),ROWS($1:12)),1),"")} -> 43063
A14: =A13+1 -> 42748 | B14: {=IFERROR(INDEX($A$1:$A$733,SMALL(IF($A$2:$A$733>=DONNEES!$A$3+3,ROW($2:$733)),ROWS($1:13)),1),"")} -> 43064
A15: =A14+1 -> 42749 | B15: {=IFERROR(INDEX($A$1:$A$733,SMALL(IF($A$2:$A$733>=DONNEES!$A$3+3,ROW($2:$733)),ROWS($1:14)),1),"")} -> 43065
A16: =A15+1 -> 42750 | B16: {=IFERROR(INDEX($A$1:$A$733,SMALL(IF($A$2:$A$733>=DONNEES!$A$3+3,ROW($2:$733)),ROWS($1:15)),1),"")} -> 43066
A17: =A16+1 -> 42751 | B17: {=IFERROR(INDEX($A$1:$A$733,SMALL(IF($A$2:$A$733>=DONNEES!$A$3+3,ROW($2:$733)),ROWS($1:16)),1),"")} -> 43067
A18: =A17+1 -> 42752 | B18: {=IFERROR(INDEX($A$1:$A$733,SMALL(IF($A$2:$A$733>=DONNEES!$A$3+3,ROW($2:$733)),ROWS($1:17)),1),"")} -> 43068
A19: =A18+1 -> 42753 | B19: {=IFERROR(INDEX($A$1:$A$733,SMALL(IF($A$2:$A$733>=DONNEES!$A$3+3,ROW($2:$733)),ROWS($1:18)),1),"")} -> 43069
A20: =A19+1 -> 42754 | B20: {=IFERROR(INDEX($A$1:$A$733,SMALL(IF($A$2:$A$733>=DONNEES!$A$3+3,ROW($2:$733)),ROWS($1:19)),1),"")} -> 43070
A21: =A20+1 -> 42755 | B21: {=IFERROR(INDEX($A$1:$A$733,SMALL(IF($A$2:$A$733>=DONNEES!$A$3+3,ROW($2:$733)),ROWS($1:20)),1),"")} -> 43071
A22: =A21+1 -> 42756 | B22: {=IFERROR(INDEX($A$1:$A$733,SMALL(IF($A$2:$A$733>=DONNEES!$A$3+3,ROW($2:$733)),ROWS($1:21)),1),"")} -> 43072
A23: =A22+1 -> 42757 | B23: {=IFERROR(INDEX($A$1:$A$733,SMALL(IF($A$2:$A$733>=DONNEES!$A$3+3,ROW($2:$733)),ROWS($1:22)),1),"")} -> 43073
A24: =A23+1 -> 42758 | B24: {=IFERROR(INDEX($A$1:$A$733,SMALL(IF($A$2:$A$733>=DONNEES!$A$3+3,ROW($2:$733)),ROWS($1:23)),1),"")} -> 43074
A25: =A24+1 -> 42759 | B25: {=IFERROR(INDEX($A$1:$A$733,SMALL(IF($A$2:$A$733>=DONNEES!$A$3+3,ROW($2:$733)),ROWS($1:24)),1),"")} -> 43075
A26: =A25+1 -> 42760 | B26: {=IFERROR(INDEX($A$1:$A$733,SMALL(IF($A$2:$A$733>=DONNEES!$A$3+3,ROW($2:$733)),ROWS($1:25)),1),"")} -> 43076
A27: =A26+1 -> 42761 | B27: {=IFERROR(INDEX($A$1:$A$733,SMALL(IF($A$2:$A$733>=DONNEES!$A$3+3,ROW($2:$733)),ROWS($1:26)),1),"")} -> 43077
A28: =A27+1 -> 42762 | B28: {=IFERROR(INDEX($A$1:$A$733,SMALL(IF($A$2:$A$733>=DONNEES!$A$3+3,ROW($2:$733)),ROWS($1:27)),1),"")} -> 43078
A29: =A28+1 -> 42763 | B29: {=IFERROR(INDEX($A$1:$A$733,SMALL(IF($A$2:$A$733>=DONNEES!$A$3+3,ROW($2:$733)),ROWS($1:28)),1),"")} -> 43079
A30: =A29+1 -> 42764 | B30: {=IFERROR(INDEX($A$1:$A$733,SMALL(IF($A$2:$A$733>=DONNEES!$A$3+3,ROW($2:$733)),ROWS($1:29)),1),"")} -> 43080
A31: =A30+1 -> 42765 | B31: {=IFERROR(INDEX($A$1:$A$733,SMALL(IF($A$2:$A$733>=DONNEES!$A$3+3,ROW($2:$733)),ROWS($1:30)),1),"")} -> 43081
A32: =A31+1 -> 42766 | B32: {=IFERROR(INDEX($A$1:$A$733,SMALL(IF($A$2:$A$733>=DONNEES!$A$3+3,ROW($2:$733)),ROWS($1:31)),1),"")} -> 43082
A33: =A32+1 -> 42767 | B33: {=IFERROR(INDEX($A$1:$A$733,SMALL(IF($A$2:$A$733>=DONNEES!$A$3+3,ROW($2:$733)),ROWS($1:32)),1),"")} -> 43083
A34: =A33+1 -> 42768 | B34: {=IFERROR(INDEX($A$1:$A$733,SMALL(IF($A$2:$A$733>=DONNEES!$A$3+3,ROW($2:$733)),ROWS($1:33)),1),"")} -> 43084
A35: =A34+1 -> 42769 | B35: {=IFERROR(INDEX($A$1:$A$733,SMALL(IF($A$2:$A$733>=DONNEES!$A$3+3,ROW($2:$733)),ROWS($1:34)),1),"")} -> 43085
A36: =A35+1 -> 42770 | B36: {=IFERROR(INDEX($A$1:$A$733,SMALL(IF($A$2:$A$733>=DONNEES!$A$3+3,ROW($2:$733)),ROWS($1:35)),1),"")} -> 43086
A37: =A36+1 -> 42771 | B37: {=IFERROR(INDEX($A$1:$A$733,SMALL(IF($A$2:$A$733>=DONNEES!$A$3+3,ROW($2:$733)),ROWS($1:36)),1),"")} -> 43087
A38: =A37+1 -> 42772 | B38: {=IFERROR(INDEX($A$1:$A$733,SMALL(IF($A$2:$A$733>=DONNEES!$A$3+3,ROW($2:$733)),ROWS($1:37)),1),"")} -> 43088
A39: =A38+1 -> 42773 | B39: {=IFERROR(INDEX($A$1:$A$733,SMALL(IF($A$2:$A$733>=DONNEES!$A$3+3,ROW($2:$733)),ROWS($1:38)),1),"")} -> 43089
A40: =A39+1 -> 42774 | B40: {=IFERROR(INDEX($A$1:$A$733,SMALL(IF($A$2:$A$733>=DONNEES!$A$3+3,ROW($2:$733)),ROWS($1:39)),1),"")} -> 43090
A41: =A40+1 -> 42775 | B41: {=IFERROR(INDEX($A$1:$A$733,SMALL(IF($A$2:$A$733>=DONNEES!$A$3+3,ROW($2:$733)),ROWS($1:40)),1),"")} -> 43091
A42: =A41+1 -> 42776 | B42: {=IFERROR(INDEX($A$1:$A$733,SMALL(IF($A$2:$A$733>=DONNEES!$A$3+3,ROW($2:$733)),ROWS($1:41)),1),"")} -> 43092
A43: =A42+1 -> 42777 | B43: {=IFERROR(INDEX($A$1:$A$733,SMALL(IF($A$2:$A$733>=DONNEES!$A$3+3,ROW($2:$733)),ROWS($1:42)),1),"")} -> 43093
A44: =A43+1 -> 42778 | B44: {=IFERROR(INDEX($A$1:$A$733,SMALL(IF($A$2:$A$733>=DONNEES!$A$3+3,ROW($2:$733)),ROWS($1:43)),1),"")} -> 43094
A45: =A44+1 -> 42779 | B45: {=IFERROR(INDEX($A$1:$A$733,SMALL(IF($A$2:$A$733>=DONNEES!$A$3+3,ROW($2:$733)),ROWS($1:44)),1),"")} -> 43095
A46: =A45+1 -> 42780 | B46: {=IFERROR(INDEX($A$1:$A$733,SMALL(IF($A$2:$A$733>=DONNEES!$A$3+3,ROW($2:$733)),ROWS($1:45)),1),"")} -> 43096
A47: =A46+1 -> 42781 | B47: {=IFERROR(INDEX($A$1:$A$733,SMALL(IF($A$2:$A$733>=DONNEES!$A$3+3,ROW($2:$733)),ROWS($1:46)),1),"")} -> 43097
A48: =A47+1 -> 42782 | B48: {=IFERROR(INDEX($A$1:$A$733,SMALL(IF($A$2:$A$733>=DONNEES!$A$3+3,ROW($2:$733)),ROWS($1:47)),1),"")} -> 43098
A49: =A48+1 -> 42783 | B49: {=IFERROR(INDEX($A$1:$A$733,SMALL(IF($A$2:$A$733>=DONNEES!$A$3+3,ROW($2:$733)),ROWS($1:48)),1),"")} -> 43099
A50: =A49+1 -> 42784 | B50: {=IFERROR(INDEX($A$1:$A$733,SMALL(IF($A$2:$A$733>=DONNEES!$A$3+3,ROW($2:$733)),ROWS($1:49)),1),"")} -> 43100
A51: =A50+1 -> 42785 | B51: {=IFERROR(INDEX($A$1:$A$733,SMALL(IF($A$2:$A$733>=DONNEES!$A$3+3,ROW($2:$733)),ROWS($1:50)),1),"")} -> 43101
A52: =A51+1 -> 42786 | B52: {=IFERROR(INDEX($A$1:$A$733,SMALL(IF($A$2:$A$733>=DONNEES!$A$3+3,ROW($2:$733)),ROWS($1:51)),1),"")} -> 43102
A53: =A52+1 -> 42787 | B53: {=IFERROR(INDEX($A$1:$A$733,SMALL(IF($A$2:$A$733>=DONNEES!$A$3+3,ROW($2:$733)),ROWS($1:52)),1),"")} -> 43103
A54: =A53+1 -> 42788 | B54: {=IFERROR(INDEX($A$1:$A$733,SMALL(IF($A$2:$A$733>=DONNEES!$A$3+3,ROW($2:$733)),ROWS($1:53)),1),"")} -> 43104
A55: =A54+1 -> 42789 | B55: {=IFERROR(INDEX($A$1:$A$733,SMALL(IF($A$2:$A$733>=DONNEES!$A$3+3,ROW($2:$733)),ROWS($1:54)),1),"")} -> 43105
A56: =A55+1 -> 42790 | B56: {=IFERROR(INDEX($A$1:$A$733,SMALL(IF($A$2:$A$733>=DONNEES!$A$3+3,ROW($2:$733)),ROWS($1:55)),1),"")} -> 43106
A57: =A56+1 -> 42791 | B57: {=IFERROR(INDEX($A$1:$A$733,SMALL(IF($A$2:$A$733>=DONNEES!$A$3+3,ROW($2:$733)),ROWS($1:56)),1),"")} -> 43107
A58: =A57+1 -> 42792 | B58: {=IFERROR(INDEX($A$1:$A$733,SMALL(IF($A$2:$A$733>=DONNEES!$A$3+3,ROW($2:$733)),ROWS($1:57)),1),"")} -> 43108
A59: =A58+1 -> 42793 | B59: {=IFERROR(INDEX($A$1:$A$733,SMALL(IF($A$2:$A$733>=DONNEES!$A$3+3,ROW($2:$733)),ROWS($1:58)),1),"")} -> 43109
A60: =A59+1 -> 42794 | B60: {=IFERROR(INDEX($A$1:$A$733,SMALL(IF($A$2:$A$733>=DONNEES!$A$3+3,ROW($2:$733)),ROWS($1:59)),1),"")} -> 43110
A61: =A60+1 -> 42795 | B61: {=IFERROR(INDEX($A$1:$A$733,SMALL(IF($A$2:$A$733>=DONNEES!$A$3+3,ROW($2:$733)),ROWS($1:60)),1),"")} -> 43111
A62: =A61+1 -> 42796 | B62: {=IFERROR(INDEX($A$1:$A$733,SMALL(IF($A$2:$A$733>=DONNEES!$A$3+3,ROW($2:$733)),ROWS($1:61)),1),"")} -> 43112
A63: =A62+1 -> 42797 | B63: {=IFERROR(INDEX($A$1:$A$733,SMALL(IF($A$2:$A$733>=DONNEES!$A$3+3,ROW($2:$733)),ROWS($1:62)),1),"")} -> 43113
A64: =A63+1 -> 42798 | B64: {=IFERROR(INDEX($A$1:$A$733,SMALL(IF($A$2:$A$733>=DONNEES!$A$3+3,ROW($2:$733)),ROWS($1:63)),1),"")} -> 43114
A65: =A64+1 -> 42799 | B65: {=IFERROR(INDEX($A$1:$A$733,SMALL(IF($A$2:$A$733>=DONNEES!$A$3+3,ROW($2:$733)),ROWS($1:64)),1),"")} -> 43115
A66: =A65+1 -> 42800 | B66: {=IFERROR(INDEX($A$1:$A$733,SMALL(IF($A$2:$A$733>=DONNEES!$A$3+3,ROW($2:$733)),ROWS($1:65)),1),"")} -> 43116
A67: =A66+1 -> 42801 | B67: {=IFERROR(INDEX($A$1:$A$733,SMALL(IF($A$2:$A$733>=DONNEES!$A$3+3,ROW($2:$733)),ROWS($1:66)),1),"")} -> 43117
A68: =A67+1 -> 42802 | B68: {=IFERROR(INDEX($A$1:$A$733,SMALL(IF($A$2:$A$733>=DONNEES!$A$3+3,ROW($2:$733)),ROWS($1:67)),1),"")} -> 43118
A69: =A68+1 -> 42803 | B69: {=IFERROR(INDEX($A$1:$A$733,SMALL(IF($A$2:$A$733>=DONNEES!$A$3+3,ROW($2:$733)),ROWS($1:68)),1),"")} -> 43119
A70: =A69+1 -> 42804 | B70: {=IFERROR(INDEX($A$1:$A$733,SMALL(IF($A$2:$A$733>=DONNEES!$A$3+3,ROW($2:$733)),ROWS($1:69)),1),"")} -> 43120
A71: =A70+1 -> 42805 | B71: {=IFERROR(INDEX($A$1:$A$733,SMALL(IF($A$2:$A$733>=DONNEES!$A$3+3,ROW($2:$733)),ROWS($1:70)),1),"")} -> 43121
A72: =A71+1 -> 42806 | B72: {=IFERROR(INDEX($A$1:$A$733,SMALL(IF($A$2:$A$733>=DONNEES!$A$3+3,ROW($2:$733)),ROWS($1:71)),1),"")} -> 43122
A73: =A72+1 -> 42807 | B73: {=IFERROR(INDEX($A$1:$A$733,SMALL(IF($A$2:$A$733>=DONNEES!$A$3+3,ROW($2:$733)),ROWS($1:72)),1),"")} -> 43123
A74: =A73+1 -> 42808 | B74: {=IFERROR(INDEX($A$1:$A$733,SMALL(IF($A$2:$A$733>=DONNEES!$A$3+3,ROW($2:$733)),ROWS($1:73)),1),"")} -> 43124
A75: =A74+1 -> 42809 | B75: {=IFERROR(INDEX($A$1:$A$733,SMALL(IF($A$2:$A$733>=DONNEES!$A$3+3,ROW($2:$733)),ROWS($1:74)),1),"")} -> 43125
A76: =A75+1 -> 42810 | B76: {=IFERROR(INDEX($A$1:$A$733,SMALL(IF($A$2:$A$733>=DONNEES!$A$3+3,ROW($2:$733)),ROWS($1:75)),1),"")} -> 43126
A77: =A76+1 -> 42811 | B77: {=IFERROR(INDEX($A$1:$A$733,SMALL(IF($A$2:$A$733>=DONNEES!$A$3+3,ROW($2:$733)),ROWS($1:76)),1),"")} -> 43127
A78: =A77+1 -> 42812 | B78: {=IFERROR(INDEX($A$1:$A$733,SMALL(IF($A$2:$A$733>=DONNEES!$A$3+3,ROW($2:$733)),ROWS($1:77)),1),"")} -> 43128
A79: =A78+1 -> 42813 | B79: {=IFERROR(INDEX($A$1:$A$733,SMALL(IF($A$2:$A$733>=DONNEES!$A$3+3,ROW($2:$733)),ROWS($1:78)),1),"")} -> 43129
A80: =A79+1 -> 42814 | B80: {=IFERROR(INDEX($A$1:$A$733,SMALL(IF($A$2:$A$733>=DONNEES!$A$3+3,ROW($2:$733)),ROWS($1:79)),1),"")} -> 43130
A81: =A80+1 -> 42815 | B81: {=IFERROR(INDEX($A$1:$A$733,SMALL(IF($A$2:$A$733>=DONNEES!$A$3+3,ROW($2:$733)),ROWS($1:80)),1),"")} -> 43131
A82: =A81+1 -> 42816 | B82: {=IFERROR(INDEX($A$1:$A$733,SMALL(IF($A$2:$A$733>=DONNEES!$A$3+3,ROW($2:$733)),ROWS($1:81)),1),"")} -> 43132
A83: =A82+1 -> 42817 | B83: {=IFERROR(INDEX($A$1:$A$733,SMALL(IF($A$2:$A$733>=DONNEES!$A$3+3,ROW($2:$733)),ROWS($1:82)),1),"")} -> 43133
A84: =A83+1 -> 42818 | B84: {=IFERROR(INDEX($A$1:$A$733,SMALL(IF($A$2:$A$733>=DONNEES!$A$3+3,ROW($2:$733)),ROWS($1:83)),1),"")} -> 43134
A85: =A84+1 -> 42819 | B85: {=IFERROR(INDEX($A$1:$A$733,SMALL(IF($A$2:$A$733>=DONNEES!$A$3+3,ROW($2:$733)),ROWS($1:84)),1),"")} -> 43135
A86: =A85+1 -> 42820 | B86: {=IFERROR(INDEX($A$1:$A$733,SMALL(IF($A$2:$A$733>=DONNEES!$A$3+3,ROW($2:$733)),ROWS($1:85)),1),"")} -> 43136
A87: =A86+1 -> 42821 | B87: {=IFERROR(INDEX($A$1:$A$733,SMALL(IF($A$2:$A$733>=DONNEES!$A$3+3,ROW($2:$733)),ROWS($1:86)),1),"")} -> 43137
A88: =A87+1 -> 42822 | B88: {=IFERROR(INDEX($A$1:$A$733,SMALL(IF($A$2:$A$733>=DONNEES!$A$3+3,ROW($2:$733)),ROWS($1:87)),1),"")} -> 43138
A89: =A88+1 -> 42823 | B89: {=IFERROR(INDEX($A$1:$A$733,SMALL(IF($A$2:$A$733>=DONNEES!$A$3+3,ROW($2:$733)),ROWS($1:88)),1),"")} -> 43139
A90: =A89+1 -> 42824 | B90: {=IFERROR(INDEX($A$1:$A$733,SMALL(IF($A$2:$A$733>=DONNEES!$A$3+3,ROW($2:$733)),ROWS($1:89)),1),"")} -> 43140
A91: =A90+1 -> 42825 | B91: {=IFERROR(INDEX($A$1:$A$733,SMALL(IF($A$2:$A$733>=DONNEES!$A$3+3,ROW($2:$733)),ROWS($1:90)),1),"")} -> 43141
A92: =A91+1 -> 42826 | B92: {=IFERROR(INDEX($A$1:$A$733,SMALL(IF($A$2:$A$733>=DONNEES!$A$3+3,ROW($2:$733)),ROWS($1:91)),1),"")} -> 43142
A93: =A92+1 -> 42827 | B93: {=IFERROR(INDEX($A$1:$A$733,SMALL(IF($A$2:$A$733>=DONNEES!$A$3+3,ROW($2:$733)),ROWS($1:92)),1),"")} -> 43143
A94: =A93+1 -> 42828 | B94: {=IFERROR(INDEX($A$1:$A$733,SMALL(IF($A$2:$A$733>=DONNEES!$A$3+3,ROW($2:$733)),ROWS($1:93)),1),"")} -> 43144
A95: =A94+1 -> 42829 | B95: {=IFERROR(INDEX($A$1:$A$733,SMALL(IF($A$2:$A$733>=DONNEES!$A$3+3,ROW($2:$733)),ROWS($1:94)),1),"")} -> 43145
A96: =A95+1 -> 42830 | B96: {=IFERROR(INDEX($A$1:$A$733,SMALL(IF($A$2:$A$733>=DONNEES!$A$3+3,ROW($2:$733)),ROWS($1:95)),1),"")} -> 43146
A97: =A96+1 -> 42831 | B97: {=IFERROR(INDEX($A$1:$A$733,SMALL(IF($A$2:$A$733>=DONNEES!$A$3+3,ROW($2:$733)),ROWS($1:96)),1),"")} -> 43147
A98: =A97+1 -> 42832 | B98: {=IFERROR(INDEX($A$1:$A$733,SMALL(IF($A$2:$A$733>=DONNEES!$A$3+3,ROW($2:$733)),ROWS($1:97)),1),"")} -> 43148
A99: =A98+1 -> 42833 | B99: {=IFERROR(INDEX($A$1:$A$733,SMALL(IF($A$2:$A$733>=DONNEES!$A$3+3,ROW($2:$733)),ROWS($1:98)),1),"")} -> 43149
A100: =A99+1 -> 42834 | B100: {=IFERROR(INDEX($A$1:$A$733,SMALL(IF($A$2:$A$733>=DONNEES!$A$3+3,ROW($2:$733)),ROWS($1:99)),1),"")} -> 43150
...

Sheet Mode d'emploi
A1: Mode d'emploi
A2: 1 | B2: Ne connaissant pas le contexte, l'application propose 2 ans de dates possibles. Il faut préciser dans l'onglet TABLES en A1 l'année de départ. Ici 2017
A3: 2 | B3: Encoder en A3 la date d'origine
A4: 3 | B4: Choisir, à l'aide de la liste déroulante, la date désirée. La liste déroulante élimine toutes les dates inférieures à date d'origine +3
A6: Comment cela marche
A7: 1 | B7: Dans l'onglet TABLES se trouve en colonne A les dates potentielles sur 2 ans à partir de l'année infiquée en A1
A8: 2 | B8: Dans la colonne B on élimine toutes les dates inférieures à la date d'origine indiquée dans l'onglet DONNEES en A3 +3. Cette colonne a été nommée DATE et est utilisée pour déterminer la liste déroulante.
B9: Pour faire cela on utilise la formule matricielle (à introduire avec CTRL / MAJ / ENTER : =SIERREUR(INDEX($A$1:$A$733;PETITE.VALEUR(SI($A$2:$A$733>=DONNEES!$A$3+3;LIGNE($2:$733));LIGNES($1:1));1);"")
B10: Lorsque nous intoduisons cette formule en encodant en même temps CTRL/MAJ/ENTER, des { } viendront se mettre devant et derrière indiquant qu'il s'agit d'une formule matricielle.
B11: Il suffit ensuite de "tirer" vers le bas la formule jusqu'en B733. La formule s'adaptera en fonction des signes $ ou pas.
A12: 3 | B12: L'onglet TABLE est PROTEGE pour éviter de détruire les formules par maladresse. Seul la cellule A1 est accessiblepour l'introduction de la date.
A13: 4 | B13: La MEFC n'a plus été implantée car elle n'est plus nécessaire.
