Workbook
Name date: Planning!$E$2:$GF$2
Name début: Planning!$B$2:$B$11
Name F: Planning!$A$3:$GF$3
Name fin: Planning!$C$2:$C$11

Sheet Planning
A1: CONGES | B1: 2015 | C1: =B1+1 -> 2016 | E1: 42125 | F1: 42126 | G1: 42127 | H1: 42128 | I1: 42129 | J1: 42130 | K1: 42131 | L1: 42132 | M1: 42133 | N1: 42134 | O1: 42135 | P1: 42136 | Q1: 42137 | R1: 42138 | S1: 42139 | T1: 42140 | U1: 42141 | V1: 42142 | W1: 42143 | X1: 42144 | Y1: 42145 | Z1: 42146 | AA1: 42147 | AB1: 42148 | AC1: 42149 | AD1: 42150 | AE1: 42151 | AF1: 42152 | AG1: 42153 | AH1: 42154 | AI1: 42155 | AJ1: 42156 | AK1: 42157 | AL1: 42158 | AM1: 42159 | AN1: 42160 | AO1: 42161 | AP1: 42162 | AQ1: 42163 | AR1: 42164 | AS1: 42165 | AT1: 42166 | AU1: 42167 | AV1: 42168 | AW1: 42169 | AX1: 42170 | AY1: 42171 | AZ1: 42172 | BA1: 42173 | BB1: 42174 | BC1: 42175 | BD1: 42176 | BE1: 42177 | BF1: 42178 | BG1: 42179 | BH1: 42180 | BI1: 42181 | BJ1: 42182 | BK1: 42183 | BL1: 42184 | BM1: 42185 | BN1: 42186 | BO1: 42187 | BP1: 42188 | BQ1: 42189 | BR1: 42190 | BS1: 42191 | BT1: 42192 | BU1: 42193 | BV1: 42194 | BW1: 42195 | BX1: 42196 | BY1: 42197 | BZ1: 42198 | CA1: 42199 | CB1: 42200 | CC1: 42201 | CD1: 42202 | CE1: 42203 | CF1: 42204 | CG1: 42205 | CH1: 42206 | CI1: 42207 | CJ1: 42208 | CK1: 42209 | CL1: 42210 | CM1: 42211 | CN1: 42212 | CO1: 42213 | CP1: 42214 | CQ1: 42215 | CR1: 42216 | CS1: 42217 | CT1: 42218 | CU1: 42219 | CV1: 42220 | CW1: 42221 | CX1: 42222 | CY1: 42223 | CZ1: 42224 | DA1: 42225 | DB1: 42226 | DC1: 42227 | DD1: 42228 | DE1: 42229 | DF1: 42230 | DG1: 42231 | DH1: 42232 | DI1: 42233 | DJ1: 42234 | DK1: 42235 | DL1: 42236 | DM1: 42237 | DN1: 42238 | DO1: 42239 | DP1: 42240 | DQ1: 42241 | DR1: 42242 | DS1: 42243 | DT1: 42244 | DU1: 42245 | DV1: 42246 | DW1: 42247 | DX1: 42248 | DY1: 42249 | DZ1: 42250 | EA1: 42251 | EB1: 42252 | EC1: 42253 | ED1: 42254 | EE1: 42255 | EF1: 42256 | EG1: 42257 | EH1: 42258 | EI1: 42259 | EJ1: 42260 | EK1: 42261 | EL1: 42262 | EM1: 42263 | EN1: 42264 | EO1: 42265 | EP1: 42266 | EQ1: 42267 | ER1: 42268 | ES1: 42269 | ET1: 42270 | EU1: 42271 | EV1: 42272 | EW1: 42273 | EX1: 42274 | EY1: 42275 | EZ1: 42276 | FA1: 42277 | FB1: 42278 | FC1: 42279 | FD1: 42280 | FE1: 42281 | FF1: 42282 | FG1: 42283 | FH1: 42284 | FI1: 42285 | FJ1: 42286 | FK1: 42287 | FL1: 42288 | FM1: 42289 | FN1: 42290 | FO1: 42291 | FP1: 42292 | FQ1: 42293 | FR1: 42294 | FS1: 42295 | FT1: 42296 | FU1: 42297 | FV1: 42298 | FW1: 42299 | FX1: 42300 | FY1: 42301 | FZ1: 42302 | GA1: 42303 | GB1: 42304 | GC1: 42305 | GD1: 42306 | GE1: 42307 | GF1: 42308 | GG1: 42309 | GH1: 42310 | GI1: 42311 | GJ1: 42312 | GK1: 42313 | GL1: 42314 | GM1: 42315 | GN1: 42316 | GO1: 42317 | GP1: 42318 | GQ1: 42319 | GR1: 42320 | GS1: 42321 | GT1: 42322 | GU1: 42323 | GV1: 42324 | GW1: 42325 | GX1: 42326 | GY1: 42327 | GZ1: 42328 | HA1: 42329 | HB1: 42330 | HC1: 42331 | HD1: 42332 | HE1: 42333 | HF1: 42334 | HG1: 42335 | HH1: 42336 | HI1: 42337 | HJ1: 42338 | HK1: 42339 | HL1: 42340 | HM1: 42341 | HN1: 42342 | HO1: 42343 | HP1: 42344 | HQ1: 42345 | HR1: 42346 | HS1: 42347 | HT1: 42348 | HU1: 42349 | HV1: 42350 | HW1: 42351 | HX1: 42352 | HY1: 42353 | HZ1: 42354 | IA1: 42355 | IB1: 42356 | IC1: 42357 | ID1: 42358 | IE1: 42359 | IF1: 42360 | IG1: 42361 | IH1: 42362 | II1: 42363 | IJ1: 42364 | IK1: 42365 | IL1: 42366 | IM1: 42367 | IN1: 42368 | IO1: 42369 | IP1: 42370 | IQ1: 42371 | IR1: 42372 | IS1: 42373 | IT1: 42374 | IU1: 42375 | IV1: 42376 | IW1: 42377 | IX1: 42378 | IY1: 42379 | IZ1: 42380 | JA1: 42381 | JB1: 42382 | JC1: 42383 | JD1: 42384 | JE1: 42385 | JF1: 42386 | JG1: 42387 | JH1: 42388 | JI1: 42389 | JJ1: 42390 | JK1: 42391 | JL1: 42392 | JM1: 42393 | JN1: 42394 | JO1: 42395 | JP1: 42396 | JQ1: 42397 | JR1: 42398 | JS1: 42399 | JT1: 42400 | JU1: 42401 | JV1: 42402 | JW1: 42403 | JX1: 42404 | JY1: 42405 | JZ1: 42406 | KA1: 42407 | KB1: 42408 | KC1: 42409 | KD1: 42410 | KE1: 42411 | KF1: 42412 | KG1: 42413 | KH1: 42414 | KI1: 42415 | KJ1: 42416 | KK1: 42417 | KL1: 42418 | KM1: 42419 | KN1: 42420 | KO1: 42421 | KP1: 42422 | KQ1: 42423 | KR1: 42424 | KS1: 42425 | KT1: 42426 | KU1: 42427 | KV1: 42428 | KW1: 42429 | KX1: 42430 | KY1: 42431 | KZ1: 42432 | LA1: 42433 | LB1: 42434 | LC1: 42435 | LD1: 42436 | LE1: 42437 | LF1: 42438 | LG1: 42439 | LH1: 42440 | LI1: 42441 | LJ1: 42442 | LK1: 42443 | LL1: 42444 | LM1: 42445 | LN1: 42446 | LO1: 42447 | LP1: 42448 | LQ1: 42449 | LR1: 42450 | LS1: 42451 | LT1: 42452 | LU1: 42453 | LV1: 42454 | LW1: 42455 | LX1: 42456 | LY1: 42457 | LZ1: 42458 | MA1: 42459 | MB1: 42460 | MC1: 42461 | MD1: 42462 | ME1: 42463 | MF1: 42464 | MG1: 42465 | MH1: 42466 | MI1: 42467 | MJ1: 42468 | MK1: 42469 | ML1: 42470 | MM1: 42471 | MN1: 42472 | MO1: 42473 | MP1: 42474 | MQ1: 42475 | MR1: 42476 | MS1: 42477 | MT1: 42478 | MU1: 42479 | MV1: 42480 | MW1: 42481 | MX1: 42482 | MY1: 42483 | MZ1: 42484 | NA1: 42485 | NB1: 42486 | NC1: 42487 | ND1: 42488 | NE1: 42489 | NF1: 42490 | NG1: 42491 | NH1: 42492 | NI1: 42493 | NJ1: 42494 | NK1: 42495 | NL1: 42496 | NM1: 42497 | NN1: 42498 | NO1: 42499 | NP1: 42500 | NQ1: 42501 | NR1: 42502 | NS1: 42503 | NT1: 42504
A2: NOM Prénom | B2: début | C2: fin | D2: JO | E2: =E1 -> 42125 | F2: =F1 -> 42126 | G2: =G1 -> 42127 | H2: =H1 -> 42128 | I2: =I1 -> 42129 | J2: =J1 -> 42130 | K2: =K1 -> 42131 | L2: =L1 -> 42132 | ... NT2: =NT1 -> 42504
E3: =IF(ISNA(VLOOKUP(E$1,IF(YEAR(E1)=B1,Données!$I$2:$I$14,Données!$J$2:$J$14),2,FALSE))=TRUE,IF(WEEKDAY(1:1,2)>5,"WE",""),"FER") -> FER | F3: =IF(ISNA(VLOOKUP(F$1,IF(YEAR(F1)=C1,Données!$I$2:$I$14,Données!$J$2:$J$14),2,FALSE))=TRUE,IF(WEEKDAY(1:1,2)>5,"WE",""),"FER") -> WE | G3: =IF(ISNA(VLOOKUP(G$1,IF(YEAR(G1)=D1,Données!$I$2:$I$14,Données!$J$2:$J$14),2,FALSE))=TRUE,IF(WEEKDAY(1:1,2)>5,"WE",""),"FER") -> WE | H3: =IF(ISNA(VLOOKUP(H$1,IF(YEAR(H1)=E1,Données!$I$2:$I$14,Données!$J$2:$J$14),2,FALSE))=TRUE,IF(WEEKDAY(1:1,2)>5,"WE",""),"FER") | I3: =IF(ISNA(VLOOKUP(I$1,IF(YEAR(I1)=F1,Données!$I$2:$I$14,Données!$J$2:$J$14),2,FALSE))=TRUE,IF(WEEKDAY(1:1,2)>5,"WE",""),"FER") | J3: =IF(ISNA(VLOOKUP(J$1,IF(YEAR(J1)=G1,Données!$I$2:$I$14,Données!$J$2:$J$14),2,FALSE))=TRUE,IF(WEEKDAY(1:1,2)>5,"WE",""),"FER") | K3: =IF(ISNA(VLOOKUP(K$1,IF(YEAR(K1)=H1,Données!$I$2:$I$14,Données!$J$2:$J$14),2,FALSE))=TRUE,IF(WEEKDAY(1:1,2)>5,"WE",""),"FER") | L3: =IF(ISNA(VLOOKUP(L$1,IF(YEAR(L1)=I1,Données!$I$2:$I$14,Données!$J$2:$J$14),2,FALSE))=TRUE,IF(WEEKDAY(1:1,2)>5,"WE",""),"FER") | ... NT3: =IF(ISNA(VLOOKUP(NT$1,IF(YEAR(NT1)=NQ1,Données!$I$2:$I$14,Données!$J$2:$J$14),2,FALSE))=TRUE,IF(WEEKDAY(1:1,2)>5,"WE",""),"FER") -> WE
A4: XXX | B4: 42126 | C4: 42133 | D4: =COUNTIF(E4:GF4,"C") -> 8 | E4: =IF(AND(date>=début, date<=fin,NOT(F="F")),"C","") | F4: =IF(AND(date>=début, date<=fin,NOT(F="F")),"C","") -> C | G4: =IF(AND(date>=début, date<=fin,NOT(F="F")),"C","") -> C | H4: =IF(AND(date>=début, date<=fin,NOT(F="F")),"C","") -> C | I4: =IF(AND(date>=début, date<=fin,NOT(F="F")),"C","") -> C | J4: =IF(AND(date>=début, date<=fin,NOT(F="F")),"C","") -> C | K4: =IF(AND(date>=début, date<=fin,NOT(F="F")),"C","") -> C | L4: =IF(AND(date>=début, date<=fin,NOT(F="F")),"C","") -> C | ... GF4: =IF(AND(date>=début, date<=fin,NOT(F="F")),"C","")
D5: =COUNTIF(E5:GF5,"C") -> 0 | E5: =IF(AND(date>=début, date<=fin,NOT(F="F")),"C","") | F5: =IF(AND(date>=début, date<=fin,NOT(F="F")),"C","") | G5: =IF(AND(date>=début, date<=fin,NOT(F="F")),"C","") | H5: =IF(AND(date>=début, date<=fin,NOT(F="F")),"C","") | I5: =IF(AND(date>=début, date<=fin,NOT(F="F")),"C","") | J5: =IF(AND(date>=début, date<=fin,NOT(F="F")),"C","") | K5: =IF(AND(date>=début, date<=fin,NOT(F="F")),"C","") | L5: =IF(AND(date>=début, date<=fin,NOT(F="F")),"C","") | ... GF5: =IF(AND(date>=début, date<=fin,NOT(F="F")),"C","")
D6: =COUNTIF(E6:GF6,"C") -> 0 | E6: =IF(AND(date>=début, date<=fin,NOT(F="F")),"C","") | F6: =IF(AND(date>=début, date<=fin,NOT(F="F")),"C","") | G6: =IF(AND(date>=début, date<=fin,NOT(F="F")),"C","") | H6: =IF(AND(date>=début, date<=fin,NOT(F="F")),"C","") | I6: =IF(AND(date>=début, date<=fin,NOT(F="F")),"C","") | J6: =IF(AND(date>=début, date<=fin,NOT(F="F")),"C","") | K6: =IF(AND(date>=début, date<=fin,NOT(F="F")),"C","") | L6: =IF(AND(date>=début, date<=fin,NOT(F="F")),"C","") | ... GF6: =IF(AND(date>=début, date<=fin,NOT(F="F")),"C","")
B7: 42130 | C7: 42138 | D7: =COUNTIF(E7:GF7,"C") -> 9 | E7: =IF(AND(date>=début, date<=fin,NOT(F="F")),"C","") | F7: =IF(AND(date>=début, date<=fin,NOT(F="F")),"C","") | G7: =IF(AND(date>=début, date<=fin,NOT(F="F")),"C","") | H7: =IF(AND(date>=début, date<=fin,NOT(F="F")),"C","") | I7: =IF(AND(date>=début, date<=fin,NOT(F="F")),"C","") | J7: =IF(AND(date>=début, date<=fin,NOT(F="F")),"C","") -> C | K7: =IF(AND(date>=début, date<=fin,NOT(F="F")),"C","") -> C | L7: =IF(AND(date>=début, date<=fin,NOT(F="F")),"C","") -> C | ... GF7: =IF(AND(date>=début, date<=fin,NOT(F="F")),"C","")
A8: XXX | D8: =COUNTIF(E8:GF8,"C") -> 0 | E8: =IF(AND(date>=début, date<=fin,NOT(F="F")),"C","") | F8: =IF(AND(date>=début, date<=fin,NOT(F="F")),"C","") | G8: =IF(AND(date>=début, date<=fin,NOT(F="F")),"C","") | H8: =IF(AND(date>=début, date<=fin,NOT(F="F")),"C","") | I8: =IF(AND(date>=début, date<=fin,NOT(F="F")),"C","") | J8: =IF(AND(date>=début, date<=fin,NOT(F="F")),"C","") | K8: =IF(AND(date>=début, date<=fin,NOT(F="F")),"C","") | L8: =IF(AND(date>=début, date<=fin,NOT(F="F")),"C","") | ... GF8: =IF(AND(date>=début, date<=fin,NOT(F="F")),"C","")
D9: =COUNTIF(E9:GF9,"C") -> 0 | E9: =IF(AND(date>=début, date<=fin,NOT(F="F")),"C","") | F9: =IF(AND(date>=début, date<=fin,NOT(F="F")),"C","") | G9: =IF(AND(date>=début, date<=fin,NOT(F="F")),"C","") | H9: =IF(AND(date>=début, date<=fin,NOT(F="F")),"C","") | I9: =IF(AND(date>=début, date<=fin,NOT(F="F")),"C","") | J9: =IF(AND(date>=début, date<=fin,NOT(F="F")),"C","") | K9: =IF(AND(date>=début, date<=fin,NOT(F="F")),"C","") | L9: =IF(AND(date>=début, date<=fin,NOT(F="F")),"C","") | ... GF9: =IF(AND(date>=début, date<=fin,NOT(F="F")),"C","")
D10: =COUNTIF(E10:GF10,"C") -> 0 | E10: =IF(AND(date>=début, date<=fin,NOT(F="F")),"C","") | F10: =IF(AND(date>=début, date<=fin,NOT(F="F")),"C","") | G10: =IF(AND(date>=début, date<=fin,NOT(F="F")),"C","") | H10: =IF(AND(date>=début, date<=fin,NOT(F="F")),"C","") | I10: =IF(AND(date>=début, date<=fin,NOT(F="F")),"C","") | J10: =IF(AND(date>=début, date<=fin,NOT(F="F")),"C","") | K10: =IF(AND(date>=début, date<=fin,NOT(F="F")),"C","") | L10: =IF(AND(date>=début, date<=fin,NOT(F="F")),"C","") | ... GF10: =IF(AND(date>=début, date<=fin,NOT(F="F")),"C","")
D11: =COUNTIF(E11:GF11,"C") -> 0 | E11: =IF(AND(date>=début, date<=fin,NOT(F="F")),"C","") | F11: =IF(AND(date>=début, date<=fin,NOT(F="F")),"C","") | G11: =IF(AND(date>=début, date<=fin,NOT(F="F")),"C","") | H11: =IF(AND(date>=début, date<=fin,NOT(F="F")),"C","") | I11: =IF(AND(date>=début, date<=fin,NOT(F="F")),"C","") | J11: =IF(AND(date>=début, date<=fin,NOT(F="F")),"C","") | K11: =IF(AND(date>=début, date<=fin,NOT(F="F")),"C","") | L11: =IF(AND(date>=début, date<=fin,NOT(F="F")),"C","") | ... GF11: =IF(AND(date>=début, date<=fin,NOT(F="F")),"C","")

Sheet Données
B1: Type congés | C1: Date de départ | D1: Date de retour | F1: dates | I1: =Planning!B1 -> 2015 | J1: =I1+1 -> 2016
A2: Pierre | B2: CP | C2: 42252 | D2: 42259 | F2: =DATE(2015,1,1) -> 42005 | G2: Jour de l'an | H2: Premier de l'an | I2: =DATE(I1,1,1) -> 42005 | J2: =DATE(J1,1,1) -> 42370
A3: Jean | B3: R | C3: 42199 | D3: 42215 | F3: =DATE(2015,IF((25-MOD((11*MOD(2015-1900,19)+4-INT((7*MOD(2015-1900,19)+1)/19)),29)-MOD(2015-1900+INT((2015-1900)/4)+31-MOD((11*MOD(2015-1900,19)+4-INT((7*MOD(2015-1900,19)+1)/19)),29),7))>0,4,3),IF((25-MOD((11*MOD(2015-1900,19)+4-INT((7*MOD(2015-1900,19)+1)/19)),29)-MOD(2015-1900+INT((2015-1900)/4)+31-MOD((11*MOD(2015-1900,19)+4-INT((7*MOD(2015-1900,19)+1)/19)),29),7))>0,(25-MOD((11*MOD(2015-1900,19)+4-INT((7*MOD(2015-1900,19)+1)/19)),29)-MOD(2015-1900+INT((2015-1900)/4)+31-MOD((11*MOD(2015-1900,19)+4-INT((7*MOD(2015-1900,19)+1)/19)),29),7)),31+(25-MOD((11*MOD(2015-1900,19)+4-INT((7*MOD(2015-1900,19)+1)/19)),29)-MOD(2015-1900+INT((2015-1900)/4)+31-MOD((11*MOD(2015-1900,19)+4-INT((7*MOD(2015-1900,19)+1)/19)),29),7))))+1 -> 42100 | G3: Pâques | H3: Lundi de Pâques | I3: =I15+1 -> 42100 | J3: =J15+1 -> 42457
A4: Paul | B4: M | C4: 42231 | D4: 42241 | F4: =F3+1 -> 42101 | G4: Lun de P | H4: Fête du travail | I4: =DATE(I1,5,1) -> 42125 | J4: =DATE(J1,5,1) -> 42491
A5: Pierre | B5: CP | C5: 42267 | D5: 42287 | F5: =DATE(2015,5,1) -> 42125 | G5: Fête du travail | H5: Ascension | I5: =I15+39 -> 42138 | J5: =J15+39 -> 42495
A6: Paul | B6: R | C6: 42262 | D6: 42277 | F6: =DATE(2015,5,8) -> 42132 | G6: Victoire1945 | H6: Pentecôte | I6: =I15+50 -> 42149 | J6: =J15+50 -> 42506
F7: =DATE(2015,IF((25-MOD((11*MOD(2015-1900,19)+4-INT((7*MOD(2015-1900,19)+1)/19)),29)-MOD(2015-1900+INT((2015-1900)/4)+31-MOD((11*MOD(2015-1900,19)+4-INT((7*MOD(2015-1900,19)+1)/19)),29),7))>0,4,3),IF((25-MOD((11*MOD(2015-1900,19)+4-INT((7*MOD(2015-1900,19)+1)/19)),29)-MOD(2015-1900+INT((2015-1900)/4)+31-MOD((11*MOD(2015-1900,19)+4-INT((7*MOD(2015-1900,19)+1)/19)),29),7))>0,(25-MOD((11*MOD(2015-1900,19)+4-INT((7*MOD(2015-1900,19)+1)/19)),29)-MOD(2015-1900+INT((2015-1900)/4)+31-MOD((11*MOD(2015-1900,19)+4-INT((7*MOD(2015-1900,19)+1)/19)),29),7)),31+(25-MOD((11*MOD(2015-1900,19)+4-INT((7*MOD(2015-1900,19)+1)/19)),29)-MOD(2015-1900+INT((2015-1900)/4)+31-MOD((11*MOD(2015-1900,19)+4-INT((7*MOD(2015-1900,19)+1)/19)),29),7))))+39 -> 42138 | G7: Ascension | H7: Fête nationale | I7: =DATE(I1,7,21) -> 42206 | J7: =DATE(J1,7,21) -> 42572
F8: =DATE(2015,IF((25-MOD((11*MOD(2015-1900,19)+4-INT((7*MOD(2015-1900,19)+1)/19)),29)-MOD(2015-1900+INT((2015-1900)/4)+31-MOD((11*MOD(2015-1900,19)+4-INT((7*MOD(2015-1900,19)+1)/19)),29),7))>0,4,3),IF((25-MOD((11*MOD(2015-1900,19)+4-INT((7*MOD(2015-1900,19)+1)/19)),29)-MOD(2015-1900+INT((2015-1900)/4)+31-MOD((11*MOD(2015-1900,19)+4-INT((7*MOD(2015-1900,19)+1)/19)),29),7))>0,(25-MOD((11*MOD(2015-1900,19)+4-INT((7*MOD(2015-1900,19)+1)/19)),29)-MOD(2015-1900+INT((2015-1900)/4)+31-MOD((11*MOD(2015-1900,19)+4-INT((7*MOD(2015-1900,19)+1)/19)),29),7)),31+(25-MOD((11*MOD(2015-1900,19)+4-INT((7*MOD(2015-1900,19)+1)/19)),29)-MOD(2015-1900+INT((2015-1900)/4)+31-MOD((11*MOD(2015-1900,19)+4-INT((7*MOD(2015-1900,19)+1)/19)),29),7))))+50 -> 42149 | G8: Pentecôte | H8: Assomption | I8: =DATE(I1,8,15) -> 42231 | J8: =DATE(J1,8,15) -> 42597
F9: =F8+1 -> 42150 | G9: Lun de P | H9: Toussaint | I9: =DATE(I1,11,1) -> 42309 | J9: =DATE(J1,11,1) -> 42675
F10: =DATE(2015,7,14) -> 42199 | G10: Fêt. Nat. | H10: Armistice | I10: =DATE(I1,11,11) -> 42319 | J10: =DATE(J1,11,11) -> 42685
F11: =DATE(2015,8,15) -> 42231 | G11: Assomption | H11: Noël | I11: =DATE(I1,12,25) -> 42363 | J11: =DATE(J1,12,25) -> 42729
F12: =DATE(2015,11,1) -> 42309 | G12: Toussaint
F13: =DATE(2015,11,11) -> 42319 | G13: Armistice
F14: =DATE(2015,12,25) -> 42363 | G14: Noël
H15: Pâques | I15: =DATE(I1,IF((25-MOD((11*MOD(I1-1900,19)+4-INT((7*MOD(I1-1900,19)+1)/19)),29)-MOD(I1-1900+INT((I1-1900)/4)+31-MOD((11*MOD(I1-1900,19)+4-INT((7*MOD(I1-1900,19)+1)/19)),29),7))>0,4,3),IF((25-MOD((11*MOD(I1-1900,19)+4-INT((7*MOD(I1-1900,19)+1)/19)),29)-MOD(I1-1900+INT((I1-1900)/4)+31-MOD((11*MOD(I1-1900,19)+4-INT((7*MOD(I1-1900,19)+1)/19)),29),7))>0,(25-MOD((11*MOD(I1-1900,19)+4-INT((7*MOD(I1-1900,19)+1)/19)),29)-MOD(I1-1900+INT((I1-1900)/4)+31-MOD((11*MOD(I1-1900,19)+4-INT((7*MOD(I1-1900,19)+1)/19)),29),7)),31+(25-MOD((11*MOD(I1-1900,19)+4-INT((7*MOD(I1-1900,19)+1)/19)),29)-MOD(I1-1900+INT((I1-1900)/4)+31-MOD((11*MOD(I1-1900,19)+4-INT((7*MOD(I1-1900,19)+1)/19)),29),7)))) -> 42099 | J15: =DATE(J1,IF((25-MOD((11*MOD(J1-1900,19)+4-INT((7*MOD(J1-1900,19)+1)/19)),29)-MOD(J1-1900+INT((J1-1900)/4)+31-MOD((11*MOD(J1-1900,19)+4-INT((7*MOD(J1-1900,19)+1)/19)),29),7))>0,4,3),IF((25-MOD((11*MOD(J1-1900,19)+4-INT((7*MOD(J1-1900,19)+1)/19)),29)-MOD(J1-1900+INT((J1-1900)/4)+31-MOD((11*MOD(J1-1900,19)+4-INT((7*MOD(J1-1900,19)+1)/19)),29),7))>0,(25-MOD((11*MOD(J1-1900,19)+4-INT((7*MOD(J1-1900,19)+1)/19)),29)-MOD(J1-1900+INT((J1-1900)/4)+31-MOD((11*MOD(J1-1900,19)+4-INT((7*MOD(J1-1900,19)+1)/19)),29),7)),31+(25-MOD((11*MOD(J1-1900,19)+4-INT((7*MOD(J1-1900,19)+1)/19)),29)-MOD(J1-1900+INT((J1-1900)/4)+31-MOD((11*MOD(J1-1900,19)+4-INT((7*MOD(J1-1900,19)+1)/19)),29),7)))) -> 42456
