Workbook
Name Auteurs: BIBLIOTHEQUE[AUTEURS 1]
Name Auteurs: [1]!Tableau1[AUTEURS]
Name ID: #REF!
Name ID: [1]!Tableau1[Codes]

Sheet Lexique (2)
A1: Codes | B1: N° par Auteur | C1: AUTEURS 1 | D1: AUTEURS 2 | E1: TITRES | F1: Noms | G1: Prénoms | H1: Nb d'ouvrages | N1: =COUNTIF(Auteurs,$O$1) -> 3 | O1: CHERMET-CARROY SYLVIE
A2: =BIBLIOTHEQUE[[#This Row],[AUTEURS 1]]& BIBLIOTHEQUE[[#This Row],[N° par Auteur]] -> ABERT XAVIERAX1 1 | B2: =VLOOKUP(BIBLIOTHEQUE[[#This Row],[AUTEURS 1]],ABREVIATIONS!A:AC,4,FALSE) & " " &TEXT(1+COUNTIF($C$1:C1,BIBLIOTHEQUE[[#This Row],[AUTEURS 1]]),"0") -> AX1 1 | C2: ABERT XAVIER | E2: L'Effet Miroir En Astrologie | F2: =IF(BIBLIOTHEQUE[[#This Row],[N° par Auteur]]<>"",IFERROR(UPPER(TRIM(LEFT(C2,SEARCH(" ",C2,1)))),C2),"") -> ABERT | G2: =IF(BIBLIOTHEQUE[[#This Row],[N° par Auteur]]<>"",TRIM(RIGHT(C2,LEN(C2)-LEN(F2))),"") -> XAVIER | H2: =IF(BIBLIOTHEQUE[[#This Row],[AUTEURS 1]]<>"",ROW()-1,"") -> 1
A3: =BIBLIOTHEQUE[[#This Row],[AUTEURS 1]]& BIBLIOTHEQUE[[#This Row],[N° par Auteur]] -> ABERT XAVIERAX1 2 | B3: =VLOOKUP(BIBLIOTHEQUE[[#This Row],[AUTEURS 1]],ABREVIATIONS!A:AC,4,FALSE) & " " &TEXT(1+COUNTIF($C$1:C2,BIBLIOTHEQUE[[#This Row],[AUTEURS 1]]),"0") -> AX1 2 | C3: ABERT XAVIER | E3: L'Art D'Interpreter Un Thème Astral | F3: =IF(BIBLIOTHEQUE[[#This Row],[N° par Auteur]]<>"",IFERROR(UPPER(TRIM(LEFT(C3,SEARCH(" ",C3,1)))),C3),"") -> ABERT | G3: =IF(BIBLIOTHEQUE[[#This Row],[N° par Auteur]]<>"",TRIM(RIGHT(C3,LEN(C3)-LEN(F3))),"") -> XAVIER | H3: =IF(BIBLIOTHEQUE[[#This Row],[AUTEURS 1]]<>"",ROW()-1,"") -> 2
A4: =BIBLIOTHEQUE[[#This Row],[AUTEURS 1]]& BIBLIOTHEQUE[[#This Row],[N° par Auteur]] -> ACTES COLLOQUEAC1 1 | B4: =VLOOKUP(BIBLIOTHEQUE[[#This Row],[AUTEURS 1]],ABREVIATIONS!A:AC,4,FALSE) & " " &TEXT(1+COUNTIF($C$1:C3,BIBLIOTHEQUE[[#This Row],[AUTEURS 1]]),"0") -> AC1 1 | C4: ACTES COLLOQUE | E4: Les Forces Du Destin | F4: =IF(BIBLIOTHEQUE[[#This Row],[N° par Auteur]]<>"",IFERROR(UPPER(TRIM(LEFT(C4,SEARCH(" ",C4,1)))),C4),"") -> ACTES | G4: =IF(BIBLIOTHEQUE[[#This Row],[N° par Auteur]]<>"",TRIM(RIGHT(C4,LEN(C4)-LEN(F4))),"") -> COLLOQUE | H4: =IF(BIBLIOTHEQUE[[#This Row],[AUTEURS 1]]<>"",ROW()-1,"") -> 3
A5: =BIBLIOTHEQUE[[#This Row],[AUTEURS 1]]& BIBLIOTHEQUE[[#This Row],[N° par Auteur]] -> AGENET-PAGNI ISOLINEAI1 1 | B5: =VLOOKUP(BIBLIOTHEQUE[[#This Row],[AUTEURS 1]],ABREVIATIONS!A:AC,4,FALSE) & " " &TEXT(1+COUNTIF($C$1:C4,BIBLIOTHEQUE[[#This Row],[AUTEURS 1]]),"0") -> AI1 1 | C5: AGENET-PAGNI ISOLINE | E5: Signes Du Zodiaque Les 12 Travaux D'Hercule | F5: =IF(BIBLIOTHEQUE[[#This Row],[N° par Auteur]]<>"",IFERROR(UPPER(TRIM(LEFT(C5,SEARCH(" ",C5,1)))),C5),"") -> AGENET-PAGNI | G5: =IF(BIBLIOTHEQUE[[#This Row],[N° par Auteur]]<>"",TRIM(RIGHT(C5,LEN(C5)-LEN(F5))),"") -> ISOLINE | H5: =IF(BIBLIOTHEQUE[[#This Row],[AUTEURS 1]]<>"",ROW()-1,"") -> 4
A6: =BIBLIOTHEQUE[[#This Row],[AUTEURS 1]]& BIBLIOTHEQUE[[#This Row],[N° par Auteur]] -> AGUILAR MICHELAM1 1 | B6: =VLOOKUP(BIBLIOTHEQUE[[#This Row],[AUTEURS 1]],ABREVIATIONS!A:AC,4,FALSE) & " " &TEXT(1+COUNTIF($C$1:C5,BIBLIOTHEQUE[[#This Row],[AUTEURS 1]]),"0") -> AM1 1 | C6: AGUILAR MICHEL | E6: Homo Universalis Ou Le Point De Non Retour | F6: =IF(BIBLIOTHEQUE[[#This Row],[N° par Auteur]]<>"",IFERROR(UPPER(TRIM(LEFT(C6,SEARCH(" ",C6,1)))),C6),"") -> AGUILAR | G6: =IF(BIBLIOTHEQUE[[#This Row],[N° par Auteur]]<>"",TRIM(RIGHT(C6,LEN(C6)-LEN(F6))),"") -> MICHEL | H6: =IF(BIBLIOTHEQUE[[#This Row],[AUTEURS 1]]<>"",ROW()-1,"") -> 5
A7: =BIBLIOTHEQUE[[#This Row],[AUTEURS 1]]& BIBLIOTHEQUE[[#This Row],[N° par Auteur]] -> AIME JACQUELINEAJ1 1 | B7: =VLOOKUP(BIBLIOTHEQUE[[#This Row],[AUTEURS 1]],ABREVIATIONS!A:AC,4,FALSE) & " " &TEXT(1+COUNTIF($C$1:C6,BIBLIOTHEQUE[[#This Row],[AUTEURS 1]]),"0") -> AJ1 1 | C7: AIME JACQUELINE | E7: La Lune Noire : Le Monde Interdit | F7: =IF(BIBLIOTHEQUE[[#This Row],[N° par Auteur]]<>"",IFERROR(UPPER(TRIM(LEFT(C7,SEARCH(" ",C7,1)))),C7),"") -> AIME | G7: =IF(BIBLIOTHEQUE[[#This Row],[N° par Auteur]]<>"",TRIM(RIGHT(C7,LEN(C7)-LEN(F7))),"") -> JACQUELINE | H7: =IF(BIBLIOTHEQUE[[#This Row],[AUTEURS 1]]<>"",ROW()-1,"") -> 6
A8: =BIBLIOTHEQUE[[#This Row],[AUTEURS 1]]& BIBLIOTHEQUE[[#This Row],[N° par Auteur]] -> AMBELIN ROBERTAR1 1 | B8: =VLOOKUP(BIBLIOTHEQUE[[#This Row],[AUTEURS 1]],ABREVIATIONS!A:AC,4,FALSE) & " " &TEXT(1+COUNTIF($C$1:C7,BIBLIOTHEQUE[[#This Row],[AUTEURS 1]]),"0") -> AR1 1 | C8: AMBELIN ROBERT | E8: Koré La Dixième Planète | F8: =IF(BIBLIOTHEQUE[[#This Row],[N° par Auteur]]<>"",IFERROR(UPPER(TRIM(LEFT(C8,SEARCH(" ",C8,1)))),C8),"") -> AMBELIN | G8: =IF(BIBLIOTHEQUE[[#This Row],[N° par Auteur]]<>"",TRIM(RIGHT(C8,LEN(C8)-LEN(F8))),"") -> ROBERT | H8: =IF(BIBLIOTHEQUE[[#This Row],[AUTEURS 1]]<>"",ROW()-1,"") -> 7
A9: =BIBLIOTHEQUE[[#This Row],[AUTEURS 1]]& BIBLIOTHEQUE[[#This Row],[N° par Auteur]] -> ANDRIEU IRENEAI2 1 | B9: =VLOOKUP(BIBLIOTHEQUE[[#This Row],[AUTEURS 1]],ABREVIATIONS!A:AC,4,FALSE) & " " &TEXT(1+COUNTIF($C$1:C8,BIBLIOTHEQUE[[#This Row],[AUTEURS 1]]),"0") -> AI2 1 | C9: ANDRIEU IRENE | E9: Initiation À L'Astrologie D'Évolution | F9: =IF(BIBLIOTHEQUE[[#This Row],[N° par Auteur]]<>"",IFERROR(UPPER(TRIM(LEFT(C9,SEARCH(" ",C9,1)))),C9),"") -> ANDRIEU | G9: =IF(BIBLIOTHEQUE[[#This Row],[N° par Auteur]]<>"",TRIM(RIGHT(C9,LEN(C9)-LEN(F9))),"") -> IRENE | H9: =IF(BIBLIOTHEQUE[[#This Row],[AUTEURS 1]]<>"",ROW()-1,"") -> 8
A10: =BIBLIOTHEQUE[[#This Row],[AUTEURS 1]]& BIBLIOTHEQUE[[#This Row],[N° par Auteur]] -> ANDRIEU IRENEAI2 2 | B10: =VLOOKUP(BIBLIOTHEQUE[[#This Row],[AUTEURS 1]],ABREVIATIONS!A:AC,4,FALSE) & " " &TEXT(1+COUNTIF($C$1:C9,BIBLIOTHEQUE[[#This Row],[AUTEURS 1]]),"0") -> AI2 2 | C10: ANDRIEU IRENE | E10: Astrologie, Clé Des Vies Antérieures | F10: =IF(BIBLIOTHEQUE[[#This Row],[N° par Auteur]]<>"",IFERROR(UPPER(TRIM(LEFT(C10,SEARCH(" ",C10,1)))),C10),"") -> ANDRIEU | G10: =IF(BIBLIOTHEQUE[[#This Row],[N° par Auteur]]<>"",TRIM(RIGHT(C10,LEN(C10)-LEN(F10))),"") -> IRENE | H10: =IF(BIBLIOTHEQUE[[#This Row],[AUTEURS 1]]<>"",ROW()-1,"") -> 9
A11: =BIBLIOTHEQUE[[#This Row],[AUTEURS 1]]& BIBLIOTHEQUE[[#This Row],[N° par Auteur]] -> ANDRIEU IRENEAI2 3 | B11: =VLOOKUP(BIBLIOTHEQUE[[#This Row],[AUTEURS 1]],ABREVIATIONS!A:AC,4,FALSE) & " " &TEXT(1+COUNTIF($C$1:C10,BIBLIOTHEQUE[[#This Row],[AUTEURS 1]]),"0") -> AI2 3 | C11: ANDRIEU IRENE | E11: L'Arbre Généalogique Karmique | F11: =IF(BIBLIOTHEQUE[[#This Row],[N° par Auteur]]<>"",IFERROR(UPPER(TRIM(LEFT(C11,SEARCH(" ",C11,1)))),C11),"") -> ANDRIEU | G11: =IF(BIBLIOTHEQUE[[#This Row],[N° par Auteur]]<>"",TRIM(RIGHT(C11,LEN(C11)-LEN(F11))),"") -> IRENE | H11: =IF(BIBLIOTHEQUE[[#This Row],[AUTEURS 1]]<>"",ROW()-1,"") -> 10
A12: =BIBLIOTHEQUE[[#This Row],[AUTEURS 1]]& BIBLIOTHEQUE[[#This Row],[N° par Auteur]] -> ANDRIEU IRENEAI2 4 | B12: =VLOOKUP(BIBLIOTHEQUE[[#This Row],[AUTEURS 1]],ABREVIATIONS!A:AC,4,FALSE) & " " &TEXT(1+COUNTIF($C$1:C11,BIBLIOTHEQUE[[#This Row],[AUTEURS 1]]),"0") -> AI2 4 | C12: ANDRIEU IRENE | E12: Techniques De Base De L'Astrologie | F12: =IF(BIBLIOTHEQUE[[#This Row],[N° par Auteur]]<>"",IFERROR(UPPER(TRIM(LEFT(C12,SEARCH(" ",C12,1)))),C12),"") -> ANDRIEU | G12: =IF(BIBLIOTHEQUE[[#This Row],[N° par Auteur]]<>"",TRIM(RIGHT(C12,LEN(C12)-LEN(F12))),"") -> IRENE | H12: =IF(BIBLIOTHEQUE[[#This Row],[AUTEURS 1]]<>"",ROW()-1,"") -> 11
A13: =BIBLIOTHEQUE[[#This Row],[AUTEURS 1]]& BIBLIOTHEQUE[[#This Row],[N° par Auteur]] -> ANDRIEU IRENEAI2 5 | B13: =VLOOKUP(BIBLIOTHEQUE[[#This Row],[AUTEURS 1]],ABREVIATIONS!A:AC,4,FALSE) & " " &TEXT(1+COUNTIF($C$1:C12,BIBLIOTHEQUE[[#This Row],[AUTEURS 1]]),"0") -> AI2 5 | C13: ANDRIEU IRENE | E13: Planètes D'Ombre Et De Lumière | F13: =IF(BIBLIOTHEQUE[[#This Row],[N° par Auteur]]<>"",IFERROR(UPPER(TRIM(LEFT(C13,SEARCH(" ",C13,1)))),C13),"") -> ANDRIEU | G13: =IF(BIBLIOTHEQUE[[#This Row],[N° par Auteur]]<>"",TRIM(RIGHT(C13,LEN(C13)-LEN(F13))),"") -> IRENE | H13: =IF(BIBLIOTHEQUE[[#This Row],[AUTEURS 1]]<>"",ROW()-1,"") -> 12
... A32: =BIBLIOTHEQUE[[#This Row],[AUTEURS 1]]& BIBLIOTHEQUE[[#This Row],[N° par Auteur]] -> BARBAULT ANDRÉBA1 13 | B32: =VLOOKUP(BIBLIOTHEQUE[[#This Row],[AUTEURS 1]],ABREVIATIONS!A:AC,4,FALSE) & " " &TEXT(1+COUNTIF($C$1:C31,BIBLIOTHEQUE[[#This Row],[AUTEURS 1]]),"0") -> BA1 13 | C32: BARBAULT ANDRÉ | E32: La Prévision De L'Avenir Par L'Astrologie | F32: =IF(BIBLIOTHEQUE[[#This Row],[N° par Auteur]]<>"",IFERROR(UPPER(TRIM(LEFT(C32,SEARCH(" ",C32,1)))),C32),"") -> BARBAULT | G32: =IF(BIBLIOTHEQUE[[#This Row],[N° par Auteur]]<>"",TRIM(RIGHT(C32,LEN(C32)-LEN(F32))),"") -> ANDRÉ | H32: =IF(BIBLIOTHEQUE[[#This Row],[AUTEURS 1]]<>"",ROW()-1,"") -> 31
A33: =BIBLIOTHEQUE[[#This Row],[AUTEURS 1]]& BIBLIOTHEQUE[[#This Row],[N° par Auteur]] -> BARBAULT ANDRÉBA1 14 | B33: =VLOOKUP(BIBLIOTHEQUE[[#This Row],[AUTEURS 1]],ABREVIATIONS!A:AC,4,FALSE) & " " &TEXT(1+COUNTIF($C$1:C32,BIBLIOTHEQUE[[#This Row],[AUTEURS 1]]),"0") -> BA1 14 | C33: BARBAULT ANDRÉ | D33: CARTERET JEAN | E33: Analogie De La Dialectique Uranus - Neptune | F33: =IF(BIBLIOTHEQUE[[#This Row],[N° par Auteur]]<>"",IFERROR(UPPER(TRIM(LEFT(C33,SEARCH(" ",C33,1)))),C33),"") -> BARBAULT | G33: =IF(BIBLIOTHEQUE[[#This Row],[N° par Auteur]]<>"",TRIM(RIGHT(C33,LEN(C33)-LEN(F33))),"") -> ANDRÉ | H33: =IF(BIBLIOTHEQUE[[#This Row],[AUTEURS 1]]<>"",ROW()-1,"") -> 32
A34: =BIBLIOTHEQUE[[#This Row],[AUTEURS 1]]& BIBLIOTHEQUE[[#This Row],[N° par Auteur]] -> BARBAULT ARMANDBA2 1 | B34: =VLOOKUP(BIBLIOTHEQUE[[#This Row],[AUTEURS 1]],ABREVIATIONS!A:AC,4,FALSE) & " " &TEXT(1+COUNTIF($C$1:C33,BIBLIOTHEQUE[[#This Row],[AUTEURS 1]]),"0") -> BA2 1 | C34: BARBAULT ARMAND | E34: Technique De L'Interprétation T1 | F34: =IF(BIBLIOTHEQUE[[#This Row],[N° par Auteur]]<>"",IFERROR(UPPER(TRIM(LEFT(C34,SEARCH(" ",C34,1)))),C34),"") -> BARBAULT | G34: =IF(BIBLIOTHEQUE[[#This Row],[N° par Auteur]]<>"",TRIM(RIGHT(C34,LEN(C34)-LEN(F34))),"") -> ARMAND | H34: =IF(BIBLIOTHEQUE[[#This Row],[AUTEURS 1]]<>"",ROW()-1,"") -> 33
A35: =BIBLIOTHEQUE[[#This Row],[AUTEURS 1]]& BIBLIOTHEQUE[[#This Row],[N° par Auteur]] -> BARBAULT ARMANDBA2 2 | B35: =VLOOKUP(BIBLIOTHEQUE[[#This Row],[AUTEURS 1]],ABREVIATIONS!A:AC,4,FALSE) & " " &TEXT(1+COUNTIF($C$1:C34,BIBLIOTHEQUE[[#This Row],[AUTEURS 1]]),"0") -> BA2 2 | C35: BARBAULT ARMAND | E35: Technique De L'Interprétation T2 | F35: =IF(BIBLIOTHEQUE[[#This Row],[N° par Auteur]]<>"",IFERROR(UPPER(TRIM(LEFT(C35,SEARCH(" ",C35,1)))),C35),"") -> BARBAULT | G35: =IF(BIBLIOTHEQUE[[#This Row],[N° par Auteur]]<>"",TRIM(RIGHT(C35,LEN(C35)-LEN(F35))),"") -> ARMAND | H35: =IF(BIBLIOTHEQUE[[#This Row],[AUTEURS 1]]<>"",ROW()-1,"") -> 34
A36: =BIBLIOTHEQUE[[#This Row],[AUTEURS 1]]& BIBLIOTHEQUE[[#This Row],[N° par Auteur]] -> BARBAULT MARTINBM1 1 | B36: =VLOOKUP(BIBLIOTHEQUE[[#This Row],[AUTEURS 1]],ABREVIATIONS!A:AC,4,FALSE) & " " &TEXT(1+COUNTIF($C$1:C35,BIBLIOTHEQUE[[#This Row],[AUTEURS 1]]),"0") -> BM1 1 | C36: BARBAULT MARTIN | D36: DANIÈLE | E36: Dictionnaire Des Aspects Astrologiques | F36: =IF(BIBLIOTHEQUE[[#This Row],[N° par Auteur]]<>"",IFERROR(UPPER(TRIM(LEFT(C36,SEARCH(" ",C36,1)))),C36),"") -> BARBAULT | G36: =IF(BIBLIOTHEQUE[[#This Row],[N° par Auteur]]<>"",TRIM(RIGHT(C36,LEN(C36)-LEN(F36))),"") -> MARTIN | H36: =IF(BIBLIOTHEQUE[[#This Row],[AUTEURS 1]]<>"",ROW()-1,"") -> 35
A37: =BIBLIOTHEQUE[[#This Row],[AUTEURS 1]]& BIBLIOTHEQUE[[#This Row],[N° par Auteur]] -> BARBAULT MARTINEBM2 1 | B37: =VLOOKUP(BIBLIOTHEQUE[[#This Row],[AUTEURS 1]],ABREVIATIONS!A:AC,4,FALSE) & " " &TEXT(1+COUNTIF($C$1:C36,BIBLIOTHEQUE[[#This Row],[AUTEURS 1]]),"0") -> BM2 1 | C37: BARBAULT MARTINE | E37: La Transmission Paternelle En Psychogénéalogie | F37: =IF(BIBLIOTHEQUE[[#This Row],[N° par Auteur]]<>"",IFERROR(UPPER(TRIM(LEFT(C37,SEARCH(" ",C37,1)))),C37),"") -> BARBAULT | G37: =IF(BIBLIOTHEQUE[[#This Row],[N° par Auteur]]<>"",TRIM(RIGHT(C37,LEN(C37)-LEN(F37))),"") -> MARTINE | H37: =IF(BIBLIOTHEQUE[[#This Row],[AUTEURS 1]]<>"",ROW()-1,"") -> 36
A38: =BIBLIOTHEQUE[[#This Row],[AUTEURS 1]]& BIBLIOTHEQUE[[#This Row],[N° par Auteur]] -> BARBAULT MARTINEBM2 2 | B38: =VLOOKUP(BIBLIOTHEQUE[[#This Row],[AUTEURS 1]],ABREVIATIONS!A:AC,4,FALSE) & " " &TEXT(1+COUNTIF($C$1:C37,BIBLIOTHEQUE[[#This Row],[AUTEURS 1]]),"0") -> BM2 2 | C38: BARBAULT MARTINE | E38: Les Transits En Astrologie Globale | F38: =IF(BIBLIOTHEQUE[[#This Row],[N° par Auteur]]<>"",IFERROR(UPPER(TRIM(LEFT(C38,SEARCH(" ",C38,1)))),C38),"") -> BARBAULT | G38: =IF(BIBLIOTHEQUE[[#This Row],[N° par Auteur]]<>"",TRIM(RIGHT(C38,LEN(C38)-LEN(F38))),"") -> MARTINE | H38: =IF(BIBLIOTHEQUE[[#This Row],[AUTEURS 1]]<>"",ROW()-1,"") -> 37
A39: =BIBLIOTHEQUE[[#This Row],[AUTEURS 1]]& BIBLIOTHEQUE[[#This Row],[N° par Auteur]] -> BARBAULT MARTINEBM2 3 | B39: =VLOOKUP(BIBLIOTHEQUE[[#This Row],[AUTEURS 1]],ABREVIATIONS!A:AC,4,FALSE) & " " &TEXT(1+COUNTIF($C$1:C38,BIBLIOTHEQUE[[#This Row],[AUTEURS 1]]),"0") -> BM2 3 | C39: BARBAULT MARTINE | E39: Mes Mères Et Les Filles | F39: =IF(BIBLIOTHEQUE[[#This Row],[N° par Auteur]]<>"",IFERROR(UPPER(TRIM(LEFT(C39,SEARCH(" ",C39,1)))),C39),"") -> BARBAULT | G39: =IF(BIBLIOTHEQUE[[#This Row],[N° par Auteur]]<>"",TRIM(RIGHT(C39,LEN(C39)-LEN(F39))),"") -> MARTINE | H39: =IF(BIBLIOTHEQUE[[#This Row],[AUTEURS 1]]<>"",ROW()-1,"") -> 38
A40: =BIBLIOTHEQUE[[#This Row],[AUTEURS 1]]& BIBLIOTHEQUE[[#This Row],[N° par Auteur]] -> BARBAULT MARTINEBM2 4 | B40: =VLOOKUP(BIBLIOTHEQUE[[#This Row],[AUTEURS 1]],ABREVIATIONS!A:AC,4,FALSE) & " " &TEXT(1+COUNTIF($C$1:C39,BIBLIOTHEQUE[[#This Row],[AUTEURS 1]]),"0") -> BM2 4 | C40: BARBAULT MARTINE | E40: Méthode D'Interprétation En Astrologie | F40: =IF(BIBLIOTHEQUE[[#This Row],[N° par Auteur]]<>"",IFERROR(UPPER(TRIM(LEFT(C40,SEARCH(" ",C40,1)))),C40),"") -> BARBAULT | G40: =IF(BIBLIOTHEQUE[[#This Row],[N° par Auteur]]<>"",TRIM(RIGHT(C40,LEN(C40)-LEN(F40))),"") -> MARTINE | H40: =IF(BIBLIOTHEQUE[[#This Row],[AUTEURS 1]]<>"",ROW()-1,"") -> 39
A41: =BIBLIOTHEQUE[[#This Row],[AUTEURS 1]]& BIBLIOTHEQUE[[#This Row],[N° par Auteur]] -> BARBAULT MARTINEBM2 5 | B41: =VLOOKUP(BIBLIOTHEQUE[[#This Row],[AUTEURS 1]],ABREVIATIONS!A:AC,4,FALSE) & " " &TEXT(1+COUNTIF($C$1:C40,BIBLIOTHEQUE[[#This Row],[AUTEURS 1]]),"0") -> BM2 5 | C41: BARBAULT MARTINE | D41: BARBAULT ANDRE | E41: Astro-Psychologie De L'Enfant | F41: =IF(BIBLIOTHEQUE[[#This Row],[N° par Auteur]]<>"",IFERROR(UPPER(TRIM(LEFT(C41,SEARCH(" ",C41,1)))),C41),"") -> BARBAULT | G41: =IF(BIBLIOTHEQUE[[#This Row],[N° par Auteur]]<>"",TRIM(RIGHT(C41,LEN(C41)-LEN(F41))),"") -> MARTINE | H41: =IF(BIBLIOTHEQUE[[#This Row],[AUTEURS 1]]<>"",ROW()-1,"") -> 40
A42: =BIBLIOTHEQUE[[#This Row],[AUTEURS 1]]& BIBLIOTHEQUE[[#This Row],[N° par Auteur]] -> BARBAULT MARTINEBM2 6 | B42: =VLOOKUP(BIBLIOTHEQUE[[#This Row],[AUTEURS 1]],ABREVIATIONS!A:AC,4,FALSE) & " " &TEXT(1+COUNTIF($C$1:C41,BIBLIOTHEQUE[[#This Row],[AUTEURS 1]]),"0") -> BM2 6 | C42: BARBAULT MARTINE | D42: DE ROUX ISABELLE | E42: La Lune Dans Les Signes Du Zodiaque | F42: =IF(BIBLIOTHEQUE[[#This Row],[N° par Auteur]]<>"",IFERROR(UPPER(TRIM(LEFT(C42,SEARCH(" ",C42,1)))),C42),"") -> BARBAULT | G42: =IF(BIBLIOTHEQUE[[#This Row],[N° par Auteur]]<>"",TRIM(RIGHT(C42,LEN(C42)-LEN(F42))),"") -> MARTINE | H42: =IF(BIBLIOTHEQUE[[#This Row],[AUTEURS 1]]<>"",ROW()-1,"") -> 41
A43: =BIBLIOTHEQUE[[#This Row],[AUTEURS 1]]& BIBLIOTHEQUE[[#This Row],[N° par Auteur]] -> BARBAULT MARTINEBM2 7 | B43: =VLOOKUP(BIBLIOTHEQUE[[#This Row],[AUTEURS 1]],ABREVIATIONS!A:AC,4,FALSE) & " " &TEXT(1+COUNTIF($C$1:C42,BIBLIOTHEQUE[[#This Row],[AUTEURS 1]]),"0") -> BM2 7 | C43: BARBAULT MARTINE | E43: L'Ultime Rendez Vous | F43: =IF(BIBLIOTHEQUE[[#This Row],[N° par Auteur]]<>"",IFERROR(UPPER(TRIM(LEFT(C43,SEARCH(" ",C43,1)))),C43),"") -> BARBAULT | G43: =IF(BIBLIOTHEQUE[[#This Row],[N° par Auteur]]<>"",TRIM(RIGHT(C43,LEN(C43)-LEN(F43))),"") -> MARTINE | H43: =IF(BIBLIOTHEQUE[[#This Row],[AUTEURS 1]]<>"",ROW()-1,"") -> 42
A44: =BIBLIOTHEQUE[[#This Row],[AUTEURS 1]]& BIBLIOTHEQUE[[#This Row],[N° par Auteur]] -> BARBAULT MARTINEBM2 8 | B44: =VLOOKUP(BIBLIOTHEQUE[[#This Row],[AUTEURS 1]],ABREVIATIONS!A:AC,4,FALSE) & " " &TEXT(1+COUNTIF($C$1:C43,BIBLIOTHEQUE[[#This Row],[AUTEURS 1]]),"0") -> BM2 8 | C44: BARBAULT MARTINE | D44: GESTAS CATHERINE | E44: Des Frères Et Des Soeurs | F44: =IF(BIBLIOTHEQUE[[#This Row],[N° par Auteur]]<>"",IFERROR(UPPER(TRIM(LEFT(C44,SEARCH(" ",C44,1)))),C44),"") -> BARBAULT | G44: =IF(BIBLIOTHEQUE[[#This Row],[N° par Auteur]]<>"",TRIM(RIGHT(C44,LEN(C44)-LEN(F44))),"") -> MARTINE | H44: =IF(BIBLIOTHEQUE[[#This Row],[AUTEURS 1]]<>"",ROW()-1,"") -> 43
A45: =BIBLIOTHEQUE[[#This Row],[AUTEURS 1]]& BIBLIOTHEQUE[[#This Row],[N° par Auteur]] -> BARBAULT MARTINEBM2 9 | B45: =VLOOKUP(BIBLIOTHEQUE[[#This Row],[AUTEURS 1]],ABREVIATIONS!A:AC,4,FALSE) & " " &TEXT(1+COUNTIF($C$1:C44,BIBLIOTHEQUE[[#This Row],[AUTEURS 1]]),"0") -> BM2 9 | C45: BARBAULT MARTINE | D45: GESTAS CATHERINE | E45: La Mémoire Ancestrale En Astrologie | F45: =IF(BIBLIOTHEQUE[[#This Row],[N° par Auteur]]<>"",IFERROR(UPPER(TRIM(LEFT(C45,SEARCH(" ",C45,1)))),C45),"") -> BARBAULT | G45: =IF(BIBLIOTHEQUE[[#This Row],[N° par Auteur]]<>"",TRIM(RIGHT(C45,LEN(C45)-LEN(F45))),"") -> MARTINE | H45: =IF(BIBLIOTHEQUE[[#This Row],[AUTEURS 1]]<>"",ROW()-1,"") -> 44
A46: =BIBLIOTHEQUE[[#This Row],[AUTEURS 1]]& BIBLIOTHEQUE[[#This Row],[N° par Auteur]] -> BEAUGET SYLVIEBS1 1 | B46: =VLOOKUP(BIBLIOTHEQUE[[#This Row],[AUTEURS 1]],ABREVIATIONS!A:AC,4,FALSE) & " " &TEXT(1+COUNTIF($C$1:C45,BIBLIOTHEQUE[[#This Row],[AUTEURS 1]]),"0") -> BS1 1 | C46: BEAUGET SYLVIE | E46: Les Prévisions En Astrologie : Les Transits | F46: =IF(BIBLIOTHEQUE[[#This Row],[N° par Auteur]]<>"",IFERROR(UPPER(TRIM(LEFT(C46,SEARCH(" ",C46,1)))),C46),"") -> BEAUGET | G46: =IF(BIBLIOTHEQUE[[#This Row],[N° par Auteur]]<>"",TRIM(RIGHT(C46,LEN(C46)-LEN(F46))),"") -> SYLVIE | H46: =IF(BIBLIOTHEQUE[[#This Row],[AUTEURS 1]]<>"",ROW()-1,"") -> 45
A47: =BIBLIOTHEQUE[[#This Row],[AUTEURS 1]]& BIBLIOTHEQUE[[#This Row],[N° par Auteur]] -> BERTRAND CHIARABC1 1 | B47: =VLOOKUP(BIBLIOTHEQUE[[#This Row],[AUTEURS 1]],ABREVIATIONS!A:AC,4,FALSE) & " " &TEXT(1+COUNTIF($C$1:C46,BIBLIOTHEQUE[[#This Row],[AUTEURS 1]]),"0") -> BC1 1 | C47: BERTRAND CHIARA | E47: Code Astrologie | F47: =IF(BIBLIOTHEQUE[[#This Row],[N° par Auteur]]<>"",IFERROR(UPPER(TRIM(LEFT(C47,SEARCH(" ",C47,1)))),C47),"") -> BERTRAND | G47: =IF(BIBLIOTHEQUE[[#This Row],[N° par Auteur]]<>"",TRIM(RIGHT(C47,LEN(C47)-LEN(F47))),"") -> CHIARA | H47: =IF(BIBLIOTHEQUE[[#This Row],[AUTEURS 1]]<>"",ROW()-1,"") -> 46
A48: =BIBLIOTHEQUE[[#This Row],[AUTEURS 1]]& BIBLIOTHEQUE[[#This Row],[N° par Auteur]] -> BERTRAND JACQUES BJ1 1 | B48: =VLOOKUP(BIBLIOTHEQUE[[#This Row],[AUTEURS 1]],ABREVIATIONS!A:AC,4,FALSE) & " " &TEXT(1+COUNTIF($C$1:C47,BIBLIOTHEQUE[[#This Row],[AUTEURS 1]]),"0") -> BJ1 1 | C48: BERTRAND JACQUES | E48: Tristesse De La Balance & Autres Signes | F48: =IF(BIBLIOTHEQUE[[#This Row],[N° par Auteur]]<>"",IFERROR(UPPER(TRIM(LEFT(C48,SEARCH(" ",C48,1)))),C48),"") -> BERTRAND | G48: =IF(BIBLIOTHEQUE[[#This Row],[N° par Auteur]]<>"",TRIM(RIGHT(C48,LEN(C48)-LEN(F48))),"") -> JACQUES | H48: =IF(BIBLIOTHEQUE[[#This Row],[AUTEURS 1]]<>"",ROW()-1,"") -> 47
A49: =BIBLIOTHEQUE[[#This Row],[AUTEURS 1]]& BIBLIOTHEQUE[[#This Row],[N° par Auteur]] -> BETAILLOLE JOSETTEBJ2 1 | B49: =VLOOKUP(BIBLIOTHEQUE[[#This Row],[AUTEURS 1]],ABREVIATIONS!A:AC,4,FALSE) & " " &TEXT(1+COUNTIF($C$1:C48,BIBLIOTHEQUE[[#This Row],[AUTEURS 1]]),"0") -> BJ2 1 | C49: BETAILLOLE JOSETTE | E49: Les Troubles De L'Excès | F49: =IF(BIBLIOTHEQUE[[#This Row],[N° par Auteur]]<>"",IFERROR(UPPER(TRIM(LEFT(C49,SEARCH(" ",C49,1)))),C49),"") -> BETAILLOLE | G49: =IF(BIBLIOTHEQUE[[#This Row],[N° par Auteur]]<>"",TRIM(RIGHT(C49,LEN(C49)-LEN(F49))),"") -> JOSETTE | H49: =IF(BIBLIOTHEQUE[[#This Row],[AUTEURS 1]]<>"",ROW()-1,"") -> 48
A50: =BIBLIOTHEQUE[[#This Row],[AUTEURS 1]]& BIBLIOTHEQUE[[#This Row],[N° par Auteur]] -> BETAILLOLE JOSETTEBJ2 2 | B50: =VLOOKUP(BIBLIOTHEQUE[[#This Row],[AUTEURS 1]],ABREVIATIONS!A:AC,4,FALSE) & " " &TEXT(1+COUNTIF($C$1:C49,BIBLIOTHEQUE[[#This Row],[AUTEURS 1]]),"0") -> BJ2 2 | C50: BETAILLOLE JOSETTE | E50: La Sexualité Par L'Astro-Psychologie | F50: =IF(BIBLIOTHEQUE[[#This Row],[N° par Auteur]]<>"",IFERROR(UPPER(TRIM(LEFT(C50,SEARCH(" ",C50,1)))),C50),"") -> BETAILLOLE | G50: =IF(BIBLIOTHEQUE[[#This Row],[N° par Auteur]]<>"",TRIM(RIGHT(C50,LEN(C50)-LEN(F50))),"") -> JOSETTE | H50: =IF(BIBLIOTHEQUE[[#This Row],[AUTEURS 1]]<>"",ROW()-1,"") -> 49
A51: =BIBLIOTHEQUE[[#This Row],[AUTEURS 1]]& BIBLIOTHEQUE[[#This Row],[N° par Auteur]] -> BIGE LUCBL1 1 | B51: =VLOOKUP(BIBLIOTHEQUE[[#This Row],[AUTEURS 1]],ABREVIATIONS!A:AC,4,FALSE) & " " &TEXT(1+COUNTIF($C$1:C50,BIBLIOTHEQUE[[#This Row],[AUTEURS 1]]),"0") -> BL1 1 | C51: BIGE LUC | E51: Les Douze Maisons Astrologiques | F51: =IF(BIBLIOTHEQUE[[#This Row],[N° par Auteur]]<>"",IFERROR(UPPER(TRIM(LEFT(C51,SEARCH(" ",C51,1)))),C51),"") -> BIGE | G51: =IF(BIBLIOTHEQUE[[#This Row],[N° par Auteur]]<>"",TRIM(RIGHT(C51,LEN(C51)-LEN(F51))),"") -> LUC | H51: =IF(BIBLIOTHEQUE[[#This Row],[AUTEURS 1]]<>"",ROW()-1,"") -> 50
A52: =BIBLIOTHEQUE[[#This Row],[AUTEURS 1]]& BIBLIOTHEQUE[[#This Row],[N° par Auteur]] -> BIGE LUCBL1 2 | B52: =VLOOKUP(BIBLIOTHEQUE[[#This Row],[AUTEURS 1]],ABREVIATIONS!A:AC,4,FALSE) & " " &TEXT(1+COUNTIF($C$1:C51,BIBLIOTHEQUE[[#This Row],[AUTEURS 1]]),"0") -> BL1 2 | C52: BIGE LUC | E52: Planètes Rétrogrades Terres Intérieures | F52: =IF(BIBLIOTHEQUE[[#This Row],[N° par Auteur]]<>"",IFERROR(UPPER(TRIM(LEFT(C52,SEARCH(" ",C52,1)))),C52),"") -> BIGE | G52: =IF(BIBLIOTHEQUE[[#This Row],[N° par Auteur]]<>"",TRIM(RIGHT(C52,LEN(C52)-LEN(F52))),"") -> LUC | H52: =IF(BIBLIOTHEQUE[[#This Row],[AUTEURS 1]]<>"",ROW()-1,"") -> 51
A53: =BIBLIOTHEQUE[[#This Row],[AUTEURS 1]]& BIBLIOTHEQUE[[#This Row],[N° par Auteur]] -> BIGE LUCBL1 3 | B53: =VLOOKUP(BIBLIOTHEQUE[[#This Row],[AUTEURS 1]],ABREVIATIONS!A:AC,4,FALSE) & " " &TEXT(1+COUNTIF($C$1:C52,BIBLIOTHEQUE[[#This Row],[AUTEURS 1]]),"0") -> BL1 3 | C53: BIGE LUC | E53: La Lune Noire : Un Vertige Absolu | F53: =IF(BIBLIOTHEQUE[[#This Row],[N° par Auteur]]<>"",IFERROR(UPPER(TRIM(LEFT(C53,SEARCH(" ",C53,1)))),C53),"") -> BIGE | G53: =IF(BIBLIOTHEQUE[[#This Row],[N° par Auteur]]<>"",TRIM(RIGHT(C53,LEN(C53)-LEN(F53))),"") -> LUC | H53: =IF(BIBLIOTHEQUE[[#This Row],[AUTEURS 1]]<>"",ROW()-1,"") -> 52
A54: =BIBLIOTHEQUE[[#This Row],[AUTEURS 1]]& BIBLIOTHEQUE[[#This Row],[N° par Auteur]] -> BILLON JEANBJ3 1 | B54: =VLOOKUP(BIBLIOTHEQUE[[#This Row],[AUTEURS 1]],ABREVIATIONS!A:AC,4,FALSE) & " " &TEXT(1+COUNTIF($C$1:C53,BIBLIOTHEQUE[[#This Row],[AUTEURS 1]]),"0") -> BJ3 1 | C54: BILLON JEAN | E54: L'Univers Des Astéroides | F54: =IF(BIBLIOTHEQUE[[#This Row],[N° par Auteur]]<>"",IFERROR(UPPER(TRIM(LEFT(C54,SEARCH(" ",C54,1)))),C54),"") -> BILLON | G54: =IF(BIBLIOTHEQUE[[#This Row],[N° par Auteur]]<>"",TRIM(RIGHT(C54,LEN(C54)-LEN(F54))),"") -> JEAN | H54: =IF(BIBLIOTHEQUE[[#This Row],[AUTEURS 1]]<>"",ROW()-1,"") -> 53
A55: =BIBLIOTHEQUE[[#This Row],[AUTEURS 1]]& BIBLIOTHEQUE[[#This Row],[N° par Auteur]] -> CANU CHANTALCC1 1 | B55: =VLOOKUP(BIBLIOTHEQUE[[#This Row],[AUTEURS 1]],ABREVIATIONS!A:AC,4,FALSE) & " " &TEXT(1+COUNTIF($C$1:C54,BIBLIOTHEQUE[[#This Row],[AUTEURS 1]]),"0") -> CC1 1 | C55: CANU CHANTAL | E55: La Révolution Solaire Expliquée | F55: =IF(BIBLIOTHEQUE[[#This Row],[N° par Auteur]]<>"",IFERROR(UPPER(TRIM(LEFT(C55,SEARCH(" ",C55,1)))),C55),"") -> CANU | G55: =IF(BIBLIOTHEQUE[[#This Row],[N° par Auteur]]<>"",TRIM(RIGHT(C55,LEN(C55)-LEN(F55))),"") -> CHANTAL | H55: =IF(BIBLIOTHEQUE[[#This Row],[AUTEURS 1]]<>"",ROW()-1,"") -> 54
A56: =BIBLIOTHEQUE[[#This Row],[AUTEURS 1]]& BIBLIOTHEQUE[[#This Row],[N° par Auteur]] -> CANU CHANTALCC1 2 | B56: =VLOOKUP(BIBLIOTHEQUE[[#This Row],[AUTEURS 1]],ABREVIATIONS!A:AC,4,FALSE) & " " &TEXT(1+COUNTIF($C$1:C55,BIBLIOTHEQUE[[#This Row],[AUTEURS 1]]),"0") -> CC1 2 | C56: CANU CHANTAL | E56: L'Astrologie Au Service De L'Orientation Professionnelle | F56: =IF(BIBLIOTHEQUE[[#This Row],[N° par Auteur]]<>"",IFERROR(UPPER(TRIM(LEFT(C56,SEARCH(" ",C56,1)))),C56),"") -> CANU | G56: =IF(BIBLIOTHEQUE[[#This Row],[N° par Auteur]]<>"",TRIM(RIGHT(C56,LEN(C56)-LEN(F56))),"") -> CHANTAL | H56: =IF(BIBLIOTHEQUE[[#This Row],[AUTEURS 1]]<>"",ROW()-1,"") -> 55
A57: =BIBLIOTHEQUE[[#This Row],[AUTEURS 1]]& BIBLIOTHEQUE[[#This Row],[N° par Auteur]] -> CARATINI SIMONE-EMMANUELLECS1 1 | B57: =VLOOKUP(BIBLIOTHEQUE[[#This Row],[AUTEURS 1]],ABREVIATIONS!A:AC,4,FALSE) & " " &TEXT(1+COUNTIF($C$1:C56,BIBLIOTHEQUE[[#This Row],[AUTEURS 1]]),"0") -> CS1 1 | C57: CARATINI SIMONE-EMMANUELLE | E57: La Mutation Essentielle : Les Interceptions | F57: =IF(BIBLIOTHEQUE[[#This Row],[N° par Auteur]]<>"",IFERROR(UPPER(TRIM(LEFT(C57,SEARCH(" ",C57,1)))),C57),"") -> CARATINI | G57: =IF(BIBLIOTHEQUE[[#This Row],[N° par Auteur]]<>"",TRIM(RIGHT(C57,LEN(C57)-LEN(F57))),"") -> SIMONE-EMMANUELLE | H57: =IF(BIBLIOTHEQUE[[#This Row],[AUTEURS 1]]<>"",ROW()-1,"") -> 56
... A98: =BIBLIOTHEQUE[[#This Row],[AUTEURS 1]]& BIBLIOTHEQUE[[#This Row],[N° par Auteur]] -> EDITIONS TRADITIONNELLESET1 3 | B98: =VLOOKUP(BIBLIOTHEQUE[[#This Row],[AUTEURS 1]],ABREVIATIONS!A:AC,4,FALSE) & " " &TEXT(1+COUNTIF($C$1:C97,BIBLIOTHEQUE[[#This Row],[AUTEURS 1]]),"0") -> ET1 3 | C98: EDITIONS TRADITIONNELLES | E98: Les Etoiles Fixes | F98: =IF(BIBLIOTHEQUE[[#This Row],[N° par Auteur]]<>"",IFERROR(UPPER(TRIM(LEFT(C98,SEARCH(" ",C98,1)))),C98),"") -> EDITIONS | G98: =IF(BIBLIOTHEQUE[[#This Row],[N° par Auteur]]<>"",TRIM(RIGHT(C98,LEN(C98)-LEN(F98))),"") -> TRADITIONNELLES | H98: =IF(BIBLIOTHEQUE[[#This Row],[AUTEURS 1]]<>"",ROW()-1,"") -> 97
A99: =BIBLIOTHEQUE[[#This Row],[AUTEURS 1]]& BIBLIOTHEQUE[[#This Row],[N° par Auteur]] -> FAERY TINIAFT1 1 | B99: =VLOOKUP(BIBLIOTHEQUE[[#This Row],[AUTEURS 1]],ABREVIATIONS!A:AC,4,FALSE) & " " &TEXT(1+COUNTIF($C$1:C98,BIBLIOTHEQUE[[#This Row],[AUTEURS 1]]),"0") -> FT1 1 | C99: FAERY TINIA | D99: AURELIUS MAGI | E99: L'Enigme Des Heures Planétaires | F99: =IF(BIBLIOTHEQUE[[#This Row],[N° par Auteur]]<>"",IFERROR(UPPER(TRIM(LEFT(C99,SEARCH(" ",C99,1)))),C99),"") -> FAERY | G99: =IF(BIBLIOTHEQUE[[#This Row],[N° par Auteur]]<>"",TRIM(RIGHT(C99,LEN(C99)-LEN(F99))),"") -> TINIA | H99: =IF(BIBLIOTHEQUE[[#This Row],[AUTEURS 1]]<>"",ROW()-1,"") -> 98
A100: =BIBLIOTHEQUE[[#This Row],[AUTEURS 1]]& BIBLIOTHEQUE[[#This Row],[N° par Auteur]] -> FALLON ASTRIDFA1 1 | B100: =VLOOKUP(BIBLIOTHEQUE[[#This Row],[AUTEURS 1]],ABREVIATIONS!A:AC,4,FALSE) & " " &TEXT(1+COUNTIF($C$1:C99,BIBLIOTHEQUE[[#This Row],[AUTEURS 1]]),"0") -> FA1 1 | C100: FALLON ASTRID | E100: Cycles Et Calculs Astrologiques | F100: =IF(BIBLIOTHEQUE[[#This Row],[N° par Auteur]]<>"",IFERROR(UPPER(TRIM(LEFT(C100,SEARCH(" ",C100,1)))),C100),"") -> FALLON | G100: =IF(BIBLIOTHEQUE[[#This Row],[N° par Auteur]]<>"",TRIM(RIGHT(C100,LEN(C100)-LEN(F100))),"") -> ASTRID | H100: =IF(BIBLIOTHEQUE[[#This Row],[AUTEURS 1]]<>"",ROW()-1,"") -> 99
A101: =BIBLIOTHEQUE[[#This Row],[AUTEURS 1]]& BIBLIOTHEQUE[[#This Row],[N° par Auteur]] -> FANTONI CHRISTIANEFC1 1 | B101: =VLOOKUP(BIBLIOTHEQUE[[#This Row],[AUTEURS 1]],ABREVIATIONS!A:AC,4,FALSE) & " " &TEXT(1+COUNTIF($C$1:C100,BIBLIOTHEQUE[[#This Row],[AUTEURS 1]]),"0") -> FC1 1 | C101: FANTONI CHRISTIANE | E101: L'Astrologie Pour Tous | F101: =IF(BIBLIOTHEQUE[[#This Row],[N° par Auteur]]<>"",IFERROR(UPPER(TRIM(LEFT(C101,SEARCH(" ",C101,1)))),C101),"") -> FANTONI | G101: =IF(BIBLIOTHEQUE[[#This Row],[N° par Auteur]]<>"",TRIM(RIGHT(C101,LEN(C101)-LEN(F101))),"") -> CHRISTIANE | H101: =IF(BIBLIOTHEQUE[[#This Row],[AUTEURS 1]]<>"",ROW()-1,"") -> 100
A102: =BIBLIOTHEQUE[[#This Row],[AUTEURS 1]]& BIBLIOTHEQUE[[#This Row],[N° par Auteur]] -> FILBEY JOHNFJ1 1 | B102: =VLOOKUP(BIBLIOTHEQUE[[#This Row],[AUTEURS 1]],ABREVIATIONS!A:AC,4,FALSE) & " " &TEXT(1+COUNTIF($C$1:C101,BIBLIOTHEQUE[[#This Row],[AUTEURS 1]]),"0") -> FJ1 1 | C102: FILBEY JOHN | E102: Faire Sa Carte Du Ciel | F102: =IF(BIBLIOTHEQUE[[#This Row],[N° par Auteur]]<>"",IFERROR(UPPER(TRIM(LEFT(C102,SEARCH(" ",C102,1)))),C102),"") -> FILBEY | G102: =IF(BIBLIOTHEQUE[[#This Row],[N° par Auteur]]<>"",TRIM(RIGHT(C102,LEN(C102)-LEN(F102))),"") -> JOHN | H102: =IF(BIBLIOTHEQUE[[#This Row],[AUTEURS 1]]<>"",ROW()-1,"") -> 101
A103: =BIBLIOTHEQUE[[#This Row],[AUTEURS 1]]& BIBLIOTHEQUE[[#This Row],[N° par Auteur]] -> FLUDD ROBERTFR1 1 | B103: =VLOOKUP(BIBLIOTHEQUE[[#This Row],[AUTEURS 1]],ABREVIATIONS!A:AC,4,FALSE) & " " &TEXT(1+COUNTIF($C$1:C102,BIBLIOTHEQUE[[#This Row],[AUTEURS 1]]),"0") -> FR1 1 | C103: FLUDD ROBERT | E103: Traité D'Astrologie Générale | F103: =IF(BIBLIOTHEQUE[[#This Row],[N° par Auteur]]<>"",IFERROR(UPPER(TRIM(LEFT(C103,SEARCH(" ",C103,1)))),C103),"") -> FLUDD | G103: =IF(BIBLIOTHEQUE[[#This Row],[N° par Auteur]]<>"",TRIM(RIGHT(C103,LEN(C103)-LEN(F103))),"") -> ROBERT | H103: =IF(BIBLIOTHEQUE[[#This Row],[AUTEURS 1]]<>"",ROW()-1,"") -> 102
A104: =BIBLIOTHEQUE[[#This Row],[AUTEURS 1]]& BIBLIOTHEQUE[[#This Row],[N° par Auteur]] -> FLUDD ROBERTFR1 2 | B104: =VLOOKUP(BIBLIOTHEQUE[[#This Row],[AUTEURS 1]],ABREVIATIONS!A:AC,4,FALSE) & " " &TEXT(1+COUNTIF($C$1:C103,BIBLIOTHEQUE[[#This Row],[AUTEURS 1]]),"0") -> FR1 2 | C104: FLUDD ROBERT | E104: Traité D'Astrologie Générale | F104: =IF(BIBLIOTHEQUE[[#This Row],[N° par Auteur]]<>"",IFERROR(UPPER(TRIM(LEFT(C104,SEARCH(" ",C104,1)))),C104),"") -> FLUDD | G104: =IF(BIBLIOTHEQUE[[#This Row],[N° par Auteur]]<>"",TRIM(RIGHT(C104,LEN(C104)-LEN(F104))),"") -> ROBERT | H104: =IF(BIBLIOTHEQUE[[#This Row],[AUTEURS 1]]<>"",ROW()-1,"") -> 103
A105: =BIBLIOTHEQUE[[#This Row],[AUTEURS 1]]& BIBLIOTHEQUE[[#This Row],[N° par Auteur]] -> FORREST STEVENFS1 1 | B105: =VLOOKUP(BIBLIOTHEQUE[[#This Row],[AUTEURS 1]],ABREVIATIONS!A:AC,4,FALSE) & " " &TEXT(1+COUNTIF($C$1:C104,BIBLIOTHEQUE[[#This Row],[AUTEURS 1]]),"0") -> FS1 1 | C105: FORREST STEVEN | E105: Astrologie Le Ciel Intérieur | F105: =IF(BIBLIOTHEQUE[[#This Row],[N° par Auteur]]<>"",IFERROR(UPPER(TRIM(LEFT(C105,SEARCH(" ",C105,1)))),C105),"") -> FORREST | G105: =IF(BIBLIOTHEQUE[[#This Row],[N° par Auteur]]<>"",TRIM(RIGHT(C105,LEN(C105)-LEN(F105))),"") -> STEVEN | H105: =IF(BIBLIOTHEQUE[[#This Row],[AUTEURS 1]]<>"",ROW()-1,"") -> 104
A106: =BIBLIOTHEQUE[[#This Row],[AUTEURS 1]]& BIBLIOTHEQUE[[#This Row],[N° par Auteur]] -> FUZEAU-BRAESCH SUZELFS2 1 | B106: =VLOOKUP(BIBLIOTHEQUE[[#This Row],[AUTEURS 1]],ABREVIATIONS!A:AC,4,FALSE) & " " &TEXT(1+COUNTIF($C$1:C105,BIBLIOTHEQUE[[#This Row],[AUTEURS 1]]),"0") -> FS2 1 | C106: FUZEAU-BRAESCH SUZEL | E106: Astrologie : La Preuve Par Deux | F106: =IF(BIBLIOTHEQUE[[#This Row],[N° par Auteur]]<>"",IFERROR(UPPER(TRIM(LEFT(C106,SEARCH(" ",C106,1)))),C106),"") -> FUZEAU-BRAESCH | G106: =IF(BIBLIOTHEQUE[[#This Row],[N° par Auteur]]<>"",TRIM(RIGHT(C106,LEN(C106)-LEN(F106))),"") -> SUZEL | H106: =IF(BIBLIOTHEQUE[[#This Row],[AUTEURS 1]]<>"",ROW()-1,"") -> 105
A107: =BIBLIOTHEQUE[[#This Row],[AUTEURS 1]]& BIBLIOTHEQUE[[#This Row],[N° par Auteur]] -> GESBERT ALAINGA1 1 | B107: =VLOOKUP(BIBLIOTHEQUE[[#This Row],[AUTEURS 1]],ABREVIATIONS!A:AC,4,FALSE) & " " &TEXT(1+COUNTIF($C$1:C106,BIBLIOTHEQUE[[#This Row],[AUTEURS 1]]),"0") -> GA1 1 | C107: GESBERT ALAIN | E107: B.A. - Ba Interprétation Astrologique | F107: =IF(BIBLIOTHEQUE[[#This Row],[N° par Auteur]]<>"",IFERROR(UPPER(TRIM(LEFT(C107,SEARCH(" ",C107,1)))),C107),"") -> GESBERT | G107: =IF(BIBLIOTHEQUE[[#This Row],[N° par Auteur]]<>"",TRIM(RIGHT(C107,LEN(C107)-LEN(F107))),"") -> ALAIN | H107: =IF(BIBLIOTHEQUE[[#This Row],[AUTEURS 1]]<>"",ROW()-1,"") -> 106
A108: =BIBLIOTHEQUE[[#This Row],[AUTEURS 1]]& BIBLIOTHEQUE[[#This Row],[N° par Auteur]] -> GIRAUD DANIELGD1 1 | B108: =VLOOKUP(BIBLIOTHEQUE[[#This Row],[AUTEURS 1]],ABREVIATIONS!A:AC,4,FALSE) & " " &TEXT(1+COUNTIF($C$1:C107,BIBLIOTHEQUE[[#This Row],[AUTEURS 1]]),"0") -> GD1 1 | C108: GIRAUD DANIEL | E108: Cours Complet D'Astrologie En 36 Leçons | F108: =IF(BIBLIOTHEQUE[[#This Row],[N° par Auteur]]<>"",IFERROR(UPPER(TRIM(LEFT(C108,SEARCH(" ",C108,1)))),C108),"") -> GIRAUD | G108: =IF(BIBLIOTHEQUE[[#This Row],[N° par Auteur]]<>"",TRIM(RIGHT(C108,LEN(C108)-LEN(F108))),"") -> DANIEL | H108: =IF(BIBLIOTHEQUE[[#This Row],[AUTEURS 1]]<>"",ROW()-1,"") -> 107
A109: =BIBLIOTHEQUE[[#This Row],[AUTEURS 1]]& BIBLIOTHEQUE[[#This Row],[N° par Auteur]] -> GIZZI LAURENTGL1 1 | B109: =VLOOKUP(BIBLIOTHEQUE[[#This Row],[AUTEURS 1]],ABREVIATIONS!A:AC,4,FALSE) & " " &TEXT(1+COUNTIF($C$1:C108,BIBLIOTHEQUE[[#This Row],[AUTEURS 1]]),"0") -> GL1 1 | C109: GIZZI LAURENT | E109: Zodiac City T1 Le Taureau Sacrifié | F109: =IF(BIBLIOTHEQUE[[#This Row],[N° par Auteur]]<>"",IFERROR(UPPER(TRIM(LEFT(C109,SEARCH(" ",C109,1)))),C109),"") -> GIZZI | G109: =IF(BIBLIOTHEQUE[[#This Row],[N° par Auteur]]<>"",TRIM(RIGHT(C109,LEN(C109)-LEN(F109))),"") -> LAURENT | H109: =IF(BIBLIOTHEQUE[[#This Row],[AUTEURS 1]]<>"",ROW()-1,"") -> 108
A110: =BIBLIOTHEQUE[[#This Row],[AUTEURS 1]]& BIBLIOTHEQUE[[#This Row],[N° par Auteur]] -> GONZE-CONRAD CHRISTINEGC1 1 | B110: =VLOOKUP(BIBLIOTHEQUE[[#This Row],[AUTEURS 1]],ABREVIATIONS!A:AC,4,FALSE) & " " &TEXT(1+COUNTIF($C$1:C109,BIBLIOTHEQUE[[#This Row],[AUTEURS 1]]),"0") -> GC1 1 | C110: GONZE-CONRAD CHRISTINE | E110: Ecriture Céleste | F110: =IF(BIBLIOTHEQUE[[#This Row],[N° par Auteur]]<>"",IFERROR(UPPER(TRIM(LEFT(C110,SEARCH(" ",C110,1)))),C110),"") -> GONZE-CONRAD | G110: =IF(BIBLIOTHEQUE[[#This Row],[N° par Auteur]]<>"",TRIM(RIGHT(C110,LEN(C110)-LEN(F110))),"") -> CHRISTINE | H110: =IF(BIBLIOTHEQUE[[#This Row],[AUTEURS 1]]<>"",ROW()-1,"") -> 109
A111: =BIBLIOTHEQUE[[#This Row],[AUTEURS 1]]& BIBLIOTHEQUE[[#This Row],[N° par Auteur]] -> GOUCHON HENRI JEANGHJ1 1 | B111: =VLOOKUP(BIBLIOTHEQUE[[#This Row],[AUTEURS 1]],ABREVIATIONS!A:AC,4,FALSE) & " " &TEXT(1+COUNTIF($C$1:C110,BIBLIOTHEQUE[[#This Row],[AUTEURS 1]]),"0") -> GHJ1 1 | C111: GOUCHON HENRI JEAN | E111: Les Directions Primaires Simplifiées | F111: =IF(BIBLIOTHEQUE[[#This Row],[N° par Auteur]]<>"",IFERROR(UPPER(TRIM(LEFT(C111,SEARCH(" ",C111,1)))),C111),"") -> GOUCHON | G111: =IF(BIBLIOTHEQUE[[#This Row],[N° par Auteur]]<>"",TRIM(RIGHT(C111,LEN(C111)-LEN(F111))),"") -> HENRI JEAN | H111: =IF(BIBLIOTHEQUE[[#This Row],[AUTEURS 1]]<>"",ROW()-1,"") -> 110
... A113: =BIBLIOTHEQUE[[#This Row],[AUTEURS 1]]& BIBLIOTHEQUE[[#This Row],[N° par Auteur]] -> GRANGER PHILIPPEGP1 1 | B113: =VLOOKUP(BIBLIOTHEQUE[[#This Row],[AUTEURS 1]],ABREVIATIONS!A:AC,4,FALSE) & " " &TEXT(1+COUNTIF($C$1:C112,BIBLIOTHEQUE[[#This Row],[AUTEURS 1]]),"0") -> GP1 1 | C113: GRANGER PHILIPPE | E113: La Lune Noire Et Les Destins De Vénus | F113: =IF(BIBLIOTHEQUE[[#This Row],[N° par Auteur]]<>"",IFERROR(UPPER(TRIM(LEFT(C113,SEARCH(" ",C113,1)))),C113),"") -> GRANGER | G113: =IF(BIBLIOTHEQUE[[#This Row],[N° par Auteur]]<>"",TRIM(RIGHT(C113,LEN(C113)-LEN(F113))),"") -> PHILIPPE | H113: =IF(BIBLIOTHEQUE[[#This Row],[AUTEURS 1]]<>"",ROW()-1,"") -> 112
A114: =BIBLIOTHEQUE[[#This Row],[AUTEURS 1]]& BIBLIOTHEQUE[[#This Row],[N° par Auteur]] -> GREENE LIZGL2 1 | B114: =VLOOKUP(BIBLIOTHEQUE[[#This Row],[AUTEURS 1]],ABREVIATIONS!A:AC,4,FALSE) & " " &TEXT(1+COUNTIF($C$1:C113,BIBLIOTHEQUE[[#This Row],[AUTEURS 1]]),"0") -> GL2 1 | C114: GREENE LIZ | D114: ARROYO STEPHEN | E114: Jupiter Et Saturne Nouvelles Perspectives | F114: =IF(BIBLIOTHEQUE[[#This Row],[N° par Auteur]]<>"",IFERROR(UPPER(TRIM(LEFT(C114,SEARCH(" ",C114,1)))),C114),"") -> GREENE | G114: =IF(BIBLIOTHEQUE[[#This Row],[N° par Auteur]]<>"",TRIM(RIGHT(C114,LEN(C114)-LEN(F114))),"") -> LIZ | H114: =IF(BIBLIOTHEQUE[[#This Row],[AUTEURS 1]]<>"",ROW()-1,"") -> 113
A115: =BIBLIOTHEQUE[[#This Row],[AUTEURS 1]]& BIBLIOTHEQUE[[#This Row],[N° par Auteur]] -> GUIRAUD FRANCOISGF1 1 | B115: =VLOOKUP(BIBLIOTHEQUE[[#This Row],[AUTEURS 1]],ABREVIATIONS!A:AC,4,FALSE) & " " &TEXT(1+COUNTIF($C$1:C114,BIBLIOTHEQUE[[#This Row],[AUTEURS 1]]),"0") -> GF1 1 | C115: GUIRAUD FRANCOIS | E115: Symbolisme Et Interprétation Des Noeuds Lunaires | F115: =IF(BIBLIOTHEQUE[[#This Row],[N° par Auteur]]<>"",IFERROR(UPPER(TRIM(LEFT(C115,SEARCH(" ",C115,1)))),C115),"") -> GUIRAUD | G115: =IF(BIBLIOTHEQUE[[#This Row],[N° par Auteur]]<>"",TRIM(RIGHT(C115,LEN(C115)-LEN(F115))),"") -> FRANCOIS | H115: =IF(BIBLIOTHEQUE[[#This Row],[AUTEURS 1]]<>"",ROW()-1,"") -> 114
A116: =BIBLIOTHEQUE[[#This Row],[AUTEURS 1]]& BIBLIOTHEQUE[[#This Row],[N° par Auteur]] -> GUIRAUD FRANCOISGF1 2 | B116: =VLOOKUP(BIBLIOTHEQUE[[#This Row],[AUTEURS 1]],ABREVIATIONS!A:AC,4,FALSE) & " " &TEXT(1+COUNTIF($C$1:C115,BIBLIOTHEQUE[[#This Row],[AUTEURS 1]]),"0") -> GF1 2 | C116: GUIRAUD FRANCOIS | E116: Les Directions Symboliques | F116: =IF(BIBLIOTHEQUE[[#This Row],[N° par Auteur]]<>"",IFERROR(UPPER(TRIM(LEFT(C116,SEARCH(" ",C116,1)))),C116),"") -> GUIRAUD | G116: =IF(BIBLIOTHEQUE[[#This Row],[N° par Auteur]]<>"",TRIM(RIGHT(C116,LEN(C116)-LEN(F116))),"") -> FRANCOIS | H116: =IF(BIBLIOTHEQUE[[#This Row],[AUTEURS 1]]<>"",ROW()-1,"") -> 115
A117: =BIBLIOTHEQUE[[#This Row],[AUTEURS 1]]& BIBLIOTHEQUE[[#This Row],[N° par Auteur]] -> HADESH1 1 | B117: =VLOOKUP(BIBLIOTHEQUE[[#This Row],[AUTEURS 1]],ABREVIATIONS!A:AC,4,FALSE) & " " &TEXT(1+COUNTIF($C$1:C116,BIBLIOTHEQUE[[#This Row],[AUTEURS 1]]),"0") -> H1 1 | C117: HADES | E117: Pluton Ou Les Grands Mystères | F117: =IF(BIBLIOTHEQUE[[#This Row],[N° par Auteur]]<>"",IFERROR(UPPER(TRIM(LEFT(C117,SEARCH(" ",C117,1)))),C117),"") -> HADES | G117: =IF(BIBLIOTHEQUE[[#This Row],[N° par Auteur]]<>"",TRIM(RIGHT(C117,LEN(C117)-LEN(F117))),"") | H117: =IF(BIBLIOTHEQUE[[#This Row],[AUTEURS 1]]<>"",ROW()-1,"") -> 116
A118: =BIBLIOTHEQUE[[#This Row],[AUTEURS 1]]& BIBLIOTHEQUE[[#This Row],[N° par Auteur]] -> HADESH1 2 | B118: =VLOOKUP(BIBLIOTHEQUE[[#This Row],[AUTEURS 1]],ABREVIATIONS!A:AC,4,FALSE) & " " &TEXT(1+COUNTIF($C$1:C117,BIBLIOTHEQUE[[#This Row],[AUTEURS 1]]),"0") -> H1 2 | C118: HADES | E118: Manuel Complet De L'Interprétation Du Tarot | F118: =IF(BIBLIOTHEQUE[[#This Row],[N° par Auteur]]<>"",IFERROR(UPPER(TRIM(LEFT(C118,SEARCH(" ",C118,1)))),C118),"") -> HADES | G118: =IF(BIBLIOTHEQUE[[#This Row],[N° par Auteur]]<>"",TRIM(RIGHT(C118,LEN(C118)-LEN(F118))),"") | H118: =IF(BIBLIOTHEQUE[[#This Row],[AUTEURS 1]]<>"",ROW()-1,"") -> 117
A119: =BIBLIOTHEQUE[[#This Row],[AUTEURS 1]]& BIBLIOTHEQUE[[#This Row],[N° par Auteur]] -> HADESH1 3 | B119: =VLOOKUP(BIBLIOTHEQUE[[#This Row],[AUTEURS 1]],ABREVIATIONS!A:AC,4,FALSE) & " " &TEXT(1+COUNTIF($C$1:C118,BIBLIOTHEQUE[[#This Row],[AUTEURS 1]]),"0") -> H1 3 | C119: HADES | E119: Le Livre Des Apects Astrologiques | F119: =IF(BIBLIOTHEQUE[[#This Row],[N° par Auteur]]<>"",IFERROR(UPPER(TRIM(LEFT(C119,SEARCH(" ",C119,1)))),C119),"") -> HADES | G119: =IF(BIBLIOTHEQUE[[#This Row],[N° par Auteur]]<>"",TRIM(RIGHT(C119,LEN(C119)-LEN(F119))),"") | H119: =IF(BIBLIOTHEQUE[[#This Row],[AUTEURS 1]]<>"",ROW()-1,"") -> 118
A120: =BIBLIOTHEQUE[[#This Row],[AUTEURS 1]]& BIBLIOTHEQUE[[#This Row],[N° par Auteur]] -> HADESH1 4 | B120: =VLOOKUP(BIBLIOTHEQUE[[#This Row],[AUTEURS 1]],ABREVIATIONS!A:AC,4,FALSE) & " " &TEXT(1+COUNTIF($C$1:C119,BIBLIOTHEQUE[[#This Row],[AUTEURS 1]]),"0") -> H1 4 | C120: HADES | E120: Guide Pratique De L'Interprétation En Astrologie | F120: =IF(BIBLIOTHEQUE[[#This Row],[N° par Auteur]]<>"",IFERROR(UPPER(TRIM(LEFT(C120,SEARCH(" ",C120,1)))),C120),"") -> HADES | G120: =IF(BIBLIOTHEQUE[[#This Row],[N° par Auteur]]<>"",TRIM(RIGHT(C120,LEN(C120)-LEN(F120))),"") | H120: =IF(BIBLIOTHEQUE[[#This Row],[AUTEURS 1]]<>"",ROW()-1,"") -> 119
A121: =BIBLIOTHEQUE[[#This Row],[AUTEURS 1]]& BIBLIOTHEQUE[[#This Row],[N° par Auteur]] -> HADESH1 5 | B121: =VLOOKUP(BIBLIOTHEQUE[[#This Row],[AUTEURS 1]],ABREVIATIONS!A:AC,4,FALSE) & " " &TEXT(1+COUNTIF($C$1:C120,BIBLIOTHEQUE[[#This Row],[AUTEURS 1]]),"0") -> H1 5 | C121: HADES | E121: Le Livre Des Maisons Astrologiques | F121: =IF(BIBLIOTHEQUE[[#This Row],[N° par Auteur]]<>"",IFERROR(UPPER(TRIM(LEFT(C121,SEARCH(" ",C121,1)))),C121),"") -> HADES | G121: =IF(BIBLIOTHEQUE[[#This Row],[N° par Auteur]]<>"",TRIM(RIGHT(C121,LEN(C121)-LEN(F121))),"") | H121: =IF(BIBLIOTHEQUE[[#This Row],[AUTEURS 1]]<>"",ROW()-1,"") -> 120
A122: =BIBLIOTHEQUE[[#This Row],[AUTEURS 1]]& BIBLIOTHEQUE[[#This Row],[N° par Auteur]] -> HADESH1 6 | B122: =VLOOKUP(BIBLIOTHEQUE[[#This Row],[AUTEURS 1]],ABREVIATIONS!A:AC,4,FALSE) & " " &TEXT(1+COUNTIF($C$1:C121,BIBLIOTHEQUE[[#This Row],[AUTEURS 1]]),"0") -> H1 6 | C122: HADES | E122: Pluton Ou Les Grands Mystères | F122: =IF(BIBLIOTHEQUE[[#This Row],[N° par Auteur]]<>"",IFERROR(UPPER(TRIM(LEFT(C122,SEARCH(" ",C122,1)))),C122),"") -> HADES | G122: =IF(BIBLIOTHEQUE[[#This Row],[N° par Auteur]]<>"",TRIM(RIGHT(C122,LEN(C122)-LEN(F122))),"") | H122: =IF(BIBLIOTHEQUE[[#This Row],[AUTEURS 1]]<>"",ROW()-1,"") -> 121
A123: =BIBLIOTHEQUE[[#This Row],[AUTEURS 1]]& BIBLIOTHEQUE[[#This Row],[N° par Auteur]] -> HADESH1 7 | B123: =VLOOKUP(BIBLIOTHEQUE[[#This Row],[AUTEURS 1]],ABREVIATIONS!A:AC,4,FALSE) & " " &TEXT(1+COUNTIF($C$1:C122,BIBLIOTHEQUE[[#This Row],[AUTEURS 1]]),"0") -> H1 7 | C123: HADES | E123: Mars Et Venus Ou Le Désir Et La Chair | F123: =IF(BIBLIOTHEQUE[[#This Row],[N° par Auteur]]<>"",IFERROR(UPPER(TRIM(LEFT(C123,SEARCH(" ",C123,1)))),C123),"") -> HADES | G123: =IF(BIBLIOTHEQUE[[#This Row],[N° par Auteur]]<>"",TRIM(RIGHT(C123,LEN(C123)-LEN(F123))),"") | H123: =IF(BIBLIOTHEQUE[[#This Row],[AUTEURS 1]]<>"",ROW()-1,"") -> 122
A124: =BIBLIOTHEQUE[[#This Row],[AUTEURS 1]]& BIBLIOTHEQUE[[#This Row],[N° par Auteur]] -> HADESH1 8 | B124: =VLOOKUP(BIBLIOTHEQUE[[#This Row],[AUTEURS 1]],ABREVIATIONS!A:AC,4,FALSE) & " " &TEXT(1+COUNTIF($C$1:C123,BIBLIOTHEQUE[[#This Row],[AUTEURS 1]]),"0") -> H1 8 | C124: HADES | E124: Lune Et Neptune Ou Les Mysteres De L'Inconscient | F124: =IF(BIBLIOTHEQUE[[#This Row],[N° par Auteur]]<>"",IFERROR(UPPER(TRIM(LEFT(C124,SEARCH(" ",C124,1)))),C124),"") -> HADES | H124: =IF(BIBLIOTHEQUE[[#This Row],[AUTEURS 1]]<>"",ROW()-1,"") -> 123
A125: =BIBLIOTHEQUE[[#This Row],[AUTEURS 1]]& BIBLIOTHEQUE[[#This Row],[N° par Auteur]] -> HADESH1 9 | B125: =VLOOKUP(BIBLIOTHEQUE[[#This Row],[AUTEURS 1]],ABREVIATIONS!A:AC,4,FALSE) & " " &TEXT(1+COUNTIF($C$1:C124,BIBLIOTHEQUE[[#This Row],[AUTEURS 1]]),"0") -> H1 9 | C125: HADES | E125: Les Mystères Du Zodiaque | F125: =IF(BIBLIOTHEQUE[[#This Row],[N° par Auteur]]<>"",IFERROR(UPPER(TRIM(LEFT(C125,SEARCH(" ",C125,1)))),C125),"") -> HADES | G125: =IF(BIBLIOTHEQUE[[#This Row],[N° par Auteur]]<>"",TRIM(RIGHT(C125,LEN(C125)-LEN(F125))),"") | H125: =IF(BIBLIOTHEQUE[[#This Row],[AUTEURS 1]]<>"",ROW()-1,"") -> 124
A126: =BIBLIOTHEQUE[[#This Row],[AUTEURS 1]]& BIBLIOTHEQUE[[#This Row],[N° par Auteur]] -> HADESH1 10 | B126: =VLOOKUP(BIBLIOTHEQUE[[#This Row],[AUTEURS 1]],ABREVIATIONS!A:AC,4,FALSE) & " " &TEXT(1+COUNTIF($C$1:C125,BIBLIOTHEQUE[[#This Row],[AUTEURS 1]]),"0") -> H1 10 | C126: HADES | E126: Soleil Et Lune Noire Ou Les États Angéliques Et Les Lieux Infernaux | F126: =IF(BIBLIOTHEQUE[[#This Row],[N° par Auteur]]<>"",IFERROR(UPPER(TRIM(LEFT(C126,SEARCH(" ",C126,1)))),C126),"") -> HADES | G126: =IF(BIBLIOTHEQUE[[#This Row],[N° par Auteur]]<>"",TRIM(RIGHT(C126,LEN(C126)-LEN(F126))),"") | H126: =IF(BIBLIOTHEQUE[[#This Row],[AUTEURS 1]]<>"",ROW()-1,"") -> 125
A127: =BIBLIOTHEQUE[[#This Row],[AUTEURS 1]]& BIBLIOTHEQUE[[#This Row],[N° par Auteur]] -> HADESH1 11 | B127: =VLOOKUP(BIBLIOTHEQUE[[#This Row],[AUTEURS 1]],ABREVIATIONS!A:AC,4,FALSE) & " " &TEXT(1+COUNTIF($C$1:C126,BIBLIOTHEQUE[[#This Row],[AUTEURS 1]]),"0") -> H1 11 | C127: HADES | E127: Mercure Et Jupiter | F127: =IF(BIBLIOTHEQUE[[#This Row],[N° par Auteur]]<>"",IFERROR(UPPER(TRIM(LEFT(C127,SEARCH(" ",C127,1)))),C127),"") -> HADES | G127: =IF(BIBLIOTHEQUE[[#This Row],[N° par Auteur]]<>"",TRIM(RIGHT(C127,LEN(C127)-LEN(F127))),"") | H127: =IF(BIBLIOTHEQUE[[#This Row],[AUTEURS 1]]<>"",ROW()-1,"") -> 126
A128: =BIBLIOTHEQUE[[#This Row],[AUTEURS 1]]& BIBLIOTHEQUE[[#This Row],[N° par Auteur]] -> HADESH1 12 | B128: =VLOOKUP(BIBLIOTHEQUE[[#This Row],[AUTEURS 1]],ABREVIATIONS!A:AC,4,FALSE) & " " &TEXT(1+COUNTIF($C$1:C127,BIBLIOTHEQUE[[#This Row],[AUTEURS 1]]),"0") -> H1 12 | C128: HADES | E128: Votre Santé Par L'Astrologie | F128: =IF(BIBLIOTHEQUE[[#This Row],[N° par Auteur]]<>"",IFERROR(UPPER(TRIM(LEFT(C128,SEARCH(" ",C128,1)))),C128),"") -> HADES | G128: =IF(BIBLIOTHEQUE[[#This Row],[N° par Auteur]]<>"",TRIM(RIGHT(C128,LEN(C128)-LEN(F128))),"") | H128: =IF(BIBLIOTHEQUE[[#This Row],[AUTEURS 1]]<>"",ROW()-1,"") -> 127
A129: =BIBLIOTHEQUE[[#This Row],[AUTEURS 1]]& BIBLIOTHEQUE[[#This Row],[N° par Auteur]] -> HADESH1 13 | B129: =VLOOKUP(BIBLIOTHEQUE[[#This Row],[AUTEURS 1]],ABREVIATIONS!A:AC,4,FALSE) & " " &TEXT(1+COUNTIF($C$1:C128,BIBLIOTHEQUE[[#This Row],[AUTEURS 1]]),"0") -> H1 13 | C129: HADES | E129: Astrologie Et Médecines Douces | F129: =IF(BIBLIOTHEQUE[[#This Row],[N° par Auteur]]<>"",IFERROR(UPPER(TRIM(LEFT(C129,SEARCH(" ",C129,1)))),C129),"") -> HADES | G129: =IF(BIBLIOTHEQUE[[#This Row],[N° par Auteur]]<>"",TRIM(RIGHT(C129,LEN(C129)-LEN(F129))),"") | H129: =IF(BIBLIOTHEQUE[[#This Row],[AUTEURS 1]]<>"",ROW()-1,"") -> 128
A130: =BIBLIOTHEQUE[[#This Row],[AUTEURS 1]]& BIBLIOTHEQUE[[#This Row],[N° par Auteur]] -> HADESH1 14 | B130: =VLOOKUP(BIBLIOTHEQUE[[#This Row],[AUTEURS 1]],ABREVIATIONS!A:AC,4,FALSE) & " " &TEXT(1+COUNTIF($C$1:C129,BIBLIOTHEQUE[[#This Row],[AUTEURS 1]]),"0") -> H1 14 | C130: HADES | E130: Le Livre Des Degrés Astrologiques | F130: =IF(BIBLIOTHEQUE[[#This Row],[N° par Auteur]]<>"",IFERROR(UPPER(TRIM(LEFT(C130,SEARCH(" ",C130,1)))),C130),"") -> HADES | G130: =IF(BIBLIOTHEQUE[[#This Row],[N° par Auteur]]<>"",TRIM(RIGHT(C130,LEN(C130)-LEN(F130))),"") | H130: =IF(BIBLIOTHEQUE[[#This Row],[AUTEURS 1]]<>"",ROW()-1,"") -> 129
A131: =BIBLIOTHEQUE[[#This Row],[AUTEURS 1]]& BIBLIOTHEQUE[[#This Row],[N° par Auteur]] -> HADESH1 15 | B131: =VLOOKUP(BIBLIOTHEQUE[[#This Row],[AUTEURS 1]],ABREVIATIONS!A:AC,4,FALSE) & " " &TEXT(1+COUNTIF($C$1:C130,BIBLIOTHEQUE[[#This Row],[AUTEURS 1]]),"0") -> H1 15 | C131: HADES | E131: Manuel Complet D'Astrologie Medicale | F131: =IF(BIBLIOTHEQUE[[#This Row],[N° par Auteur]]<>"",IFERROR(UPPER(TRIM(LEFT(C131,SEARCH(" ",C131,1)))),C131),"") -> HADES | G131: =IF(BIBLIOTHEQUE[[#This Row],[N° par Auteur]]<>"",TRIM(RIGHT(C131,LEN(C131)-LEN(F131))),"") | H131: =IF(BIBLIOTHEQUE[[#This Row],[AUTEURS 1]]<>"",ROW()-1,"") -> 130
A132: HADES16 | B132: =VLOOKUP(BIBLIOTHEQUE[[#This Row],[AUTEURS 1]],ABREVIATIONS!A:AC,4,FALSE) & " " &TEXT(1+COUNTIF($C$1:C131,BIBLIOTHEQUE[[#This Row],[AUTEURS 1]]),"0") -> H1 16 | C132: HADES | E132: Astrologie Et Orientation Professionnelle | F132: =IF(BIBLIOTHEQUE[[#This Row],[N° par Auteur]]<>"",IFERROR(UPPER(TRIM(LEFT(C132,SEARCH(" ",C132,1)))),C132),"") -> HADES | G132: =IF(BIBLIOTHEQUE[[#This Row],[N° par Auteur]]<>"",TRIM(RIGHT(C132,LEN(C132)-LEN(F132))),"") | H132: =IF(BIBLIOTHEQUE[[#This Row],[AUTEURS 1]]<>"",ROW()-1,"") -> 131
A133: =BIBLIOTHEQUE[[#This Row],[AUTEURS 1]]& BIBLIOTHEQUE[[#This Row],[N° par Auteur]] -> HADESH1 17 | B133: =VLOOKUP(BIBLIOTHEQUE[[#This Row],[AUTEURS 1]],ABREVIATIONS!A:AC,4,FALSE) & " " &TEXT(1+COUNTIF($C$1:C132,BIBLIOTHEQUE[[#This Row],[AUTEURS 1]]),"0") -> H1 17 | C133: HADES | E133: Astrologie Et Orientation Professionnelle | F133: =IF(BIBLIOTHEQUE[[#This Row],[N° par Auteur]]<>"",IFERROR(UPPER(TRIM(LEFT(C133,SEARCH(" ",C133,1)))),C133),"") -> HADES | G133: =IF(BIBLIOTHEQUE[[#This Row],[N° par Auteur]]<>"",TRIM(RIGHT(C133,LEN(C133)-LEN(F133))),"") | H133: =IF(BIBLIOTHEQUE[[#This Row],[AUTEURS 1]]<>"",ROW()-1,"") -> 132
A134: =BIBLIOTHEQUE[[#This Row],[AUTEURS 1]]& BIBLIOTHEQUE[[#This Row],[N° par Auteur]] -> HARDY FRANCOISEHF1 1 | B134: =VLOOKUP(BIBLIOTHEQUE[[#This Row],[AUTEURS 1]],ABREVIATIONS!A:AC,4,FALSE) & " " &TEXT(1+COUNTIF($C$1:C133,BIBLIOTHEQUE[[#This Row],[AUTEURS 1]]),"0") -> HF1 1 | C134: HARDY FRANCOISE | E134: Les Rythmes Du Zodiaque | F134: =IF(BIBLIOTHEQUE[[#This Row],[N° par Auteur]]<>"",IFERROR(UPPER(TRIM(LEFT(C134,SEARCH(" ",C134,1)))),C134),"") -> HARDY | G134: =IF(BIBLIOTHEQUE[[#This Row],[N° par Auteur]]<>"",TRIM(RIGHT(C134,LEN(C134)-LEN(F134))),"") -> FRANCOISE | H134: =IF(BIBLIOTHEQUE[[#This Row],[AUTEURS 1]]<>"",ROW()-1,"") -> 133
A135: =BIBLIOTHEQUE[[#This Row],[AUTEURS 1]]& BIBLIOTHEQUE[[#This Row],[N° par Auteur]] -> HARVEY CHARLESHC1 1 | B135: =VLOOKUP(BIBLIOTHEQUE[[#This Row],[AUTEURS 1]],ABREVIATIONS!A:AC,4,FALSE) & " " &TEXT(1+COUNTIF($C$1:C134,BIBLIOTHEQUE[[#This Row],[AUTEURS 1]]),"0") -> HC1 1 | C135: HARVEY CHARLES | E135: L'Astrologie Mondiale | F135: =IF(BIBLIOTHEQUE[[#This Row],[N° par Auteur]]<>"",IFERROR(UPPER(TRIM(LEFT(C135,SEARCH(" ",C135,1)))),C135),"") -> HARVEY | G135: =IF(BIBLIOTHEQUE[[#This Row],[N° par Auteur]]<>"",TRIM(RIGHT(C135,LEN(C135)-LEN(F135))),"") -> CHARLES | H135: =IF(BIBLIOTHEQUE[[#This Row],[AUTEURS 1]]<>"",ROW()-1,"") -> 134
A136: =BIBLIOTHEQUE[[#This Row],[AUTEURS 1]]& BIBLIOTHEQUE[[#This Row],[N° par Auteur]] -> HOLLEY GERMAINEHG1 1 | B136: =VLOOKUP(BIBLIOTHEQUE[[#This Row],[AUTEURS 1]],ABREVIATIONS!A:AC,4,FALSE) & " " &TEXT(1+COUNTIF($C$1:C135,BIBLIOTHEQUE[[#This Row],[AUTEURS 1]]),"0") -> HG1 1 | C136: HOLLEY GERMAINE | E136: Comment Comprendre Votre Horoscope | F136: =IF(BIBLIOTHEQUE[[#This Row],[N° par Auteur]]<>"",IFERROR(UPPER(TRIM(LEFT(C136,SEARCH(" ",C136,1)))),C136),"") -> HOLLEY | G136: =IF(BIBLIOTHEQUE[[#This Row],[N° par Auteur]]<>"",TRIM(RIGHT(C136,LEN(C136)-LEN(F136))),"") -> GERMAINE | H136: =IF(BIBLIOTHEQUE[[#This Row],[AUTEURS 1]]<>"",ROW()-1,"") -> 135
A137: =BIBLIOTHEQUE[[#This Row],[AUTEURS 1]]& BIBLIOTHEQUE[[#This Row],[N° par Auteur]] -> HOLLEY GERMAINEHG1 2 | B137: =VLOOKUP(BIBLIOTHEQUE[[#This Row],[AUTEURS 1]],ABREVIATIONS!A:AC,4,FALSE) & " " &TEXT(1+COUNTIF($C$1:C136,BIBLIOTHEQUE[[#This Row],[AUTEURS 1]]),"0") -> HG1 2 | C137: HOLLEY GERMAINE | E137: Comment Comprendre Votre Horoscope 1 | F137: =IF(BIBLIOTHEQUE[[#This Row],[N° par Auteur]]<>"",IFERROR(UPPER(TRIM(LEFT(C137,SEARCH(" ",C137,1)))),C137),"") -> HOLLEY | G137: =IF(BIBLIOTHEQUE[[#This Row],[N° par Auteur]]<>"",TRIM(RIGHT(C137,LEN(C137)-LEN(F137))),"") -> GERMAINE | H137: =IF(BIBLIOTHEQUE[[#This Row],[AUTEURS 1]]<>"",ROW()-1,"") -> 136
A138: =BIBLIOTHEQUE[[#This Row],[AUTEURS 1]]& BIBLIOTHEQUE[[#This Row],[N° par Auteur]] -> HOLLEY GERMAINEHG1 3 | B138: =VLOOKUP(BIBLIOTHEQUE[[#This Row],[AUTEURS 1]],ABREVIATIONS!A:AC,4,FALSE) & " " &TEXT(1+COUNTIF($C$1:C137,BIBLIOTHEQUE[[#This Row],[AUTEURS 1]]),"0") -> HG1 3 | C138: HOLLEY GERMAINE | E138: Comment Comprendre Votre Horoscope 2 | F138: =IF(BIBLIOTHEQUE[[#This Row],[N° par Auteur]]<>"",IFERROR(UPPER(TRIM(LEFT(C138,SEARCH(" ",C138,1)))),C138),"") -> HOLLEY | G138: =IF(BIBLIOTHEQUE[[#This Row],[N° par Auteur]]<>"",TRIM(RIGHT(C138,LEN(C138)-LEN(F138))),"") -> GERMAINE | H138: =IF(BIBLIOTHEQUE[[#This Row],[AUTEURS 1]]<>"",ROW()-1,"") -> 137
A139: =BIBLIOTHEQUE[[#This Row],[AUTEURS 1]]& BIBLIOTHEQUE[[#This Row],[N° par Auteur]] -> HOLLEY GERMAINEHG1 4 | B139: =VLOOKUP(BIBLIOTHEQUE[[#This Row],[AUTEURS 1]],ABREVIATIONS!A:AC,4,FALSE) & " " &TEXT(1+COUNTIF($C$1:C138,BIBLIOTHEQUE[[#This Row],[AUTEURS 1]]),"0") -> HG1 4 | C139: HOLLEY GERMAINE | E139: Astrologie, Karma Et Rythmes Cosmiques | F139: =IF(BIBLIOTHEQUE[[#This Row],[N° par Auteur]]<>"",IFERROR(UPPER(TRIM(LEFT(C139,SEARCH(" ",C139,1)))),C139),"") -> HOLLEY | G139: =IF(BIBLIOTHEQUE[[#This Row],[N° par Auteur]]<>"",TRIM(RIGHT(C139,LEN(C139)-LEN(F139))),"") -> GERMAINE | H139: =IF(BIBLIOTHEQUE[[#This Row],[AUTEURS 1]]<>"",ROW()-1,"") -> 138
A140: =BIBLIOTHEQUE[[#This Row],[AUTEURS 1]]& BIBLIOTHEQUE[[#This Row],[N° par Auteur]] -> HOLLEY GERMAINEHG1 5 | B140: =VLOOKUP(BIBLIOTHEQUE[[#This Row],[AUTEURS 1]],ABREVIATIONS!A:AC,4,FALSE) & " " &TEXT(1+COUNTIF($C$1:C139,BIBLIOTHEQUE[[#This Row],[AUTEURS 1]]),"0") -> HG1 5 | C140: HOLLEY GERMAINE | E140: Lecture Astrologique Des Années 90 | F140: =IF(BIBLIOTHEQUE[[#This Row],[N° par Auteur]]<>"",IFERROR(UPPER(TRIM(LEFT(C140,SEARCH(" ",C140,1)))),C140),"") -> HOLLEY | G140: =IF(BIBLIOTHEQUE[[#This Row],[N° par Auteur]]<>"",TRIM(RIGHT(C140,LEN(C140)-LEN(F140))),"") -> GERMAINE | H140: =IF(BIBLIOTHEQUE[[#This Row],[AUTEURS 1]]<>"",ROW()-1,"") -> 139
A141: =BIBLIOTHEQUE[[#This Row],[AUTEURS 1]]& BIBLIOTHEQUE[[#This Row],[N° par Auteur]] -> HOLLEY GERMAINEHG1 6 | B141: =VLOOKUP(BIBLIOTHEQUE[[#This Row],[AUTEURS 1]],ABREVIATIONS!A:AC,4,FALSE) & " " &TEXT(1+COUNTIF($C$1:C140,BIBLIOTHEQUE[[#This Row],[AUTEURS 1]]),"0") -> HG1 6 | C141: HOLLEY GERMAINE | E141: Astrologie Entre Deux Ères Poissons-Verseau | F141: =IF(BIBLIOTHEQUE[[#This Row],[N° par Auteur]]<>"",IFERROR(UPPER(TRIM(LEFT(C141,SEARCH(" ",C141,1)))),C141),"") -> HOLLEY | G141: =IF(BIBLIOTHEQUE[[#This Row],[N° par Auteur]]<>"",TRIM(RIGHT(C141,LEN(C141)-LEN(F141))),"") -> GERMAINE | H141: =IF(BIBLIOTHEQUE[[#This Row],[AUTEURS 1]]<>"",ROW()-1,"") -> 140
A142: =BIBLIOTHEQUE[[#This Row],[AUTEURS 1]]& BIBLIOTHEQUE[[#This Row],[N° par Auteur]] -> JONES MARC EDMUNDJME1 1 | B142: =VLOOKUP(BIBLIOTHEQUE[[#This Row],[AUTEURS 1]],ABREVIATIONS!A:AC,4,FALSE) & " " &TEXT(1+COUNTIF($C$1:C141,BIBLIOTHEQUE[[#This Row],[AUTEURS 1]]),"0") -> JME1 1 | C142: JONES MARC EDMUND | E142: Apprendre L'Astrologie | F142: =IF(BIBLIOTHEQUE[[#This Row],[N° par Auteur]]<>"",IFERROR(UPPER(TRIM(LEFT(C142,SEARCH(" ",C142,1)))),C142),"") -> JONES | G142: =IF(BIBLIOTHEQUE[[#This Row],[N° par Auteur]]<>"",TRIM(RIGHT(C142,LEN(C142)-LEN(F142))),"") -> MARC EDMUND | H142: =IF(BIBLIOTHEQUE[[#This Row],[AUTEURS 1]]<>"",ROW()-1,"") -> 141
A143: =BIBLIOTHEQUE[[#This Row],[AUTEURS 1]]& BIBLIOTHEQUE[[#This Row],[N° par Auteur]] -> JOSEPHAJ1 1 | B143: =VLOOKUP(BIBLIOTHEQUE[[#This Row],[AUTEURS 1]],ABREVIATIONS!A:AC,4,FALSE) & " " &TEXT(1+COUNTIF($C$1:C142,BIBLIOTHEQUE[[#This Row],[AUTEURS 1]]),"0") -> J1 1 | C143: JOSEPHA | E143: Lune Noire Et Réincarnation | F143: =IF(BIBLIOTHEQUE[[#This Row],[N° par Auteur]]<>"",IFERROR(UPPER(TRIM(LEFT(C143,SEARCH(" ",C143,1)))),C143),"") -> JOSEPHA | G143: =IF(BIBLIOTHEQUE[[#This Row],[N° par Auteur]]<>"",TRIM(RIGHT(C143,LEN(C143)-LEN(F143))),"") | H143: =IF(BIBLIOTHEQUE[[#This Row],[AUTEURS 1]]<>"",ROW()-1,"") -> 142
A144: =BIBLIOTHEQUE[[#This Row],[AUTEURS 1]]& BIBLIOTHEQUE[[#This Row],[N° par Auteur]] -> JUNG C.G.JC1 1 | B144: =VLOOKUP(BIBLIOTHEQUE[[#This Row],[AUTEURS 1]],ABREVIATIONS!A:AC,4,FALSE) & " " &TEXT(1+COUNTIF($C$1:C143,BIBLIOTHEQUE[[#This Row],[AUTEURS 1]]),"0") -> JC1 1 | C144: JUNG C.G. | E144: Synchronicité Et Paracelsica | F144: =IF(BIBLIOTHEQUE[[#This Row],[N° par Auteur]]<>"",IFERROR(UPPER(TRIM(LEFT(C144,SEARCH(" ",C144,1)))),C144),"") -> JUNG | G144: =IF(BIBLIOTHEQUE[[#This Row],[N° par Auteur]]<>"",TRIM(RIGHT(C144,LEN(C144)-LEN(F144))),"") -> C.G. | H144: =IF(BIBLIOTHEQUE[[#This Row],[AUTEURS 1]]<>"",ROW()-1,"") -> 143
... A163: =BIBLIOTHEQUE[[#This Row],[AUTEURS 1]]& BIBLIOTHEQUE[[#This Row],[N° par Auteur]] -> MARIE ERICME1 1 | B163: =VLOOKUP(BIBLIOTHEQUE[[#This Row],[AUTEURS 1]],ABREVIATIONS!A:AC,4,FALSE) & " " &TEXT(1+COUNTIF($C$1:C162,BIBLIOTHEQUE[[#This Row],[AUTEURS 1]]),"0") -> ME1 1 | C163: MARIE ERIC | E163: Astrologie Et Médecine Esotérique | F163: =IF(BIBLIOTHEQUE[[#This Row],[N° par Auteur]]<>"",IFERROR(UPPER(TRIM(LEFT(C163,SEARCH(" ",C163,1)))),C163),"") -> MARIE | G163: =IF(BIBLIOTHEQUE[[#This Row],[N° par Auteur]]<>"",TRIM(RIGHT(C163,LEN(C163)-LEN(F163))),"") -> ERIC | H163: =IF(BIBLIOTHEQUE[[#This Row],[AUTEURS 1]]<>"",ROW()-1,"") -> 162
A164: =BIBLIOTHEQUE[[#This Row],[AUTEURS 1]]& BIBLIOTHEQUE[[#This Row],[N° par Auteur]] -> MARIE ERICME1 2 | B164: =VLOOKUP(BIBLIOTHEQUE[[#This Row],[AUTEURS 1]],ABREVIATIONS!A:AC,4,FALSE) & " " &TEXT(1+COUNTIF($C$1:C163,BIBLIOTHEQUE[[#This Row],[AUTEURS 1]]),"0") -> ME1 2 | C164: MARIE ERIC | E164: Traité Fondamental D'Astrologie Médicale T1
A165: =BIBLIOTHEQUE[[#This Row],[AUTEURS 1]]& BIBLIOTHEQUE[[#This Row],[N° par Auteur]] -> MAYORCA S.MS2 1 | B165: =VLOOKUP(BIBLIOTHEQUE[[#This Row],[AUTEURS 1]],ABREVIATIONS!A:AC,4,FALSE) & " " &TEXT(1+COUNTIF($C$1:C164,BIBLIOTHEQUE[[#This Row],[AUTEURS 1]]),"0") -> MS2 1 | C165: MAYORCA S. | E165: Les Influences De La Lune | F165: =IF(BIBLIOTHEQUE[[#This Row],[N° par Auteur]]<>"",IFERROR(UPPER(TRIM(LEFT(C165,SEARCH(" ",C165,1)))),C165),"") -> MAYORCA | G165: =IF(BIBLIOTHEQUE[[#This Row],[N° par Auteur]]<>"",TRIM(RIGHT(C165,LEN(C165)-LEN(F165))),"") -> S. | H165: =IF(BIBLIOTHEQUE[[#This Row],[AUTEURS 1]]<>"",ROW()-1,"") -> 164
A166: =BIBLIOTHEQUE[[#This Row],[AUTEURS 1]]& BIBLIOTHEQUE[[#This Row],[N° par Auteur]] -> MILLAT LOUISML1 1 | B166: =VLOOKUP(BIBLIOTHEQUE[[#This Row],[AUTEURS 1]],ABREVIATIONS!A:AC,4,FALSE) & " " &TEXT(1+COUNTIF($C$1:C165,BIBLIOTHEQUE[[#This Row],[AUTEURS 1]]),"0") -> ML1 1 | C166: MILLAT LOUIS | E166: Lune Noire | F166: =IF(BIBLIOTHEQUE[[#This Row],[N° par Auteur]]<>"",IFERROR(UPPER(TRIM(LEFT(C166,SEARCH(" ",C166,1)))),C166),"") -> MILLAT | G166: =IF(BIBLIOTHEQUE[[#This Row],[N° par Auteur]]<>"",TRIM(RIGHT(C166,LEN(C166)-LEN(F166))),"") -> LOUIS | H166: =IF(BIBLIOTHEQUE[[#This Row],[AUTEURS 1]]<>"",ROW()-1,"") -> 165
A167: =BIBLIOTHEQUE[[#This Row],[AUTEURS 1]]& BIBLIOTHEQUE[[#This Row],[N° par Auteur]] -> MIRACH E.ME2 1 | B167: =VLOOKUP(BIBLIOTHEQUE[[#This Row],[AUTEURS 1]],ABREVIATIONS!A:AC,4,FALSE) & " " &TEXT(1+COUNTIF($C$1:C166,BIBLIOTHEQUE[[#This Row],[AUTEURS 1]]),"0") -> ME2 1 | C167: MIRACH E. | E167: L'Analyse Astrologique En Médecine | F167: =IF(BIBLIOTHEQUE[[#This Row],[N° par Auteur]]<>"",IFERROR(UPPER(TRIM(LEFT(C167,SEARCH(" ",C167,1)))),C167),"") -> MIRACH | G167: =IF(BIBLIOTHEQUE[[#This Row],[N° par Auteur]]<>"",TRIM(RIGHT(C167,LEN(C167)-LEN(F167))),"") -> E. | H167: =IF(BIBLIOTHEQUE[[#This Row],[AUTEURS 1]]<>"",ROW()-1,"") -> 166
A168: =BIBLIOTHEQUE[[#This Row],[AUTEURS 1]]& BIBLIOTHEQUE[[#This Row],[N° par Auteur]] -> MONTERA THEOMT1 1 | B168: =VLOOKUP(BIBLIOTHEQUE[[#This Row],[AUTEURS 1]],ABREVIATIONS!A:AC,4,FALSE) & " " &TEXT(1+COUNTIF($C$1:C167,BIBLIOTHEQUE[[#This Row],[AUTEURS 1]]),"0") -> MT1 1 | C168: MONTERA THEO | E168: Le Traité De L'Astrologie Médicale | F168: =IF(BIBLIOTHEQUE[[#This Row],[N° par Auteur]]<>"",IFERROR(UPPER(TRIM(LEFT(C168,SEARCH(" ",C168,1)))),C168),"") -> MONTERA | G168: =IF(BIBLIOTHEQUE[[#This Row],[N° par Auteur]]<>"",TRIM(RIGHT(C168,LEN(C168)-LEN(F168))),"") -> THEO | H168: =IF(BIBLIOTHEQUE[[#This Row],[AUTEURS 1]]<>"",ROW()-1,"") -> 167
A169: =BIBLIOTHEQUE[[#This Row],[AUTEURS 1]]& BIBLIOTHEQUE[[#This Row],[N° par Auteur]] -> MUGHINI MMM3 1 | B169: =VLOOKUP(BIBLIOTHEQUE[[#This Row],[AUTEURS 1]],ABREVIATIONS!A:AC,4,FALSE) & " " &TEXT(1+COUNTIF($C$1:C168,BIBLIOTHEQUE[[#This Row],[AUTEURS 1]]),"0") -> MM3 1 | C169: MUGHINI M | E169: Encyclopédie De La Mythologie | F169: =IF(BIBLIOTHEQUE[[#This Row],[N° par Auteur]]<>"",IFERROR(UPPER(TRIM(LEFT(C169,SEARCH(" ",C169,1)))),C169),"") -> MUGHINI | G169: =IF(BIBLIOTHEQUE[[#This Row],[N° par Auteur]]<>"",TRIM(RIGHT(C169,LEN(C169)-LEN(F169))),"") -> M | H169: =IF(BIBLIOTHEQUE[[#This Row],[AUTEURS 1]]<>"",ROW()-1,"") -> 168
A170: =BIBLIOTHEQUE[[#This Row],[AUTEURS 1]]& BIBLIOTHEQUE[[#This Row],[N° par Auteur]] -> MYSTERES DE L'INCONNUMDL1 1 | B170: =VLOOKUP(BIBLIOTHEQUE[[#This Row],[AUTEURS 1]],ABREVIATIONS!A:AC,4,FALSE) & " " &TEXT(1+COUNTIF($C$1:C169,BIBLIOTHEQUE[[#This Row],[AUTEURS 1]]),"0") -> MDL1 1 | C170: MYSTERES DE L'INCONNU | E170: Les Influences Astrales | F170: =IF(BIBLIOTHEQUE[[#This Row],[N° par Auteur]]<>"",IFERROR(UPPER(TRIM(LEFT(C170,SEARCH(" ",C170,1)))),C170),"") -> MYSTERES | G170: =IF(BIBLIOTHEQUE[[#This Row],[N° par Auteur]]<>"",TRIM(RIGHT(C170,LEN(C170)-LEN(F170))),"") -> DE L'INCONNU | H170: =IF(BIBLIOTHEQUE[[#This Row],[AUTEURS 1]]<>"",ROW()-1,"") -> 169
A171: =BIBLIOTHEQUE[[#This Row],[AUTEURS 1]]& BIBLIOTHEQUE[[#This Row],[N° par Auteur]] -> NGUYEN FRANCKNF1 1 | B171: =VLOOKUP(BIBLIOTHEQUE[[#This Row],[AUTEURS 1]],ABREVIATIONS!A:AC,4,FALSE) & " " &TEXT(1+COUNTIF($C$1:C170,BIBLIOTHEQUE[[#This Row],[AUTEURS 1]]),"0") -> NF1 1 | C171: NGUYEN FRANCK | E171: Nouveau Regard Sur L'Astrologie Et L'Homéopathie | F171: =IF(BIBLIOTHEQUE[[#This Row],[N° par Auteur]]<>"",IFERROR(UPPER(TRIM(LEFT(C171,SEARCH(" ",C171,1)))),C171),"") -> NGUYEN | G171: =IF(BIBLIOTHEQUE[[#This Row],[N° par Auteur]]<>"",TRIM(RIGHT(C171,LEN(C171)-LEN(F171))),"") -> FRANCK | H171: =IF(BIBLIOTHEQUE[[#This Row],[AUTEURS 1]]<>"",ROW()-1,"") -> 170
A172: =BIBLIOTHEQUE[[#This Row],[AUTEURS 1]]& BIBLIOTHEQUE[[#This Row],[N° par Auteur]] -> ORION RAEOR1 1 | B172: =VLOOKUP(BIBLIOTHEQUE[[#This Row],[AUTEURS 1]],ABREVIATIONS!A:AC,4,FALSE) & " " &TEXT(1+COUNTIF($C$1:C171,BIBLIOTHEQUE[[#This Row],[AUTEURS 1]]),"0") -> OR1 1 | C172: ORION RAE | E172: L'Astrologie Pour Les Nuls | F172: =IF(BIBLIOTHEQUE[[#This Row],[N° par Auteur]]<>"",IFERROR(UPPER(TRIM(LEFT(C172,SEARCH(" ",C172,1)))),C172),"") -> ORION | G172: =IF(BIBLIOTHEQUE[[#This Row],[N° par Auteur]]<>"",TRIM(RIGHT(C172,LEN(C172)-LEN(F172))),"") -> RAE | H172: =IF(BIBLIOTHEQUE[[#This Row],[AUTEURS 1]]<>"",ROW()-1,"") -> 171
A173: =BIBLIOTHEQUE[[#This Row],[AUTEURS 1]]& BIBLIOTHEQUE[[#This Row],[N° par Auteur]] -> PARKER JULIA ET DEREKPJE1 1 | B173: =VLOOKUP(BIBLIOTHEQUE[[#This Row],[AUTEURS 1]],ABREVIATIONS!A:AC,4,FALSE) & " " &TEXT(1+COUNTIF($C$1:C172,BIBLIOTHEQUE[[#This Row],[AUTEURS 1]]),"0") -> PJE1 1 | C173: PARKER JULIA ET DEREK | E173: L'Astrologie Encyclopédie Pratique | F173: =IF(BIBLIOTHEQUE[[#This Row],[N° par Auteur]]<>"",IFERROR(UPPER(TRIM(LEFT(C173,SEARCH(" ",C173,1)))),C173),"") -> PARKER | G173: =IF(BIBLIOTHEQUE[[#This Row],[N° par Auteur]]<>"",TRIM(RIGHT(C173,LEN(C173)-LEN(F173))),"") -> JULIA ET DEREK | H173: =IF(BIBLIOTHEQUE[[#This Row],[AUTEURS 1]]<>"",ROW()-1,"") -> 172
A174: =BIBLIOTHEQUE[[#This Row],[AUTEURS 1]]& BIBLIOTHEQUE[[#This Row],[N° par Auteur]] -> PAYEUR CHARLES-RAFAËLPC1 1 | B174: =VLOOKUP(BIBLIOTHEQUE[[#This Row],[AUTEURS 1]],ABREVIATIONS!A:AC,4,FALSE) & " " &TEXT(1+COUNTIF($C$1:C173,BIBLIOTHEQUE[[#This Row],[AUTEURS 1]]),"0") -> PC1 1 | C174: PAYEUR CHARLES-RAFAËL | E174: Astrologie Sacrée Et Symbolisme Initiatique | F174: =IF(BIBLIOTHEQUE[[#This Row],[N° par Auteur]]<>"",IFERROR(UPPER(TRIM(LEFT(C174,SEARCH(" ",C174,1)))),C174),"") -> PAYEUR | G174: =IF(BIBLIOTHEQUE[[#This Row],[N° par Auteur]]<>"",TRIM(RIGHT(C174,LEN(C174)-LEN(F174))),"") -> CHARLES-RAFAËL | H174: =IF(BIBLIOTHEQUE[[#This Row],[AUTEURS 1]]<>"",ROW()-1,"") -> 173
A175: =BIBLIOTHEQUE[[#This Row],[AUTEURS 1]]& BIBLIOTHEQUE[[#This Row],[N° par Auteur]] -> PICARD EUDESPE1 1 | B175: =VLOOKUP(BIBLIOTHEQUE[[#This Row],[AUTEURS 1]],ABREVIATIONS!A:AC,4,FALSE) & " " &TEXT(1+COUNTIF($C$1:C174,BIBLIOTHEQUE[[#This Row],[AUTEURS 1]]),"0") -> PE1 1 | C175: PICARD EUDES | E175: Astrologie Judiciaire | F175: =IF(BIBLIOTHEQUE[[#This Row],[N° par Auteur]]<>"",IFERROR(UPPER(TRIM(LEFT(C175,SEARCH(" ",C175,1)))),C175),"") -> PICARD | G175: =IF(BIBLIOTHEQUE[[#This Row],[N° par Auteur]]<>"",TRIM(RIGHT(C175,LEN(C175)-LEN(F175))),"") -> EUDES | H175: =IF(BIBLIOTHEQUE[[#This Row],[AUTEURS 1]]<>"",ROW()-1,"") -> 174
A176: =BIBLIOTHEQUE[[#This Row],[AUTEURS 1]]& BIBLIOTHEQUE[[#This Row],[N° par Auteur]] -> RACAUD DIDIERRD1 1 | B176: =VLOOKUP(BIBLIOTHEQUE[[#This Row],[AUTEURS 1]],ABREVIATIONS!A:AC,4,FALSE) & " " &TEXT(1+COUNTIF($C$1:C175,BIBLIOTHEQUE[[#This Row],[AUTEURS 1]]),"0") -> RD1 1 | C176: RACAUD DIDIER | E176: Radioscopie De L'Astrologie De Dom Neroman | F176: =IF(BIBLIOTHEQUE[[#This Row],[N° par Auteur]]<>"",IFERROR(UPPER(TRIM(LEFT(C176,SEARCH(" ",C176,1)))),C176),"") -> RACAUD | G176: =IF(BIBLIOTHEQUE[[#This Row],[N° par Auteur]]<>"",TRIM(RIGHT(C176,LEN(C176)-LEN(F176))),"") -> DIDIER | H176: =IF(BIBLIOTHEQUE[[#This Row],[AUTEURS 1]]<>"",ROW()-1,"") -> 175
... A194: =BIBLIOTHEQUE[[#This Row],[AUTEURS 1]]& BIBLIOTHEQUE[[#This Row],[N° par Auteur]] -> VOUGA CHARLES E. VCE1 2 | B194: =VLOOKUP(BIBLIOTHEQUE[[#This Row],[AUTEURS 1]],ABREVIATIONS!A:AC,4,FALSE) & " " &TEXT(1+COUNTIF($C$1:C193,BIBLIOTHEQUE[[#This Row],[AUTEURS 1]]),"0") -> VCE1 2 | C194: VOUGA CHARLES E. | E194: Astrologie Experimentale | F194: =IF(BIBLIOTHEQUE[[#This Row],[N° par Auteur]]<>"",IFERROR(UPPER(TRIM(LEFT(C194,SEARCH(" ",C194,1)))),C194),"") -> VOUGA | G194: =IF(BIBLIOTHEQUE[[#This Row],[N° par Auteur]]<>"",TRIM(RIGHT(C194,LEN(C194)-LEN(F194))),"") -> CHARLES E. | H194: =IF(BIBLIOTHEQUE[[#This Row],[AUTEURS 1]]<>"",ROW()-1,"") -> 193
...

Sheet ABREVIATIONS
A1: AUTEURS | B1: ABREV.1 | C1: ABREV.2 | D1: ABREV.
A2: {=_xlfn.UNIQUE(BIBLIOTHEQUE[AUTEURS 1])} -> ABERT XAVIER | B2: =CONCATENATE(LEFT(A2,1),IFERROR(MID(A2,SEARCH(" ",A2,1)+1,1),""),IFERROR(MID(A2,SEARCH(" ",A2,SEARCH(" ",A2,1)+1)+1,1),"")) -> AX | C2: =IF(A2="","",1+COUNTIF($B$1:B1,B2)) -> 1 | D2: =CONCATENATE(B2,C2) -> AX1
A3: ACTES COLLOQUE | B3: =CONCATENATE(LEFT(A3,1),IFERROR(MID(A3,SEARCH(" ",A3,1)+1,1),""),IFERROR(MID(A3,SEARCH(" ",A3,SEARCH(" ",A3,1)+1)+1,1),"")) -> AC | C3: =IF(A3="","",1+COUNTIF($B$1:B2,B3)) -> 1 | D3: =CONCATENATE(B3,C3) -> AC1
A4: AGENET-PAGNI ISOLINE | B4: =CONCATENATE(LEFT(A4,1),IFERROR(MID(A4,SEARCH(" ",A4,1)+1,1),""),IFERROR(MID(A4,SEARCH(" ",A4,SEARCH(" ",A4,1)+1)+1,1),"")) -> AI | C4: =IF(A4="","",1+COUNTIF($B$1:B3,B4)) -> 1 | D4: =CONCATENATE(B4,C4) -> AI1
A5: AGUILAR MICHEL | B5: =CONCATENATE(LEFT(A5,1),IFERROR(MID(A5,SEARCH(" ",A5,1)+1,1),""),IFERROR(MID(A5,SEARCH(" ",A5,SEARCH(" ",A5,1)+1)+1,1),"")) -> AM | C5: =IF(A5="","",1+COUNTIF($B$1:B4,B5)) -> 1 | D5: =CONCATENATE(B5,C5) -> AM1
A6: AIME JACQUELINE | B6: =CONCATENATE(LEFT(A6,1),IFERROR(MID(A6,SEARCH(" ",A6,1)+1,1),""),IFERROR(MID(A6,SEARCH(" ",A6,SEARCH(" ",A6,1)+1)+1,1),"")) -> AJ | C6: =IF(A6="","",1+COUNTIF($B$1:B5,B6)) -> 1 | D6: =CONCATENATE(B6,C6) -> AJ1
A7: AMBELIN ROBERT | B7: =CONCATENATE(LEFT(A7,1),IFERROR(MID(A7,SEARCH(" ",A7,1)+1,1),""),IFERROR(MID(A7,SEARCH(" ",A7,SEARCH(" ",A7,1)+1)+1,1),"")) -> AR | C7: =IF(A7="","",1+COUNTIF($B$1:B6,B7)) -> 1 | D7: =CONCATENATE(B7,C7) -> AR1
A8: ANDRIEU IRENE | B8: =CONCATENATE(LEFT(A8,1),IFERROR(MID(A8,SEARCH(" ",A8,1)+1,1),""),IFERROR(MID(A8,SEARCH(" ",A8,SEARCH(" ",A8,1)+1)+1,1),"")) -> AI | C8: =IF(A8="","",1+COUNTIF($B$1:B7,B8)) -> 2 | D8: =CONCATENATE(B8,C8) -> AI2
A9: ANTARES GEORGES | B9: =CONCATENATE(LEFT(A9,1),IFERROR(MID(A9,SEARCH(" ",A9,1)+1,1),""),IFERROR(MID(A9,SEARCH(" ",A9,SEARCH(" ",A9,1)+1)+1,1),"")) -> AG | C9: =IF(A9="","",1+COUNTIF($B$1:B8,B9)) -> 1 | D9: =CONCATENATE(B9,C9) -> AG1
A10: ARROYO STEPHEN | B10: =CONCATENATE(LEFT(A10,1),IFERROR(MID(A10,SEARCH(" ",A10,1)+1,1),""),IFERROR(MID(A10,SEARCH(" ",A10,SEARCH(" ",A10,1)+1)+1,1),"")) -> AS | C10: =IF(A10="","",1+COUNTIF($B$1:B9,B10)) -> 1 | D10: =CONCATENATE(B10,C10) -> AS1
A11: ATALANE | B11: =CONCATENATE(LEFT(A11,1),IFERROR(MID(A11,SEARCH(" ",A11,1)+1,1),""),IFERROR(MID(A11,SEARCH(" ",A11,SEARCH(" ",A11,1)+1)+1,1),"")) -> A | C11: =IF(A11="","",1+COUNTIF($B$1:B10,B11)) -> 1 | D11: =CONCATENATE(B11,C11) -> A1
A12: AUBIER CATHERINE | B12: =CONCATENATE(LEFT(A12,1),IFERROR(MID(A12,SEARCH(" ",A12,1)+1,1),""),IFERROR(MID(A12,SEARCH(" ",A12,SEARCH(" ",A12,1)+1)+1,1),"")) -> AC | C12: =IF(A12="","",1+COUNTIF($B$1:B11,B12)) -> 2 | D12: =CONCATENATE(B12,C12) -> AC2
A13: BARBAULT ANDRÉ | B13: =CONCATENATE(LEFT(A13,1),IFERROR(MID(A13,SEARCH(" ",A13,1)+1,1),""),IFERROR(MID(A13,SEARCH(" ",A13,SEARCH(" ",A13,1)+1)+1,1),"")) -> BA | C13: =IF(A13="","",1+COUNTIF($B$1:B12,B13)) -> 1 | D13: =CONCATENATE(B13,C13) -> BA1
A14: BARBAULT ARMAND | B14: =CONCATENATE(LEFT(A14,1),IFERROR(MID(A14,SEARCH(" ",A14,1)+1,1),""),IFERROR(MID(A14,SEARCH(" ",A14,SEARCH(" ",A14,1)+1)+1,1),"")) -> BA | C14: =IF(A14="","",1+COUNTIF($B$1:B13,B14)) -> 2 | D14: =CONCATENATE(B14,C14) -> BA2
... A111: ZOLLER ROBERT | B111: =CONCATENATE(LEFT(A111,1),IFERROR(MID(A111,SEARCH(" ",A111,1)+1,1),""),IFERROR(MID(A111,SEARCH(" ",A111,SEARCH(" ",A111,1)+1)+1,1),"")) -> ZR | C111: =IF(A111="","",1+COUNTIF($B$1:B110,B111)) -> 1 | D111: =CONCATENATE(B111,C111) -> ZR1
B112: =CONCATENATE(LEFT(A112,1),IFERROR(MID(A112,SEARCH(" ",A112,1)+1,1),""),IFERROR(MID(A112,SEARCH(" ",A112,SEARCH(" ",A112,1)+1)+1,1),"")) | C112: =IF(A112="","",1+COUNTIF($B$1:B111,B112)) | D112: =CONCATENATE(B112,C112)
B113: =CONCATENATE(LEFT(A113,1),IFERROR(MID(A113,SEARCH(" ",A113,1)+1,1),""),IFERROR(MID(A113,SEARCH(" ",A113,SEARCH(" ",A113,1)+1)+1,1),"")) | C113: =IF(A113="","",1+COUNTIF($B$1:B112,B113)) | D113: =CONCATENATE(B113,C113)
B114: =CONCATENATE(LEFT(A114,1),IFERROR(MID(A114,SEARCH(" ",A114,1)+1,1),""),IFERROR(MID(A114,SEARCH(" ",A114,SEARCH(" ",A114,1)+1)+1,1),"")) | C114: =IF(A114="","",1+COUNTIF($B$1:B113,B114)) | D114: =CONCATENATE(B114,C114)
B115: =CONCATENATE(LEFT(A115,1),IFERROR(MID(A115,SEARCH(" ",A115,1)+1,1),""),IFERROR(MID(A115,SEARCH(" ",A115,SEARCH(" ",A115,1)+1)+1,1),"")) | C115: =IF(A115="","",1+COUNTIF($B$1:B114,B115)) | D115: =CONCATENATE(B115,C115)
B116: =CONCATENATE(LEFT(A116,1),IFERROR(MID(A116,SEARCH(" ",A116,1)+1,1),""),IFERROR(MID(A116,SEARCH(" ",A116,SEARCH(" ",A116,1)+1)+1,1),"")) | C116: =IF(A116="","",1+COUNTIF($B$1:B115,B116)) | D116: =CONCATENATE(B116,C116)
B117: =CONCATENATE(LEFT(A117,1),IFERROR(MID(A117,SEARCH(" ",A117,1)+1,1),""),IFERROR(MID(A117,SEARCH(" ",A117,SEARCH(" ",A117,1)+1)+1,1),"")) | C117: =IF(A117="","",1+COUNTIF($B$1:B116,B117)) | D117: =CONCATENATE(B117,C117)
