Workbook
Name Auteurs: BIBLIOTHEQUE[AUTEURS 1]
Name Auteurs: [1]!Tableau1[AUTEURS]
Name ID: #REF!
Name ID: [1]!Tableau1[Codes]

Sheet Lexique (2)
A1: Codes | B1: N° par Auteur | C1: AUTEURS 1 | D1: AUTEURS 2 | E1: TITRES | F1: Noms | G1: Prénoms | H1: Nb d'ouvrages | N1: =COUNTIF(Auteurs,$O$1) -> 3 | O1: CHERMET-CARROY SYLVIE
A2: =BIBLIOTHEQUE[[#This Row],[AUTEURS 1]]& BIBLIOTHEQUE[[#This Row],[N° par Auteur]] -> ABERT XAVIERAX1 1 | B2: =VLOOKUP(BIBLIOTHEQUE[[#This Row],[AUTEURS 1]],ABREVIATIONS!A:AC,4,FALSE) & " " &TEXT(1+COUNTIF($C$1:C1,BIBLIOTHEQUE[[#This Row],[AUTEURS 1]]),"0") -> AX1 1 | C2: ABERT XAVIER | E2: L'Effet Miroir En Astrologie | F2: =IF(BIBLIOTHEQUE[[#This Row],[N° par Auteur]]<>"",IFERROR(UPPER(TRIM(LEFT(C2,SEARCH(" ",C2,1)))),C2),"") -> ABERT | G2: =IF(BIBLIOTHEQUE[[#This Row],[N° par Auteur]]<>"",TRIM(RIGHT(C2,LEN(C2)-LEN(F2))),"") -> XAVIER | H2: =IF(BIBLIOTHEQUE[[#This Row],[AUTEURS 1]]<>"",ROW()-1,"") -> 1
A3: =BIBLIOTHEQUE[[#This Row],[AUTEURS 1]]& BIBLIOTHEQUE[[#This Row],[N° par Auteur]] -> ABERT XAVIERAX1 2 | B3: =VLOOKUP(BIBLIOTHEQUE[[#This Row],[AUTEURS 1]],ABREVIATIONS!A:AC,4,FALSE) & " " &TEXT(1+COUNTIF($C$1:C2,BIBLIOTHEQUE[[#This Row],[AUTEURS 1]]),"0") -> AX1 2 | C3: ABERT XAVIER | E3: L'Art D'Interpreter Un Thème Astral | F3: =IF(BIBLIOTHEQUE[[#This Row],[N° par Auteur]]<>"",IFERROR(UPPER(TRIM(LEFT(C3,SEARCH(" ",C3,1)))),C3),"") -> ABERT | G3: =IF(BIBLIOTHEQUE[[#This Row],[N° par Auteur]]<>"",TRIM(RIGHT(C3,LEN(C3)-LEN(F3))),"") -> XAVIER | H3: =IF(BIBLIOTHEQUE[[#This Row],[AUTEURS 1]]<>"",ROW()-1,"") -> 2
A4: =BIBLIOTHEQUE[[#This Row],[AUTEURS 1]]& BIBLIOTHEQUE[[#This Row],[N° par Auteur]] -> ACTES COLLOQUEAC1 1 | B4: =VLOOKUP(BIBLIOTHEQUE[[#This Row],[AUTEURS 1]],ABREVIATIONS!A:AC,4,FALSE) & " " &TEXT(1+COUNTIF($C$1:C3,BIBLIOTHEQUE[[#This Row],[AUTEURS 1]]),"0") -> AC1 1 | C4: ACTES COLLOQUE | E4: Les Forces Du Destin | F4: =IF(BIBLIOTHEQUE[[#This Row],[N° par Auteur]]<>"",IFERROR(UPPER(TRIM(LEFT(C4,SEARCH(" ",C4,1)))),C4),"") -> ACTES | G4: =IF(BIBLIOTHEQUE[[#This Row],[N° par Auteur]]<>"",TRIM(RIGHT(C4,LEN(C4)-LEN(F4))),"") -> COLLOQUE | H4: =IF(BIBLIOTHEQUE[[#This Row],[AUTEURS 1]]<>"",ROW()-1,"") -> 3
A5: =BIBLIOTHEQUE[[#This Row],[AUTEURS 1]]& BIBLIOTHEQUE[[#This Row],[N° par Auteur]] -> AGENET-PAGNI ISOLINEAI1 1 | B5: =VLOOKUP(BIBLIOTHEQUE[[#This Row],[AUTEURS 1]],ABREVIATIONS!A:AC,4,FALSE) & " " &TEXT(1+COUNTIF($C$1:C4,BIBLIOTHEQUE[[#This Row],[AUTEURS 1]]),"0") -> AI1 1 | C5: AGENET-PAGNI ISOLINE | E5: Signes Du Zodiaque Les 12 Travaux D'Hercule | F5: =IF(BIBLIOTHEQUE[[#This Row],[N° par Auteur]]<>"",IFERROR(UPPER(TRIM(LEFT(C5,SEARCH(" ",C5,1)))),C5),"") -> AGENET-PAGNI | G5: =IF(BIBLIOTHEQUE[[#This Row],[N° par Auteur]]<>"",TRIM(RIGHT(C5,LEN(C5)-LEN(F5))),"") -> ISOLINE | H5: =IF(BIBLIOTHEQUE[[#This Row],[AUTEURS 1]]<>"",ROW()-1,"") -> 4
A6: =BIBLIOTHEQUE[[#This Row],[AUTEURS 1]]& BIBLIOTHEQUE[[#This Row],[N° par Auteur]] -> AGUILAR MICHELAM1 1 | B6: =VLOOKUP(BIBLIOTHEQUE[[#This Row],[AUTEURS 1]],ABREVIATIONS!A:AC,4,FALSE) & " " &TEXT(1+COUNTIF($C$1:C5,BIBLIOTHEQUE[[#This Row],[AUTEURS 1]]),"0") -> AM1 1 | C6: AGUILAR MICHEL | E6: Homo Universalis Ou Le Point De Non Retour | F6: =IF(BIBLIOTHEQUE[[#This Row],[N° par Auteur]]<>"",IFERROR(UPPER(TRIM(LEFT(C6,SEARCH(" ",C6,1)))),C6),"") -> AGUILAR | G6: =IF(BIBLIOTHEQUE[[#This Row],[N° par Auteur]]<>"",TRIM(RIGHT(C6,LEN(C6)-LEN(F6))),"") -> MICHEL | H6: =IF(BIBLIOTHEQUE[[#This Row],[AUTEURS 1]]<>"",ROW()-1,"") -> 5
A7: =BIBLIOTHEQUE[[#This Row],[AUTEURS 1]]& BIBLIOTHEQUE[[#This Row],[N° par Auteur]] -> AIME JACQUELINEAJ1 1 | B7: =VLOOKUP(BIBLIOTHEQUE[[#This Row],[AUTEURS 1]],ABREVIATIONS!A:AC,4,FALSE) & " " &TEXT(1+COUNTIF($C$1:C6,BIBLIOTHEQUE[[#This Row],[AUTEURS 1]]),"0") -> AJ1 1 | C7: AIME JACQUELINE | E7: La Lune Noire : Le Monde Interdit | F7: =IF(BIBLIOTHEQUE[[#This Row],[N° par Auteur]]<>"",IFERROR(UPPER(TRIM(LEFT(C7,SEARCH(" ",C7,1)))),C7),"") -> AIME | G7: =IF(BIBLIOTHEQUE[[#This Row],[N° par Auteur]]<>"",TRIM(RIGHT(C7,LEN(C7)-LEN(F7))),"") -> JACQUELINE | H7: =IF(BIBLIOTHEQUE[[#This Row],[AUTEURS 1]]<>"",ROW()-1,"") -> 6
A8: =BIBLIOTHEQUE[[#This Row],[AUTEURS 1]]& BIBLIOTHEQUE[[#This Row],[N° par Auteur]] -> AMBELIN ROBERTAR1 1 | B8: =VLOOKUP(BIBLIOTHEQUE[[#This Row],[AUTEURS 1]],ABREVIATIONS!A:AC,4,FALSE) & " " &TEXT(1+COUNTIF($C$1:C7,BIBLIOTHEQUE[[#This Row],[AUTEURS 1]]),"0") -> AR1 1 | C8: AMBELIN ROBERT | E8: Koré La Dixième Planète | F8: =IF(BIBLIOTHEQUE[[#This Row],[N° par Auteur]]<>"",IFERROR(UPPER(TRIM(LEFT(C8,SEARCH(" ",C8,1)))),C8),"") -> AMBELIN | G8: =IF(BIBLIOTHEQUE[[#This Row],[N° par Auteur]]<>"",TRIM(RIGHT(C8,LEN(C8)-LEN(F8))),"") -> ROBERT | H8: =IF(BIBLIOTHEQUE[[#This Row],[AUTEURS 1]]<>"",ROW()-1,"") -> 7
A9: =BIBLIOTHEQUE[[#This Row],[AUTEURS 1]]& BIBLIOTHEQUE[[#This Row],[N° par Auteur]] -> ANDRIEU IRENEAI2 1 | B9: =VLOOKUP(BIBLIOTHEQUE[[#This Row],[AUTEURS 1]],ABREVIATIONS!A:AC,4,FALSE) & " " &TEXT(1+COUNTIF($C$1:C8,BIBLIOTHEQUE[[#This Row],[AUTEURS 1]]),"0") -> AI2 1 | C9: ANDRIEU IRENE | E9: Initiation À L'Astrologie D'Évolution | F9: =IF(BIBLIOTHEQUE[[#This Row],[N° par Auteur]]<>"",IFERROR(UPPER(TRIM(LEFT(C9,SEARCH(" ",C9,1)))),C9),"") -> ANDRIEU | G9: =IF(BIBLIOTHEQUE[[#This Row],[N° par Auteur]]<>"",TRIM(RIGHT(C9,LEN(C9)-LEN(F9))),"") -> IRENE | H9: =IF(BIBLIOTHEQUE[[#This Row],[AUTEURS 1]]<>"",ROW()-1,"") -> 8
A10: =BIBLIOTHEQUE[[#This Row],[AUTEURS 1]]& BIBLIOTHEQUE[[#This Row],[N° par Auteur]] -> ANDRIEU IRENEAI2 2 | B10: =VLOOKUP(BIBLIOTHEQUE[[#This Row],[AUTEURS 1]],ABREVIATIONS!A:AC,4,FALSE) & " " &TEXT(1+COUNTIF($C$1:C9,BIBLIOTHEQUE[[#This Row],[AUTEURS 1]]),"0") -> AI2 2 | C10: ANDRIEU IRENE | E10: Astrologie, Clé Des Vies Antérieures | F10: =IF(BIBLIOTHEQUE[[#This Row],[N° par Auteur]]<>"",IFERROR(UPPER(TRIM(LEFT(C10,SEARCH(" ",C10,1)))),C10),"") -> ANDRIEU | G10: =IF(BIBLIOTHEQUE[[#This Row],[N° par Auteur]]<>"",TRIM(RIGHT(C10,LEN(C10)-LEN(F10))),"") -> IRENE | H10: =IF(BIBLIOTHEQUE[[#This Row],[AUTEURS 1]]<>"",ROW()-1,"") -> 9
A11: =BIBLIOTHEQUE[[#This Row],[AUTEURS 1]]& BIBLIOTHEQUE[[#This Row],[N° par Auteur]] -> ANDRIEU IRENEAI2 3 | B11: =VLOOKUP(BIBLIOTHEQUE[[#This Row],[AUTEURS 1]],ABREVIATIONS!A:AC,4,FALSE) & " " &TEXT(1+COUNTIF($C$1:C10,BIBLIOTHEQUE[[#This Row],[AUTEURS 1]]),"0") -> AI2 3 | C11: ANDRIEU IRENE | E11: L'Arbre Généalogique Karmique | F11: =IF(BIBLIOTHEQUE[[#This Row],[N° par Auteur]]<>"",IFERROR(UPPER(TRIM(LEFT(C11,SEARCH(" ",C11,1)))),C11),"") -> ANDRIEU | G11: =IF(BIBLIOTHEQUE[[#This Row],[N° par Auteur]]<>"",TRIM(RIGHT(C11,LEN(C11)-LEN(F11))),"") -> IRENE | H11: =IF(BIBLIOTHEQUE[[#This Row],[AUTEURS 1]]<>"",ROW()-1,"") -> 10
A12: =BIBLIOTHEQUE[[#This Row],[AUTEURS 1]]& BIBLIOTHEQUE[[#This Row],[N° par Auteur]] -> ANDRIEU IRENEAI2 4 | B12: =VLOOKUP(BIBLIOTHEQUE[[#This Row],[AUTEURS 1]],ABREVIATIONS!A:AC,4,FALSE) & " " &TEXT(1+COUNTIF($C$1:C11,BIBLIOTHEQUE[[#This Row],[AUTEURS 1]]),"0") -> AI2 4 | C12: ANDRIEU IRENE | E12: Techniques De Base De L'Astrologie | F12: =IF(BIBLIOTHEQUE[[#This Row],[N° par Auteur]]<>"",IFERROR(UPPER(TRIM(LEFT(C12,SEARCH(" ",C12,1)))),C12),"") -> ANDRIEU | G12: =IF(BIBLIOTHEQUE[[#This Row],[N° par Auteur]]<>"",TRIM(RIGHT(C12,LEN(C12)-LEN(F12))),"") -> IRENE | H12: =IF(BIBLIOTHEQUE[[#This Row],[AUTEURS 1]]<>"",ROW()-1,"") -> 11
A13: =BIBLIOTHEQUE[[#This Row],[AUTEURS 1]]& BIBLIOTHEQUE[[#This Row],[N° par Auteur]] -> ANDRIEU IRENEAI2 5 | B13: =VLOOKUP(BIBLIOTHEQUE[[#This Row],[AUTEURS 1]],ABREVIATIONS!A:AC,4,FALSE) & " " &TEXT(1+COUNTIF($C$1:C12,BIBLIOTHEQUE[[#This Row],[AUTEURS 1]]),"0") -> AI2 5 | C13: ANDRIEU IRENE | E13: Planètes D'Ombre Et De Lumière | F13: =IF(BIBLIOTHEQUE[[#This Row],[N° par Auteur]]<>"",IFERROR(UPPER(TRIM(LEFT(C13,SEARCH(" ",C13,1)))),C13),"") -> ANDRIEU | G13: =IF(BIBLIOTHEQUE[[#This Row],[N° par Auteur]]<>"",TRIM(RIGHT(C13,LEN(C13)-LEN(F13))),"") -> IRENE | H13: =IF(BIBLIOTHEQUE[[#This Row],[AUTEURS 1]]<>"",ROW()-1,"") -> 12
... A32: =BIBLIOTHEQUE[[#This Row],[AUTEURS 1]]& BIBLIOTHEQUE[[#This Row],[N° par Auteur]] -> BARBAULT ANDRÉBA1 13 | B32: =VLOOKUP(BIBLIOTHEQUE[[#This Row],[AUTEURS 1]],ABREVIATIONS!A:AC,4,FALSE) & " " &TEXT(1+COUNTIF($C$1:C31,BIBLIOTHEQUE[[#This Row],[AUTEURS 1]]),"0") -> BA1 13 | C32: BARBAULT ANDRÉ | E32: La Prévision De L'Avenir Par L'Astrologie | F32: =IF(BIBLIOTHEQUE[[#This Row],[N° par Auteur]]<>"",IFERROR(UPPER(TRIM(LEFT(C32,SEARCH(" ",C32,1)))),C32),"") -> BARBAULT | G32: =IF(BIBLIOTHEQUE[[#This Row],[N° par Auteur]]<>"",TRIM(RIGHT(C32,LEN(C32)-LEN(F32))),"") -> ANDRÉ | H32: =IF(BIBLIOTHEQUE[[#This Row],[AUTEURS 1]]<>"",ROW()-1,"") -> 31
A33: =BIBLIOTHEQUE[[#This Row],[AUTEURS 1]]& BIBLIOTHEQUE[[#This Row],[N° par Auteur]] -> BARBAULT ANDRÉBA1 14 | B33: =VLOOKUP(BIBLIOTHEQUE[[#This Row],[AUTEURS 1]],ABREVIATIONS!A:AC,4,FALSE) & " " &TEXT(1+COUNTIF($C$1:C32,BIBLIOTHEQUE[[#This Row],[AUTEURS 1]]),"0") -> BA1 14 | C33: BARBAULT ANDRÉ | D33: CARTERET JEAN | E33: Analogie De La Dialectique Uranus - Neptune | F33: =IF(BIBLIOTHEQUE[[#This Row],[N° par Auteur]]<>"",IFERROR(UPPER(TRIM(LEFT(C33,SEARCH(" ",C33,1)))),C33),"") -> BARBAULT | G33: =IF(BIBLIOTHEQUE[[#This Row],[N° par Auteur]]<>"",TRIM(RIGHT(C33,LEN(C33)-LEN(F33))),"") -> ANDRÉ | H33: =IF(BIBLIOTHEQUE[[#This Row],[AUTEURS 1]]<>"",ROW()-1,"") -> 32
A34: =BIBLIOTHEQUE[[#This Row],[AUTEURS 1]]& BIBLIOTHEQUE[[#This Row],[N° par Auteur]] -> BARBAULT ARMANDBA2 1 | B34: =VLOOKUP(BIBLIOTHEQUE[[#This Row],[AUTEURS 1]],ABREVIATIONS!A:AC,4,FALSE) & " " &TEXT(1+COUNTIF($C$1:C33,BIBLIOTHEQUE[[#This Row],[AUTEURS 1]]),"0") -> BA2 1 | C34: BARBAULT ARMAND | E34: Technique De L'Interprétation T1 | F34: =IF(BIBLIOTHEQUE[[#This Row],[N° par Auteur]]<>"",IFERROR(UPPER(TRIM(LEFT(C34,SEARCH(" ",C34,1)))),C34),"") -> BARBAULT | G34: =IF(BIBLIOTHEQUE[[#This Row],[N° par Auteur]]<>"",TRIM(RIGHT(C34,LEN(C34)-LEN(F34))),"") -> ARMAND | H34: =IF(BIBLIOTHEQUE[[#This Row],[AUTEURS 1]]<>"",ROW()-1,"") -> 33
A35: =BIBLIOTHEQUE[[#This Row],[AUTEURS 1]]& BIBLIOTHEQUE[[#This Row],[N° par Auteur]] -> BARBAULT ARMANDBA2 2 | B35: =VLOOKUP(BIBLIOTHEQUE[[#This Row],[AUTEURS 1]],ABREVIATIONS!A:AC,4,FALSE) & " " &TEXT(1+COUNTIF($C$1:C34,BIBLIOTHEQUE[[#This Row],[AUTEURS 1]]),"0") -> BA2 2 | C35: BARBAULT ARMAND | E35: Technique De L'Interprétation T2 | F35: =IF(BIBLIOTHEQUE[[#This Row],[N° par Auteur]]<>"",IFERROR(UPPER(TRIM(LEFT(C35,SEARCH(" ",C35,1)))),C35),"") -> BARBAULT | G35: =IF(BIBLIOTHEQUE[[#This Row],[N° par Auteur]]<>"",TRIM(RIGHT(C35,LEN(C35)-LEN(F35))),"") -> ARMAND | H35: =IF(BIBLIOTHEQUE[[#This Row],[AUTEURS 1]]<>"",ROW()-1,"") -> 34
A36: =BIBLIOTHEQUE[[#This Row],[AUTEURS 1]]& BIBLIOTHEQUE[[#This Row],[N° par Auteur]] -> BARBAULT MARTINBM1 1 | B36: =VLOOKUP(BIBLIOTHEQUE[[#This Row],[AUTEURS 1]],ABREVIATIONS!A:AC,4,FALSE) & " " &TEXT(1+COUNTIF($C$1:C35,BIBLIOTHEQUE[[#This Row],[AUTEURS 1]]),"0") -> BM1 1 | C36: BARBAULT MARTIN | D36: DANIÈLE | E36: Dictionnaire Des Aspects Astrologiques | F36: =IF(BIBLIOTHEQUE[[#This Row],[N° par Auteur]]<>"",IFERROR(UPPER(TRIM(LEFT(C36,SEARCH(" ",C36,1)))),C36),"") -> BARBAULT | G36: =IF(BIBLIOTHEQUE[[#This Row],[N° par Auteur]]<>"",TRIM(RIGHT(C36,LEN(C36)-LEN(F36))),"") -> MARTIN | H36: =IF(BIBLIOTHEQUE[[#This Row],[AUTEURS 1]]<>"",ROW()-1,"") -> 35
A37: =BIBLIOTHEQUE[[#This Row],[AUTEURS 1]]& BIBLIOTHEQUE[[#This Row],[N° par Auteur]] -> BARBAULT MARTINEBM2 1 | B37: =VLOOKUP(BIBLIOTHEQUE[[#This Row],[AUTEURS 1]],ABREVIATIONS!A:AC,4,FALSE) & " " &TEXT(1+COUNTIF($C$1:C36,BIBLIOTHEQUE[[#This Row],[AUTEURS 1]]),"0") -> BM2 1 | C37: BARBAULT MARTINE | E37: La Transmission Paternelle En Psychogénéalogie | F37: =IF(BIBLIOTHEQUE[[#This Row],[N° par Auteur]]<>"",IFERROR(UPPER(TRIM(LEFT(C37,SEARCH(" ",C37,1)))),C37),"") -> BARBAULT | G37: =IF(BIBLIOTHEQUE[[#This Row],[N° par Auteur]]<>"",TRIM(RIGHT(C37,LEN(C37)-LEN(F37))),"") -> MARTINE | H37: =IF(BIBLIOTHEQUE[[#This Row],[AUTEURS 1]]<>"",ROW()-1,"") -> 36
A38: =BIBLIOTHEQUE[[#This Row],[AUTEURS 1]]& BIBLIOTHEQUE[[#This Row],[N° par Auteur]] -> BARBAULT MARTINEBM2 2 | B38: =VLOOKUP(BIBLIOTHEQUE[[#This Row],[AUTEURS 1]],ABREVIATIONS!A:AC,4,FALSE) & " " &TEXT(1+COUNTIF($C$1:C37,BIBLIOTHEQUE[[#This Row],[AUTEURS 1]]),"0") -> BM2 2 | C38: BARBAULT MARTINE | E38: Les Transits En Astrologie Globale | F38: =IF(BIBLIOTHEQUE[[#This Row],[N° par Auteur]]<>"",IFERROR(UPPER(TRIM(LEFT(C38,SEARCH(" ",C38,1)))),C38),"") -> BARBAULT | G38: =IF(BIBLIOTHEQUE[[#This Row],[N° par Auteur]]<>"",TRIM(RIGHT(C38,LEN(C38)-LEN(F38))),"") -> MARTINE | H38: =IF(BIBLIOTHEQUE[[#This Row],[AUTEURS 1]]<>"",ROW()-1,"") -> 37
A39: =BIBLIOTHEQUE[[#This Row],[AUTEURS 1]]& BIBLIOTHEQUE[[#This Row],[N° par Auteur]] -> BARBAULT MARTINEBM2 3 | B39: =VLOOKUP(BIBLIOTHEQUE[[#This Row],[AUTEURS 1]],ABREVIATIONS!A:AC,4,FALSE) & " " &TEXT(1+COUNTIF($C$1:C38,BIBLIOTHEQUE[[#This Row],[AUTEURS 1]]),"0") -> BM2 3 | C39: BARBAULT MARTINE | E39: Mes Mères Et Les Filles | F39: =IF(BIBLIOTHEQUE[[#This Row],[N° par Auteur]]<>"",IFERROR(UPPER(TRIM(LEFT(C39,SEARCH(" ",C39,1)))),C39),"") -> BARBAULT | G39: =IF(BIBLIOTHEQUE[[#This Row],[N° par Auteur]]<>"",TRIM(RIGHT(C39,LEN(C39)-LEN(F39))),"") -> MARTINE | H39: =IF(BIBLIOTHEQUE[[#This Row],[AUTEURS 1]]<>"",ROW()-1,"") -> 38
A40: =BIBLIOTHEQUE[[#This Row],[AUTEURS 1]]& BIBLIOTHEQUE[[#This Row],[N° par Auteur]] -> BARBAULT MARTINEBM2 4 | B40: =VLOOKUP(BIBLIOTHEQUE[[#This Row],[AUTEURS 1]],ABREVIATIONS!A:AC,4,FALSE) & " " &TEXT(1+COUNTIF($C$1:C39,BIBLIOTHEQUE[[#This Row],[AUTEURS 1]]),"0") -> BM2 4 | C40: BARBAULT MARTINE | E40: Méthode D'Interprétation En Astrologie | F40: =IF(BIBLIOTHEQUE[[#This Row],[N° par Auteur]]<>"",IFERROR(UPPER(TRIM(LEFT(C40,SEARCH(" ",C40,1)))),C40),"") -> BARBAULT | G40: =IF(BIBLIOTHEQUE[[#This Row],[N° par Auteur]]<>"",TRIM(RIGHT(C40,LEN(C40)-LEN(F40))),"") -> MARTINE | H40: =IF(BIBLIOTHEQUE[[#This Row],[AUTEURS 1]]<>"",ROW()-1,"") -> 39
A41: =BIBLIOTHEQUE[[#This Row],[AUTEURS 1]]& BIBLIOTHEQUE[[#This Row],[N° par Auteur]] -> BARBAULT MARTINEBM2 5 | B41: =VLOOKUP(BIBLIOTHEQUE[[#This Row],[AUTEURS 1]],ABREVIATIONS!A:AC,4,FALSE) & " " &TEXT(1+COUNTIF($C$1:C40,BIBLIOTHEQUE[[#This Row],[AUTEURS 1]]),"0") -> BM2 5 | C41: BARBAULT MARTINE | D41: BARBAULT ANDRE | E41: Astro-Psychologie De L'Enfant | F41: =IF(BIBLIOTHEQUE[[#This Row],[N° par Auteur]]<>"",IFERROR(UPPER(TRIM(LEFT(C41,SEARCH(" ",C41,1)))),C41),"") -> BARBAULT | G41: =IF(BIBLIOTHEQUE[[#This Row],[N° par Auteur]]<>"",TRIM(RIGHT(C41,LEN(C41)-LEN(F41))),"") -> MARTINE | H41: =IF(BIBLIOTHEQUE[[#This Row],[AUTEURS 1]]<>"",ROW()-1,"") -> 40
A42: =BIBLIOTHEQUE[[#This Row],[AUTEURS 1]]& BIBLIOTHEQUE[[#This Row],[N° par Auteur]] -> BARBAULT MARTINEBM2 6 | B42: =VLOOKUP(BIBLIOTHEQUE[[#This Row],[AUTEURS 1]],ABREVIATIONS!A:AC,4,FALSE) & " " &TEXT(1+COUNTIF($C$1:C41,BIBLIOTHEQUE[[#This Row],[AUTEURS 1]]),"0") -> BM2 6 | C42: BARBAULT MARTINE | D42: DE ROUX ISABELLE | E42: La Lune Dans Les Signes Du Zodiaque | F42: =IF(BIBLIOTHEQUE[[#This Row],[N° par Auteur]]<>"",IFERROR(UPPER(TRIM(LEFT(C42,SEARCH(" ",C42,1)))),C42),"") -> BARBAULT | G42: =IF(BIBLIOTHEQUE[[#This Row],[N° par Auteur]]<>"",TRIM(RIGHT(C42,LEN(C42)-LEN(F42))),"") -> MARTINE | H42: =IF(BIBLIOTHEQUE[[#This Row],[AUTEURS 1]]<>"",ROW()-1,"") -> 41
A43: =BIBLIOTHEQUE[[#This Row],[AUTEURS 1]]& BIBLIOTHEQUE[[#This Row],[N° par Auteur]] -> BARBAULT MARTINEBM2 7 | B43: =VLOOKUP(BIBLIOTHEQUE[[#This Row],[AUTEURS 1]],ABREVIATIONS!A:AC,4,FALSE) & " " &TEXT(1+COUNTIF($C$1:C42,BIBLIOTHEQUE[[#This Row],[AUTEURS 1]]),"0") -> BM2 7 | C43: BARBAULT MARTINE | E43: L'Ultime Rendez Vous | F43: =IF(BIBLIOTHEQUE[[#This Row],[N° par Auteur]]<>"",IFERROR(UPPER(TRIM(LEFT(C43,SEARCH(" ",C43,1)))),C43),"") -> BARBAULT | G43: =IF(BIBLIOTHEQUE[[#This Row],[N° par Auteur]]<>"",TRIM(RIGHT(C43,LEN(C43)-LEN(F43))),"") -> MARTINE | H43: =IF(BIBLIOTHEQUE[[#This Row],[AUTEURS 1]]<>"",ROW()-1,"") -> 42
A44: =BIBLIOTHEQUE[[#This Row],[AUTEURS 1]]& BIBLIOTHEQUE[[#This Row],[N° par Auteur]] -> BARBAULT MARTINEBM2 8 | B44: =VLOOKUP(BIBLIOTHEQUE[[#This Row],[AUTEURS 1]],ABREVIATIONS!A:AC,4,FALSE) & " " &TEXT(1+COUNTIF($C$1:C43,BIBLIOTHEQUE[[#This Row],[AUTEURS 1]]),"0") -> BM2 8 | C44: BARBAULT MARTINE | D44: GESTAS CATHERINE | E44: Des Frères Et Des Soeurs | F44: =IF(BIBLIOTHEQUE[[#This Row],[N° par Auteur]]<>"",IFERROR(UPPER(TRIM(LEFT(C44,SEARCH(" ",C44,1)))),C44),"") -> BARBAULT | G44: =IF(BIBLIOTHEQUE[[#This Row],[N° par Auteur]]<>"",TRIM(RIGHT(C44,LEN(C44)-LEN(F44))),"") -> MARTINE | H44: =IF(BIBLIOTHEQUE[[#This Row],[AUTEURS 1]]<>"",ROW()-1,"") -> 43
A45: =BIBLIOTHEQUE[[#This Row],[AUTEURS 1]]& BIBLIOTHEQUE[[#This Row],[N° par Auteur]] -> BARBAULT MARTINEBM2 9 | B45: =VLOOKUP(BIBLIOTHEQUE[[#This Row],[AUTEURS 1]],ABREVIATIONS!A:AC,4,FALSE) & " " &TEXT(1+COUNTIF($C$1:C44,BIBLIOTHEQUE[[#This Row],[AUTEURS 1]]),"0") -> BM2 9 | C45: BARBAULT MARTINE | D45: GESTAS CATHERINE | E45: La Mémoire Ancestrale En Astrologie | F45: =IF(BIBLIOTHEQUE[[#This Row],[N° par Auteur]]<>"",IFERROR(UPPER(TRIM(LEFT(C45,SEARCH(" ",C45,1)))),C45),"") -> BARBAULT | G45: =IF(BIBLIOTHEQUE[[#This Row],[N° par Auteur]]<>"",TRIM(RIGHT(C45,LEN(C45)-LEN(F45))),"") -> MARTINE | H45: =IF(BIBLIOTHEQUE[[#This Row],[AUTEURS 1]]<>"",ROW()-1,"") -> 44
A46: =BIBLIOTHEQUE[[#This Row],[AUTEURS 1]]& BIBLIOTHEQUE[[#This Row],[N° par Auteur]] -> BEAUGET SYLVIEBS1 1 | B46: =VLOOKUP(BIBLIOTHEQUE[[#This Row],[AUTEURS 1]],ABREVIATIONS!A:AC,4,FALSE) & " " &TEXT(1+COUNTIF($C$1:C45,BIBLIOTHEQUE[[#This Row],[AUTEURS 1]]),"0") -> BS1 1 | C46: BEAUGET SYLVIE | E46: Les Prévisions En Astrologie : Les Transits | F46: =IF(BIBLIOTHEQUE[[#This Row],[N° par Auteur]]<>"",IFERROR(UPPER(TRIM(LEFT(C46,SEARCH(" ",C46,1)))),C46),"") -> BEAUGET | G46: =IF(BIBLIOTHEQUE[[#This Row],[N° par Auteur]]<>"",TRIM(RIGHT(C46,LEN(C46)-LEN(F46))),"") -> SYLVIE | H46: =IF(BIBLIOTHEQUE[[#This Row],[AUTEURS 1]]<>"",ROW()-1,"") -> 45
A47: =BIBLIOTHEQUE[[#This Row],[AUTEURS 1]]& BIBLIOTHEQUE[[#This Row],[N° par Auteur]] -> BERTRAND CHIARABC1 1 | B47: =VLOOKUP(BIBLIOTHEQUE[[#This Row],[AUTEURS 1]],ABREVIATIONS!A:AC,4,FALSE) & " " &TEXT(1+COUNTIF($C$1:C46,BIBLIOTHEQUE[[#This Row],[AUTEURS 1]]),"0") -> BC1 1 | C47: BERTRAND CHIARA | E47: Code Astrologie | F47: =IF(BIBLIOTHEQUE[[#This Row],[N° par Auteur]]<>"",IFERROR(UPPER(TRIM(LEFT(C47,SEARCH(" ",C47,1)))),C47),"") -> BERTRAND | G47: =IF(BIBLIOTHEQUE[[#This Row],[N° par Auteur]]<>"",TRIM(RIGHT(C47,LEN(C47)-LEN(F47))),"") -> CHIARA | H47: =IF(BIBLIOTHEQUE[[#This Row],[AUTEURS 1]]<>"",ROW()-1,"") -> 46
A48: =BIBLIOTHEQUE[[#This Row],[AUTEURS 1]]& BIBLIOTHEQUE[[#This Row],[N° par Auteur]] -> BERTRAND JACQUES BJ1 1 | B48: =VLOOKUP(BIBLIOTHEQUE[[#This Row],[AUTEURS 1]],ABREVIATIONS!A:AC,4,FALSE) & " " &TEXT(1+COUNTIF($C$1:C47,BIBLIOTHEQUE[[#This Row],[AUTEURS 1]]),"0") -> BJ1 1 | C48: BERTRAND JACQUES | E48: Tristesse De La Balance & Autres Signes | F48: =IF(BIBLIOTHEQUE[[#This Row],[N° par Auteur]]<>"",IFERROR(UPPER(TRIM(LEFT(C48,SEARCH(" ",C48,1)))),C48),"") -> BERTRAND | G48: =IF(BIBLIOTHEQUE[[#This Row],[N° par Auteur]]<>"",TRIM(RIGHT(C48,LEN(C48)-LEN(F48))),"") -> JACQUES | H48: =IF(BIBLIOTHEQUE[[#This Row],[AUTEURS 1]]<>"",ROW()-1,"") -> 47
A49: =BIBLIOTHEQUE[[#This Row],[AUTEURS 1]]& BIBLIOTHEQUE[[#This Row],[N° par Auteur]] -> BETAILLOLE JOSETTEBJ2 1 | B49: =VLOOKUP(BIBLIOTHEQUE[[#This Row],[AUTEURS 1]],ABREVIATIONS!A:AC,4,FALSE) & " " &TEXT(1+COUNTIF($C$1:C48,BIBLIOTHEQUE[[#This Row],[AUTEURS 1]]),"0") -> BJ2 1 | C49: BETAILLOLE JOSETTE | E49: Les Troubles De L'Excès | F49: =IF(BIBLIOTHEQUE[[#This Row],[N° par Auteur]]<>"",IFERROR(UPPER(TRIM(LEFT(C49,SEARCH(" ",C49,1)))),C49),"") -> BETAILLOLE | G49: =IF(BIBLIOTHEQUE[[#This Row],[N° par Auteur]]<>"",TRIM(RIGHT(C49,LEN(C49)-LEN(F49))),"") -> JOSETTE | H49: =IF(BIBLIOTHEQUE[[#This Row],[AUTEURS 1]]<>"",ROW()-1,"") -> 48
A50: =BIBLIOTHEQUE[[#This Row],[AUTEURS 1]]& BIBLIOTHEQUE[[#This Row],[N° par Auteur]] -> BETAILLOLE JOSETTEBJ2 2 | B50: =VLOOKUP(BIBLIOTHEQUE[[#This Row],[AUTEURS 1]],ABREVIATIONS!A:AC,4,FALSE) & " " &TEXT(1+COUNTIF($C$1:C49,BIBLIOTHEQUE[[#This Row],[AUTEURS 1]]),"0") -> BJ2 2 | C50: BETAILLOLE JOSETTE | E50: La Sexualité Par L'Astro-Psychologie | F50: =IF(BIBLIOTHEQUE[[#This Row],[N° par Auteur]]<>"",IFERROR(UPPER(TRIM(LEFT(C50,SEARCH(" ",C50,1)))),C50),"") -> BETAILLOLE | G50: =IF(BIBLIOTHEQUE[[#This Row],[N° par Auteur]]<>"",TRIM(RIGHT(C50,LEN(C50)-LEN(F50))),"") -> JOSETTE | H50: =IF(BIBLIOTHEQUE[[#This Row],[AUTEURS 1]]<>"",ROW()-1,"") -> 49
A51: =BIBLIOTHEQUE[[#This Row],[AUTEURS 1]]& BIBLIOTHEQUE[[#This Row],[N° par Auteur]] -> BIGE LUCBL1 1 | B51: =VLOOKUP(BIBLIOTHEQUE[[#This Row],[AUTEURS 1]],ABREVIATIONS!A:AC,4,FALSE) & " " &TEXT(1+COUNTIF($C$1:C50,BIBLIOTHEQUE[[#This Row],[AUTEURS 1]]),"0") -> BL1 1 | C51: BIGE LUC | E51: Les Douze Maisons Astrologiques | F51: =IF(BIBLIOTHEQUE[[#This Row],[N° par Auteur]]<>"",IFERROR(UPPER(TRIM(LEFT(C51,SEARCH(" ",C51,1)))),C51),"") -> BIGE | G51: =IF(BIBLIOTHEQUE[[#This Row],[N° par Auteur]]<>"",TRIM(RIGHT(C51,LEN(C51)-LEN(F51))),"") -> LUC | H51: =IF(BIBLIOTHEQUE[[#This Row],[AUTEURS 1]]<>"",ROW()-1,"") -> 50
A52: =BIBLIOTHEQUE[[#This Row],[AUTEURS 1]]& BIBLIOTHEQUE[[#This Row],[N° par Auteur]] -> BIGE LUCBL1 2 | B52: =VLOOKUP(BIBLIOTHEQUE[[#This Row],[AUTEURS 1]],ABREVIATIONS!A:AC,4,FALSE) & " " &TEXT(1+COUNTIF($C$1:C51,BIBLIOTHEQUE[[#This Row],[AUTEURS 1]]),"0") -> BL1 2 | C52: BIGE LUC | E52: Planètes Rétrogrades Terres Intérieures | F52: =IF(BIBLIOTHEQUE[[#This Row],[N° par Auteur]]<>"",IFERROR(UPPER(TRIM(LEFT(C52,SEARCH(" ",C52,1)))),C52),"") -> BIGE | G52: =IF(BIBLIOTHEQUE[[#This Row],[N° par Auteur]]<>"",TRIM(RIGHT(C52,LEN(C52)-LEN(F52))),"") -> LUC | H52: =IF(BIBLIOTHEQUE[[#This Row],[AUTEURS 1]]<>"",ROW()-1,"") -> 51
A53: =BIBLIOTHEQUE[[#This Row],[AUTEURS 1]]& BIBLIOTHEQUE[[#This Row],[N° par Auteur]] -> BIGE LUCBL1 3 | B53: =VLOOKUP(BIBLIOTHEQUE[[#This Row],[AUTEURS 1]],ABREVIATIONS!A:AC,4,FALSE) & " " &TEXT(1+COUNTIF($C$1:C52,BIBLIOTHEQUE[[#This Row],[AUTEURS 1]]),"0") -> BL1 3 | C53: BIGE LUC | E53: La Lune Noire : Un Vertige Absolu | F53: =IF(BIBLIOTHEQUE[[#This Row],[N° par Auteur]]<>"",IFERROR(UPPER(TRIM(LEFT(C53,SEARCH(" ",C53,1)))),C53),"") -> BIGE | G53: =IF(BIBLIOTHEQUE[[#This Row],[N° par Auteur]]<>"",TRIM(RIGHT(C53,LEN(C53)-LEN(F53))),"") -> LUC | H53: =IF(BIBLIOTHEQUE[[#This Row],[AUTEURS 1]]<>"",ROW()-1,"") -> 52
A54: =BIBLIOTHEQUE[[#This Row],[AUTEURS 1]]& BIBLIOTHEQUE[[#This Row],[N° par Auteur]] -> BILLON JEANBJ3 1 | B54: =VLOOKUP(BIBLIOTHEQUE[[#This Row],[AUTEURS 1]],ABREVIATIONS!A:AC,4,FALSE) & " " &TEXT(1+COUNTIF($C$1:C53,BIBLIOTHEQUE[[#This Row],[AUTEURS 1]]),"0") -> BJ3 1 | C54: BILLON JEAN | E54: L'Univers Des Astéroides | F54: =IF(BIBLIOTHEQUE[[#This Row],[N° par Auteur]]<>"",IFERROR(UPPER(TRIM(LEFT(C54,SEARCH(" ",C54,1)))),C54),"") -> BILLON | G54: =IF(BIBLIOTHEQUE[[#This Row],[N° par Auteur]]<>"",TRIM(RIGHT(C54,LEN(C54)-LEN(F54))),"") -> JEAN | H54: =IF(BIBLIOTHEQUE[[#This Row],[AUTEURS 1]]<>"",ROW()-1,"") -> 53
A55: =BIBLIOTHEQUE[[#This Row],[AUTEURS 1]]& BIBLIOTHEQUE[[#This Row],[N° par Auteur]] -> CANU CHANTALCC1 1 | B55: =VLOOKUP(BIBLIOTHEQUE[[#This Row],[AUTEURS 1]],ABREVIATIONS!A:AC,4,FALSE) & " " &TEXT(1+COUNTIF($C$1:C54,BIBLIOTHEQUE[[#This Row],[AUTEURS 1]]),"0") -> CC1 1 | C55: CANU CHANTAL | E55: La Révolution Solaire Expliquée | F55: =IF(BIBLIOTHEQUE[[#This Row],[N° par Auteur]]<>"",IFERROR(UPPER(TRIM(LEFT(C55,SEARCH(" ",C55,1)))),C55),"") -> CANU | G55: =IF(BIBLIOTHEQUE[[#This Row],[N° par Auteur]]<>"",TRIM(RIGHT(C55,LEN(C55)-LEN(F55))),"") -> CHANTAL | H55: =IF(BIBLIOTHEQUE[[#This Row],[AUTEURS 1]]<>"",ROW()-1,"") -> 54
A56: =BIBLIOTHEQUE[[#This Row],[AUTEURS 1]]& BIBLIOTHEQUE[[#This Row],[N° par Auteur]] -> CANU CHANTALCC1 2 | B56: =VLOOKUP(BIBLIOTHEQUE[[#This Row],[AUTEURS 1]],ABREVIATIONS!A:AC,4,FALSE) & " " &TEXT(1+COUNTIF($C$1:C55,BIBLIOTHEQUE[[#This Row],[AUTEURS 1]]),"0") -> CC1 2 | C56: CANU CHANTAL | E56: L'Astrologie Au Service De L'Orientation Professionnelle | F56: =IF(BIBLIOTHEQUE[[#This Row],[N° par Auteur]]<>"",IFERROR(UPPER(TRIM(LEFT(C56,SEARCH(" ",C56,1)))),C56),"") -> CANU | G56: =IF(BIBLIOTHEQUE[[#This Row],[N° par Auteur]]<>"",TRIM(RIGHT(C56,LEN(C56)-LEN(F56))),"") -> CHANTAL | H56: =IF(BIBLIOTHEQUE[[#This Row],[AUTEURS 1]]<>"",ROW()-1,"") -> 55
A57: =BIBLIOTHEQUE[[#This Row],[AUTEURS 1]]& BIBLIOTHEQUE[[#This Row],[N° par Auteur]] -> CARATINI SIMONE-EMMANUELLECS1 1 | B57: =VLOOKUP(BIBLIOTHEQUE[[#This Row],[AUTEURS 1]],ABREVIATIONS!A:AC,4,FALSE) & " " &TEXT(1+COUNTIF($C$1:C56,BIBLIOTHEQUE[[#This Row],[AUTEURS 1]]),"0") -> CS1 1 | C57: CARATINI SIMONE-EMMANUELLE | E57: La Mutation Essentielle : Les Interceptions | F57: =IF(BIBLIOTHEQUE[[#This Row],[N° par Auteur]]<>"",IFERROR(UPPER(TRIM(LEFT(C57,SEARCH(" ",C57,1)))),C57),"") -> CARATINI | G57: =IF(BIBLIOTHEQUE[[#This Row],[N° par Auteur]]<>"",TRIM(RIGHT(C57,LEN(C57)-LEN(F57))),"") -> SIMONE-EMMANUELLE | H57: =IF(BIBLIOTHEQUE[[#This Row],[AUTEURS 1]]<>"",ROW()-1,"") -> 56
... A98: =BIBLIOTHEQUE[[#This Row],[AUTEURS 1]]& BIBLIOTHEQUE[[#This Row],[N° par Auteur]] -> EDITIONS TRADITIONNELLESET1 3 | B98: =VLOOKUP(BIBLIOTHEQUE[[#This Row],[AUTEURS 1]],ABREVIATIONS!A:AC,4,FALSE) & " " &TEXT(1+COUNTIF($C$1:C97,BIBLIOTHEQUE[[#This Row],[AUTEURS 1]]),"0") -> ET1 3 | C98: EDITIONS TRADITIONNELLES | E98: Les Etoiles Fixes | F98: =IF(BIBLIOTHEQUE[[#This Row],[N° par Auteur]]<>"",IFERROR(UPPER(TRIM(LEFT(C98,SEARCH(" ",C98,1)))),C98),"") -> EDITIONS | G98: =IF(BIBLIOTHEQUE[[#This Row],[N° par Auteur]]<>"",TRIM(RIGHT(C98,LEN(C98)-LEN(F98))),"") -> TRADITIONNELLES | H98: =IF(BIBLIOTHEQUE[[#This Row],[AUTEURS 1]]<>"",ROW()-1,"") -> 97
...

Sheet ABREVIATIONS
A1: AUTEURS | B1: ABREV.1 | C1: ABREV.2 | D1: ABREV.
A2: {=_xlfn.UNIQUE(BIBLIOTHEQUE[AUTEURS 1])} -> ABERT XAVIER | B2: =CONCATENATE(LEFT(A2,1),IFERROR(MID(A2,SEARCH(" ",A2,1)+1,1),""),IFERROR(MID(A2,SEARCH(" ",A2,SEARCH(" ",A2,1)+1)+1,1),"")) -> AX | C2: =IF(A2="","",1+COUNTIF($B$1:B1,B2)) -> 1 | D2: =CONCATENATE(B2,C2) -> AX1
A3: ACTES COLLOQUE | B3: =CONCATENATE(LEFT(A3,1),IFERROR(MID(A3,SEARCH(" ",A3,1)+1,1),""),IFERROR(MID(A3,SEARCH(" ",A3,SEARCH(" ",A3,1)+1)+1,1),"")) -> AC | C3: =IF(A3="","",1+COUNTIF($B$1:B2,B3)) -> 1 | D3: =CONCATENATE(B3,C3) -> AC1
A4: AGENET-PAGNI ISOLINE | B4: =CONCATENATE(LEFT(A4,1),IFERROR(MID(A4,SEARCH(" ",A4,1)+1,1),""),IFERROR(MID(A4,SEARCH(" ",A4,SEARCH(" ",A4,1)+1)+1,1),"")) -> AI | C4: =IF(A4="","",1+COUNTIF($B$1:B3,B4)) -> 1 | D4: =CONCATENATE(B4,C4) -> AI1
A5: AGUILAR MICHEL | B5: =CONCATENATE(LEFT(A5,1),IFERROR(MID(A5,SEARCH(" ",A5,1)+1,1),""),IFERROR(MID(A5,SEARCH(" ",A5,SEARCH(" ",A5,1)+1)+1,1),"")) -> AM | C5: =IF(A5="","",1+COUNTIF($B$1:B4,B5)) -> 1 | D5: =CONCATENATE(B5,C5) -> AM1
A6: AIME JACQUELINE | B6: =CONCATENATE(LEFT(A6,1),IFERROR(MID(A6,SEARCH(" ",A6,1)+1,1),""),IFERROR(MID(A6,SEARCH(" ",A6,SEARCH(" ",A6,1)+1)+1,1),"")) -> AJ | C6: =IF(A6="","",1+COUNTIF($B$1:B5,B6)) -> 1 | D6: =CONCATENATE(B6,C6) -> AJ1
A7: AMBELIN ROBERT | B7: =CONCATENATE(LEFT(A7,1),IFERROR(MID(A7,SEARCH(" ",A7,1)+1,1),""),IFERROR(MID(A7,SEARCH(" ",A7,SEARCH(" ",A7,1)+1)+1,1),"")) -> AR | C7: =IF(A7="","",1+COUNTIF($B$1:B6,B7)) -> 1 | D7: =CONCATENATE(B7,C7) -> AR1
A8: ANDRIEU IRENE | B8: =CONCATENATE(LEFT(A8,1),IFERROR(MID(A8,SEARCH(" ",A8,1)+1,1),""),IFERROR(MID(A8,SEARCH(" ",A8,SEARCH(" ",A8,1)+1)+1,1),"")) -> AI | C8: =IF(A8="","",1+COUNTIF($B$1:B7,B8)) -> 2 | D8: =CONCATENATE(B8,C8) -> AI2
A9: ANTARES GEORGES | B9: =CONCATENATE(LEFT(A9,1),IFERROR(MID(A9,SEARCH(" ",A9,1)+1,1),""),IFERROR(MID(A9,SEARCH(" ",A9,SEARCH(" ",A9,1)+1)+1,1),"")) -> AG | C9: =IF(A9="","",1+COUNTIF($B$1:B8,B9)) -> 1 | D9: =CONCATENATE(B9,C9) -> AG1
A10: ARROYO STEPHEN | B10: =CONCATENATE(LEFT(A10,1),IFERROR(MID(A10,SEARCH(" ",A10,1)+1,1),""),IFERROR(MID(A10,SEARCH(" ",A10,SEARCH(" ",A10,1)+1)+1,1),"")) -> AS | C10: =IF(A10="","",1+COUNTIF($B$1:B9,B10)) -> 1 | D10: =CONCATENATE(B10,C10) -> AS1
A11: ATALANE | B11: =CONCATENATE(LEFT(A11,1),IFERROR(MID(A11,SEARCH(" ",A11,1)+1,1),""),IFERROR(MID(A11,SEARCH(" ",A11,SEARCH(" ",A11,1)+1)+1,1),"")) -> A | C11: =IF(A11="","",1+COUNTIF($B$1:B10,B11)) -> 1 | D11: =CONCATENATE(B11,C11) -> A1
A12: AUBIER CATHERINE | B12: =CONCATENATE(LEFT(A12,1),IFERROR(MID(A12,SEARCH(" ",A12,1)+1,1),""),IFERROR(MID(A12,SEARCH(" ",A12,SEARCH(" ",A12,1)+1)+1,1),"")) -> AC | C12: =IF(A12="","",1+COUNTIF($B$1:B11,B12)) -> 2 | D12: =CONCATENATE(B12,C12) -> AC2
A13: BARBAULT ANDRÉ | B13: =CONCATENATE(LEFT(A13,1),IFERROR(MID(A13,SEARCH(" ",A13,1)+1,1),""),IFERROR(MID(A13,SEARCH(" ",A13,SEARCH(" ",A13,1)+1)+1,1),"")) -> BA | C13: =IF(A13="","",1+COUNTIF($B$1:B12,B13)) -> 1 | D13: =CONCATENATE(B13,C13) -> BA1
A14: BARBAULT ARMAND | B14: =CONCATENATE(LEFT(A14,1),IFERROR(MID(A14,SEARCH(" ",A14,1)+1,1),""),IFERROR(MID(A14,SEARCH(" ",A14,SEARCH(" ",A14,1)+1)+1,1),"")) -> BA | C14: =IF(A14="","",1+COUNTIF($B$1:B13,B14)) -> 2 | D14: =CONCATENATE(B14,C14) -> BA2
... A111: ZOLLER ROBERT | B111: =CONCATENATE(LEFT(A111,1),IFERROR(MID(A111,SEARCH(" ",A111,1)+1,1),""),IFERROR(MID(A111,SEARCH(" ",A111,SEARCH(" ",A111,1)+1)+1,1),"")) -> ZR | C111: =IF(A111="","",1+COUNTIF($B$1:B110,B111)) -> 1 | D111: =CONCATENATE(B111,C111) -> ZR1
B112: =CONCATENATE(LEFT(A112,1),IFERROR(MID(A112,SEARCH(" ",A112,1)+1,1),""),IFERROR(MID(A112,SEARCH(" ",A112,SEARCH(" ",A112,1)+1)+1,1),"")) | C112: =IF(A112="","",1+COUNTIF($B$1:B111,B112)) | D112: =CONCATENATE(B112,C112)
B113: =CONCATENATE(LEFT(A113,1),IFERROR(MID(A113,SEARCH(" ",A113,1)+1,1),""),IFERROR(MID(A113,SEARCH(" ",A113,SEARCH(" ",A113,1)+1)+1,1),"")) | C113: =IF(A113="","",1+COUNTIF($B$1:B112,B113)) | D113: =CONCATENATE(B113,C113)
B114: =CONCATENATE(LEFT(A114,1),IFERROR(MID(A114,SEARCH(" ",A114,1)+1,1),""),IFERROR(MID(A114,SEARCH(" ",A114,SEARCH(" ",A114,1)+1)+1,1),"")) | C114: =IF(A114="","",1+COUNTIF($B$1:B113,B114)) | D114: =CONCATENATE(B114,C114)
B115: =CONCATENATE(LEFT(A115,1),IFERROR(MID(A115,SEARCH(" ",A115,1)+1,1),""),IFERROR(MID(A115,SEARCH(" ",A115,SEARCH(" ",A115,1)+1)+1,1),"")) | C115: =IF(A115="","",1+COUNTIF($B$1:B114,B115)) | D115: =CONCATENATE(B115,C115)
B116: =CONCATENATE(LEFT(A116,1),IFERROR(MID(A116,SEARCH(" ",A116,1)+1,1),""),IFERROR(MID(A116,SEARCH(" ",A116,SEARCH(" ",A116,1)+1)+1,1),"")) | C116: =IF(A116="","",1+COUNTIF($B$1:B115,B116)) | D116: =CONCATENATE(B116,C116)
B117: =CONCATENATE(LEFT(A117,1),IFERROR(MID(A117,SEARCH(" ",A117,1)+1,1),""),IFERROR(MID(A117,SEARCH(" ",A117,SEARCH(" ",A117,1)+1)+1,1),"")) | C117: =IF(A117="","",1+COUNTIF($B$1:B116,B117)) | D117: =CONCATENATE(B117,C117)
